{"text_format":"1","workbook":"xlsx","n_sheets":23,"sheets":["Disclaimer","Instructions","F-T Black Box Dashboard","Model Validation Cases","Life Cycle Adders","Cradle-to-Grave LC Adders","Mole-Mass Frac Convert","Electricity Summary","Product Properties","Syngas","FT","GT","Boiler","FT Vent","SC","ASU","LHV","Supp Data 1","Supp Data 2","Supp Data 3","LHV-Ref","SC-Ref","IGCC Syngas-Ref"],"not_rendered":{"charts":29,"images":2,"macros":1,"external_links":0,"defined_names":82,"comments":0,"pivot_tables":0},"unopened":[],"bounds":{"document_bytes":16777216,"sheet_cells":100000,"rows_first":2000,"rows_last":500,"rows_between":2000,"halvings":0,"cell_chars":16384,"cell_head_chars":4096},"cells_cut":0,"cells_raw":0,"read":"whole","date_system":"1900"}

{"sheet":"Disclaimer","index":0,"n_rows":10,"n_cols":3,"rows_kept":10,"cut":false,"hidden":false,"merged":[[1,1,1,2],[3,1,3,2],[9,1,9,2],[11,1,11,2],[17,1,17,2]]}
[]
[]
[]
[null,"Disclaimer"]
[null,1,"Neither the U.S. Department of Energy (DOE) National Energy Technology Laboratory (NETL) nor any person acting on behalf of these organizations:"]
[null,null,"A.       Makes any warranty or representation, express or implied, with respect to the accuracy, completeness, or usefulness of the information contained in this document, or that the use of any information, apparatus, method, or process disclosed in this document may not infringe on privately owned rights; or"]
[null,null,"B.        Assumes any liability with this report as to its use, or damages resulting from the use of any information, apparatus, method, or process disclosed in this document."]
[null,2,"Reference herein to any specific commercial product, process, or service by trade name, trademark, manufacturer, or otherwise, does not necessarily constitute or imply its endorsement, recommendation, or favoring by NETL. The views and opinions of the authors expressed herein do not necessarily state or reflect those of NETL."]
[null,3,"Developed by the U.S. Department of Energy (DOE) National Energy Technology Laboratory (NETL) for the Connecticut Center for Advanced Technology, Inc. (CCAT) with funding from the Defense Logistics Agency (DLA) Energy "]
[null,"Contact Information"]

{"sheet":"Instructions","index":1,"n_rows":1,"n_cols":1,"rows_kept":1,"cut":false,"hidden":false,"merged":[[0,0,0,12]]}
["Model Dashboard Instructions"]

{"sheet":"F-T Black Box Dashboard","index":2,"n_rows":51,"n_cols":17,"rows_kept":51,"cut":false,"hidden":false,"merged":[[35,11,35,13],[16,3,18,3],[16,2,18,2],[16,1,18,1],[10,10,10,11],[1,1,1,3],[1,5,1,8],[1,10,1,13],[3,10,4,10],[6,6,6,7],[6,10,8,10]]}
[]
[null,"User Inputs",null,null,null,"Model Options",null,null,null,null,"Model Outputs"]
[null,"Raw Syngas Composition","Mole Fraction",null,null,"Percentage Captured CO₂ Vented",null,0,null,null,"CO₂ Emissions"]
[null,"  H₂O",0.33133934999999998,null,null,null,null,null,null,null,"F-T Plant","Stack Gas",{"$f":"(GT!$G$5+'FT Vent'!$E$5)*('Mole-Mass Frac Convert'!$M$3+2*'Mole-Mass Frac Convert'!$M$4)","v":158356.01023626936},"lb CO₂/hr"]
[null,"Ar",6.6663E-3,null,null,"Percentage of  Recycle Gas to F-T",null,0.8,null,null,null,"Vented",{"$f":"($H$3)*Syngas!$T$20*('Mole-Mass Frac Convert'!$M$3+2*'Mole-Mass Frac Convert'!$M$4)","v":0},"lb CO₂/hr"]
[null,"  CO₂",1.899284E-2]
[null,"  O₂",1.5141000000000001E-13,null,null,"Power Generation","Gas Turbine",null,null,null,"Supplemental\nUtilities","Electricity",{"$f":"'Electricity Summary'!C19*H10","v":0},"lb CO₂e/hr"]
[null,"  N₂",5.7185999999999999E-3,null,null,null,null,null,null,null,null,"Natural Gas",{"$f":"H13*Syngas!$B$38*'Life Cycle Adders'!$D$15","v":0},"lb CO₂e/hr"]
[null,"  CH₄",2.2280999999999999E-4,null,null,"Supplmental Utilities Required for Gasifier Island:",null,null,null,null,null,"Hydrogen",{"$f":"H14*Syngas!$B$38*'Life Cycle Adders'!$B$22","v":0},"lb CO₂e/hr"]
[null,"  CO",0.42601313000000002,null,null,"Electricity","Grid Mix",{"$f":"VLOOKUP(G10,'Life Cycle Adders'!$A$3:$C$8,3,FALSE)","v":1331},"lb CO₂e/MWh"]
[null,"  COS",5.3156000000000004E-4,null,null,null,null,0,"kWh/lb-mol Raw Syngas",null,"Total",null,{"$f":"SUM(M7:M9,M4:M5)","v":158356.01023626936},"lb CO₂e/hr"]
[null,"  H₂",0.20356556000000001]
[null,"  H₂S",5.7266699999999997E-3,null,null,"Natural Gas",null,0,"lb/lb-mol Raw Syngas",null,"Product Flows"]
[null,"  HCl",1.01775E-3,null,null,"Hydrogen",null,0,"lb/lb-mol Raw Syngas",null,null,"Jet",{"$f":"FT!S98/'Product Properties'!B22*24","v":36949.833014550903},"bbl/day"]
[null,"  NH₃",0,null,null,null,null,null,null,null,null,"Diesel",{"$f":"FT!T98/'Product Properties'!C22*24","v":8614.7924306423865},"bbl/day"]
[null,"  SO₂",2.0540000000000001E-4,null,null,null,null,null,null,null,null,"Naphtha",{"$f":"FT!U98/'Product Properties'!D22*24","v":1177.8398681260467},"bbl/day"]
[null,"Total",{"$f":"SUM(C4:C16)","v":0.99999997000015162},{"$f":"IF(OR(C17<0.99,C17>1.01),\"Sum of mole/mass fractions is <0.99 or >1.01. Adjust inputs.\",\"\")","v":""},null,null,null,null,null,null,null,"LPG",{"$f":"FT!J98/'Product Properties'!$E$22*24","v":3222.5652203885907},"bbl/day"]
[null,null,null,null,null,null,null,null,null,null,null,"Total",{"$f":"SUM(M14:M17)","v":49965.030533707926},"bbl/day"]
[]
[null,null,null,null,null,null,null,null,null,null,"Pipeline CO₂ ",null,{"$f":"(1-$H$3)*Syngas!$T$20*('Mole-Mass Frac Convert'!$M$3+2*'Mole-Mass Frac Convert'!$M$4)","v":2419743.4745911718},"lb/hr"]
[]
[null,"Gasifier Island Steam Balance","Btu/lb-mol Raw Syngas","Surplus/Deficit",null,null,null,null,null,null,"Net Export Power",null,{"$f":"'Electricity Summary'!C18","v":251.77377874805879},"MWe"]
[null,"Steam @ 1,815 psia",0,"Surplus"]
[null,"Steam @ 840 psia",0,"Deficit",null,null,null,null,null,null,"Syngas Requirement",null,{"$f":"Syngas!B38","v":214070.32223843192},"lb-mol/hr"]
[null,"Steam @ 615 psia",0,"Deficit"]
[null,"Steam @ 375 psia",0,"Deficit"]
[null,"Steam @ 65 psia",0,"Deficit"]
[null,"Steam @ 25 psia",0,"Deficit"]
[]
[null,"Sour Water Flow from Gasifier","lb-mol/lb-mol Raw Syngas"]
[null,null,0]
[null,"Gasifier Oxygen Requirement","lb/lb-mol Raw Syngas"]
[null,null,0]
[]
[null,"Input"]
[null,"Output",null,null,null,null,null,null,null,null,null,"F-T Reactor Inlet"]
[null,null,null,null,null,null,null,null,null,null,"Syngas Composition","Fresh Feed","Recycle","Fresh + Recycle"]
[null,null,null,null,null,null,null,null,null,null,"H₂O",{"$f":"INDIRECT(\"'FT'!\"&\"B\"&VLOOKUP($K38,$P$38:$Q$51,2,FALSE))/FT!B$98","v":0},{"$f":"INDIRECT(\"'FT'!\"&\"C\"&VLOOKUP($K38,$P$38:$Q$51,2,FALSE))/FT!C$98","v":0},{"$f":"INDIRECT(\"'FT'!\"&\"E\"&VLOOKUP($K38,$P$38:$Q$51,2,FALSE))/FT!E$98","v":4.5713720118282473E-2},null,"  H₂",6]
[null,null,null,null,null,null,null,null,null,null,"  CO₂",{"$f":"INDIRECT(\"'FT'!\"&\"B\"&VLOOKUP($K39,$P$38:$Q$51,2,FALSE))/FT!B$98","v":1.0070194448611153E-2},{"$f":"INDIRECT(\"'FT'!\"&\"C\"&VLOOKUP($K39,$P$38:$Q$51,2,FALSE))/FT!C$98","v":1.9369677030667053E-3},{"$f":"INDIRECT(\"'FT'!\"&\"E\"&VLOOKUP($K39,$P$38:$Q$51,2,FALSE))/FT!E$98","v":7.8768577077590954E-3},null,"  N₂",7]
[null,null,null,null,null,null,null,null,null,null,"  O₂",{"$f":"INDIRECT(\"'FT'!\"&\"B\"&VLOOKUP($K40,$P$38:$Q$51,2,FALSE))/FT!B$98","v":2.3307009839278216E-13},{"$f":"INDIRECT(\"'FT'!\"&\"C\"&VLOOKUP($K40,$P$38:$Q$51,2,FALSE))/FT!C$98","v":0},{"$f":"INDIRECT(\"'FT'!\"&\"E\"&VLOOKUP($K40,$P$38:$Q$51,2,FALSE))/FT!E$98","v":1.7275408845710639E-13},null,"  O₂",8]
[null,null,null,null,null,null,null,null,null,null,"  N₂",{"$f":"INDIRECT(\"'FT'!\"&\"B\"&VLOOKUP($K41,$P$38:$Q$51,2,FALSE))/FT!B$98","v":1.9993418544198095E-2},{"$f":"INDIRECT(\"'FT'!\"&\"C\"&VLOOKUP($K41,$P$38:$Q$51,2,FALSE))/FT!C$98","v":0.17496385556241614},{"$f":"INDIRECT(\"'FT'!\"&\"E\"&VLOOKUP($K41,$P$38:$Q$51,2,FALSE))/FT!E$98","v":5.2099835684179537E-2},null,"  H₂S",9]
[null,null,null,null,null,null,null,null,null,null,"  CH₄",{"$f":"INDIRECT(\"'FT'!\"&\"B\"&VLOOKUP($K42,$P$38:$Q$51,2,FALSE))/FT!B$98","v":3.4307268477640695E-4},{"$f":"INDIRECT(\"'FT'!\"&\"C\"&VLOOKUP($K42,$P$38:$Q$51,2,FALSE))/FT!C$98","v":6.1962481478395157E-2},{"$f":"INDIRECT(\"'FT'!\"&\"E\"&VLOOKUP($K42,$P$38:$Q$51,2,FALSE))/FT!E$98","v":1.3456970855303715E-2},null,"  CO",10]
[null,null,null,null,null,null,null,null,null,null,"  CO",{"$f":"INDIRECT(\"'FT'!\"&\"B\"&VLOOKUP($K43,$P$38:$Q$51,2,FALSE))/FT!B$98","v":0.54876425953169594},{"$f":"INDIRECT(\"'FT'!\"&\"C\"&VLOOKUP($K43,$P$38:$Q$51,2,FALSE))/FT!C$98","v":4.7319993842714021E-2},{"$f":"INDIRECT(\"'FT'!\"&\"E\"&VLOOKUP($K43,$P$38:$Q$51,2,FALSE))/FT!E$98","v":0.41683275713444029},null,"  CO₂",11]
[null,null,null,null,null,null,null,null,null,null,"  COS",{"$f":"INDIRECT(\"'FT'!\"&\"B\"&VLOOKUP($K44,$P$38:$Q$51,2,FALSE))/FT!B$98","v":0},{"$f":"INDIRECT(\"'FT'!\"&\"C\"&VLOOKUP($K44,$P$38:$Q$51,2,FALSE))/FT!C$98","v":0},{"$f":"INDIRECT(\"'FT'!\"&\"E\"&VLOOKUP($K44,$P$38:$Q$51,2,FALSE))/FT!E$98","v":0},null,"H₂O",12]
[null,null,null,null,null,null,null,null,null,null,"  H₂",{"$f":"INDIRECT(\"'FT'!\"&\"B\"&VLOOKUP($K45,$P$38:$Q$51,2,FALSE))/FT!B$98","v":0.42082905382116637},{"$f":"INDIRECT(\"'FT'!\"&\"C\"&VLOOKUP($K45,$P$38:$Q$51,2,FALSE))/FT!C$98","v":0.68798639930618721},{"$f":"INDIRECT(\"'FT'!\"&\"E\"&VLOOKUP($K45,$P$38:$Q$51,2,FALSE))/FT!E$98","v":0.45851605535712625},null,"  NH₃",13]
[null,null,null,null,null,null,null,null,null,null,"  H₂S",{"$f":"INDIRECT(\"'FT'!\"&\"B\"&VLOOKUP($K46,$P$38:$Q$51,2,FALSE))/FT!B$98","v":9.6931884335683946E-10},{"$f":"INDIRECT(\"'FT'!\"&\"C\"&VLOOKUP($K46,$P$38:$Q$51,2,FALSE))/FT!C$98","v":8.022720455683943E-9},{"$f":"INDIRECT(\"'FT'!\"&\"E\"&VLOOKUP($K46,$P$38:$Q$51,2,FALSE))/FT!E$98","v":2.4279141714721845E-9},null,"  HCl",14]
[null,null,null,null,null,null,null,null,null,null,"  HCl",{"$f":"INDIRECT(\"'FT'!\"&\"B\"&VLOOKUP($K47,$P$38:$Q$51,2,FALSE))/FT!B$98","v":0},{"$f":"INDIRECT(\"'FT'!\"&\"C\"&VLOOKUP($K47,$P$38:$Q$51,2,FALSE))/FT!C$98","v":0},{"$f":"INDIRECT(\"'FT'!\"&\"E\"&VLOOKUP($K47,$P$38:$Q$51,2,FALSE))/FT!E$98","v":0},null,"C",15]
[null,null,null,null,null,null,null,null,null,null,"  NH₃",{"$f":"INDIRECT(\"'FT'!\"&\"B\"&VLOOKUP($K48,$P$38:$Q$51,2,FALSE))/FT!B$98","v":0},{"$f":"INDIRECT(\"'FT'!\"&\"C\"&VLOOKUP($K48,$P$38:$Q$51,2,FALSE))/FT!C$98","v":0},{"$f":"INDIRECT(\"'FT'!\"&\"E\"&VLOOKUP($K48,$P$38:$Q$51,2,FALSE))/FT!E$98","v":0},null,"  HCN                     ",16]
[null,null,null,null,null,null,null,null,null,null,"  SO₂",0,0,0,null,"  SULFUR                  ",17]
[null,null,null,null,null,null,null,null,null,null,"C2+",{"$f":"SUM(FT!B20:B97)/FT!B98","v":0},{"$f":"SUM(FT!C20:C97)/FT!C98","v":2.5830294084500851E-2},{"$f":"SUM(FT!E20:E97)/FT!E98","v":5.5038007148215471E-3},null,"  COS",18]
[null,null,null,null,null,null,null,null,null,null,"Total",{"$f":"SUM(L38:L50)","v":0.99999999999999978},{"$f":"SUM(M38:M50)","v":1.0000000000000004},{"$f":"SUM(N38:N50)","v":0.99999999999999989},null,"  CH₄",19]

{"sheet":"Model Validation Cases","index":3,"n_rows":33,"n_cols":19,"rows_kept":33,"cut":false,"hidden":false,"merged":[[1,5,1,7],[4,6,6,6],[12,6,12,7],[11,6,11,7],[10,6,10,7],[8,6,8,7],[7,6,7,7],[3,6,3,7],[2,6,2,7],[2,5,7,5],[25,5,29,5],[30,5,30,7],[31,5,31,7],[32,5,32,7],[20,6,20,7],[21,6,23,6],[24,6,24,7],[25,6,25,7],[26,6,26,7],[27,6,27,7],[28,6,28,7],[29,6,29,7],[19,6,19,7],[18,5,18,7],[19,5,24,5],[8,5,12,5],[13,5,13,7],[14,5,14,7],[15,5,15,7],[9,6,9,7]]}
["Reference Case: CCAT TRIG 100% Coal Validated Scenario",null,null,null,null,"Recycle Rate = 51%"]
["Compound","CCAT","Model Default",null,null,"Model Output",null,null,"Units","F-T Black Box Model","CCAT TRIG Model","% Difference"]
["  H₂O",0.14657500000000001,0.33133934999999998,null,null,"CO₂ Emissions","F-T Plant Stack Gas",null,"lb CO₂/hr",360229.34058064892,360313.58999999997,{"$f":"J3/K3-1","v":-2.3382248599357336E-4}]
["Ar",7.3284200000000004E-3,6.6663E-3,null,null,null,"F-T Plant Vented",null,"lb CO₂/hr",0,0,{"$f":"IFERROR(J4/K4-1,0)","v":0}]
["  CO₂",0.1223967,1.899284E-2,null,null,null,"Utility Inputs","Electricity","lb CO₂e/hr",0,0,{"$f":"IFERROR(J5/K5-1,0)","v":0}]
["  O₂",0,1.5141000000000001E-13,null,null,null,null,"Natural Gas","lb CO₂e/hr",0,0,0]
["  N₂",5.5151100000000002E-3,5.7185999999999999E-3,null,null,null,null,"Hydrogen","lb CO₂e/hr",0,0,0]
["  CH₄",1.89795E-2,2.2280999999999999E-4,null,null,null,"Total",null,"lb CO₂e/hr",{"$f":"SUM(J3:J7)","v":360229.34058064892},{"$f":"SUM(K3:K7)","v":360313.58999999997},{"$f":"J8/K8-1","v":-2.3382248599357336E-4}]
["  CO",0.4008719,0.42601313000000002,null,null,"Product Flows","Jet",null,"bbl/day",36917.72960355557,24646.867889849756,0.49786698125481843]
["  COS",6.6999200000000001E-5,5.3156000000000004E-4,null,null,null,"Diesel",null,"bbl/day",8607.3075734867016,4766.7531616643928,0.80569609576370715]
["  H₂",0.29288160000000002,0.20356556000000001,null,null,null,"Naphtha",null,"bbl/day",1176.8165163463987,16971.529347748849,-0.93065937121910025]
["  H₂S",1.4388199999999999E-3,5.7266699999999997E-3,null,null,null,"LPG",null,"bbl/day",3219.7653339672202,3615.4229519680175,-0.10943605305858484]
["  HCl",2.7795499999999998E-5,1.01775E-3,null,null,null,"Total",null,"bbl/day",{"$f":"SUM(J9:J12)","v":49921.61902735589},{"$f":"SUM(K9:K12)","v":50000.573351231018},-1.5790683702866515E-3]
["  NH₃",3.9181299999999997E-3,0,null,null,"Pipeline CO₂ ",null,null,"lb/hr",2973419.8148545115,2587866.44,0.14898503604943047]
["  SO₂",0,2.0540000000000001E-4,null,null,"Net Export Power",null,null,"MWe",414.66847155463552,221.69997544195621,0.87040377757371856]
[null,null,null,null,null,"Syngas Requirement",null,null,"lb-mol/hr",209450.26829097938,191727,9.2440127321552934E-2]
[]
[null,null,null,null,null,"Recycle Rate = 75%"]
[null,null,null,null,null,"Model Output",null,null,"Units","F-T Black Box Model","CCAT TRIG Model","% Difference"]
[null,null,null,null,null,"CO₂ Emissions","F-T Plant Stack Gas",null,"lb CO₂/hr",323644.24376271555,360313.58999999997,{"$f":"J20/K20-1","v":-0.10177064439141592}]
[null,null,null,null,null,null,"F-T Plant Vented",null,"lb CO₂/hr",0,0,{"$f":"IFERROR(J21/K21-1,0)","v":0}]
[null,null,null,null,null,null,"Utility Inputs","Electricity","lb CO₂e/hr",0,0,{"$f":"IFERROR(J22/K22-1,0)","v":0}]
[null,null,null,null,null,null,null,"Natural Gas","lb CO₂e/hr",0,0,0]
[null,null,null,null,null,null,null,"Hydrogen","lb CO₂e/hr",0,0,0]
[null,null,null,null,null,null,"Total",null,"lb CO₂e/hr",{"$f":"SUM(J20:J24)","v":323644.24376271555},{"$f":"SUM(K20:K24)","v":360313.58999999997},{"$f":"J25/K25-1","v":-0.10177064439141592}]
[null,null,null,null,null,"Product Flows","Jet",null,"bbl/day",36944.917394805758,24646.867889849756,0.49897007440936014,null,null,null,null,null,null,"`"]
[null,null,null,null,null,null,"Diesel",null,"bbl/day",8613.6463620321265,4766.7531616643928,0.8070258874123295]
[null,null,null,null,null,null,"Naphtha",null,"bbl/day",1177.6831742403099,16971.529347748849,-0.93060830582150678]
[null,null,null,null,null,null,"LPG",null,"bbl/day",3222.1365065369996,3615.4229519680175,-0.10878020377033248]
[null,null,null,null,null,null,"Total",null,"bbl/day",49958.383437615194,{"$f":"SUM(K26:K29)","v":50000.573351231018},-8.4378859657185945E-4]
[null,null,null,null,null,"Pipeline CO₂ ",null,null,"lb/hr",2727609.6843850235,2587866.44,5.3999403611039387E-2]
[null,null,null,null,null,"Net Export Power",null,null,"MWe",171.93119277462995,221.69997544195621,-0.22448709147627466]
[null,null,null,null,null,"Syngas Requirement",null,null,"lb-mol/hr",196900.13961299552,191727,2.698180023155583E-2]

{"sheet":"Life Cycle Adders","index":4,"n_rows":22,"n_cols":13,"rows_kept":22,"cut":false,"hidden":false,"merged":[]}
[null,null,null,null,null,null,null,null,null,null,null,"CO2",1]
["Electricity","kg CO2e/MWh","lb CO2e/MWh",null,null,null,null,null,null,null,null,"N2O",298]
["Grid Mix",603.63210943749959,{"$f":"ROUND(CONVERT(B3,\"kg\",\"lbm\"),0)","v":1331},null,"Source: ","NETL Grid Mix Explorer",null,null,null,null,null,"CH4",25]
["NGCC",475.82152628516104,{"$f":"ROUND(CONVERT(B4,\"kg\",\"lbm\"),0)","v":1049},null,null,null,null,null,null,null,null,"SF6",22800]
["Fleet Gas",524.86085423479472,1157]
["SCPC",963.38938159775898,2124]
["Fleet Coal",1112.939378155786,2454]
["Custom",null,{"$f":"CONVERT(B8,\"kg\",\"lbm\")","v":0}]
[]
["Natural Gas","lb/scf","g/MJ","lb/lb","Source:","NETL LCA of Natural Gas and Power Generation"]
["CO2",6.8900000000000003E-3,2.88,0.16400000000000001]
["N2O",1.9000000000000001E-7,7.9599999999999997E-5,4.5299999999999998E-6]
["CH4",5.2400000000000005E-4,0.219,1.2500000000000001E-2]
["SF6",6.9200000000000004E-11,2.9000000000000002E-8,1.6500000000000001E-9]
["CO2e",{"$f":"SUMPRODUCT(B11:B14,$M$1:$M$4)","v":2.0048197760000001E-2},{"$f":"SUMPRODUCT(C11:C14,$M$1:$M$4)","v":8.3793819999999997},{"$f":"SUMPRODUCT(D11:D14,$M$1:$M$4)","v":0.47788756000000004}]
[]
["Hydrogen","lb/lb",null,null,"Source:","NETL Petroleum Baseline"]
["CO2",7.0908424830645398]
["N2O",-2.3670772920684301E-6]
["CH4",3.07271332164573E-2]
["SF6",3.3414570807651798E-8]
["CO2e",{"$f":"SUMPRODUCT(B18:B21,$M$1:$M$4)","v":7.8590772766573505}]

{"sheet":"Cradle-to-Grave LC Adders","index":5,"n_rows":27,"n_cols":14,"rows_kept":27,"cut":false,"hidden":false,"merged":[[1,0,7,0],[19,0,26,0],[8,0,12,0],[14,0,17,0]]}
["LCA Stage","Process Operation","Units","CO₂","CH₄","N₂O","SF₆","Notes"]
["Raw Material Acquisition","Coal Mining, Sub-Bituminous (Montana Rosebud)","kg/kg coal mined",6.4136732825116859E-3,1.8002173047022339E-4,6.7349967500336799E-6,2.05649244475869E-10,"Coal Mine Methane - 8 scf/ton"]
[null,"Coal Mining, Bituminous (I-6)","kg/kg coal mined",2.2920633720327672E-2,7.6057526515215402E-3,4.26930399050059E-7,4.7669980803328901E-9,"Coal Mine Methane - 360 scf/ton"]
[null,"Coal Mining, Lignite (North Dakota)","kg/kg coal mined",6.4131140885745194E-3,6.1056176020032703E-5,6.73437914081833E-6,2.0590875990084299E-10,"Coal Mine Methane - 2.4 scf/ton"]
[null,"Biomass Production, Southern Pine","kg/kg biomass harvested",-0.94324160592383,6.4175128086566596E-5,9.9016809826661773E-5,6.9606012654717683E-10,"Biomass Yield - 6350 kg/acre-yr"]
[null,"Biomass Production, Switchgrass","kg/kg biomass harvested",-1.1565423819866341,2.5157648918556699E-4,9.1947290939238297E-4,1.0688543303941399E-9,"Biomass Yield - 2430  kg/acre-yr"]
[null,"Biomass Direct Land Use Change","kg/kg biomass harvested",2.2442965039141713E-2,0,0,0]
[null,"Biomass Indirect Land Use Change","kg/kg biomass harvested",8.2827298216184245E-2,0,3.0271406154440217E-6,0]
["Raw Material Transport","Rail Transport of Coal to CBTL Plant","kg/kg coal transported",5.1298051570405533E-2,6.0242021513483103E-5,1.26108791214509E-6,3.4004005794520198E-15,"Coal Rail Distance - 1600 miles"]
[null,"Transport of Chipped Biomass to CBTL Plant or Torrefaction","kg/kg biomass transported",6.2640151756277584E-3,8.4396414548511718E-6,1.5805455067605903E-7,4.3258871083994801E-16,"Biomass Truck Transport Distance - 40 miles"]
[null,"Biomass Transport Torrefaction Facility to CBTL Plant","kg/kg biomass transported",8.0440808289648502E-3,1.05962389309875E-5,2.0180763385798299E-7,5.6103070718946701E-16,"Biomass Truck Transport Distance - 50 miles"]
[null,"Biomass Torrefaction","kg/kg torrefied biomass",7.2831247541880903E-2,6.8385722124867302E-6,5.8833182537271597E-7,7.1973678093309899E-10]
[null,"Biomass Drying","kg/kg dried biomass",0.26175946049797766,9.6354806315701396E-4,2.23251287306594E-6,3.00184368225053E-7,null,null,null,null,"CO₂ Pipe Loss Rate","kg/mi-yr",3843]
["Energy Conversion","CBTL Facility Construction","kg/kg F-T jet",6.5424834398450664E-4,7.5805406138260097E-7,2.1184956976466199E-8,2.1716593561020999E-11]
["Product Transport","CO₂ Pipeline Transport to EOR/Saline Aquifer","kg/kg CO₂",2.2401749008889447E-2,9.4832251498363652E-6,4.9988550853517164E-7,0,"CO₂ Pipeline Transport Distance - 775 miles"]
[null,"Transport of F-T Jet to Blending Facility","kg/kg F-T jet",4.5919038271722565E-3,9.0830677043890186E-6,8.7266145483418794E-8,9.9752581056596102E-10,"F-T Pipeline Transport Distance - 225 miles"]
[null,"Blending of F-T and Conv. Jet (includes Conv. Jet Fuel Profile)","kg/kg blended jet fuel",0.24381308369775509,2.19359133319181E-3,5.1216444762124403E-6,5.6186610697322003E-11,"50/50 Volume Blend with Conventional Jet Fuel"]
[null,"Pipeline Transport of Blended Jet Fuel to Airport","kg/kg blended jet fuel",4.9647487506192705E-3,9.8490472757716798E-6,9.3408560875044702E-8,1.08543435857784E-9,"Blended Jet Pipeline Transport Distance - 225 miles"]
["End Use","Airplane Operation (Fuel Use)","kg/kg blended jet fuel combusted",3.1386666666666598,2.0617591977278699E-5,8.2470454920245505E-5,0]
["ECF Product Displacements","LPG Displacement","kg/kg LPG",1.2565699048772623,4.82673640541795E-3,2.38389611387502E-5,2.85368886470246E-13]
[null,"Naphtha Displacement","kg/kg naphtha",0.50084090822255822,4.7559543183170998E-3,1.20178422664007E-5,1.06957073082923E-13]
[null,"Electricity Displacement - 2010 Mix","kg/MWh",567.7809006401036,1.1667381588211601,9.3536317440978504E-3,5.7988818372999402E-7]
[null,"Electricity Displacement - Fleet Coal","kg/MWh",996.29688043031729,1.5882184086626401,1.8930877577332202E-2,1.00808356264829E-6]
[null,"Electricity Displacement - 2035 Mix","kg/MWh",521.67399484273403,1.1306716088901201,8.2691670989085593E-3,5.4876378415477903E-7]
[null,"Diesel Displacement - U.S. Consumption Mix","kg/kg diesel",0.6203531699995547,4.1811085688573902E-3,1.2398884634344901E-5,2.5245477019453601E-13]
[null,"Diesel Displacement - U.S. Import Mix","kg/kg diesel",0.6147801003173009,6.35598490800998E-3,1.19274820230503E-5,1.2731290439960601E-13]
[null,"CO₂ Displacement - Natural Dome","kg/kg CO₂",8.8215213205277324E-2,1.43423503527379E-4,1.57951537343911E-6,1.5327378344431602E-8]

{"sheet":"Mole-Mass Frac Convert","index":6,"n_rows":24,"n_cols":13,"rows_kept":24,"cut":false,"hidden":false,"merged":[]}
["Compound","Mass Fraction","Mole Fraction",null,"Mass Fraction - Calc","Mole Fraction - Calc",null,"Moles for 1 kg","kg for 1 Mole","Molecular Weight",null,"Element","Molecular Weight"]
["  H2O                     ",{"$f":"IF('F-T Black Box Dashboard'!$C$3=\"Mass Fraction\",'F-T Black Box Dashboard'!$C4,E2)","v":0.30102077264363231},{"$f":"IF('F-T Black Box Dashboard'!$C$3=\"Mole Fraction\",'F-T Black Box Dashboard'!$C4,F2)","v":0.33133934999999998},null,{"$f":"I2/$I$15","v":0.30102077264363231},{"$f":"H2/$H$15","v":0.33133935994013058},null,{"$f":"B2/J2","v":1.6709720702894039E-2},{"$f":"C2*J2","v":5.9689823018384995},{"$f":"M2*2+M4","v":18.014710000000001},null,"H",1.0078400000000001]
["  AR                      ",{"$f":"IF('F-T Black Box Dashboard'!$C$3=\"Mass Fraction\",'F-T Black Box Dashboard'!$C5,E3)","v":1.3430001780017298E-2},{"$f":"IF('F-T Black Box Dashboard'!$C$3=\"Mole Fraction\",'F-T Black Box Dashboard'!$C5,F3)","v":6.6663E-3},null,{"$f":"I3/$I$15","v":1.3430001780017298E-2},{"$f":"H3/$H$15","v":6.6663001999879975E-3},null,{"$f":"B3/J3","v":3.3618708771446124E-4},{"$f":"C3*J3","v":0.26630535240000003},{"$f":"M8","v":39.948},null,"C",12.009600000000001]
["  CO2                     ",{"$f":"IF('F-T Black Box Dashboard'!$C$3=\"Mass Fraction\",'F-T Black Box Dashboard'!$C6,E4)","v":4.2151628816515824E-2},{"$f":"IF('F-T Black Box Dashboard'!$C$3=\"Mole Fraction\",'F-T Black Box Dashboard'!$C6,F4)","v":1.899284E-2},null,4.2151628816515824E-2,1.8992840569782343E-2,null,9.5782481541885713E-4,0.83583044515440008,{"$f":"M3+2*M4","v":44.007660000000001},null,"O",15.999029999999999]
["  O2                      ",{"$f":"IF('F-T Black Box Dashboard'!$C$3=\"Mass Fraction\",'F-T Black Box Dashboard'!$C7,E5)","v":2.4432864293212209E-13},{"$f":"IF('F-T Black Box Dashboard'!$C$3=\"Mole Fraction\",'F-T Black Box Dashboard'!$C7,F5)","v":1.5141000000000001E-13},null,2.4432864293212209E-13,1.5141000454227723E-13,null,7.635733007942423E-15,4.8448262645999999E-12,{"$f":"M4*2","v":31.998059999999999},null,"N",14.00643]
["  N2                      ",{"$f":"IF('F-T Black Box Dashboard'!$C$3=\"Mass Fraction\",'F-T Black Box Dashboard'!$C8,E6)","v":8.0787346856607076E-3},{"$f":"IF('F-T Black Box Dashboard'!$C$3=\"Mole Fraction\",'F-T Black Box Dashboard'!$C8,F6)","v":5.7185999999999999E-3},null,8.0787346856607076E-3,5.7186001715571391E-3,null,2.8839378362868724E-4,0.16019434119599998,{"$f":"M5*2","v":28.01286},null,"S",32.058999999999997]
["  CH4                     ",{"$f":"IF('F-T Black Box Dashboard'!$C$3=\"Mass Fraction\",'F-T Black Box Dashboard'!$C9,E7)","v":1.8024416297350934E-4},{"$f":"IF('F-T Black Box Dashboard'!$C$3=\"Mole Fraction\",'F-T Black Box Dashboard'!$C9,F7)","v":2.2280999999999999E-4},null,1.8024416297350934E-4,2.2281000668426649E-4,null,1.1236494759260625E-5,3.5740862976000004E-3,{"$f":"M3+M2*4","v":16.040960000000002},null,"Cl",35.445999999999998]
["  CO                      ",{"$f":"IF('F-T Black Box Dashboard'!$C$3=\"Mass Fraction\",'F-T Black Box Dashboard'!$C10,E8)","v":0.60174297101218821},{"$f":"IF('F-T Black Box Dashboard'!$C$3=\"Mole Fraction\",'F-T Black Box Dashboard'!$C10,F8)","v":0.42601313000000002},null,0.60174297101218821,0.42601314278032987,null,2.1484198656349426E-2,11.932044133311901,{"$f":"M3+M4","v":28.00863},null,"Ar",39.948]
["  COS                     ",{"$f":"IF('F-T Black Box Dashboard'!$C$3=\"Mass Fraction\",'F-T Black Box Dashboard'!$C11,E9)","v":1.6102338967286718E-3},{"$f":"IF('F-T Black Box Dashboard'!$C$3=\"Mole Fraction\",'F-T Black Box Dashboard'!$C11,F9)","v":5.3156000000000004E-4},null,1.6102338967286718E-3,5.3156001594672E-4,null,2.6807015637684923E-5,3.1929549402799996E-2,{"$f":"M3+M4+M6","v":60.067629999999994}]
["  H2                      ",{"$f":"IF('F-T Black Box Dashboard'!$C$3=\"Mass Fraction\",'F-T Black Box Dashboard'!$C12,E10)","v":2.0692933681209148E-2},{"$f":"IF('F-T Black Box Dashboard'!$C$3=\"Mole Fraction\",'F-T Black Box Dashboard'!$C12,F10)","v":0.20356556000000001},null,2.0692933681209148E-2,0.20356556610693619,null,1.0265981545289503E-2,0.41032302798080006,{"$f":"M2*2","v":2.0156800000000001}]
["  H2S                     ",{"$f":"IF('F-T Black Box Dashboard'!$C$3=\"Mass Fraction\",'F-T Black Box Dashboard'!$C13,E11)","v":9.840793497183949E-3},{"$f":"IF('F-T Black Box Dashboard'!$C$3=\"Mole Fraction\",'F-T Black Box Dashboard'!$C13,F11)","v":5.7266699999999997E-3},null,9.840793497183949E-3,5.7266701717992386E-3,null,2.8880076048209253E-4,0.19513444771559998,{"$f":"M2*2+M6","v":34.074680000000001}]
["  NH3                     ",{"$f":"IF('F-T Black Box Dashboard'!$C$3=\"Mass Fraction\",'F-T Black Box Dashboard'!$C14,E12)","v":8.7407894475179549E-4},{"$f":"IF('F-T Black Box Dashboard'!$C$3=\"Mole Fraction\",'F-T Black Box Dashboard'!$C14,F12)","v":1.01775E-3},null,8.7407894475179549E-4,1.0177500305323468E-3,null,{"$f":"B12/J12","v":5.1325984207340336E-5},{"$f":"C12*J12","v":1.7332231612499999E-2},{"$f":"M5+M2*3","v":17.029949999999999}]
["  SO2                     ",{"$f":"IF('F-T Black Box Dashboard'!$C$3=\"Mass Fraction\",'F-T Black Box Dashboard'!$C15,E13)","v":0},{"$f":"IF('F-T Black Box Dashboard'!$C$3=\"Mole Fraction\",'F-T Black Box Dashboard'!$C15,F13)","v":0},null,0,0,null,{"$f":"B13/J13","v":0},{"$f":"C13*J13","v":0},{"$f":"M6+2*M4","v":64.057059999999993}]
["  HCL                     ",{"$f":"IF('F-T Black Box Dashboard'!$C$3=\"Mass Fraction\",'F-T Black Box Dashboard'!$C16,E14)","v":3.7760687889415044E-4},{"$f":"IF('F-T Black Box Dashboard'!$C$3=\"Mole Fraction\",'F-T Black Box Dashboard'!$C16,F14)","v":2.0540000000000001E-4},null,3.7760687889415044E-4,2.0540000616196911E-4,null,{"$f":"B14/J14","v":1.035849388964648E-5},{"$f":"C14*J14","v":7.4876187360000002E-3},{"$f":"M2+M7","v":36.45384}]
[null,{"$f":"SUM(B2:B14)","v":0.99999999999999989},{"$f":"SUM(C2:C14)","v":0.99999997000015162},null,{"$f":"SUM(E2:E14)","v":0.99999999999999989},{"$f":"SUM(F2:F14)","v":1},null,{"$f":"SUM(H2:H14)","v":5.0430835340278632E-2},{"$f":"SUM(I2:I14)","v":19.829137535650947}]
["Dashboard User Selections:"]
["Mass Fraction"]
["Mole Fraction"]
[]
["Surplus"]
["Deficit"]
[]
["Gas Turbine"]
["Boiler"]

{"sheet":"Electricity Summary","index":7,"n_rows":22,"n_cols":4,"rows_kept":22,"cut":false,"hidden":false,"merged":[]}
["Source/Sink","hp","MW","Comments"]
["Power Generation",{"$f":"SUM(B3:B4)","v":622978.50277832034},{"$f":"SUM(C3:C4)","v":464.55498978054516}]
["Gas Turbines",{"$f":"GT!B29","v":206281.40245414895},{"$f":"B3*$B$22/10^6","v":153.82401540603936}]
["Steam Turbine",{"$f":"SC!C8","v":416697.10032417136},{"$f":"B4*$B$22/10^6","v":310.73097437450576}]
["Auxiliary Load Summary",{"$f":"SUM(B6:B17)","v":258657.96451750814},{"$f":"SUM(C6:C17)","v":212.78121103248637}]
["Gasifier Island (User-Input)",{"$f":"C6*10^6/$B$22","v":0},{"$f":"'F-T Black Box Dashboard'!$H$11/1000*Syngas!$B$38","v":0}]
["Air Separation Mac",{"$f":"ASU!$B$6","v":9813.3123762250125},{"$f":"B7*$B$22/10^6","v":7.3177857828470074}]
["Oxygen Compressor",{"$f":"ASU!$B$11","v":0},0]
["Nitrogen Compressor",{"$f":"ASU!$B$7","v":86.150179924548681},6.4242178142512929E-2]
["CO₂ Compressor",{"$f":"Syngas!$T$15+Syngas!$R$15","v":59007.767716001559},44.002084832828096]
["BFW & Circulating Water Pumps",null,19.899999999999999]
["Cooling Tower Fans",{"$f":"C12*10^6/$B$22","v":15599.508084836276},{"$f":"SC!B12","v":11.632551182125377},"Calculated from JetFuelUpgrading Template"]
["Claus Plant",{"$f":"Syngas!$AU$15","v":1125.7047783416861},0.8394379091191837]
["Selexol",{"$f":"C14*10^6/$B$22","v":19460.769736532267},{"$f":"ASU!H11/1000","v":14.511893501553585}]
["HC Recovery Refrigeration",{"$f":"C15*10^6/$B$22","v":60967.522889929744},{"$f":"FT!$K$111*FT!$J$98","v":45.463474015177681},"Based on scaled CCAT power demand"]
["FT Processing",{"$f":"C16*10^6/$B$22","v":65776.786978840886},{"$f":"FT!AD3/1000","v":49.049741630692921}]
["Other",{"$f":"C17*10^6/$B$22","v":26820.441776876152},20]
["Net Power",{"$f":"SUM(B3:B4)-SUM(B6:B17)","v":364320.53826081217},{"$f":"SUM(C3:C4)-SUM(C6:C17)","v":251.77377874805879}]
["Supplemental Grid Power",null,{"$f":"IF($C$18<0,ABS($C$18),0)","v":0}]
[]
[]
["1 hp = ",745.69987200000003,"watts"]

{"sheet":"Product Properties","index":8,"n_rows":31,"n_cols":5,"rows_kept":31,"cut":false,"hidden":false,"merged":[]}
["Property","Jet","Diesel","Naphtha"]
["Enthalpy    Btu/lbmol     ",-157240,-150050,-125210]
["Enthalpy    Btu/lb        ",-874.14840000000004,-770.72860000000003,-906.17489999999998]
["Enthalpy    Btu/hr        ",-442360000,-286080000,-11752000]
["Entropy     Btu/lbmol-R   ",-318.43639999999999,-314.40230000000003,-245.19589999999999]
["Entropy     Btu/lb-R      ",-1.77033,-1.6149709999999999,-1.774486]
["Density     lbmol/cuft    ",0.25987850000000001,0.21831829999999999,0.32523970000000002]
["Density     lb/cuft       ",46.745399999999997,42.502189999999999,44.941139999999997]
["Average MW                ",179.8741,194.6799,138.17850000000001]
["Liq Vol 60F cuft/hr       ",10529.35,7830.3680000000004,291.1979]
["*** ALL PHASES ***        "," "," "," "]
["CPMX        Btu/lb-R      ",0.4912764,0.59102549999999998,0.47018130000000002]
["*** LIQUID PHASE ***      "," "," "," "]
["MUMX        cP            ",1.536427,0.51298350000000004,0.78855370000000002]
["KMX         Btu-ft/hr-sqft",7.8665600000000002E-2,6.7144400000000007E-2,7.5824799999999998E-2]
[]
[]
["1 cubic foot = ",7.4805200000000003,"gallons"]
["1 barrel = ",42,"gallons"]
[]
[null,"Jet","Diesel","Naphtha","LPG"]
["Density (lbmol/bbl)",{"$f":"B7/$B$18*$B$19","v":1.4591093934646255},{"$f":"C7/$B$18*$B$19","v":1.2257662034190135},{"$f":"D7/$B$18*$B$19","v":1.8260852721468561},{"$f":"C28/$B$18*$B$19","v":5.0243761325671716}]
[]
["LPG Data:"]
["Temperature F             ",-100]
["Pressure    psia          ",240]
["Vapor Frac                ",0]
["Mole Flow   lbmol/hr      ",639.56880000000001,{"$f":"B28/B30","v":0.89487967017122338}]
["Mass Flow   lb/hr         ",31235.87]
["Volume Flow cuft/hr       ",714.69809999999995]
["Enthalpy    MMBtu/hr      ",-36.032899999999998]

{"sheet":"Syngas","index":9,"n_rows":95,"n_cols":55,"rows_kept":95,"cut":false,"hidden":false,"merged":[]}
["Raw Syngas",null,null,"To Shift","Shift Steam","RX1 Feed","RX1 Product","RX2 Product","LHTR Feed","LTHR Vapor","LTHR Effluent","Carbon Bed Product","Feed to AGR","AGR Steam","Total Treated Syngas","Treated Syngas","Syngas to GT","To Compression From AGR","To Compression From F-T","Total Compression Flow","To Claus","Bypass","Oxygen Requirement","SWS Gas","Reacted","Claus Product","Combined Stream","TG RX1 Prod","TG RX2 Prod","TG RX3 Prod","Sulf Prod 1","To RX4","TG RX4 Prod","TG RX5 Prod","Sulf Prod 2","To RX6","TG RX6 Prod","TG RX7 Prod","Sulf Prod 3","To RX8","TG RX8 Prod","TG RX9 Prod","Sulf Prod 4","To RX10","TG RX10 Prod","KO Prod Eff","KO Prod Vap","TG Recycle","Vapor Recycle","Sour Water From Claus","Sour Water from Claus","Sour Water from Gasifier","SWS Total Feed","After HCl Scrub","SWS Steam Requirement"]
["Heat Requirement, Btu/hr"," ",null,null,null,null,null,null,null,null,null,null,null,null,null,null,null,null,null,null,{"$f":"U38*5068.40012586112","v":9011001.033945119},null,{"$f":"2589.38481787048*W38","v":2137668.9129900779},null,null,null,null,null,null,null,null,{"$f":"758.688264539061*AF38","v":1892475.3069720492},null,null,null,{"$f":"659.988485385667*AJ38","v":1611418.5528418517},null,null,null,{"$f":"447.704978363232*AN38","v":1086626.1575103812},null,null,null,{"$f":"1389.60330230554*AR38","v":3366790.6419120301}]
["Heat Produced, Btu/hr (878-400)",null,null,null,null,null,{"$f":"(-0.13008254*(((B24*(100-D16)/100)/(B26+(B24*(100-D16)/100)))*F38)^2+10061.40870388*(((B24*(100-D16)/100)/(B26+(B24*(100-D16)/100)))*F38)+22900436.9392837)*(-1.16927516*(O24/O26)^2 + 2.86533602*(O24/O26) - 0.73651763)","v":135424864.67026612}]
["Heat Produced, Btu/hr (401-380)",null,null,null,null,null,null,null,null,{"$f":"(-0.13572483*((((B24*(100-D16)/100)/(B26+(B24*(100-D16)/100)))*F38)*(I18/I38))^2+4250.29086941*((((B24*(100-D16)/100)/(B26+(B24*(100-D16)/100)))*F38)*(I18/I38))+5884395.67765694)/(4.14417875*(O24/O26)^2 - 9.50936397*(O24/O26) + 6.25579392)","v":23491130.496922959}]
["Heat Produced, Btu/hr (380-290)",null,null,null,null,null,null,null,null,{"$f":"(1.61259722*((((B24*(100-D16)/100)/(B26+(B24*(100-D16)/100)))*F38)*(I18/I38))^2+1316.08312711*((((B24*(100-D16)/100)/(B26+(B24*(100-D16)/100)))*F38)*(I18/I38))+257920273.417978)/(0.09062094*(O24/O26)^2 - 0.31650747*(O24/O26) + 1.26284358)","v":289996595.77103871},null,null,null,1800,900,850]
["Heat Produced, Btu/hr (290-150)",null,null,null,null,null,null,null,null,{"$f":"(-0.7948155*((((B24*(100-D16)/100)/(B26+(B24*(100-D16)/100)))*F38)*(I18/I38))^2+29457.31350076*((((B24*(100-D16)/100)/(B26+(B24*(100-D16)/100)))*F38)*(I18/I38))+113222754.629576)/(0.33233527*(O24/O26)^2 - 1.28247071*(O24/O26) + 2.13257142)","v":216396928.79973477},null,null,null,900,500]
["Heat Produced, Btu/hr (2637-1200)",null,null,null,null,null,null,null,null,null,null,null,null,null,null,null,null,null,null,null,null,null,null,null,null,null,null,{"$f":"242673.038659365*((AA27-AB27)+(AA28-AB28)+(AA26-AB26))","v":48129811.773942441}]
["Heat Produced, Btu/hr (1200-650)",null,null,null,null,null,null,null,null,null,null,null,null,null,null,null,null,null,null,null,null,null,null,null,null,null,null,null,{"$f":"71607.0665217873*(AB34-AC34)","v":40598910.829897285}]
["Heat Produced, Btu/hr (650-365)",null,null,null,null,null,null,null,null,null,null,null,null,null,null,null,null,null,null,null,null,null,null,null,null,null,null,null,null,{"$f":"301931.653452632*((AC34-AD34)+(AC35-AD35))","v":12311146.969017204}]
["Heat Produced, Btu/hr (548-340)",null,null,null,null,null,null,null,null,null,null,null,null,null,null,null,null,null,null,null,null,null,null,null,null,null,null,null,null,null,null,null,null,{"$f":"1092203.04956855*((AG34-AH34)+(AG35-AH35))","v":5236821.1751715876}]
["Heat Produced, Btu/hr (455-320)",null,null,null,null,null,null,null,null,null,null,null,null,null,null,null,null,null,null,null,null,null,null,null,null,null,null,null,null,null,null,null,null,null,null,null,null,{"$f":"1989967.58654677*((AK34-AL34)+(AK35-AL35))","v":2820661.3330319482},null,null,null,{"$f":"5313881.94099519*((AO34-AP34)+(AO35-AP35))","v":2061197.2224721552}]
["Heat Produced, Btu/hr (388-280)"]
["Heat Produced, Btu/hr (550-120)",null,null,null,null,null,null,null,null,null,null,null,null,null,null,null,null,null,null,null,null,null,null,null,null,null,null,null,null,null,null,null,null,null,null,null,null,null,null,null,null,null,null,null,null,{"$f":"19336.4284059765*AS38","v":44708758.236739658}]
["Cooling Water Load, Btu/hr",null,null,null,null,null,null,null,null,{"$f":"(-0.12380712*((((B24*(100-D16)/100)/(B26+(B24*(100-D16)/100)))*F38)*(I18/I38))^2+4615.05807884*((((B24*(100-D16)/100)/(B26+(B24*(100-D16)/100)))*F38)*(I18/I38))+17214852.8341922)/(0.33233527*(O24/O26)^2 - 1.28247071*(O24/O26) + 2.13257142)","v":33404075.969177779},null,null,null,null,null,null,null,{"$f":"1687.95780903661*R42","v":29851481.17324752},null,{"$f":"5533.61697445116*T42","v":304263702.38306552},null,null,null,null,null,null,null,null,null,null,null,null,null,null,null,null,null,null,null,null,null,null,null,null,null,null,{"$f":"10112.1997756051*AU38","v":4414143.0276286248},null,null,null,null,null,null,{"$f":"-1487991.20182419*BB27^2+10526911.7787319*BB27+26613521.8193591","v":-963985.85555212945}]
["Power Requirement, hp",null,null,null,null,null,null,null,null,null,null,null,null,null,null,null,null,{"$f":"1.00363406682087*R42","v":17749.237149258184},null,{"$f":"0.750365236789251*T42","v":41258.530566743371},null,null,null,null,null,null,null,null,null,null,null,null,null,null,null,null,null,null,null,null,null,null,null,null,null,null,{"$f":"2.57883614909954*AU38","v":1125.7047783416861}]
["Bypass, %",null,null,{"$f":"FT!B1","v":83.275358070783653},null,null,null,null,null,null,null,null,null,null,null,null,null,null,null,null,null,0.01]
["Syngas Slip, %",null,null,null,null,null,null,null,null,null,null,null,null,null,null,100]
["  H2O                     ",{"$f":"$B$38*VLOOKUP(A18,'Mole-Mass Frac Convert'!$A$2:$C$14,3,FALSE)","v":70929.921424772576},{"$f":"B18","v":70929.921424772576},{"$f":"C18*(100-$D$16)/100","v":11862.775378967724},{"$f":"(1.8*D24-D18)","v":15591.423844353494},{"$f":"D18+E18","v":27454.199223321219},{"$f":"F18-((F24-G24)+(F25-G25))","v":14950.563008585576},{"$f":"G18-((G24-H24)+(G25-H25))","v":12535.792771644799},{"$f":"H18+(C18-D18)","v":71602.938817449656},{"$f":"I18*(-0.0000000000555262*((((B24*(100-D16)/100)/(B26+(B24*(100-D16)/100)))*F38)*(I18/I38))^2 + 6.4651421392828E-07*((((B24*(100-D16)/100)/(B26+(B24*(100-D16)/100)))*F38)*(I18/I38)) + 0.00294156913206361)","v":334.32078620582428},{"$f":"I18-J18","v":71268.618031243837},{"$f":"J18","v":334.32078620582428},{"$f":"L18+AV18","v":335.11082150582172},{"$f":"61*1000*(U27*2+U20)/(-5687.4143--6598.7739)/18.01528","v":10013.927261445537},{"$f":"M18*0","v":0},{"$f":"O18*($P$17/100)","v":0},{"$f":"O18*((100-$P$17)/100)","v":0},{"$f":"M18*0","v":0},0,{"$f":"S18+R18","v":0},{"$f":"M18-O18-R18","v":335.11082150582172},{"$f":"U18*$V$16","v":3.3511082150582174},0,{"$f":"BB18*0.002","v":131.79069143140134},{"$f":"U18-V18+X18+W18","v":463.55040472216484},{"$f":"Y18+Y25*-1*(1-$W$68)+Y28*-1/2*3*-1+(Y20+Y25*-1*(1-$W$68)*-1)*-1*(1-$W$78)*-1+(((Y27+Y25*-1*(1-$W$68)*-1)*-1-(Y27+Y25*-1*(1-$W$68)*-1)*-1*W94)-((Y27+Y25*-1*(1-$W$68)*-1)*-1-(Y27+Y25*-1*(1-$W$68)*-1)*-1*W94)*W83)*(1-$W$88)*-1+((Y27+Y25*-1*(1-$W$68)*-1)*-1*$W$94)*-1","v":1445.1918925952439},{"$f":"Z18+V18","v":1448.5430008103021},{"$f":"AA18+AA27*0.30098+AA27*0.04089+AA27*0.00813+AA26*0.2941","v":1647.4278456005511},{"$f":"AB18","v":1647.4278456005511},1647.4278456005511,{"$f":"0*AD18","v":0},{"$f":"AD18-AE18","v":1647.4278456005511},{"$f":"AF18+0.14923*AF27++AF27*0.57719-AF25*0.85621","v":1737.0788855034084},{"$f":"AG18","v":1737.0788855034084},{"$f":"0*AH18","v":0},{"$f":"AH18-AI18","v":1737.0788855034084},{"$f":"AJ18+0.14923*AJ27++AJ27*0.57719-AJ25*0.85621","v":1764.1799398565186},{"$f":"AK18","v":1764.1799398565186},{"$f":"0*AL18","v":0},{"$f":"AL18-AM18","v":1764.1799398565186},{"$f":"AN18+0.14923*AN27++AN27*0.57719-AN25*0.85621","v":1771.2801960203712},{"$f":"AO18","v":1771.2801960203712},{"$f":"0*AP18","v":0},{"$f":"AP18-AQ18","v":1771.2801960203712},{"$f":"AR18*1.09506495185249","v":1939.6668625723169},{"$f":"AS18*0.966906534026791","v":1875.476563256419},{"$f":"AS18-AT18","v":64.190299315897846},0.79003529999742605,{"$f":"AU18*0.0122426979670296","v":0.78586244693776408},{"$f":"AT18-AW18+AU18","v":1938.8810001253792},1948.432763979114,{"$f":"BA43*$AZ$38","v":0},{"$f":"AY18+AZ18+K18","v":73217.050795222953},{"$f":"BA18*0.9","v":65895.345715700663},{"$f":"(3672373.86378479*BB27^2-25391537.9138363*BB27+114986989.27911)/(-5687.4143--6598.7739)/18.01528","v":11475.750749255558}]
["  AR                      ",{"$f":"$B$38*VLOOKUP(A19,'Mole-Mass Frac Convert'!$A$2:$C$14,3,FALSE)","v":1427.0569891380587},1427.0569891380587,{"$f":"C19*(100-$D$16)/100","v":238.67017155919612},0,238.67017155919612,{"$f":"F19","v":238.67017155919612},{"$f":"G19","v":238.67017155919612},1427.0569891380587,{"$f":"I19*0.999753651028616","v":1426.7054351166782},0.35155402138047975,1426.7054351166782,1453.3542794878638,0,{"$f":"M19*1","v":1453.3542794878638},1453.3542794878638,{"$f":"O19*((100-$P$17)/100)","v":0},{"$f":"M19*0","v":0},0,0,0,0,{"$f":"W21*0.0334616275545071","v":26.254586991836412},{"$f":"BB19","v":0.35185849639865197},26.606445488235064,{"$f":"Y19","v":26.606445488235064},26.606445488235064,{"$f":"AA19","v":26.606445488235064},26.606445488235064,26.606445488235064,0,26.606445488235064,{"$f":"AF19","v":26.606445488235064},26.606445488235064,0,26.606445488235064,{"$f":"AJ19","v":26.606445488235064},26.606445488235064,0,26.606445488235064,{"$f":"AN19","v":26.606445488235064},26.606445488235064,0,26.606445488235064,{"$f":"AR19*1","v":26.606445488235064},{"$f":"AS19*0.0000114310648273243","v":3.0414000320068516E-4},26.606141348231862,26.648844371185614,{"$f":"AU19*1","v":26.606141348231862},3.0414000320178047E-4,3.0447501817221223E-4,{"$f":"BA44*$AZ$38","v":0},0.35185849639865197,{"$f":"BA19","v":0.35185849639865197},0]
["  CO2                     ",{"$f":"$B$38*VLOOKUP(A20,'Mole-Mass Frac Convert'!$A$2:$C$14,3,FALSE)","v":4065.8033790229792},4065.8033790229792,679.99105668757227,0,679.99105668757227,{"$f":"F20+((F24-G24)+(F25-G25))","v":13183.627271423215},{"$f":"G20+((G24-H24)+(G25-H25))","v":15598.397508363989},18984.209830699394,{"$f":"I20*1","v":18984.209830699394},0,18984.209830699394,19085.028751046946,0,{"$f":"M20*0.07335907","v":1400.0599601000654},1400.0599601000654,0,{"$f":"$M$20*0.92664093","v":17684.968790946881},{"$f":"SUM(FT!X11:Y11)","v":37299.628767550254},54984.597558497131,0,0,0,6.1847785440392045E-3,6.1847785440392045E-3,{"$f":"Y20+Y25*-1*(1-$W$68)*-1+W78*(Y20+Y25*-1*(1-$W$68)*-1)*-1","v":46.510650056406952},46.510650056406952,{"$f":"AA20-AA27*0.00813","v":44.915245384846976},44.915245384846976,44.915245384846976,0,44.915245384846976,{"$f":"AF20+0.85621*AF25","v":47.921894286969774},47.921894286969774,0,47.921894286969774,47.921894286969774,47.921894286969774,0,47.921894286969774,47.921894286969774,47.921894286969774,0,47.921894286969774,{"$f":"AR20*2.09858079544133","v":100.56796703180434},{"$f":"AS20*0.0000522929117898556","v":5.258991828879251E-3},100.56270803997546,100.81892034755235,{"$f":"AU20*0.999990950939387","v":100.56179804193499},6.1689898693515488E-3,6.1847785440392045E-3,0,6.1847785440392045E-3,6.1847785440392045E-3,0]
["  O2                      ",{"$f":"$B$38*VLOOKUP(A21,'Mole-Mass Frac Convert'!$A$2:$C$14,3,FALSE)","v":3.2412387490120977E-8},3.2412387490120977E-8,5.4208557484328465E-9,0,5.4208557484328465E-9,{"$f":"F21","v":5.4208557484328465E-9},5.4208557484328465E-9,3.2412387490120977E-8,{"$f":"I21*0.999733663702822","v":3.2403754894854162E-8},8.6325952668152545E-12,3.2403754894854162E-8,3.2403754894854162E-8,0,{"$f":"M21*1","v":3.2403754894854162E-8},3.2403754894854162E-8,0,{"$f":"M21*0","v":0},0,0,0,0,{"$f":"(Y28*-1*(1-$W$73)/2*1.5+(((Y27+Y25*-1*(1-$W$68)*-1)*-1-(Y27+Y25*-1*(1-$W$68)*-1)*-1*W94)-((Y27+Y25*-1*(1-$W$68)*-1)*-1-(Y27+Y25*-1*(1-$W$68)*-1)*-1*W94)*W83)*(1-$W$88)/2+(Y27+Y25*-1*(1-$W$68)*-1)*-1*1.5*$W$94)*-1","v":784.61775205253161},8.6325952668152545E-12,784.61775205254025,{"$f":"Y21+Y28*-1*(1-$W$73)/2*1.5+(((Y27+Y25*-1*(1-$W$68)*-1)*-1-(Y27+Y25*-1*(1-$W$68)*-1)*-1*W94)-((Y27+Y25*-1*(1-$W$68)*-1)*-1-(Y27+Y25*-1*(1-$W$68)*-1)*-1*W94)*W83)*(1-$W$88)/2+(Y27+Y25*-1*(1-$W$68)*-1)*-1*1.5*$W$94","v":8.6970430857036263E-12},8.6970430857036263E-12,{"$f":"AA21","v":8.6970430857036263E-12},8.6970430857036263E-12,8.6970430857036263E-12,0,8.6970430857036263E-12,{"$f":"AF21","v":8.6970430857036263E-12},8.6970430857036263E-12,0,8.6970430857036263E-12,8.6970430857036263E-12,8.6970430857036263E-12,0,8.6970430857036263E-12,8.6970430857036263E-12,8.6970430857036263E-12,0,8.6970430857036263E-12,{"$f":"AR21*8.4168998267032E-30","v":7.3202140440889118E-41},{"$f":"AS21*0","v":0},7.3202140440889118E-41,7.3202140440889118E-41,{"$f":"AU21*1","v":7.3202140440889118E-41},0,0,0,8.6325952668152545E-12,8.6325952668152545E-12,0]
["  N2                      ",{"$f":"$B$38*VLOOKUP(A22,'Mole-Mass Frac Convert'!$A$2:$C$14,3,FALSE)","v":1224.1825447526967},1224.1825447526967,204.74014716985718,0,204.74014716985718,204.74014716985718,204.74014716985718,1224.1825447526967,{"$f":"I22*0.999961391008572","v":1224.1352802993199},4.7264453376783422E-2,1224.1352802993199,1326.3323404774983,0,{"$f":"M22*1","v":1326.3323404774983},1326.3323404774983,0,0,0,0,0,0,{"$f":"W21*0.0187078868928013","v":14.678540159482777},4.7337844958121877E-2,14.725878004440899,{"$f":"Y22+Y28*-1*(1-$W$73)*-1/2","v":101.32098998677745},101.32098998677745,{"$f":"AA22+AA28*1/2","v":101.87390618770654},101.87390618770654,101.87390618770654,0,101.87390618770654,{"$f":"AF22","v":101.87390618770654},101.87390618770654,0,101.87390618770654,101.87390618770654,101.87390618770654,0,101.87390618770654,101.87390618770654,101.87390618770654,0,101.87390618770654,{"$f":"AR22*1","v":101.87390618770654},{"$f":"AS22*7.18190008782431E-07","v":7.316482157964952E-5},101.87383302288495,102.1970601781784,{"$f":"AU22*1","v":101.87383302288495},7.31648215861469E-5,7.339158133845558E-5,0,4.7337844958121877E-2,4.7337844958121877E-2,0]
["  CH4                     ",{"$f":"$B$38*VLOOKUP(A23,'Mole-Mass Frac Convert'!$A$2:$C$14,3,FALSE)","v":47.697008497945014},47.697008497945014,7.9771538822291959,0,7.9771538822291959,7.9771538822291959,7.9771538822291959,47.697008497945014,{"$f":"I23*0.999821471711865","v":47.688493232668712},8.5152652763014203E-3,47.688493232668712,47.697423501660687,0,{"$f":"M23*1","v":47.697423501660687},47.697423501660687,0,0,0,0,0,0,0,8.5152652763014203E-3,8.5152652763014203E-3,{"$f":"Y23","v":8.5152652763014203E-3},8.5152652763014203E-3,{"$f":"AA23","v":8.5152652763014203E-3},8.5152652763014203E-3,8.5152652763014203E-3,0,8.5152652763014203E-3,{"$f":"AF23","v":8.5152652763014203E-3},8.5152652763014203E-3,0,8.5152652763014203E-3,8.5152652763014203E-3,8.5152652763014203E-3,0,8.5152652763014203E-3,8.5152652763014203E-3,8.5152652763014203E-3,0,8.5152652763014203E-3,{"$f":"AR23*1","v":8.5152652763014203E-3},{"$f":"AS23*0","v":0},8.5152652763014203E-3,8.9302689919752189E-3,{"$f":"AU23*1","v":8.5152652763014203E-3},0,0,0,8.5152652763014203E-3,8.5152652763014203E-3,0]
["  CO                      ",{"$f":"$B$38*VLOOKUP(A24,'Mole-Mass Frac Convert'!$A$2:$C$14,3,FALSE)","v":91196.768016902992},91196.768016902992,15252.33290184512,0,15252.33290184512,{"$f":"F24*(1-0.81866)","v":2765.8580484205931},{"$f":"G24*(1-0.872515)","v":352.60541330289919},76297.040528360769,{"$f":"I24*0.999969394747119","v":76294.705438141333},2.335090219436097,76294.705438141333,76294.740009737332,0,{"$f":"M24*1","v":76294.740009737332},76294.740009737332,{"$f":"O24*((100-$P$17)/100)","v":0},0,0,0,0,0,0,2.3350905218309901,2.3350905218309901,{"$f":"Y24+(Y20+Y25*-1*(1-$W$68)*-1)*-1*(1-$W$78)*-1","v":48.845740578237944},48.845740578237944,{"$f":"AA24","v":48.845740578237944},48.845740578237944,48.845740578237944,0,48.845740578237944,{"$f":"AF24","v":48.845740578237944},48.845740578237944,0,48.845740578237944,48.845740578237944,48.845740578237944,0,48.845740578237944,48.845740578237944,48.845740578237944,0,48.845740578237944,{"$f":"AR24*(0.01548478*(AR24/AR26)-0.00175256)","v":3.1991197180330257E-2},{"$f":"AS24*5.72783458082612E-07","v":1.8324028549152273E-8},3.1991178856301705E-2,3.4571595997532303E-2,{"$f":"AU24*0.999991846452391","v":3.199091801470183E-2},2.7916562842650317E-7,3.0239489295924571E-7,0,2.3350905218309901,2.3350905218309901,0]
["  COS                     ",{"$f":"$B$38*VLOOKUP(A25,'Mole-Mass Frac Convert'!$A$2:$C$14,3,FALSE)","v":113.79122048906088},113.79122048906088,19.031174173680498,0,19.031174173680498,{"$f":"F25*(1-0.90175)","v":1.8698128625641079},{"$f":"G25*(1-0.811633)","v":0.35221103948261323},95.11225735486299,{"$f":"I25*1","v":95.11225735486299},0,95.11225735486299,95.12331067016143,0,{"$f":"M25*0","v":0},0,0,0,0,0,95.12331067016143,0.95123310670161432,0,1.6090270760771297E-6,94.172079172486903,{"$f":"Y25+Y25*-1*(1-W68)","v":0.96494104249826762},1.916174149199882,{"$f":"AA25+AA27*0.00813","v":3.5115788207598566},3.5115788207598566,3.5115788207598566,0,3.5115788207598566,{"$f":"AF25*(1-0.85621)","v":0.50492991863705972},0.50492991863705972,0,0.50492991863705972,0.50492991863705972,0.50492991863705972,0,0.50492991863705972,0.50492991863705972,0.50492991863705972,0,0.50492991863705972,{"$f":"AR25*0.0218861821211535","v":1.1050988157709909E-2},{"$f":"AS25*0.000128110492756866","v":1.4157475383345074E-6},1.1049572410171574E-2,1.1053315298437061E-2,{"$f":"AU25*0.999982519132809","v":1.1049379254063754E-2},1.6089036461545969E-6,1.6090270760771297E-6,0,1.6090270760771297E-6,1.6090270760771297E-6,0]
["  H2                      ",{"$f":"$B$38*VLOOKUP(A26,'Mole-Mass Frac Convert'!$A$2:$C$14,3,FALSE)","v":43577.345025846851},43577.345025846851,7288.1549178320565,0,7288.1549178320565,{"$f":"F26+(F24-G24)","v":19774.629771256583},{"$f":"G26+(G24-H24)","v":22187.882406374276},58477.072514389074,{"$f":"I26*0.999959072257041","v":58474.679179796207},2.393334592867177,58474.679179796207,58507.897867162726,0,{"$f":"M26*1","v":58507.897867162726},58507.897867162726,0,0,0,0,0,0,0,2.393644867137084,2.393644867137084,{"$f":"Y26+(Y20+Y25*-1*(1-$W$68)*-1)*-1*(1-$W$78)+((Y27+Y25*-1*(1-$W$68)*-1)*-1-(Y27+Y25*-1*(1-$W$68)*-1)*-1*W94)*W83*-1","v":442.7133180925286},442.7133180925286,{"$f":"AA26-AA26*0.2941+AA28*1/2*3","v":314.17007984430325},314.17007984430325,314.17007984430325,0,314.17007984430325,{"$f":"AF26","v":314.17007984430325},314.17007984430325,0,314.17007984430325,314.17007984430325,314.17007984430325,0,314.17007984430325,314.17007984430325,314.17007984430325,0,314.17007984430325,{"$f":"AR26*(2.28940183*(AR24/AR26) - 0.25631604)","v":31.300697115347571},{"$f":"AS26*1.04425866596494E-06","v":3.2686024213445497E-5},31.300664429323358,33.218687366516214,{"$f":"AU26*0.999991719089431","v":31.300405231320468},2.9188402710289552E-4,3.1027426990704043E-4,0,2.393644867137084,2.393644867137084,0]
["  H2S                     ",{"$f":"$B$38*VLOOKUP(A27,'Mole-Mass Frac Convert'!$A$2:$C$14,3,FALSE)","v":1225.9100922531609},1225.9100922531609,205.02907330346693,0,205.02907330346693,{"$f":"F27+(F25-G25)","v":222.19043461458332},{"$f":"G27+(G25-H25)","v":223.70803643766482},1244.5890553873587,{"$f":"I27*0.992825624256985","v":1235.6599058583656},8.9291495289930936,1235.6599058583656,1347.6447829084229,0,{"$f":"M27*0.0000001","v":1.3476447829084229E-4},1.3476447829084229E-4,0,0,0,0,1347.6446481439446,13.476446481439446,0,9.1091653739757703,1343.2773670364809,{"$f":"Y27+Y25*-1*(1-$W$68)*-1+((Y27+Y25*-1*(1-$W$68)*-1)*-1-(Y27+Y25*-1*(1-$W$68)*-1)*-1*W94)*W83+(((Y27+Y25*-1*(1-$W$68)*-1)*-1-(Y27+Y25*-1*(1-$W$68)*-1)*-1*W94)-((Y27+Y25*-1*(1-$W$68)*-1)*-1-(Y27+Y25*-1*(1-$W$68)*-1)*-1*W94)*W83)*(1-W88)+(Y27+Y25*-1*(1-$W$68)*-1)*-1*W94","v":182.76029048780714},196.23673696924658,{"$f":"AA27-AA27*0.30098-AA27*0.04089-AA27*0.00813","v":127.55387903001025},127.55387903001025,127.55387903001025,0,127.55387903001025,{"$f":"AF27-AF27*0.14923-AF27*0.57719+AF25*0.85621","v":37.902839127153008},37.902839127153008,0,37.902839127153008,{"$f":"AJ27-AJ27*0.14923-AJ27*0.57719","v":10.369458728406517},10.369458728406517,0,10.369458728406517,{"$f":"AN27-AN27*0.14923-AN27*0.57719","v":2.8368765189174558},2.8368765189174558,0,2.8368765189174558,{"$f":"AR27*39.5097879180144","v":112.08438961202366},{"$f":"AS27*0.00136500220499607","v":0.15299543896605089},111.93139417305761,111.98487705005726,{"$f":"AU27*0.999758809298668","v":111.90439736159594},0.17999225042771627,0.18001584498267675,0,9.1091653739757703,9.1091653739757703,0]
["  NH3                     ",{"$f":"$B$38*VLOOKUP(A28,'Mole-Mass Frac Convert'!$A$2:$C$14,3,FALSE)","v":217.87007045816409},217.87007045816409,36.437989155059306,0,36.437989155059306,{"$f":"F28","v":36.437989155059306},36.437989155059306,217.87007045816409,{"$f":"I28*0","v":0},217.87007045816409,0,0,0,{"$f":"M28*0","v":0},0,0,0,0,0,0,0,0,{"$f":"BB28*0.8","v":174.29605636653127},174.29605636653127,{"$f":"Y28+Y28*-1*(1-W73)","v":1.10583240185818},1.10583240185818,{"$f":"AA28-AA28*1","v":0},0,0,0,0,{"$f":"AF28","v":0},0,0,0,{"$f":"AJ28","v":0},0,0,0,{"$f":"AN28","v":0},0,0,0,{"$f":"AR28*1","v":0},{"$f":"AS28*0","v":0},0,0,{"$f":"AU28*1","v":0},0,0,0,217.87007045816409,217.87007045816409,0]
["  SO2                     ",{"$f":"$B$38*VLOOKUP(A29,'Mole-Mass Frac Convert'!$A$2:$C$14,3,FALSE)","v":0},0,0,0,0,0,0,0,0,0,0,1.142381531528224E-9,0,0,0,0,0,0,0,1.142381531528224E-9,1.1423815315282239E-11,0,{"$f":"BB29","v":5.8232925429284214E-12},1.1367810087558701E-9,{"$f":"Y29+(Y27+Y25*-1*(1-$W$68)*-1)*-1*$W$94*-1","v":271.27813838173159},271.27813838174302,{"$f":"AA29-(AA27*0.30098)/2-AA27*0.04089/2-AA26*0.2941/2","v":172.63341832239854},172.63341832239854,172.63341832239854,0,172.63341832239854,{"$f":"AF29-0.14923*AF27/2-AF27*0.57719/2","v":126.30457391990852},126.30457391990852,0,126.30457391990852,{"$f":"AJ29-0.14923*AJ27/2-AJ27*0.57719/2","v":112.53788372053528},112.53788372053528,0,112.53788372053528,{"$f":"AN29-0.14923*AN27/2-AN27*0.57719/2","v":108.77159261579075},108.77159261579075,0,108.77159261579075,{"$f":"AR29*1.05546168722946E-11","v":1.1480424866489797E-9},{"$f":"AS29*0.00429150211085387","v":4.9268267548040223E-12},1.1431156598941757E-9,1.142381531528224E-9,{"$f":"AU29*0.999213567667373","v":1.1422166767793027E-9},5.8258098696769891E-12,5.8232925429284214E-12,0,5.8232925429284214E-12,5.8232925429284214E-12,0]
["  SULFU-01                ",{"$f":"B38*0","v":0},0,0,0,0,0,0,0,0,0,0,0,0,0,0,0,0,0,0,0,0,0,0,0,{"$f":"Y30","v":0},0,{"$f":"AA30","v":0},0,0,0,0,{"$f":"AF30","v":0},0,0,0,{"$f":"AJ30","v":0},0,0,0,{"$f":"AN30","v":0},0,0,0,{"$f":"AR30*1","v":0},{"$f":"AS30*0","v":0},0,0,{"$f":"AU30*1","v":0},0,0,0,0,0,0]
["  SO3                     ",{"$f":"B38*0","v":0},0,0,0,0,0,0,0,0,0,0,0,0,0,0,0,0,0,0,0,0,0,0,0,{"$f":"Y31","v":0},0,{"$f":"AA31","v":0},0,0,0,0,{"$f":"AF31","v":0},0,0,0,{"$f":"AJ31","v":0},0,0,0,{"$f":"AN31","v":0},0,0,0,{"$f":"AR31*1","v":0},0,0,0,0,0,0,0,0,0,0]
["  C                       ",{"$f":"B38*0","v":0},0,0,0,0,0,0,0,0,0,0,0,0,0,0,0,0,0,0,0,0,0,0,0,{"$f":"Y32","v":0},0,{"$f":"AA32","v":0},0,0,0,0,{"$f":"AF32","v":0},0,0,0,{"$f":"AJ32","v":0},0,0,0,{"$f":"AN32","v":0},0,0,0,{"$f":"AR32*1","v":0},0,0,0,0,0,0,0,0,0,0]
["  S                       ",{"$f":"B38*0","v":0},0,0,0,0,0,0,0,0,0,0,0,0,0,0,0,0,0,0,0,0,0,0,0,{"$f":"Y33","v":0},0,{"$f":"AA33","v":0},0,0,0,0,{"$f":"AF33","v":0},0,0,0,{"$f":"AJ33","v":0},0,0,0,{"$f":"AN33","v":0},0,0,0,{"$f":"AR33*1","v":0},0,0,0,0,0,0,0,0,0,0]
["  S2                      ",{"$f":"B38*0","v":0},0,0,0,0,0,0,0,0,0,0,1.2260575631352524E-12,0,0,0,0,0,0,0,1.2260575631352524E-12,1.2260575631352524E-14,0,0,1.2137969875038998E-12,{"$f":"Y34+((Y27+Y25*-1*(1-$W$68)*-1)*-1-(Y27+Y25*-1*(1-$W$68)*-1)*-1*W94)*W83/2*-1+(((Y27+Y25*-1*(1-$W$68)*-1)*-1-(Y27+Y25*-1*(1-$W$68)*-1)*-1*W94)-((Y27+Y25*-1*(1-$W$68)*-1)*-1-(Y27+Y25*-1*(1-$W$68)*-1)*-1*W94)*W83)*(1-$W$88)/2*-1","v":491.22303814903501},491.22303814903501,{"$f":"AA34+(AA27*0.30098)/2*1.5+(AA26+AA28*1/2*3)*0.2941/2*0.5","v":568.19299417256093},{"$f":"AB34*0.002156057","v":1.2250564824367092},{"$f":"AC34-AC34*0.999","v":1.2250564824367594E-3},0,1.2250564824367594E-3,{"$f":"AF34","v":1.2250564824367594E-3},{"$f":"AG34-AG34*0.999","v":1.2250564824366639E-6},0,1.2250564824366639E-6,{"$f":"AJ34","v":1.2250564824366639E-6},{"$f":"AK34-AK34*0.999","v":1.2250564824366453E-9},0,1.2250564824366453E-9,{"$f":"AN34","v":1.2250564824366453E-9},{"$f":"AO34-AO34*0.999","v":1.2250564824366982E-12},0,1.2250564824366982E-12,{"$f":"AR34*1","v":1.2250564824366982E-12},0,1.2250564824366982E-12,1.2260575631352524E-12,1.2250564824366982E-12,0,0,0,0,0,0]
["  S6                      ",{"$f":"B38*0","v":0},0,0,0,0,0,0,0,0,0,0,4.6981698385162698E-20,0,0,0,0,0,0,0,4.6981698385162698E-20,4.6981698385162702E-22,0,0,4.6511881401311069E-20,{"$f":"Y35","v":4.6511881401311069E-20},4.6981698385162698E-20,{"$f":"AA27*0.04089/2*0.5","v":2.0060300436681233},{"$f":"(AB34-AC34)*0.0698282415270602","v":39.590374091125213},{"$f":"AC35-AC35*0.999","v":3.9590374091126534E-2},0,3.9590374091126534E-2,{"$f":"AF35+0.14923*AF27/2*0.5","v":4.7983067160032338},{"$f":"AG35-AG35*0.999","v":4.798306716002898E-3},0,4.798306716002898E-3,{"$f":"AJ35+0.14923*AJ27/2*0.5","v":1.4188584774522637},{"$f":"AK35-AK35*0.999","v":1.4188584774521562E-3},0,1.4188584774521562E-3,{"$f":"AN35+0.14923*AN27/2*0.5","v":0.38827743998747832},{"$f":"AO35-AO35*0.999","v":3.8827743998748332E-4},0,3.8827743998748332E-4,{"$f":"AR35*1.2091337120626E-16","v":4.6947934232222906E-20},0,4.6947934232222906E-20,4.6981698385162698E-20,4.6947934232222906E-20,0,0,0,0,0,0]
["  S8                      ",{"$f":"B38*0","v":0},0,0,0,0,0,0,0,0,0,0,1.7127411385972609E-26,0,0,0,0,0,0,0,1.7127411385972609E-26,1.712741138597261E-28,0,0,1.6956137272112884E-26,{"$f":"Y36","v":1.6956137272112884E-26},1.7127411385972609E-26,{"$f":"AA36","v":1.7127411385972609E-26},{"$f":"(AB34-AC34)*0.197628818854705","v":112.04920385418724},{"$f":"AC36+(AC34-AD34)/4+(AC35-AD35)/1.33333","v":142.01832365635624},{"$f":"0.952*AD36","v":135.20144412085114},6.8168795355051088,{"$f":"AF36++AF27*0.57719/2*0.375","v":20.621158930004789},{"$f":"AG36+(AG34-AH34)/4+(AG35-AH35)/1.33333","v":24.216605182677441},{"$f":"0.985*AH36","v":23.85335610493728},0.36324907774016069,{"$f":"AJ36++AJ27*0.57719/2*0.375","v":4.4652127744529313},{"$f":"AK36+(AK34-AL34)/4+(AK35-AL35)/1.33333","v":5.5282954523478267},{"$f":"0.985*AL36","v":5.4453710205626091},8.2924431785217578E-2,{"$f":"AN36++AN27*0.57719/2*0.375","v":1.2051396599318971},{"$f":"AO36+(AO34-AP34)/4+(AO35-AP35)/1.33333","v":1.4960572594424713},{"$f":"0.985*AP36","v":1.4736164005508341},2.2440858891637161E-2,{"$f":"AR36*7.62675771098182E-25","v":1.7115099359284865E-26},0,1.7115099359284865E-26,1.7127411385972609E-26,1.7115099359284865E-26,0,0,0,0,0,0]
["  HCL                     ",{"$f":"$B$38*VLOOKUP(A37,'Mole-Mass Frac Convert'!$A$2:$C$14,3,FALSE)","v":43.970044187773915},43.970044187773915,7.3538324465233913,0,7.3538324465233913,7.3538324465233913,7.3538324465233913,43.970044187773915,0,43.970044187773915,0,0,0,0,0,0,0,0,0,0,0,0,0,0,{"$f":"Y37","v":0},0,{"$f":"AA37","v":0},{"$f":"AB37","v":0},{"$f":"AC37","v":0},{"$f":"0*AD37","v":0},0,{"$f":"AF37","v":0},{"$f":"AG37","v":0},{"$f":"0*AH37","v":0},0,{"$f":"AJ37","v":0},{"$f":"AK37","v":0},{"$f":"0*AL37","v":0},0,{"$f":"AN37","v":0},{"$f":"AO37","v":0},{"$f":"0*AP37","v":0},0,{"$f":"AR37*1","v":0},0,0,0,0,0,0,0,43.970044187773915,0,0]
["Total Flow  lbmol/hr      ",214070.32223843192,{"$f":"SUM(C18:C37)","v":214070.31581635465},35802.493797027899,15591.423844353494,51393.917641381398,51393.917641381391,51393.917641381398,229661.73966070815,158117.21660673706,71544.523053971119,158117.21660673706,158492.92958653197,{"$f":"SUM(N18:N37)","v":10013.927261445537},{"$f":"SUM(O18:O37)","v":139030.08201526402},139030.08201526402,0,17684.968790946881,37299.628767550254,54984.597558497131,1777.8787803210689,17.77878780321069,{"$f":"SUM(W18:W37)","v":825.55087920385074},320.33854655509504,2905.9894182768071,3058.529792525645,3076.3085803288554,3057.7456787385636,2640.4112889500839,2629.6057936092639,135.20144412085114,2494.4043494884127,2466.6385008223347,2465.4392148342949,23.85335610493728,2441.5858587293574,2432.9028663517975,2432.5485081868856,5.4453710205626091,2427.103137166323,2424.4135938255986,2424.3166222613377,1.4736164005508341,2422.8430058607869,2312.1518254591979,1875.6352291121395,436.51659634705823,375.71297979491885,{"$f":"SUM(AW18:AW37)","v":373.08399301659455},1939.067832442603,1948.6196546549377,{"$f":"'F-T Black Box Dashboard'!$C$31*Syngas!$B$38","v":0},{"$f":"SUM(BA18:BA37)","v":73493.142708626023},{"$f":"SUM(BB18:BB37)","v":66127.467584915954},{"$f":"SUM(BC18:BC37)","v":11475.750749255558}]
["Temperature F             ",378.72646800000001,null,{"$f":"C39","v":0},550,426,400,null,{"$f":"4666.63127974*(I18/I38)^2-4194.83809394*(I18/I38)+1256.63499507","v":402.4021059587817},95,249,{"$f":"J39","v":95},{"$f":"L39","v":95},298,{"$f":"M39","v":95},{"$f":"O39","v":95},{"$f":"P39","v":95},60,100,"N/A",119,null,450,null,null,null,null,null,null,null,365,450,null,null,340,420,null,null,320,375,null,null,280,450,550,120,120,103,103,null,120,379,271,{"$f":"BA39","v":271},298]
["Pressure    psia          ",580,560,575,800,575,575,560,560,525,530,520,{"$f":"L40","v":520},65,{"$f":"M40","v":520},{"$f":"O40","v":520},{"$f":"P40","v":520},135,265,"N/A",23.7,null,null,null,null,null,null,null,null,null,null,null,null,null,null,null,null,null,null,null,null,null,null,null,null,null,null,799.5,799.5,null,375,580,580,{"$f":"BA40","v":580},65]
[]
[null,null,null,null,null,null,null,null,null,null,null,null,null,null,null,null,null,{"$f":"R20*(1-'F-T Black Box Dashboard'!$H$3)","v":17684.968790946881},{"$f":"S20*(1-'F-T Black Box Dashboard'!$H$3)","v":37299.628767550254},{"$f":"T20*(1-'F-T Black Box Dashboard'!$H$3)","v":54984.597558497131},null,null,null,null,null,null,null,null,null,null,null,null,null,null,null,null,null,null,null,null,null,null,null,null,null,null,null,null,null,null,"SWS Composition"]
[null,null,null,null,null,null,null,null,null,null,null,null,null,null,null,null,null,null,null,null,null,null,null,null,null,null,null,null,null,null,null,null,null,null,null,null,null,null,null,null,null,null,null,null,null,null,null,null,null,null,"  H2O                     ",4048.3344699999998,{"$f":"AZ43/$AZ$63","v":0.99935958658937474}]
[null,null,null,null,null,null,null,null,null,null,null,null,null,null,null,null,null,null,null,null,null,null,null,null,null,null,null,null,null,null,null,null,null,null,null,null,null,null,null,null,null,null,null,null,null,null,null,null,null,null,"  AR                      ",1.156049E-2,{"$f":"AZ44/$AZ$63","v":2.8537875496168184E-6}]
[null,null,null,null,null,null,null,null,null,null,null,null,null,null,null,null,null,null,null,null,null,null,null,null,null,null,null,null,null,null,null,null,null,null,null,null,null,null,null,null,null,null,null,null,null,null,null,null,null,null,"  CO2                     ",0.24978597,6.1661408059257016E-5]
[null,null,null,null,null,null,null,null,null,null,null,null,null,null,null,null,null,null,null,null,null,null,null,null,null,null,null,null,null,null,null,null,null,null,null,null,null,null,null,null,null,null,null,null,null,null,null,null,null,null,"  O2                      ",0,0]
[null,null,null,null,null,null,null,null,null,null,null,null,null,null,null,null,null,null,null,null,null,null,null,null,null,null,null,null,null,null,null,null,null,null,null,null,null,null,null,null,null,null,null,null,null,null,null,null,null,null,"  N2                      ",8.6944399999999995E-3,2.1462831266572998E-6]
[null,null,null,null,null,null,null,null,null,null,null,null,null,null,null,null,null,null,null,null,null,null,null,null,null,null,null,null,null,null,null,null,null,null,null,null,null,null,null,null,null,null,null,null,null,null,null,null,null,null,"  CH4                     ",4.2640000000000001E-4,1.0525981261664612E-7]
[null,null,null,null,null,null,null,null,null,null,null,null,null,null,null,null,null,null,null,null,null,null,null,null,null,null,null,null,null,null,null,null,null,null,null,null,null,null,null,null,null,null,null,null,null,null,null,null,null,null,"  CO                      ",0.80020261999999998,1.975355953014758E-4]
[null,null,null,null,null,null,null,null,null,null,null,null,null,null,null,null,null,null,null,null,null,null,null,null,null,null,null,null,null,null,null,null,null,null,null,null,null,null,null,null,null,null,null,null,null,null,null,null,null,null,"  COS                     ",1.9681000000000001E-4,4.858392054662787E-8]
[null,null,null,null,null,null,null,null,null,null,null,null,null,null,null,null,null,null,null,null,null,null,null,null,null,null,null,null,null,null,null,null,null,null,null,null,null,null,null,null,null,null,null,null,null,null,null,null,null,null,"  H2                      ",0.56635068,1.3980761363065224E-4]
[null,null,null,null,null,null,null,null,null,null,null,null,null,null,null,null,null,null,null,null,null,null,null,null,null,null,null,null,null,null,null,null,null,null,null,null,null,null,null,null,null,null,null,null,null,null,null,null,null,null,"  H2S                     ",0.19366716,4.7808088582546958E-5]
[null,null,null,null,null,null,null,null,null,null,null,null,null,null,null,null,null,null,null,null,null,null,null,null,null,null,null,null,null,null,null,null,null,null,null,null,null,null,null,null,null,null,null,null,null,null,null,null,null,null,"  NH3                     ",0.76338452000000001,1.8844679064176443E-4]
[null,null,null,null,null,null,null,null,null,null,null,null,null,null,null,null,null,null,null,null,null,null,null,null,null,null,null,null,null,null,null,null,null,null,null,null,null,null,null,null,null,null,null,null,null,null,null,null,null,null,"  SO2                     ",0,0]
[null,null,null,null,null,null,null,null,null,null,null,null,null,null,null,null,null,null,null,null,null,null,null,null,null,null,null,null,null,null,null,null,null,null,null,null,null,null,null,null,null,null,null,null,null,null,null,null,null,null,"  SULFU-01                ",0,0]
[null,null,null,null,null,null,null,null,null,null,null,null,null,null,null,null,null,null,null,null,null,null,null,null,null,null,null,null,null,null,null,null,null,null,null,null,null,null,null,null,null,null,null,null,null,null,null,null,null,null,"  SO3                     ",0,0]
[null,null,null,null,null,null,null,null,null,null,null,null,null,null,null,null,null,null,null,null,null,null,null,null,null,null,null,null,null,null,null,null,null,null,null,null,null,null,null,null,null,null,null,null,null,null,null,null,null,null,"  C                       ",0,0]
[null,null,null,null,null,null,null,null,null,null,null,null,null,null,null,null,null,null,null,null,null,null,null,null,null,null,null,null,null,null,null,null,null,null,null,null,null,null,null,null,null,null,null,null,null,null,null,null,null,null,"  S                       ",0,0]
[null,null,null,null,null,null,null,null,null,null,null,null,null,null,null,null,null,null,null,null,null,null,null,null,null,null,null,null,null,null,null,null,null,null,null,null,null,null,null,null,null,null,null,null,null,null,null,null,null,null,"  S2                      ",0,0]
[null,null,null,null,null,null,null,null,null,null,null,null,null,null,null,null,null,null,null,null,null,null,null,null,null,null,null,null,null,null,null,null,null,null,null,null,null,null,null,null,null,null,null,null,null,null,null,null,null,null,"  S6                      ",0,0]
[null,null,null,null,null,null,null,null,null,null,null,null,null,null,null,null,null,null,null,null,null,null,null,null,null,null,null,null,null,null,null,null,null,null,null,null,null,null,null,null,null,null,null,null,null,null,null,null,null,null,"  S8                      ",0,0]
[null,null,null,null,null,null,null,null,null,null,null,null,null,null,null,null,null,null,null,null,null,null,null,null,null,null,null,null,null,null,null,null,null,null,null,null,null,null,null,null,null,null,null,null,null,null,null,null,null,null,"  HCL                     ",0,0]
[null,null,null,null,null,null,null,null,null,null,null,null,null,null,null,null,null,null,null,null,null,null,null,null,null,null,null,null,null,null,null,null,null,null,null,null,null,null,null,null,null,null,null,null,null,null,null,null,null,null,"Total Flow  lbmol/hr      ",{"$f":"SUM(AZ43:AZ62)","v":4050.9287390900004}]
[null,null,null,null,null,null,null,null,null,null,null,null,null,null,null,null,null,null,null,null,null,null,null,null,null,null,null,null,null,null,null,null,null,null,null,null,null,null,null,null,null,null,null,null,null,null,null,null,null,null,null,1.8417595470440001E-2,"lb-mol sour water/lb-mol raw syngas"]
[]
[null,null,null,null,null,null,null,null,null,null,null,null,null,null,null,null,null,null,null,null,null,null,"COS","H2O","=","CO2","H2S"]
[null,null,null,null,null,null,null,null,null,null,null,null,null,null,null,null,null,null,null,null,null,null,{"$f":"Y25*-1","v":-94.172079172486903},{"$f":"$W$67*(1-$W$68)","v":-93.207138129988635},null,{"$f":"$W$67*(1-$W$68)*-1","v":93.207138129988635},{"$f":"$W$67*(1-$W$68)*-1","v":93.207138129988635}]
[null,null,null,null,null,null,null,null,null,null,null,null,null,null,null,null,null,null,null,null,null,"Extent",1.0246572561394367E-2]
[null,null,null,null,null,null,null,null,null,null,null,null,null,null,null,null,null,null,null,null,null,"RX",6]
[]
[null,null,null,null,null,null,null,null,null,null,null,null,null,null,null,null,null,null,null,null,null,null,"2NH3","1.5O2","=","N2","3H2O"]
[null,null,null,null,null,null,null,null,null,null,null,null,null,null,null,null,null,null,null,null,null,null,{"$f":"Y28*-1","v":-174.29605636653127},{"$f":"$W$72*(1-$W$73)/2*1.5","v":-129.89266797350481},null,{"$f":"$W$72*(1-$W$73)*-1/2","v":86.595111982336547},{"$f":"$W$72*(1-$W$73)*-1/2*3","v":259.78533594700963}]
[null,null,null,null,null,null,null,null,null,null,null,null,null,null,null,null,null,null,null,null,null,"Extent",6.3445635254804258E-3]
[null,null,null,null,null,null,null,null,null,null,null,null,null,null,null,null,null,null,null,null,null,"RX",5]
[]
[null,null,null,null,null,null,null,null,null,null,null,null,null,null,null,null,null,null,null,null,null,null,"CO2","H2","=","CO","H2O"]
[null,null,null,null,null,null,null,null,null,null,null,null,null,null,null,null,null,null,null,null,null,null,{"$f":"(Y20+Y25*-1*(1-$W$68)*-1)*-1","v":-93.213322908532675},{"$f":"$W$77*(1-$W$78)","v":-46.510650056406952},null,{"$f":"$W$77*(1-$W$78)*-1","v":46.510650056406952},{"$f":"$W$77*(1-$W$78)*-1","v":46.510650056406952}]
[null,null,null,null,null,null,null,null,null,null,null,null,null,null,null,null,null,null,null,null,null,"Extent",0.50103001797236213]
[null,null,null,null,null,null,null,null,null,null,null,null,null,null,null,null,null,null,null,null,null,"RX",4]
[]
[null,null,null,null,null,null,null,null,null,null,null,null,null,null,null,null,null,null,null,null,null,null,"2 H2S",null,"=","S2","H2"]
[null,null,null,null,null,null,null,null,null,null,null,null,null,null,null,null,null,null,null,null,null,null,{"$f":"((Y27+Y25*-1*(1-$W$68)*-1)*-1-(Y27+Y25*-1*(1-$W$68)*-1)*-1*W94)","v":-1165.2063667858747},null,null,{"$f":"W82*W83/2*-1","v":243.41516164089924},{"$f":"W82*W83*-1","v":486.83032328179848}]
[null,null,null,null,null,null,null,null,null,null,null,null,null,null,null,null,null,null,null,null,null,"Extent",0.41780609612070663]
[null,null,null,null,null,null,null,null,null,null,null,null,null,null,null,null,null,null,null,null,null,"RX",3]
[]
[null,null,null,null,null,null,null,null,null,null,null,null,null,null,null,null,null,null,null,null,null,null,"2 H2S","O2","=","S2","2 H2O"]
[null,null,null,null,null,null,null,null,null,null,null,null,null,null,null,null,null,null,null,null,null,null,{"$f":"(((Y27+Y25*-1*(1-$W$68)*-1)*-1-(Y27+Y25*-1*(1-$W$68)*-1)*-1*W94)-((Y27+Y25*-1*(1-$W$68)*-1)*-1-(Y27+Y25*-1*(1-$W$68)*-1)*-1*W94)*W83)","v":-678.37604350407628},{"$f":"$W$87*(1-$W$88)/2","v":-247.80787650813454},null,{"$f":"$W$87*(1-$W$88)/2*-1","v":247.80787650813454},{"$f":"$W$87*(1-$W$88)*-1","v":495.61575301626908}]
[null,null,null,null,null,null,null,null,null,null,null,null,null,null,null,null,null,null,null,null,null,"Extent",0.26940852678667587]
[null,null,null,null,null,null,null,null,null,null,null,null,null,null,null,null,null,null,null,null,null,"RX",2]
[]
[]
[null,null,null,null,null,null,null,null,null,null,null,null,null,null,null,null,null,null,null,null,null,null,"H2S","1.5 O2","=","SO2","H2O"]
[null,null,null,null,null,null,null,null,null,null,null,null,null,null,null,null,null,null,null,null,null,null,{"$f":"(Y27+Y25*-1*(1-$W$68)*-1)*-1","v":-1436.4845051664695},{"$f":"$W$93*1.5*$W$94","v":-406.91720757089223},null,{"$f":"$W$93*$W$94*-1","v":271.27813838059484},{"$f":"($W$93*$W$94)*-1","v":271.27813838059484}]
[null,null,null,null,null,null,null,null,null,null,null,null,null,null,null,null,null,null,null,null,null,"Extent",0.18884863526540949]
[null,null,null,null,null,null,null,null,null,null,null,null,null,null,null,null,null,null,null,null,null,"RX",1]

{"sheet":"FT","index":10,"n_rows":202,"n_cols":30,"rows_kept":202,"cut":false,"hidden":false,"merged":[]}
["Hydrogen Needed",83.275358070783653,null,null,"Boiler = 2",{"$f":"IF('F-T Black Box Dashboard'!$G$7=\"Gas Turbine\",1,2)","v":1},{"$f":"(1091.82524+2653.73468)/2813.36716*(S98+T98)","v":3576.521261320082}]
["Total Liquid Product Flow Goal over actual",{"$f":"(2775/(S98+T98+U98))","v":0.99963367950167958},null,null,"GT = 1",null,null,null,null,null,null,null,null,null,{"$f":"3.648/15.768","v":0.23135464231354641}]
["Recycle Percent",{"$f":"'F-T Black Box Dashboard'!H5*100","v":80},null,null,null,null,null,null,null,null,null,null,null,null,null,null,null,null,null,null,null,null,null,null,null,null,null,null,"Power, kW",{"$f":"12842/81881.3092*$E$10*4","v":49049.741630692923}]
["H2:CO",{"$f":"E6/E10","v":1.1000000540006549},null,null,null,null,null,null,null,null,null,null,null,null,null,null,null,null,null,null,null,null,null,null,null,{"$f":"640.35/81881.3092*$E$10","v":611.45074858305213},null,null,"360 psig, lb/hr",{"$f":"497910/81881.3092*$E$10*4","v":1901756.4908377447}]
[null,"Syngas In","Recycle In","Steam In","Mixed Syngas","Hydro Recov Gas","To Hydrogen","Recycle Out","From Hydrogen","LPG Flow","Fuel Gas 1","Fuel Gas 2","Raw Fuel Gas Total","O2 to WGS","Steam to WGS","Total WGS","WGS Product","AGR Product","JetFuel","Diesel","Naphtha","Water 1","Water 2","CO2 1","CO2 2","Fuel Gas to Plant","Fuel Gas Export",null,"600 psig, lb/hr",{"$f":"-54492.5/81881.3092*$E$10*4","v":-208132.92678792513}]
["  H2                      ",{"$f":"Syngas!P26","v":58507.897867162726},27496.676645913114,0,{"$f":"D6+C6+B6","v":86004.574513075844},{"$f":"0.999998510167178*(E6+-0.630434510871698*0.96628425949707*$E$10)","v":38375.268838477998},{"$f":"($G$1/0.9)/$F$6*F6","v":3973.9125125778687},{"$f":"(F6-G6)*$B$3/100","v":27521.085060720103},{"$f":"G6*0.1","v":397.39125125778691},{"$f":"($S$98+T98)*0.000268780809118666","v":0.72205242795413105},{"$f":"F6-H6-G6+I6","v":7277.6625164378138},{"$f":"$E$6*0.0000750201683795779","v":6.4520776613849034},{"$f":"L6+K6","v":7284.1145940991983},0,0,{"$f":"O6+N6+M6","v":7284.1145940991983},{"$f":"E112","v":7741.8926788359977},{"$f":"Q6","v":7741.8926788359977},{"$f":"(1-0.163783724642702)*$E$10*0","v":0},{"$f":"0.163783724642702*$E$10*0","v":0},{"$f":"$E$10*0","v":0},{"$f":"$E$10*2.75087806973289E-07","v":2.1508007846387591E-2},{"$f":"$E$10*8.1263111203277E-08","v":6.3536354177692097E-3},{"$f":"$E$10*0","v":0},0,{"$f":"(LHV!$G$43/LHV!$E$39)*FT!R6","v":2507.8657076163058},{"$f":"R6-Z6","v":5234.0269712196914},null,"50 psig, lb/hr",{"$f":"-22557.5/81881.3092*$E$10*4","v":-86157.884039429671}]
["  N2                      ",{"$f":"(Syngas!P22+Syngas!P19)","v":2779.6866199653623},6992.7611446587762,0,9772.4477646241394,{"$f":"1.0000014761703*(E7+-0.0000395977680711051*0.96628425949707*$E$10)","v":9769.470579576504},1011.6677368658193,7006.2422741685468,{"$f":"G7","v":1011.6677368658193},{"$f":"($S$98+T98)*0.00018093084625527","v":0.48605239808149925},{"$f":"F7-H7-(G7-I7)","v":2763.2283054079571},{"$f":"$E$6*0.0000342008147634363","v":2.9414265217298619},{"$f":"L7+K7","v":2766.1697319296868},{"$f":"(500/11300.6327)*M98*0.05","v":28.141611211630973},0,{"$f":"O7+N7+M7","v":2794.3113431413176},{"$f":"E113","v":2786.6591468275992},{"$f":"Q7","v":2786.6591468275992},{"$f":"(1-0.163783724642702)*$E$10*0","v":0},{"$f":"0.163783724642702*$E$10*0","v":0},0,{"$f":"$E$10*5.56803500090558E-08","v":4.3534223419821137E-3},{"$f":"$E$10*3.53565422927406E-08","v":2.764385660783718E-3},0,0,{"$f":"(LHV!$G$43/LHV!$E$39)*FT!R7","v":902.69488393308336},{"$f":"R7-Z7","v":1883.9642628945157},null,"Cooling water, lb/hr",{"$f":"871797.5/81881.3092*$E$10*4","v":3329811.721638687}]
["  O2                      ",{"$f":"Syngas!P21","v":3.2403754894854162E-8},0,0,3.2403754894854162E-8,{"$f":"0*(E8+0*0.96628425949707*$E$10)","v":0},0,0,{"$f":"G8","v":0},{"$f":"($S$98+T98)*0","v":0},0,{"$f":"$E$6*0","v":0},0,{"$f":"(500/11300.6327)*M98*0.95","v":534.69061302098839},0,534.69061302098839,1.7161880181301031E-19,1.7161880181301031E-19,0,0,0,{"$f":"$E$10*0","v":0},{"$f":"$E$10*0","v":0},0,0,{"$f":"(LHV!$G$43/LHV!$E$39)*FT!R8","v":5.5593241304626081E-20},1.1602556050838423E-19,null,"825 psig, lb/hr",{"$f":"((M98+N98+O98)*(139643551/17400.5989)/861.9-(O12*18))","v":74780.078375272991}]
["  H2S                     ",{"$f":"Syngas!P27","v":1.3476447829084229E-4},3.2064318482597978E-4,0,4.554076631168221E-4,{"$f":"0.988291632959667*(E9+-5.58640711376647E-12*0.96628425949707*$E$10)","v":4.4965847222877174E-4},4.656393253419706E-5,3.2247563175565974E-4,4.656393253419706E-5,{"$f":"($S$98+T98)*5.82966925475096E-11","v":1.5660816162302995E-7},1.27182840473112E-4,{"$f":"$E$6*3.62918749646483E-12","v":3.1212672646163265E-7},1.2749496719957363E-4,0,0,1.2749496719957363E-4,0,0,0,0,0,{"$f":"$E$10*6.66330326175778E-12","v":5.2097684885997926E-7},{"$f":"$E$10*0","v":0},0,0,{"$f":"(LHV!$G$43/LHV!$E$39)*FT!R9","v":0},0]
["  CO                      ",{"$f":"Syngas!P24","v":76294.740009737332},1891.2329820645709,0,78185.9729918019,{"$f":"(1-0.96628425949707)*$E$10","v":2636.0979763606883},272.97848457382725,1890.495593429489,272.97848457382725,{"$f":"($S$98+T98)*0.0000529697482918719","v":0.14229786526678465},745.60238293119937,{"$f":"$E$6*0.0000103962620661648","v":0.89412609552693434},746.49650902672636,0,0,746.49650902672636,631.78990577915556,631.78990577915556,0,0,0,{"$f":"$E$10*1.39671678433088E-08","v":1.092036607768906E-3},{"$f":"$E$10*7.48852210596045E-09","v":5.8549738712513526E-4},0,0,{"$f":"(LHV!$G$43/LHV!$E$39)*FT!R10","v":204.65851244012649},427.13139333902905]
["  CO2                     ",{"$f":"Syngas!P20","v":1400.0599601000654},77.414574849900333,0,1477.4745349499658,{"$f":"0.00296417979298404*(E11+0.462332582045836*0.96628425949707*$E$10)","v":107.91583647161255},11.175116314230277,77.392576125905819,11.175116314230277,{"$f":"($S$98+T98)*0.00276331299274137","v":7.4233605522230643},30.523260345706731,{"$f":"$E$6*0.000257202164187683","v":22.120562694803947},52.643823040510682,0,0,52.643823040510682,691.51331338621594,{"$f":"Q11*(1-0.995)","v":3.4575665669310829},0,0,0,{"$f":"$E$10*0.0000444891099079876","v":3.4784243456952249},{"$f":"$E$10*1.30584977206642E-06","v":0.10209913501013579},{"$f":"$E$10*0.462419303013105","v":36154.703136270487},{"$f":"$E$10*0.0146436194047213","v":1144.9256312797659},{"$f":"(LHV!$G$43/LHV!$E$39)*FT!R11","v":1.1200249066628516},2.3375416602682311]
["  H2O                     ",{"$f":"Syngas!P18","v":0},0,{"$f":"(B10+C10)*(11087.4875/101099.363)-(B12+C12)","v":8574.5940676395876},8574.5940676395876,{"$f":"0*(E12+0.0677767051398649*0.96628425949707*$E$10)","v":0},0,0,0,{"$f":"($S$98+T98)*0.00330516654990421","v":8.8789952674689605},0,{"$f":"$E$6*5.08042980348244E-06","v":0.43694020359205676},0.43694020359205676,0,{"$f":"(5000/11300.6327)*M98","v":5628.3222423261932},5628.759182529785,{"$f":"E118*0.01","v":42.868839134785624},42.868839134785624,0,0,0,{"$f":"$E$10*0.172902568363892","v":13518.555540312442},{"$f":"$E$10*0.0497181475235313","v":3887.2617394772406},{"$f":"$E$10*0","v":0},0,{"$f":"(LHV!$G$43/LHV!$E$39)*FT!R12","v":13.886693609864517},28.982145524921108]
["  NH3                     ",{"$f":"Syngas!P28","v":0},0,0,0,{"$f":"0*(E13+0*0.96628425949707*$E$10)","v":0},0,0,0,{"$f":"($S$98+T98)*0","v":0},0,{"$f":"$E$6*0","v":0},0,0,0,0,{"$f":"E119*0.23","v":3.5200103043104538},3.5200103043104538,0,0,0,{"$f":"$E$10*0","v":0},{"$f":"$E$10*0.000148011963902385","v":11.572459412135432},0,0,{"$f":"(LHV!$G$43/LHV!$E$39)*FT!R13","v":1.1402525840701117},2.3797577202403422]
["  HCL                     ",{"$f":"Syngas!P37","v":0},0,0,0,0,0,0,0,{"$f":"($S$98+T98)*0","v":0},0,0,0,0,0,0,0,0,0,0,0,0,{"$f":"$E$10*0","v":0},0,0,{"$f":"(LHV!$G$43/LHV!$E$39)*FT!R14","v":0},0]
["  C                       ",{"$f":"Syngas!P32","v":0},0,0,0,0,0,0,0,{"$f":"($S$98+T98)*0","v":0},0,0,0,0,0,0,0,0,0,0,0,0,{"$f":"$E$10*0","v":0},0,0,{"$f":"(LHV!$G$43/LHV!$E$39)*FT!R15","v":0},0]
["  HCN                     ",0,0,0,0,0,0,0,0,{"$f":"($S$98+T98)*0","v":0},0,0,0,0,0,0,0,0,0,0,0,0,{"$f":"$E$10*7.43014492562466E-11","v":5.8093311048006365E-6},0,0,{"$f":"(LHV!$G$43/LHV!$E$39)*FT!R16","v":0},0]
["  SULFUR                  ",{"$f":"Syngas!P33","v":0},0,0,0,0,0,0,0,{"$f":"($S$98+T98)*0","v":0},0,0,0,0,0,0,0,0,0,0,0,0,{"$f":"$E$10*0","v":0},0,0,{"$f":"(LHV!$G$43/LHV!$E$39)*FT!R17","v":0},0]
["  COS                     ",{"$f":"Syngas!P25","v":0},0,0,0,0,0,0,0,{"$f":"($S$98+T98)*0","v":0},0,0,0,0,0,0,0,0,0,0,0,0,{"$f":"$E$10*0","v":0},0,0,{"$f":"(LHV!$G$43/LHV!$E$39)*FT!R18","v":0},0]
["  CH4                     ",{"$f":"Syngas!P23","v":47.697423501660687},2476.4476726691155,0,2524.145096170776,{"$f":"0.999982120452449*(E19+0.0112908112791481*0.96628425949707*$E$10)","v":3377.1040949604926},349.71263069785243,2421.9131714101122,349.71263069785243,{"$f":"($S$98+T98)*0.00012372160864433","v":0.33236557403392891},955.19092355038038,{"$f":"$E$6*0.00051683209299428","v":44.449924252675494},999.64084780305586,0,0,999.64084780305586,2912.6218158519164,2912.6218158519164,0,0,0,{"$f":"$E$10*1.51978882604589E-07","v":1.1882616810646627E-2},{"$f":"$E$10*4.71601028366547E-07","v":3.6872585266772846E-2},0,0,{"$f":"(LHV!$G$43/LHV!$E$39)*FT!R19","v":943.49853120521311},1969.1232846467033]
["  C2H4                    ",0,840.62565231120857,0,840.62565231120857,{"$f":"0.997355349562249*(E20+0.00444833338706985*0.96628425949707*$E$10)","v":1173.5847323316198},121.52939102557544,841.64427304483547,121.52939102557544,{"$f":"($S$98+T98)*0.00108987486956351","v":2.9278384804143118},331.94045928678429,{"$f":"$E$6*7.89244669096517E-06","v":0.67878651952359281},332.6192458063079,0,0,332.6192458063079,1.3179580833445753E-2,1.3179580833445753E-2,0,0,0,{"$f":"$E$10*8.4385801839272E-08","v":6.5977860234968672E-3},{"$f":"$E$10*2.15336076083785E-12","v":1.6836260628847413E-7},0,0,{"$f":"(LHV!$G$43/LHV!$E$39)*FT!R20","v":4.2693202016751844E-3},8.9102606317705696E-3]
["  C2H6                    ",0,172.11070778434055,0,172.11070778434055,{"$f":"0.937631772799347*(E21+0.00111201351667854*0.96628425949707*$E$10)","v":240.14924068055211},24.868413989314739,172.2246613529899,24.868413989314739,{"$f":"($S$98+T98)*0.00534458308387573","v":14.35768128226476},67.924579327562213,{"$f":"$E$6*0.00059693824839676","v":51.339420063944118},119.26399939150633,0,0,119.26399939150633,0.53760050871522735,0.53760050871522735,0,0,0,{"$f":"$E$10*1.26991128989021E-08","v":9.9289249813340258E-4},{"$f":"$E$10*6.25686130326933E-11","v":4.8919878887086625E-6},0,0,{"$f":"(LHV!$G$43/LHV!$E$39)*FT!R21","v":0.17414732238405398},0.36345318633117341]
["  C3H6                    ",0,16.22257402074429,0,16.22257402074429,{"$f":"0.071453637210575*(E22+0.00397405083562223*0.96628425949707*$E$10)","v":22.612333640572029},2.3415975526080137,16.216588870371211,2.3415975526080137,{"$f":"($S$98+T98)*0.10911581148004","v":293.12857888065861},6.3957447702008174,{"$f":"$E$6*3.33778797122653E-06","v":0.28706503428020036},6.6828098044810176,0,0,6.6828098044810176,1.1065922117338957E-6,1.1065922117338957E-6,0,0,0,{"$f":"$E$10*8.18135420647276E-09","v":6.3966713902364406E-4},{"$f":"$E$10*2.60547858845932E-15","v":2.0371187854799855E-10},0,0,{"$f":"(LHV!$G$43/LHV!$E$39)*FT!R22","v":3.5846333387044209E-7},7.4812887786345365E-7]
["  C3H8                    ",0,2.1080073593352351,0,2.1080073593352351,{"$f":"0.0533385198919231*(E23+0.00070125417746658*0.96628425949707*$E$10)","v":2.9382949325621999},0.3042721875721503,2.1072181959920395,0.3042721875721503,{"$f":"($S$98+T98)*0.0193815477736256","v":52.066565590539675},0.83107673657016035,{"$f":"$E$6*0.00171167097012317","v":147.211533491827},148.04261022839717,0,0,148.04261022839717,1.7661061328184057E-4,1.7661061328184057E-4,0,0,0,{"$f":"$E$10*3.76630515559656E-10","v":2.9447223317435691E-5},{"$f":"$E$10*2.94511653514093E-15","v":2.3026680187423794E-10},0,0,{"$f":"(LHV!$G$43/LHV!$E$39)*FT!R23","v":5.7210260981970338E-5},1.1940035229987024E-4]
["  IC4H8                   ",0,4.7562762105608149E-2,0,4.7562762105608149E-2,{"$f":"0.00560501710670921*(E24+0.000155927839595698*0.96628425949707*$E$10)","v":6.6295534502011144E-2},6.8651676472796979E-3,4.7544293483785152E-2,6.8651676472796979E-3,{"$f":"($S$98+T98)*0.00438204017647389","v":11.771907225037769},1.8751241018225992E-2,{"$f":"$E$6*1.53936541871641E-07","v":1.3239246785684767E-2},3.1990487803910755E-2,0,0,3.1990487803910755E-2,1.0634944797851908E-10,1.0634944797851908E-10,0,0,0,{"$f":"$E$10*2.63588845855055E-11","v":2.0608950382963565E-6},{"$f":"$E$10*1.87857277808574E-19","v":1.4687804049054592E-14},0,0,{"$f":"(LHV!$G$43/LHV!$E$39)*FT!R24","v":3.4450249399395244E-11},7.1899198579123837E-11]
["  NC4H8                   ",0,0.8698789543786255,0,0.8698789543786255,{"$f":"0.00539834482594393*(E25+0.00296139516018207*0.96628425949707*$E$10)","v":1.2124839742435103},0.12555756304474991,0.86954112895900837,0.12555756304474991,{"$f":"($S$98+T98)*0.0832311298818839","v":223.59200275361599},0.34294284528450192,{"$f":"$E$6*2.94081040002857E-06","v":0.25292314717808551},0.59586599246258742,0,0,0.59586599246258742,4.7176169503136495E-11,4.7176169503136495E-11,0,0,0,{"$f":"$E$10*5.69849212231705E-10","v":4.455421511694768E-5},{"$f":"$E$10*9.58851293414822E-20","v":7.4968721330085588E-15},0,0,{"$f":"(LHV!$G$43/LHV!$E$39)*FT!R25","v":1.5281986281860789E-11},3.1894183221275709E-11]
["  IC4H10                  ",0,1.6892728504349305E-2,0,1.6892728504349305E-2,{"$f":"0.00795567539829692*(E26+0.0000389511768366934*0.96628425949707*$E$10)","v":2.3546008886683723E-2},2.4382833571772108E-3,1.6886180423605211E-2,2.4382833571772108E-3,{"$f":"($S$98+T98)*0.00109377313075718","v":2.9383107643877042},6.6598284630785126E-3,{"$f":"$E$6*0.00149839923708135","v":128.86918883589897},128.87584866436205,0,0,128.87584866436205,6.2156675986467121E-8,6.2156675986467121E-8,0,0,0,{"$f":"$E$10*8.05739429425347E-13","v":6.2997521267480063E-8},{"$f":"$E$10*3.12244638001029E-20","v":2.4413150833583411E-15},0,0,{"$f":"(LHV!$G$43/LHV!$E$39)*FT!R26","v":2.013468833428929E-8},4.2021987652177832E-8]
["  NC4H10                  ",0,0.27446660931159678,0,0.27446660931159678,{"$f":"0.00680707991252334*(E27+0.000740263171089115*0.96628425949707*$E$10)","v":0.38256644529355344},3.9616284911081413E-2,0.27436012830597761,3.9616284911081413E-2,{"$f":"($S$98+T98)*0.0207984071744089","v":55.872814904840773},0.10820631698757582,{"$f":"$E$6*0.00153657766122909","v":132.15270796030509},132.26091427729267,0,0,132.26091427729267,9.1931182650425896E-8,9.1931182650425896E-8,0,0,0,{"$f":"$E$10*4.04109313834867E-11","v":3.1595679897228512E-6},{"$f":"$E$10*1.80053299098415E-19","v":1.4077642380393504E-14},0,0,{"$f":"(LHV!$G$43/LHV!$E$39)*FT!R27","v":2.9779676623504657E-8},6.2151506026921243E-8]
["  C5H10                   ",0,6.1990207837102476E-2,0,6.1990207837102476E-2,{"$f":"0.000469441762569979*(E28+0.00243544260604325*0.96628425949707*$E$10)","v":8.6405157277487266E-2},8.9475994839671238E-3,6.1966046234816122E-2,8.9475994839671238E-3,{"$f":"($S$98+T98)*0","v":0},2.4439111042671144E-2,{"$f":"$E$6*2.74732819472997E-06","v":0.23628279243552786},0.26072190347819901,0,0,0.26072190347819901,9.4436705880844207E-12,9.4436705880844207E-12,0,0,0,{"$f":"$E$10*7.78895696710275E-10","v":6.0898717906420291E-5},{"$f":"$E$10*0","v":0},0,0,{"$f":"(LHV!$G$43/LHV!$E$39)*FT!R28","v":3.0591301900406176E-12},6.3845403980438031E-12]
["  NC5H12                  ",0,1.1881524363139186E-2,0,1.1881524363139186E-2,{"$f":"0.000300099147127069*(E29+0.000730292244546463*0.96628425949707*$E$10)","v":1.6561082268203107E-2},1.7149662800917066E-3,1.187689279048912E-2,1.7149662800917066E-3,{"$f":"($S$98+T98)*0","v":0},4.6841894777139865E-3,{"$f":"$E$6*8.74348453818386E-07","v":7.5197966746816031E-2},7.9882156224530015E-2,0,0,7.9882156224530015E-2,4.7813487461802274E-11,4.7813487461802274E-11,0,0,0,{"$f":"$E$10*1.70905912472578E-12","v":1.3362445056720243E-7},{"$f":"$E$10*3.1984099912422E-24","v":2.5007079719197201E-19},0,0,{"$f":"(LHV!$G$43/LHV!$E$39)*FT!R29","v":1.5488435521044281E-11},3.232505194075799E-11]
["  IC5H12                  ",0,2.7983241858762315E-3,0,2.7983241858762315E-3,{"$f":"0.000636106130799887*(E30+0.0000811246890996975*0.96628425949707*$E$10)","v":3.9004491402973968E-3},4.0390710247637093E-4,2.7972336302568208E-3,4.0390710247637093E-4,{"$f":"($S$98+T98)*0","v":0},1.103215510040576E-3,{"$f":"$E$6*9.46468493928373E-08","v":8.1400620110341441E-3},9.2432775210747192E-3,0,0,9.2432775210747192E-3,6.9129817683055095E-11,6.9129817683055095E-11,0,0,0,{"$f":"$E$10*2.4810301642707E-13","v":1.9398175741551477E-8},{"$f":"$E$10*5.84663337701852E-24","v":4.5712471930853757E-19},0,0,{"$f":"(LHV!$G$43/LHV!$E$39)*FT!R30","v":2.2393529119182688E-11},4.6736288563872403E-11]
["  C6H12                   ",0,3.1720293261106335E-3,0,3.1720293261106335E-3,{"$f":"0.0000288300729857926*(E31+0.00202985603399144*0.96628425949707*$E$10)","v":4.4213379501111148E-3},4.5784722124643203E-4,3.1707925830917467E-3,4.5784722124643203E-4,{"$f":"($S$98+T98)*0","v":0},1.2505453670193681E-3,{"$f":"$E$6*2.66703002332103E-06","v":0.22937678236932393},0.23062732773634331,0,0,0.23062732773634331,3.624974122118091E-15,3.624974122118091E-15,0,0,0,{"$f":"$E$10*6.56022723622766E-13","v":5.1291774951177906E-8},{"$f":"$E$10*0","v":0},0,0,{"$f":"(LHV!$G$43/LHV!$E$39)*FT!R31","v":1.1742539801292258E-15},2.4507201419888652E-15]
["  NC6H14                  ",0,6.4025396669049319E-4,0,6.4025396669049319E-4,{"$f":"0.0000194046011434342*(E32+0.000608729400885263*0.96628425949707*$E$10)","v":8.9241897284651197E-4},9.2413552529976156E-5,6.4000433625322872E-4,9.2413552529976156E-5,{"$f":"($S$98+T98)*0","v":0},2.5241463659328325E-4,{"$f":"$E$6*8.17372618599846E-07","v":7.0297784281318373E-2},7.0550198917911658E-2,0,0,7.0550198917911658E-2,1.9938929704035224E-14,1.9938929704035224E-14,0,0,0,{"$f":"$E$10*3.59715788621359E-14","v":2.8124728933874297E-9},0,{"$f":"$E$10*0","v":0},0,{"$f":"(LHV!$G$43/LHV!$E$39)*FT!R32","v":6.4589061261490207E-15},1.3480023577886203E-14]
["  IC6H14                  ",0,1.5603463771174798E-4,0,1.5603463771174798E-4,{"$f":"0.0000425331428845668*(E33+0.0000676804221493661*0.96628425949707*$E$10)","v":2.1748912037403839E-4},2.2521867936397337E-5,1.5597380195011282E-4,2.2521867936397337E-5,{"$f":"($S$98+T98)*0","v":0},6.151531842392557E-5,{"$f":"$E$6*8.83451919495388E-08","v":7.598090643896098E-3},7.6596059623200239E-3,0,0,7.6596059623200239E-3,2.1640500811269435E-14,2.1640500811269435E-14,0,0,0,{"$f":"$E$10*3.68789898451796E-15","v":2.8834197040001487E-10},0,0,0,{"$f":"(LHV!$G$43/LHV!$E$39)*FT!R33","v":7.0101036182776486E-15},1.4630397192991786E-14]
["  C7H14                   ",0,8.6440663042895062E-5,0,8.6440663042895062E-5,{"$f":"1.01180195047318E-06*(E34+0.00157617714733811*0.96628425949707*$E$10)","v":1.204854500472466E-4},1.2476750053311644E-5,8.6406959995147963E-5,1.2476750053311644E-5,{"$f":"($S$98+T98)*0","v":0},3.407849005209864E-5,{"$f":"$E$6*2.25821468852333E-06","v":0.19421679344562712},0.19425087193567922,0,0,0.19425087193567922,1.3887628132276518E-18,1.3887628132276518E-18,0,0,0,{"$f":"$E$10*8.66974404781751E-15","v":6.7785237396849515E-10},0,0,0,{"$f":"(LHV!$G$43/LHV!$E$39)*FT!R34","v":4.4986811104051942E-19},9.3889470218713238E-19]
["  C7H16                   ",0,4.5230978206099475E-5,0,4.5230978206099475E-5,{"$f":"0.0000012359071024647*(E35+0.000675200152531664*0.96628425949707*$E$10)","v":6.304526797627911E-5},6.5285895539721492E-6,4.5213342737845567E-5,6.5285895539721492E-6,{"$f":"($S$98+T98)*0","v":0},1.7831925238433543E-5,{"$f":"$E$6*9.82011760348301E-07","v":8.4457503615592233E-2},8.4475335540830671E-2,0,0,8.4475335540830671E-2,8.1239933385214193E-18,8.1239933385214193E-18,0,0,0,{"$f":"$E$10*7.66353151897545E-16","v":5.9918066836443711E-11},0,0,0,{"$f":"(LHV!$G$43/LHV!$E$39)*FT!R35","v":2.6316412727183931E-18},5.4923520658030262E-18]
["  C8H16                   ",0,4.4461450003259614E-6,0,4.4461450003259614E-6,{"$f":"6.2546631677449E-08*(E36+0.00131148232030042*0.96628425949707*$E$10)","v":6.1972659896081791E-6},6.4175166989798108E-7,4.444411455768158E-6,6.4175166989798108E-7,{"$f":"($S$98+T98)*0","v":0},1.7528545338400211E-6,{"$f":"$E$6*1.98843540553496E-06","v":0.17101454099976965},0.17101629385430347,0,0,0.17101629385430347,5.2241789140000191E-22,5.2241789140000191E-22,0,0,0,{"$f":"$E$10*1.38883952882532E-16","v":1.0858776989068333E-11},0,0,0,{"$f":"(LHV!$G$43/LHV!$E$39)*FT!R36","v":1.6922914967148155E-22},3.5318874172852034E-22]
["  C8H18                   ",0,1.3708633660271393E-6,0,1.3708633660271393E-6,{"$f":"4.50300411800446E-08*(E37+0.00056166139857876*0.96628425949707*$E$10)","v":1.9107799934582882E-6},1.9786890762244641E-7,1.3703288686686734E-6,1.9786890762244641E-7,{"$f":"($S$98+T98)*0","v":0},5.4045112478961481E-7,{"$f":"$E$6*8.56274457825735E-07","v":7.3643520411717039E-2},7.3644060862841823E-2,0,0,7.3644060862841823E-2,3.0110720956056434E-21,3.0110720956056434E-21,0,0,0,{"$f":"$E$10*4.5408408829805E-18","v":3.5503006263678327E-13},0,0,0,{"$f":"(LHV!$G$43/LHV!$E$39)*FT!R37","v":9.7538996793031201E-22},2.0356821276753314E-21]
["  C9H18                   ",0,1.3656158168471633E-7,0,{"$f":"D38+C38+B38","v":1.3656158168471633E-7},{"$f":"2.31314477476071E-09*(E38+0.00108920214194535*0.96628425949707*$E$10)","v":1.9034656890075408E-7},{"$f":"($G$1/0.9)/$F$6*F38","v":1.9711148215397687E-8},{"$f":"(F38-G38)*$B$3/100","v":1.3650833654828511E-7},1.9711148215397687E-8,{"$f":"($S$98+T98)*0","v":0},5.3838232352468968E-8,{"$f":"$E$6*1.71878645133223E-06","v":0.147823497425668},0.14782355126390034,0,0,0.14782355126390034,1.9118680495623073E-25,1.9118680495623073E-25,0,0,{"$f":"$E$10*0","v":0},{"$f":"$E$10*1.96662706055875E-19","v":1.5376265024179319E-14},0,0,0,{"$f":"(LHV!$G$43/LHV!$E$39)*FT!R38","v":6.1931991541188252E-26},1.2925481341504247E-25]
["  C9H20                   ",0,3.1558992892366967E-8,0,3.1558992892366967E-8,{"$f":"1.2483618969369E-09*(E39+0.00046640736008453*0.96628425949707*$E$10)","v":4.3988550373503943E-8},4.5551902574335739E-9,3.1546688092856296E-8,4.5551902574335739E-9,{"$f":"($S$98+T98)*0","v":0},1.2441862280647647E-8,{"$f":"$E$6*7.39310889152501E-07","v":6.358411845444463E-2},6.3584130896306906E-2,0,0,6.3584130896306906E-2,2.2887655194165185E-25,2.2887655194165185E-25,0,0,0,{"$f":"$E$10*2.57580148632209E-20","v":2.0139154544182212E-15},0,0,0,{"$f":"(LHV!$G$43/LHV!$E$39)*FT!R39","v":7.4140998810413786E-26},1.5473555313123807E-25]
["  C10H20                  ",0,1.9786950634733489E-9,0,1.9786950634733489E-9,{"$f":"4.04187577874776E-11*(E40+0.000903189068726438*0.96628425949707*$E$10)","v":2.7580071319203291E-9},2.8560266502492296E-10,1.977923573516325E-9,2.8560266502492296E-10,{"$f":"($S$98+T98)*0","v":0},7.8008355840400401E-10,{"$f":"$E$6*1.46070808671869E-06","v":0.12562757748605002},0.12562757826613358,0,0,0.12562757826613358,7.3915997506451128E-29,7.3915997506451128E-29,0,0,0,{"$f":"$E$10*4.34103948752163E-21","v":3.3940839612771174E-16},0,0,0,{"$f":"(LHV!$G$43/LHV!$E$39)*FT!R40","v":2.3943937623603428E-29},4.99720598828477E-29]
["  C10H22                  ",0,1.211148865608932E-9,0,1.211148865608932E-9,{"$f":"5.78400702999197E-11*(E41+0.000386323813090457*0.96628425949707*$E$10)","v":1.6881616934461304E-9},1.748158926280578E-10,1.210676640654458E-9,1.748158926280578E-10,{"$f":"($S$98+T98)*0","v":0},4.7748505279167237E-10,{"$f":"$E$6*6.31699714136842E-07","v":5.432906513437074E-2},5.4329065611855791E-2,0,0,5.4329065611855791E-2,4.2630163426714161E-28,4.2630163426714161E-28,0,0,0,{"$f":"$E$10*5.8401605934248E-23","v":4.5661863842529716E-18},0,0,0,{"$f":"(LHV!$G$43/LHV!$E$39)*FT!R41","v":1.3809378326852424E-28},2.8820785099861739E-28]
["  C11H22                  ",0,5.7525717663212603E-11,0,5.7525717663212603E-11,{"$f":"1.42237381200653E-12*(E42+0.000746158450904262*0.96628425949707*$E$10)","v":8.0182309297053957E-11},8.3031986966423815E-12,5.7503288480329254E-11,8.3031986966423815E-12,{"$f":"($S$98+T98)*0","v":0},2.2679020816724703E-11,{"$f":"$E$6*0.0000012241535210537","v":0.1052828027169071},0.10528280273958612,0,0,0.10528280273958612,0,0,0,0,0,{"$f":"$E$10*1.90153284064459E-24","v":1.4867319532166225E-19},0,0,0,{"$f":"(LHV!$G$43/LHV!$E$39)*FT!R42","v":0},0]
["  C11H24                  ",0,2.4920366686927791E-11,0,2.4920366686927791E-11,{"$f":"1.43968401909975E-12*(E43+0.000319352271008786*0.96628425949707*$E$10)","v":3.4735291112501226E-11},3.5969782664193074E-12,2.4910650276865534E-11,3.5969782664193074E-12,{"$f":"($S$98+T98)*0","v":0},9.8246408356356921E-12,{"$f":"$E$6*5.24055956924772E-07","v":4.5071209596357818E-2},4.5071209606182459E-2,0,0,4.5071209606182459E-2,0,0,0,0,0,{"$f":"$E$10*9.93254748855386E-26","v":7.7658588967986189E-21},0,0,0,{"$f":"(LHV!$G$43/LHV!$E$39)*FT!R43","v":0},0]
["  C12H24                  ",0,1.0083373485028116E-12,0,1.0083373485028116E-12,{"$f":"3.02916614273487E-14*(E44+0.000614137368815634*0.96628425949707*$E$10)","v":1.4054725510209038E-12},1.4554230173852308E-13,1.0079441994259044E-12,1.4554230173852308E-13,{"$f":"($S$98+T98)*0","v":0},3.9752835159499938E-13,{"$f":"$E$6*1.01476859733123E-06","v":8.7274741442703224E-2},8.7274741443100753E-2,0,0,8.7274741443100753E-2,0,0,0,0,0,{"$f":"$E$10*4.71450688807983E-27","v":3.6860830822107365E-22},0,0,0,{"$f":"(LHV!$G$43/LHV!$E$39)*FT!R44","v":0},0]
["  C12H26                  ",0,4.0890446358301677E-13,0,4.0890446358301677E-13,{"$f":"2.87180212571766E-14*(E45+0.000262693969502585*0.96628425949707*$E$10)","v":5.6995211018334541E-13},5.9020819678447536E-14,4.0874503240391823E-13,5.9020819678447536E-14,{"$f":"($S$98+T98)*0","v":0},1.6120707777942718E-13,{"$f":"$E$6*4.3382021561073E-07","v":3.7310523058771659E-2},3.7310523058932864E-2,0,0,3.7310523058932864E-2,0,0,{"$f":"(1-0.163783724642702)*$E$10*0.0109987374896664","v":719.10167091499545},{"$f":"0.163783724642702*$E$10*0.0109987374896664","v":140.84532139598068},0,{"$f":"$E$10*1.9340188866055E-27","v":1.512131484337724E-22},0,0,0,{"$f":"(LHV!$G$43/LHV!$E$39)*FT!R45","v":0},0]
["  C13H26                  ",0,2.1593038402614709E-14,0,2.1593038402614709E-14,{"$f":"7.92369521727567E-16*(E46+0.000502769309659488*0.96628425949707*$E$10)","v":3.0097489508919657E-14},3.1167153684341619E-15,2.1584619312388397E-14,3.1167153684341619E-15,{"$f":"($S$98+T98)*0","v":0},8.5128701965312593E-15,{"$f":"$E$6*8.3173485077745E-07","v":7.1533001948811223E-2},7.153300194881973E-2,0,0,7.153300194881973E-2,0,0,{"$f":"(1-0.163783724642702)*$E$10*0","v":0},{"$f":"0.163783724642702*$E$10*0","v":0},0,{"$f":"$E$10*1.59621285980891E-27","v":1.2480145554618631E-22},0,0,0,{"$f":"(LHV!$G$43/LHV!$E$39)*FT!R46","v":0},0]
["  C13H28                  ",0,2.3875652741368232E-15,0,2.3875652741368232E-15,{"$f":"2.04957149653651E-16*(E47+0.000214919066421382*0.96628425949707*$E$10)","v":3.3279114986194999E-15},3.4461854067470576E-16,2.3866343663558352E-15,3.4461854067470576E-16,{"$f":"($S$98+T98)*0","v":0},9.4127713226366467E-16,{"$f":"$E$6*3.56086914703198E-07","v":3.0625103588722474E-2},3.0625103588723415E-2,0,0,3.0625103588723415E-2,0,0,{"$f":"(1-0.163783724642702)*$E$10*0.0233603507320535","v":1527.3086806883614},{"$f":"0.163783724642702*$E$10*0.0233603507320535","v":299.14307072699324},0,{"$f":"$E$10*5.28557738023488E-28","v":4.1325801029712331E-23},0,0,0,{"$f":"(LHV!$G$43/LHV!$E$39)*FT!R47","v":0},0]
["  C14H28                  ",0,4.2429772414477925E-16,0,4.2429772414477925E-16,{"$f":"1.91633366903826E-17*(E48+0.000408490853478008*0.96628425949707*$E$10)","v":5.9140802989354296E-16},6.1242665945221505E-17,4.2413229115865719E-16,6.1242665945221505E-17,{"$f":"($S$98+T98)*0","v":0},1.6727573873488578E-16,{"$f":"$E$6*6.73987495213675E-07","v":5.7966007752985854E-2},5.7966007752986021E-2,0,0,5.7966007752986021E-2,0,0,{"$f":"(1-0.163783724642702)*$E$10*0","v":0},{"$f":"0.163783724642702*$E$10*0","v":0},0,{"$f":"$E$10*5.32355918585084E-28","v":4.1622765472519273E-23},0,0,0,{"$f":"(LHV!$G$43/LHV!$E$39)*FT!R48","v":0},0]
["  C14H30                  ",0,1.4938381833991674E-17,0,1.4938381833991674E-17,{"$f":"1.58536744958392E-18*(E49+0.000173842669915344*0.96628425949707*$E$10)","v":2.0821886301760906E-17},2.1561895724643247E-18,1.4932557383437264E-17,2.1561895724643247E-18,{"$f":"($S$98+T98)*0","v":0},5.8893289183236418E-18,{"$f":"$E$6*2.87707310741099E-07","v":2.4744144844589516E-2},2.4744144844589522E-2,0,0,2.4744144844589522E-2,0,0,0,0,0,{"$f":"$E$10*1.41302087130751E-28","v":1.1047841168090136E-23},0,0,0,{"$f":"(LHV!$G$43/LHV!$E$39)*FT!R49","v":0},0]
["  C15H30                  ",0,9.879226104191197E-18,0,9.879226104191197E-18,{"$f":"5.54030987470624E-19*(E50+0.000328981619090174*0.96628425949707*$E$10)","v":1.3770174372085348E-17},1.4259566093968599E-18,9.8753742101507912E-18,1.4259566093968599E-18,{"$f":"($S$98+T98)*0","v":0},3.8948001619345566E-18,{"$f":"$E$6*5.40391366916976E-07","v":4.6476129582233974E-2},4.6476129582233981E-2,0,0,4.6476129582233981E-2,0,0,0,0,0,{"$f":"$E$10*1.8335075489144E-28","v":1.4335457169968617E-23},0,0,0,{"$f":"(LHV!$G$43/LHV!$E$39)*FT!R50","v":0},0]
["  C15H32                  ",0,6.5362784900706611E-19,0,6.5362784900706611E-19,{"$f":"8.59146508377876E-20*(E51+0.000140360880130099*0.96628425949707*$E$10)","v":9.1106017418307073E-19},9.4343923455913675E-20,6.5337300058172561E-19,9.4343923455913675E-20,{"$f":"($S$98+T98)*0","v":0},2.5768717360134511E-19,{"$f":"$E$6*2.31267126831543E-07","v":1.9890030842008403E-2},1.9890030842008403E-2,0,0,1.9890030842008403E-2,0,0,0,0,0,{"$f":"$E$10*5.58662288133886E-29","v":4.367955457157426E-24},0,0,0,{"$f":"(LHV!$G$43/LHV!$E$39)*FT!R51","v":0},0]
["  C16H32                  ",0,3.3879559460701395E-19,0,3.3879559460701395E-19,{"$f":"2.39080053022546E-20*(E52+0.000261443094588451*0.96628425949707*$E$10)","v":4.7223075623845763E-19},4.8901382787408356E-20,3.3866349876083942E-19,4.8901382787408356E-20,{"$f":"($S$98+T98)*0","v":0},1.3356725747761821E-19,{"$f":"$E$6*4.26091718622237E-07","v":3.664583696365073E-2},3.664583696365073E-2,0,0,3.664583696365073E-2,0,0,0,0,0,{"$f":"$E$10*6.64559470286931E-29","v":5.1959228795300159E-24},0,{"$f":"$E$10*0","v":0},0,{"$f":"(LHV!$G$43/LHV!$E$39)*FT!R52","v":0},0]
["  C16H34                  ",0,2.9918552225805444E-20,0,2.9918552225805444E-20,{"$f":"4.90495959891485E-21*(E53+0.00011253507476894*0.96628425949707*$E$10)","v":4.1702019648573663E-20},4.3184108593154982E-21,2.9906887031406528E-20,4.3184108593154982E-21,{"$f":"($S$98+T98)*0","v":0},1.1795132617167135E-20,{"$f":"$E$6*1.84348764000896E-07","v":1.5854837009908494E-2},1.5854837009908494E-2,0,0,1.5854837009908494E-2,0,0,0,0,0,{"$f":"$E$10*2.24788782690458E-29","v":1.7575329692296178E-24},0,0,0,{"$f":"(LHV!$G$43/LHV!$E$39)*FT!R53","v":0},0]
["  C17H34                  ",0,1.8295167626276174E-21,0,1.8295167626276174E-21,{"$f":"1.63581971069034E-22*(E54+0.000206340139822714*0.96628425949707*$E$10)","v":2.5500747297753926E-21},2.6407043346891577E-22,1.8288034370451814E-21,2.6407043346891577E-22,{"$f":"($S$98+T98)*0","v":0},7.212712927302112E-22,{"$f":"$E$6*3.36696597975577E-07","v":2.8957447648889655E-2},2.8957447648889655E-2,0,0,2.8957447648889655E-2,0,0,0,0,0,{"$f":"$E$10*1.82398156551233E-29","v":1.4260977341869158E-24},0,0,0,{"$f":"(LHV!$G$43/LHV!$E$39)*FT!R54","v":0},0]
["  C17H36                  ",0,8.0727273012820992E-22,0,8.0727273012820992E-22,{"$f":"1.70464137218423E-22*(E55+0.0000873715462875348*0.96628425949707*$E$10)","v":1.125218326056819E-21},1.1652085628689143E-22,8.0695797581594195E-22,1.1652085628689143E-22,{"$f":"($S$98+T98)*0","v":0},3.1826035024087705E-22,{"$f":"$E$6*1.41849850291324E-07","v":1.2199736019048828E-2},1.2199736019048828E-2,0,0,1.2199736019048828E-2,0,0,0,0,0,{"$f":"$E$10*7.45835649185388E-30","v":5.8313885923531783E-25},0,0,0,{"$f":"(LHV!$G$43/LHV!$E$39)*FT!R55","v":0},0]
["  C18H36                  ",0,5.5848694883716966E-22,0,5.5848694883716966E-22,{"$f":"6.52883011379244E-23*(E56+0.000157819413475028*0.96628425949707*$E$10)","v":7.784478853823485E-22},8.0611390766569237E-23,5.5826919569262346E-22,8.0611390766569237E-23,{"$f":"($S$98+T98)*0","v":0},2.2017868968972503E-22,{"$f":"$E$6*2.52260487622545E-07","v":2.1695555904438019E-2},2.1695555904438019E-2,0,0,2.1695555904438019E-2,0,0,0,0,0,{"$f":"$E$10*9.13004445092537E-30","v":7.1384140885400172E-25},0,0,0,{"$f":"(LHV!$G$43/LHV!$E$39)*FT!R56","v":0},0]
["  C18H38                  ",0,8.4460840883831315E-23,0,8.4460840883831315E-23,{"$f":"2.31901733403856E-23*(E57+0.0000671945686573921*0.96628425949707*$E$10)","v":1.1772587187673535E-22},1.2190984700959618E-23,8.4427909740620584E-23,1.2190984700959618E-23,{"$f":"($S$98+T98)*0","v":0},3.3297962136114764E-23,{"$f":"$E$6*1.07879261327722E-07","v":9.2781099692756473E-3},9.2781099692756473E-3,0,0,9.2781099692756473E-3,0,0,0,0,0,{"$f":"$E$10*3.21013427850629E-30","v":2.509874719993503E-25},0,0,0,{"$f":"(LHV!$G$43/LHV!$E$39)*FT!R57","v":0},0]
["  C19H38                  ",0,5.527598612405357E-25,0,5.527598612405357E-25,{"$f":"8.49882078440299E-26*(E58+0.000119994293270271*0.96628425949707*$E$10)","v":7.7046517560142744E-25},7.9784749253875195E-26,5.5254434107804185E-25,7.9784749253875195E-26,{"$f":"($S$98+T98)*0","v":0},2.179208345233856E-25,{"$f":"$E$6*1.93059940033119E-07","v":1.6604037998068335E-2},1.6604037998068335E-2,0,0,1.6604037998068335E-2,0,0,0,0,0,{"$f":"$E$10*1.83143137304472E-30","v":1.4319224386921314E-25},0,0,0,{"$f":"(LHV!$G$43/LHV!$E$39)*FT!R58","v":0},0]
["  C19H40                  ",0,4.2261248066538595E-24,0,4.2261248066538595E-24,{"$f":"1.54749601147891E-24*(E59+0.0000503843365941225*0.96628425949707*$E$10)","v":5.8905905069963422E-24},6.0999419758471687E-25,4.2244770475293006E-24,6.0999419758471687E-25,{"$f":"($S$98+T98)*0","v":0},1.6661134594670416E-24,{"$f":"$E$6*7.99874675839728E-08","v":6.8792881159380273E-3},6.8792881159380273E-3,0,0,6.8792881159380273E-3,0,0,0,0,0,{"$f":"$E$10*1.19002737010436E-30","v":9.3043447818484535E-26},0,0,0,{"$f":"(LHV!$G$43/LHV!$E$39)*FT!R59","v":0},0]
["  C20H40                  ",0,6.6579448485828396E-27,0,6.6579448485828396E-27,{"$f":"1.40013109841745E-27*(E60+0.0000877312375998667*0.96628425949707*$E$10)","v":9.2801865811956639E-27},9.6100042267569246E-28,6.6553489268159774E-27,9.6100042267569246E-28,{"$f":"($S$98+T98)*0","v":0},2.6248376543796865E-27,{"$f":"$E$6*1.40026550580211E-07","v":1.2042923903184741E-2},1.2042923903184741E-2,0,0,1.2042923903184741E-2,0,0,0,0,0,{"$f":"$E$10*5.21877336842803E-31","v":4.0803487363424901E-26},0,0,0,{"$f":"(LHV!$G$43/LHV!$E$39)*FT!R60","v":0},0]
["  C20H42                  ",0,4.1713886464898946E-27,0,4.1713886464898946E-27,{"$f":"2.11500006773169E-27*(E61+0.0000363875682927211*0.96628425949707*$E$10)","v":5.8142964266739557E-27},6.0209364054354365E-28,4.1697622289043303E-27,6.0209364054354365E-28,{"$f":"($S$98+T98)*0","v":0},1.6445341977696254E-27,{"$f":"$E$6*5.75827763732679E-08","v":4.9523821812645025E-3},4.9523821812645025E-3,0,0,4.9523821812645025E-3,0,0,0,0,0,{"$f":"$E$10*2.19293023035416E-31","v":1.7145638376337626E-26},0,0,0,{"$f":"(LHV!$G$43/LHV!$E$39)*FT!R61","v":0},0]
["  ALKYLATE                ",0,0,0,0,{"$f":"0*(E62+0*0.96628425949707*$E$10)","v":0},0,0,0,{"$f":"($S$98+T98)*0","v":0},0,{"$f":"$E$6*0","v":0},0,0,0,0,0,0,0,0,0,{"$f":"$E$10*0","v":0},0,0,0,{"$f":"(LHV!$G$43/LHV!$E$39)*FT!R62","v":0},0]
["  ISOMERAT                ",0,0,0,0,0,0,0,0,{"$f":"($S$98+T98)*0","v":0},0,0,0,0,0,0,0,0,0,0,0,0,{"$f":"$E$10*0","v":0},0,0,{"$f":"(LHV!$G$43/LHV!$E$39)*FT!R63","v":0},0]
["  REFORMAT                ",0,0,0,0,0,0,0,0,{"$f":"($S$98+T98)*0","v":0},0,0,0,0,0,0,0,0,0,0,0,0,0,0,0,{"$f":"(LHV!$G$43/LHV!$E$39)*FT!R64","v":0},0]
["  C7-300HC                ",0,0,0,0,0,0,0,0,{"$f":"($S$98+T98)*0","v":0},0,0,0,0,0,0,0,0,0,0,{"$f":"$E$10*0.000740913913077356","v":57.929075197116411},0,0,0,0,{"$f":"(LHV!$G$43/LHV!$E$39)*FT!R65","v":0},0]
["  3-350HC                 ",0,0,0,0,0,0,0,0,{"$f":"($S$98+T98)*0","v":0},0,0,0,0,0,0,0,0,0,0,{"$f":"$E$10*0.000405304068779554","v":31.689092975065627},0,0,0,0,{"$f":"(LHV!$G$43/LHV!$E$39)*FT!R66","v":0},0]
["  350-5HC                 ",0,0,0,0,0,0,0,0,{"$f":"($S$98+T98)*0","v":0},0,0,0,0,0,0,0,0,0,0,{"$f":"$E$10*0","v":0},0,0,0,0,{"$f":"(LHV!$G$43/LHV!$E$39)*FT!R67","v":0},0]
["  500+HC                  ",0,0,0,0,0,0,0,0,{"$f":"($S$98+T98)*0","v":0},0,0,0,0,0,0,0,0,0,0,0,0,0,0,0,{"$f":"(LHV!$G$43/LHV!$E$39)*FT!R68","v":0},0]
["  C7-300HT                ",0,0,0,0,0,0,0,0,{"$f":"($S$98+T98)*0","v":0},0,0,0,0,0,0,0,0,0,0,0,0,0,0,0,{"$f":"(LHV!$G$43/LHV!$E$39)*FT!R69","v":0},0]
["  3-350HT                 ",0,0,0,{"$f":"D70+C70+B70","v":0},0,{"$f":"($G$1/0.9)/$F$6*F70","v":0},{"$f":"(F70-G70)*$B$3/100","v":0},0,{"$f":"($S$98+T98)*0","v":0},0,0,0,0,0,0,0,0,0,0,0,0,0,0,0,{"$f":"(LHV!$G$43/LHV!$E$39)*FT!R70","v":0},0]
["  350-5HT                 ",0,0,0,{"$f":"D71+C71+B71","v":0},0,0,0,0,{"$f":"($S$98+T98)*0","v":0},{"$f":"F71-H71-(G71-I71)","v":0},0,{"$f":"L71+K71","v":0},0,0,{"$f":"O71+N71+M71","v":0},{"$f":"E177","v":0},{"$f":"Q71","v":0},0,0,0,0,0,0,0,{"$f":"(LHV!$G$43/LHV!$E$39)*FT!R71","v":0},{"$f":"R71-Z71","v":0}]
["  500+HT                  ",0,0,0,0,0,0,0,{"$f":"G72","v":0},{"$f":"($S$98+T98)*0","v":0},0,0,0,0,0,0,0,0,0,0,0,0,0,{"$f":"$E$10*0","v":0},0,{"$f":"(LHV!$G$43/LHV!$E$39)*FT!R72","v":0},0]
["  OXVAP                   ",0,0,0,0,0,0,0,0,{"$f":"($S$98+T98)*0","v":0},0,{"$f":"$E$6*6.60677016336192E-07","v":5.6821245680562647E-2},5.6821245680562647E-2,0,0,5.6821245680562647E-2,0,0,0,0,0,{"$f":"$E$10*0.000568533462642452","v":44.451341955098364},0,0,0,{"$f":"(LHV!$G$43/LHV!$E$39)*FT!R73","v":0},0]
["  OXHC                    ",0,1.497784119436457E-7,0,1.497784119436457E-7,{"$f":"1.38769546559799E-09*(E74+0.00199130514726627*0.96628425949707*$E$10)","v":2.0876886791404183E-7},2.1618850930588845E-8,1.4972001358676237E-7,2.1618850930588845E-8,{"$f":"($S$98+T98)*0","v":0},5.9048854327279463E-8,{"$f":"$E$6*2.99776016948998E-06","v":0.25782108786923186},0.25782114691808616,0,0,0.25782114691808616,0,0,0,0,0,{"$f":"$E$10*3.15151284218584E-09","v":2.4640409796245893E-4},0,0,0,{"$f":"(LHV!$G$43/LHV!$E$39)*FT!R74","v":0},0]
["  OXH2O                   ",0,0,0,0,{"$f":"0*(E75+0*0.96628425949707*$E$10)","v":0},0,0,0,{"$f":"($S$98+T98)*0","v":0},0,{"$f":"$E$6*2.38475611965329E-06","v":0.20509993538823498},0.20509993538823498,0,0,0.20509993538823498,0,0,0,0,0,{"$f":"$E$10*0.00205215225550251","v":160.44952082378461},0,0,0,{"$f":"(LHV!$G$43/LHV!$E$39)*FT!R75","v":0},0]
["  C5N                     ",0,0,0,0,0,0,0,0,{"$f":"($S$98+T98)*0","v":0},0,{"$f":"$E$6*0","v":0},0,0,0,0,0,0,0,0,0,{"$f":"$E$10*0","v":0},0,0,0,{"$f":"(LHV!$G$43/LHV!$E$39)*FT!R76","v":0},0]
["  C6N                     ",0,0,0,0,0,0,0,0,{"$f":"($S$98+T98)*0","v":0},0,0,0,0,0,0,0,0,0,0,0,0,0,0,0,{"$f":"(LHV!$G$43/LHV!$E$39)*FT!R77","v":0},0]
["  C7N                     ",0,0,0,0,0,0,0,0,{"$f":"($S$98+T98)*0","v":0},0,0,0,0,0,0,0,0,0,0,0,0,0,0,0,{"$f":"(LHV!$G$43/LHV!$E$39)*FT!R78","v":0},0]
["  C8N                     ",0,0,0,0,0,0,0,0,{"$f":"($S$98+T98)*0","v":0},0,0,0,0,0,0,0,0,0,0,0,0,0,0,0,{"$f":"(LHV!$G$43/LHV!$E$39)*FT!R79","v":0},0]
["  C9N                     ",0,0,0,0,0,0,0,0,{"$f":"($S$98+T98)*0","v":0},0,0,0,0,0,0,0,0,{"$f":"(1-0.163783724642702)*$E$10*0","v":0},{"$f":"0.163783724642702*$E$10*0","v":0},0,0,0,0,0,{"$f":"(LHV!$G$43/LHV!$E$39)*FT!R80","v":0},0]
["  C10N                    ",0,0,0,0,0,0,0,0,{"$f":"($S$98+T98)*0","v":0},0,0,0,0,0,0,0,0,0,0,0,0,0,0,0,{"$f":"(LHV!$G$43/LHV!$E$39)*FT!R81","v":0},0]
["  C6A                     ",0,0,0,0,0,0,0,0,{"$f":"($S$98+T98)*0","v":0},0,0,0,0,0,0,0,0,0,0,0,0,0,0,0,{"$f":"(LHV!$G$43/LHV!$E$39)*FT!R82","v":0},0]
["  C7A                     ",0,0,0,0,0,0,0,0,{"$f":"($S$98+T98)*0","v":0},0,0,0,0,0,0,0,0,0,0,0,0,0,0,0,{"$f":"(LHV!$G$43/LHV!$E$39)*FT!R83","v":0},0]
["  C8A                     ",0,0,0,0,0,0,0,0,{"$f":"($S$98+T98)*0","v":0},0,0,0,0,0,0,0,0,0,0,0,0,0,0,0,{"$f":"(LHV!$G$43/LHV!$E$39)*FT!R84","v":0},0]
["  C9A                     ",0,0,0,0,0,0,0,0,{"$f":"($S$98+T98)*0","v":0},0,0,0,0,0,0,0,0,0,0,0,0,0,0,0,{"$f":"(LHV!$G$43/LHV!$E$39)*FT!R85","v":0},0]
["  C10AP                   ",0,0,0,0,0,0,0,0,{"$f":"($S$98+T98)*0","v":0},0,0,0,0,0,0,0,0,0,0,0,0,0,0,0,{"$f":"(LHV!$G$43/LHV!$E$39)*FT!R86","v":0},0]
["  C21OP                   ",0,1.3534012267831755E-27,0,1.3534012267831755E-27,{"$f":"2.40044285959378E-28*(E87+0.00010402026546278*0.96628425949707*$E$10)","v":1.8864403640171883E-27},1.9534844168396384E-28,1.3528735378665797E-27,1.9534844168396384E-28,{"$f":"($S$98+T98)*0","v":0},5.3356682615060858E-28,{"$f":"$E$6*1.63858472322467E-07","v":1.4092578192456389E-2},1.4092578192456389E-2,0,0,1.4092578192456389E-2,0,0,0,0,0,{"$f":"$E$10*3.61620985301774E-31","v":2.8273688590073294E-26},0,0,0,{"$f":"(LHV!$G$43/LHV!$E$39)*FT!R87","v":0},0]
["  C22OP                   ",0,4.8408961474694476E-29,0,4.8408961474694476E-29,{"$f":"1.04754326022787E-29*(E88+0.0000852582792544058*0.96628425949707*$E$10)","v":6.7474904779768551E-29},6.9872961546647288E-30,4.8390086900083059E-29,6.9872961546647288E-30,{"$f":"($S$98+T98)*0","v":0},1.9084817879685492E-29,{"$f":"$E$6*1.33245543863326E-07","v":1.1459726305728737E-2},1.1459726305728737E-2,0,0,1.1459726305728737E-2,0,0,0,0,0,{"$f":"$E$10*1.40667021570612E-31","v":1.0998187949357085E-26},0,0,0,{"$f":"(LHV!$G$43/LHV!$E$39)*FT!R88","v":0},0]
["  C23OP                   ",0,0,0,0,{"$f":"0*(E89+0*0.96628425949707*$E$10)","v":0},0,0,0,{"$f":"($S$98+T98)*0","v":0},0,{"$f":"$E$6*1.06470146497375E-07","v":9.1569196478515896E-3},9.1569196478515896E-3,0,0,9.1569196478515896E-3,0,0,0,0,0,{"$f":"$E$10*5.52751293304907E-32","v":4.3217397689521023E-27},0,0,0,{"$f":"(LHV!$G$43/LHV!$E$39)*FT!R89","v":0},0]
["  C24OP                   ",0,0,0,0,0,0,0,0,{"$f":"($S$98+T98)*0","v":0},0,{"$f":"$E$6*8.39644504777984E-08","v":7.2213268375672787E-3},7.2213268375672787E-3,0,0,7.2213268375672787E-3,0,0,0,0,0,{"$f":"$E$10*2.20941750931928E-32","v":1.7274545771125145E-27},0,0,0,{"$f":"(LHV!$G$43/LHV!$E$39)*FT!R90","v":0},0]
["  C25OP                   ",0,0,0,0,0,0,0,0,{"$f":"($S$98+T98)*0","v":0},0,{"$f":"$E$6*6.55433889289867E-08","v":5.6370312769825478E-3},5.6370312769825478E-3,0,0,5.6370312769825478E-3,0,0,0,0,0,{"$f":"$E$10*8.97897212440788E-33","v":7.0202967201309659E-28},0,0,0,{"$f":"(LHV!$G$43/LHV!$E$39)*FT!R91","v":0},0]
["  C26OP                   ",0,0,0,0,0,0,0,0,{"$f":"($S$98+T98)*0","v":0},0,{"$f":"$E$6*5.05265152611098E-08","v":4.3455114466601817E-3},4.3455114466601817E-3,0,0,4.3455114466601817E-3,0,0,0,0,0,{"$f":"$E$10*3.63978055553825E-33","v":2.8457978421139935E-28},0,0,0,{"$f":"(LHV!$G$43/LHV!$E$39)*FT!R92","v":0},0]
["  C27OP                   ",0,0,0,0,0,0,0,0,{"$f":"($S$98+T98)*0","v":0},0,{"$f":"$E$6*3.88615676311257E-08","v":3.3422725890260869E-3},3.3422725890260869E-3,0,0,3.3422725890260869E-3,0,0,0,0,0,{"$f":"$E$10*1.51731817676097E-33","v":1.1863299798820331E-28},0,0,0,{"$f":"(LHV!$G$43/LHV!$E$39)*FT!R93","v":0},0]
["  C28OP                   ",0,0,0,0,0,0,0,0,{"$f":"($S$98+T98)*0","v":0},0,{"$f":"$E$6*2.97961579595308E-08","v":2.5626058874338446E-3},2.5626058874338446E-3,0,0,2.5626058874338446E-3,0,0,0,0,0,{"$f":"$E$10*6.46716570606894E-34","v":5.0564164322821365E-29},0,0,0,{"$f":"(LHV!$G$43/LHV!$E$39)*FT!R94","v":0},0]
["  C29OP                   ",0,0,0,0,0,0,0,0,{"$f":"($S$98+T98)*0","v":0},0,{"$f":"$E$6*2.27448493412271E-08","v":1.9561610899562504E-3},1.9561610899562504E-3,0,0,1.9561610899562504E-3,0,0,0,0,0,{"$f":"$E$10*2.73835384411901E-34","v":2.1410085969828583E-29},0,0,0,{"$f":"(LHV!$G$43/LHV!$E$39)*FT!R95","v":0},0]
["  C30WAX                  ",0,0,0,0,0,0,0,0,{"$f":"($S$98+T98)*0","v":0},0,{"$f":"$E$6*4.43735629622273E-09","v":3.8163294021955404E-4},3.8163294021955404E-4,0,0,3.8163294021955404E-4,0,0,0,0,0,{"$f":"$E$10*1.7461860343954E-39","v":1.3652725412390041E-34},0,0,0]
[]
["Total",{"$f":"SUM(B6:B96)","v":139030.08201526405},39966.88985951271,8574.5940676395876,187571.56594241638,55706.939859075181,5768.6763387943865,39950.610816224624,2192.155077474305,674.64082412339599,12179.807781530462,{"$f":"SUM(L6:L96)","v":540.91269402328362},12720.720475553742,562.83222423261941,{"$f":"SUM(O6:O96)","v":5628.3222423261932},18911.874942112565,14811.416668081103,14123.360921261818,2246.410351603357,439.98839212297389,{"$f":"SUM(U6:U96)","v":89.618168172182038},{"$f":"$E$10*0.208977621762275","v":16339.118690996225},{"$f":"$E$10*0.0498680611854387","v":3898.9828849982346},{"$f":"SUM(X6:X96)","v":36154.703136270487},{"$f":"SUM(Y6:Y96)","v":1144.9256312797659},{"$f":"SUM(Z6:Z96)","v":4575.0430805566402},{"$f":"SUM(AA6:AA96)","v":9548.3178407051819}]
[]
[]
[]
[null,null,null,null,null,null,null,null,null,"LPG Refrigeration Load:"]
[null,null,null,null,null,null,null,null,null,"Temperature F             ",-100]
["Calculate WGS reaction",null,null,null,null,null,null,null,null,"Pressure    psia          ",240]
[null,"401S2",null,null,null,null,null,null,null,"Vapor Frac                ",0]
[null,"P401R1",null,null,null,null,null,null,null,"Mole Flow   lbmol/hr      ",639.56880000000001]
[null,"P401M1",null,null,null,null,null,null,null,"Mass Flow   lb/hr         ",31235.87]
[null,"MIXED",null,null,null,null,null,null,null,"Volume Flow cuft/hr       ",714.69809999999995]
[null,null,null,null,null,null,null,null,null,"Enthalpy    MMBtu/hr      ",-36.032899999999998]
["Substream: MIXED          "," ",null,null,null,null,null,null,null,"Refrigeration Power MW",43.1]
["Mole Flow   lbmol/hr      "," ",null,null,null,null,null,null,null,"Refrigeration Power MW/lbmol/hr",{"$f":"K110/K106","v":6.7389153442131644E-2}]
["  H2                      ",{"$f":"P6","v":7284.1145940991983},4092.8649999999998,0.82516401073839707,{"$f":"B112-(ABS(SUM(J126:J202)+J125)+E119*3-(B118-E118)*2)/2","v":7741.8926788359977}]
["  N2                      ",{"$f":"P7","v":2794.3113431413176},null,0.99726150905392097,{"$f":"B113*D113","v":2786.6591468275992}]
["  O2                      ",534.69061302098839,null,3.209684210526316E-22,{"$f":"B114*D114","v":1.7161880181301031E-19}]
["  H2S                     ",1.2749496719957363E-4,null,0,{"$f":"B115*D115","v":0}]
["  CO                      ",746.49650902672636,null,0.84634006742091272,{"$f":"B116*D116","v":631.78990577915556}]
["  CO2                     ",52.643823040510682,null,18.835181940795593,{"$f":"(SUM(H126:H202)+H125)+(B116-E116)+B117","v":691.51331338621594}]
["  H2O                     ",5628.759182529785,null,0.7616037166386409,{"$f":"B118*D118","v":4286.8839134785621}]
["  NH3                     ",0,null,15.782000000000153,{"$f":"(B113-E113)*2","v":15.304392627436755}]
["  HCL                     ",0,null,0,{"$f":"B120*D120","v":0}]
["  C                       ",0,null,0,{"$f":"B121*D121","v":0}]
["  HCN                     ",0,null,0,{"$f":"B122*D122","v":0}]
["  SULFUR                  ",0,null,0,{"$f":"B123*D123","v":0}]
["  COS                     ",0,null,0,{"$f":"B124*D124","v":0},"Carbon",null,null,"Hydrogen"]
["  CH4                     ",999.64084780305586,null,4.7228701291773536,{"$f":"SUM(H126:H202)*0.784927391138132+B125","v":2912.6218158519164},{"$f":"(B125-E125)","v":-1912.9809680488606},1,{"$f":"F125*G125","v":-1912.9809680488606},4,{"$f":"F125*I125","v":-7651.9238721954425}]
["  C2H4                    ",332.6192458063079,null,3.962362671317142E-5,{"$f":"B126*D126","v":1.3179580833445753E-2},{"$f":"(B126-C126)","v":332.6192458063079},2,{"$f":"F126*G126","v":665.2384916126158},4,1330.4769832252316]
["  C2H6                    ",119.26399939150633,null,4.5076511894461407E-3,{"$f":"B127*D127","v":0.53760050871522735},{"$f":"(B127-C127)","v":119.26399939150633},2,{"$f":"F127*G127","v":238.52799878301266},6,715.58399634903799]
["  C3H6                    ",6.6828098044810176,null,1.6558786559986992E-7,1.1065922117338957E-6,6.6828098044810176,3,20.048429413443053,6,40.096858826886105]
["  C3H8                    ",148.04261022839717,null,1.1929714898255931E-6,1.7661061328184057E-4,148.04261022839717,3,444.1278306851915,8,1184.3408818271773]
["  IC4H8                   ",3.1990487803910755E-2,null,3.3244084501117902E-9,1.0634944797851908E-10,3.1990487803910755E-2,4,0.12796195121564302,8,0.25592390243128604]
["  NC4H8                   ",0.59586599246258742,null,7.9172448335518222E-11,4.7176169503136495E-11,0.59586599246258742,4,2.3834639698503497,8,4.7669279397006994]
["  IC4H10                  ",128.87584866436205,null,4.8229886848966499E-10,6.2156675986467121E-8,128.87584866436205,4,515.50339465744821,10,1288.7584866436205]
["  NC4H10                  ",132.26091427729267,null,6.9507445304428215E-10,9.1931182650425896E-8,132.26091427729267,4,529.04365710917068,10,1322.6091427729266]
["  C5H10                   ",0.26072190347819901,null,3.6221239804173492E-11,9.4436705880844207E-12,0.26072190347819901,5,1.3036095173909952,10,2.6072190347819904]
["  NC5H12                  ",7.9882156224530015E-2,null,5.9855028609154929E-10,4.7813487461802274E-11,7.9882156224530015E-2,5,0.39941078112265005,12,0.95858587469436018]
["  IC5H12                  ",9.2432775210747192E-3,null,7.4789291488261348E-9,6.9129817683055095E-11,9.2432775210747192E-3,5,4.6216387605373596E-2,12,0.11091933025289663]
["  C6H12                   ",0.23062732773634331,null,1.5717886330722336E-14,3.624974122118091E-15,0.23062732773634331,6,1.3837639664180599,12,2.7675279328361198]
["  NC6H14                  ",7.0550198917911658E-2,null,2.8262046046440022E-13,1.9938929704035224E-14,7.0550198917911658E-2,6,0.42330119350746997,14,0.98770278485076324]
["  IC6H14                  ",7.6596059623200239E-3,null,2.8252759890947089E-12,2.1640500811269435E-14,7.6596059623200239E-3,6,4.5957635773920147E-2,14,0.10723448347248034]
["  C7H14                   ",0.19425087193567922,null,7.1493260204644129E-18,1.3887628132276518E-18,0.19425087193567922,7,1.3597561035497545,14,2.719512207099509]
["  C7H16                   ",8.4475335540830671E-2,null,9.6170003782876177E-17,8.1239933385214193E-18,8.4475335540830671E-2,7,0.59132734878581472,16,1.3516053686532907]
["  C8H16                   ",0.17101629385430347,null,3.0547843110497611E-21,5.2241789140000191E-22,0.17101629385430347,8,1.3681303508344278,16,2.7362607016688556]
["  C8H18                   ",7.3644060862841823E-2,null,4.0886828623065832E-20,3.0110720956056434E-21,7.3644060862841823E-2,8,0.58915248690273458,18,1.3255930955311528]
["  C9H18                   ",0.14782355126390034,null,1.293344689134931E-24,1.9118680495623073E-25,0.14782355126390034,9,1.3304119613751031,18,2.6608239227502062]
["  C9H20                   ",6.3584130896306906E-2,null,3.5995860714822708E-24,2.2887655194165185E-25,6.3584130896306906E-2,9,0.57225717806676213,20,1.271682617926138]
["  C10H20                  ",0.12562757826613358,null,5.8837397430256165E-28,7.3915997506451128E-29,0.12562757826613358,10,1.2562757826613358,20,2.5125515653226715]
["  C10H22                  ",5.4329065611855791E-2,null,7.8466586801395908E-27,4.2630163426714161E-28,5.4329065611855791E-2,10,0.54329065611855787,22,1.1952394434608273]
["  C11H22                  ",0.10528280273958612,null,0,0,0.10528280273958612,11,1.1581108301354472,22,2.3162216602708945]
["  C11H24                  ",4.5071209606182459E-2,null,0,0,4.5071209606182459E-2,11,0.49578330566800705,24,1.081709030548379]
["  C12H24                  ",8.7274741443100753E-2,null,0,0,8.7274741443100753E-2,12,1.047296897317209,24,2.094593794634418]
["  C12H26                  ",3.7310523058932864E-2,null,0,0,3.7310523058932864E-2,12,0.44772627670719434,26,0.97007359953225447]
["  C13H26                  ",7.153300194881973E-2,null,0,0,7.153300194881973E-2,13,0.92992902533465649,26,1.859858050669313]
["  C13H28                  ",3.0625103588723415E-2,null,0,0,3.0625103588723415E-2,13,0.39812634665340441,28,0.85750290048425559]
["  C14H28                  ",5.7966007752986021E-2,null,0,0,5.7966007752986021E-2,14,0.81152410854180435,28,1.6230482170836087]
["  C14H30                  ",2.4744144844589522E-2,null,0,0,2.4744144844589522E-2,14,0.34641802782425329,30,0.74232434533768565]
["  C15H30                  ",4.6476129582233981E-2,null,0,0,4.6476129582233981E-2,15,0.69714194373350968,30,1.3942838874670194]
["  C15H32                  ",1.9890030842008403E-2,null,0,0,1.9890030842008403E-2,15,0.29835046263012605,32,{"$f":"F157*I157","v":0.63648098694426891}]
["  C16H32                  ",3.664583696365073E-2,null,0,0,3.664583696365073E-2,16,0.58633339141841168,32,1.1726667828368234]
["  C16H34                  ",1.5854837009908494E-2,null,0,0,1.5854837009908494E-2,16,0.25367739215853591,34,0.53906445833688876]
["  C17H34                  ",2.8957447648889655E-2,null,0,0,2.8957447648889655E-2,17,0.49227661003112411,34,0.98455322006224821]
["  C17H36                  ",1.2199736019048828E-2,null,0,0,1.2199736019048828E-2,17,0.20739551232383008,36,0.43919049668575783]
["  C18H36                  ",2.1695555904438019E-2,null,0,0,2.1695555904438019E-2,18,0.39052000627988437,36,0.78104001255976874]
["  C18H38                  ",9.2781099692756473E-3,null,0,0,9.2781099692756473E-3,18,0.16700597944696166,38,0.3525681788324746]
["  C19H38                  ",1.6604037998068335E-2,null,0,0,1.6604037998068335E-2,19,0.31547672196329835,38,0.63095344392659669]
["  C19H40                  ",6.8792881159380273E-3,null,0,0,6.8792881159380273E-3,19,0.13070647420282253,40,0.27517152463752109]
["  C20H40                  ",1.2042923903184741E-2,null,0,0,1.2042923903184741E-2,20,0.24085847806369481,40,0.48171695612738963]
["  C20H42                  ",4.9523821812645025E-3,null,0,0,4.9523821812645025E-3,20,9.9047643625290047E-2,42,0.20800005161310911]
["  ALKYLATE                ",0,null,0,0,0,0,0,0,0]
["  ISOMERAT                ",0,null,0,0,0,0,0,0,0]
["  REFORMAT                ",0,null,0,0,0,0,0,0,0]
["  C7-300HC                ",0,null,0,0,0,0,0,0,0]
["  3-350HC                 ",0,null,0,0,0,0,0,0,0]
["  350-5HC                 ",0,null,0,0,0,0,0,0,0]
["  500+HC                  ",0,null,0,0,0,0,0,0,0]
["  C7-300HT                ",0,null,0,0,0,0,0,0,0]
["  3-350HT                 ",0,null,0,0,0,0,0,0,0]
["  350-5HT                 ",{"$f":"P71","v":0},null,0,0,0,0,0,0,0]
["  500+HT                  ",0,null,0,0,0,0,0,0,0]
["  OXVAP                   ",5.6821245680562647E-2,null,0,0,5.6821245680562647E-2,0,0,0,0]
["  OXHC                    ",0.25782114691808616,null,0,0,0.25782114691808616,0,0,0,0]
["  OXH2O                   ",0.20509993538823498,null,0,0,0.20509993538823498,0,0,0,0]
["  C5N                     ",0,null,0,0,0,5,0,0,0]
["  C6N                     ",0,null,0,0,0,6,0,0,0]
["  C7N                     ",0,null,0,0,0,7,0,0,0]
["  C8N                     ",0,null,0,0,0,8,0,0,0]
["  C9N                     ",0,null,0,0,0,9,0,0,0]
["  C10N                    ",0,null,0,0,0,10,0,0,0]
["  C6A                     ",0,null,0,0,0,6,0,0,0]
["  C7A                     ",0,null,0,0,0,7,0,0,{"$f":"F189*I189","v":0}]
["  C8A                     ",0,null,0,0,{"$f":"(B190-C190)","v":0},8,{"$f":"F190*G190","v":0},0,0]
["  C9A                     ",0,null,0,{"$f":"B191*D191","v":0},0,0,0,0,0]
["  C10AP                   ",0,null,0,0,0,0,0,0,0]
["  C21OP                   ",1.4092578192456389E-2,null,0,0,1.4092578192456389E-2,21,0.29594414204158415,0,0]
["  C22OP                   ",1.1459726305728737E-2,null,0,0,1.1459726305728737E-2,22,0.25211397872603225,0,0]
["  C23OP                   ",9.1569196478515896E-3,null,0,0,9.1569196478515896E-3,23,0.21060915190058657,null,null,null,{"$f":"F195*K195","v":0}]
["  C24OP                   ",7.2213268375672787E-3,null,0,0,7.2213268375672787E-3,24,0.17331184410161468,null,null,0,0]
["  C25OP                   ",5.6370312769825478E-3,null,0,0,5.6370312769825478E-3,25,0.1409257819245637,null,null,0,0]
["  C26OP                   ",4.3455114466601817E-3,null,0,0,4.3455114466601817E-3,26,0.11298329761316472,null,null,0,0]
["  C27OP                   ",3.3422725890260869E-3,null,0,0,3.3422725890260869E-3,27,9.0241359903704341E-2,null,null,0,0]
["  C28OP                   ",2.5626058874338446E-3,null,0,0,2.5626058874338446E-3,28,7.1752964848147652E-2,null,null,0,0]
["  C29OP                   ",1.9561610899562504E-3,null,0,0,1.9561610899562504E-3,29,5.6728671608731261E-2,null,null,0,0]
["  C30WAX                  ",3.8163294021955404E-4,null,0,0,3.8163294021955404E-4,30,1.1448988206586621E-2,null,null,0,0]

{"sheet":"GT","index":11,"n_rows":58,"n_cols":14,"rows_kept":58,"cut":false,"hidden":false,"merged":[]}
[null,"Treated Syngas","Fuel Gas","Nitrogen","Air","Total Gas","GT Product","TIN","TOUT","BTU/hr"]
[null,null,null,null,null,null,null,1030,270]
[{"$f":"Syngas!A18","v":"  H2O                     "},{"$f":"Syngas!Q18","v":0},{"$f":"FT!AA12","v":28.982145524921108},{"$f":"D23*0.000357075","v":0.63269921092734815},{"$f":"E23*0.00987032","v":1348.2027376277319},{"$f":"C3+B3+D3+E3","v":1377.8175823635804},{"$f":"F3+F8*2+F11+F12","v":10550.091122876678},null,null,{"$f":"G3*($C$44-$C$45)/0.00094781712","v":53135654.288712934},null,{"$f":"SUM(B3:C3)","v":28.982145524921108},{"$f":"L3/$L$23","v":3.0354326969054954E-3}]
[{"$f":"Syngas!A19","v":"  AR                      "},{"$f":"Syngas!Q19","v":0},0,{"$f":"D23*0.00234928","v":4.1626761947697277},{"$f":"E23*0.00924784","v":1263.1772024760337},1267.3398786708035,{"$f":"F4","v":1267.3398786708035},null,null,{"$f":"G4*($D$44-$D$45)/0.00094781712","v":0.29136872173432921},null,{"$f":"SUM(B4:C4)","v":0},{"$f":"L4/$L$23","v":0}]
[{"$f":"Syngas!A20","v":"  CO2                     "},{"$f":"Syngas!Q20","v":0},{"$f":"FT!AA11","v":2.3375416602682311},{"$f":"D23*0","v":0},{"$f":"E23*0.000326732","v":44.628844543093244},46.966386203361473,{"$f":"F5+F8+F9","v":2443.2210641890938},null,null,{"$f":"G5*($E$44-$E$45)/0.00094781712","v":26730661.796095528},null,2.3375416602682311,2.4482143255597568E-4]
[{"$f":"Syngas!A21","v":"  O2                      "},{"$f":"Syngas!Q21","v":0},{"$f":"FT!AA8","v":1.1602556050838423E-19},{"$f":"D23*0.00542","v":9.6036679219386052},{"$f":"E23*0.2074029","v":28329.492617456246},28339.096285378186,{"$f":"F6-F8/1*2-F11/2*1-F12/2*3-F9/2*1","v":21570.270533805422},null,null,{"$f":"G6*($F$44-$F$45)/0.00094781712","v":76323997.761660486},null,1.1602556050838423E-19,1.2151887780050582E-23]
[{"$f":"Syngas!A22","v":"  N2                      "},{"$f":"Syngas!Q22","v":0},{"$f":"FT!AA7","v":1883.9642628945157},{"$f":"D23*0.9918736","v":1757.495327479292},{"$f":"E23*0.7731522","v":105606.09105306653},109247.55064344034,{"$f":"F7","v":109247.55064344034},null,null,{"$f":"G7*($G$44-$G$45)/0.00094781712","v":470408678.47685647},null,1883.9642628945157,0.1973161965691648]
[{"$f":"Syngas!A23","v":"  CH4                     "},{"$f":"Syngas!Q23","v":0},{"$f":"FT!AA19","v":1969.1232846467033},null,null,1969.1232846467033,0,null,null,{"$f":"G8*($H$44-$H$45)/0.00094781712","v":0},null,1969.1232846467033,0.20623529052791961]
[{"$f":"Syngas!A24","v":"  CO                      "},{"$f":"Syngas!Q24","v":0},{"$f":"FT!AA10","v":427.13139333902905},null,null,427.13139333902905,0,null,null,{"$f":"G9*($I$44-$I$45)/0.00094781712","v":0},null,427.13139333902905,4.4735424991266932E-2]
[{"$f":"Syngas!A25","v":"  COS                     "},{"$f":"Syngas!Q25","v":0},{"$f":"FT!AA18","v":0},null,null,0,{"$f":"F10","v":0},null,null,{"$f":"G10*($J$44-$J$45)/0.00094781712","v":0},null,0,0]
[{"$f":"Syngas!A26","v":"  H2                      "},{"$f":"Syngas!Q26","v":0},{"$f":"FT!AA6","v":5234.0269712196914},null,null,5234.0269712196914,0,null,null,{"$f":"G11*($K$44-$K$45)/0.00094781712","v":0},null,5234.0269712196914,0.54818359086852786]
[{"$f":"Syngas!A27","v":"  H2S                     "},{"$f":"Syngas!Q27","v":0},{"$f":"FT!AA9","v":0},null,null,0,0,null,null,{"$f":"G12*($L$44-$L$45)/0.00094781712","v":0},null,0,0]
[{"$f":"Syngas!A28","v":"  NH3                     "},{"$f":"Syngas!Q28","v":0},{"$f":"FT!AA13","v":2.3797577202403422},null,null,2.3797577202403422,{"$f":"F13","v":2.3797577202403422},null,null,{"$f":"G13*($M$44-$M$45)/0.00094781712","v":32881.071098362947},null,2.3797577202403422,2.4924291365935645E-4]
[{"$f":"Syngas!A29","v":"  SO2                     "},{"$f":"Syngas!Q29","v":0},0,null,null,0,{"$f":"F12","v":0},null,null,{"$f":"G14*($N$44-$N$45)/0.00094781712","v":0},null,0,0]
[{"$f":"Syngas!A30","v":"  SULFU-01                "},{"$f":"Syngas!Q30","v":0},0,null,null,0,{"$f":"F15","v":0},null,null,null,null,0,0]
[{"$f":"Syngas!A31","v":"  SO3                     "},{"$f":"Syngas!Q31","v":0},0,null,null,0,{"$f":"F16","v":0},null,null,null,null,0,0]
[{"$f":"Syngas!A32","v":"  C                       "},{"$f":"Syngas!Q32","v":0},0,null,null,0,0,null,null,null,null,0,0]
[{"$f":"Syngas!A33","v":"  S                       "},{"$f":"Syngas!Q33","v":0},0,null,null,0,0,null,null,null,null,0,0]
[{"$f":"Syngas!A34","v":"  S2                      "},{"$f":"Syngas!Q34","v":0},0,null,null,0,0,null,null,null,null,0,0]
[{"$f":"Syngas!A35","v":"  S6                      "},{"$f":"Syngas!Q35","v":0},0,null,null,0,0,null,null,null,null,0,0]
[{"$f":"Syngas!A36","v":"  S8                      "},{"$f":"Syngas!Q36","v":0},0,null,null,0,0,null,null,null,null,0,0]
[{"$f":"Syngas!A37","v":"  HCL                     "},{"$f":"Syngas!Q37","v":0},0,null,null,0,0,null,null,null,null,0,0]
[{"$f":"Syngas!A38","v":"Total Flow  lbmol/hr      "},{"$f":"Syngas!Q38","v":0},{"$f":"SUM(C3:C22)","v":9547.9453570053684},{"$f":"(B8+C8+B9+C9+B11+C11+B12+C12+B13+C13)*0.232146345301576","v":1771.894450542178},{"$f":"(B8+C8+B9+C9+B11+C11+B12+C12+B13+C13)*17.8956704962653","v":136591.59354790239},{"$f":"SUM(F3:F22)","v":147911.43218298195},{"$f":"SUM(G3:G22)","v":145080.8530007026},null,null,{"$f":"SUM(J3:J22)","v":626631873.68579245},null,9547.9453570053684,1]
[{"$f":"Syngas!A39","v":"Temperature F             "},{"$f":"Syngas!Q39","v":95}]
[{"$f":"Syngas!A40","v":"Pressure    psia          "},{"$f":"Syngas!Q40","v":520}]
[]
["Moisture Fraction",null,null,null,null,null,{"$f":"G3/G23","v":7.2718700673931005E-2}]
[]
["GT Output, HP",{"$f":"IF('F-T Black Box Dashboard'!$G$7= \"Gas Turbine\",ABS((-100.60785*$G$27 - 156.79228)*LHV!R38)*0.985,0)","v":206281.40245414895}]
[]
[]
[]
[null,null,"H2O","Ar","CO2","O2","N2","CH4","CO","COS","H2","H2S","NH3","SO2"]
[null,"A",30.091999999999999,20.786000000000001,24.997350000000001,31.322340000000001,28.986409999999999,0,0,0,0,0,19.995629999999998,21.430489999999999]
[null,"B",6.8325139999999998,2.8259110000000001E-7,55.186959999999999,-20.235309999999998,1.8539779999999999,0,0,0,0,0,49.771189999999997,74.350939999999994]
[null,"C",6.7934349999999997,-1.464191E-7,-33.691369999999999,57.866439999999997,-9.6474589999999996,0,0,0,0,0,-15.37599,-57.75217]
[null,"D",-2.5344799999999998,1.092131E-8,7.9483870000000003,-36.506239999999998,16.635370000000002,0,0,0,0,0,1.921168,16.355340000000002]
[null,"E",8.2139000000000004E-2,-3.661371E-8,-0.13663800000000001,-7.3740000000000003E-3,1.17E-4,0,0,0,0,0,0.18917400000000001,8.6731000000000003E-2]
[null,"F",-250.881,-6.1973500000000001,-403.60750000000002,-8.9034709999999997,-8.6719139999999992,0,0,0,0,0,-53.306669999999997,-305.7688]
[null,"G",223.39670000000001,179.999,228.2431,246.7945,226.41679999999999,0,0,0,0,0,203.85910000000001,254.88720000000001]
[null,"H",-241.82640000000001,0,-393.5224,0,0,0,0,0,0,0,-45.898060000000001,-296.84219999999999]
["T1","t, K/1000",{"$f":"($H$2+459.67)*(5/9)/1000","v":0.82759444444444452},{"$f":"($H$2+459.67)*(5/9)/1000","v":0.82759444444444452},0.82759444444444452,0.82759444444444452,0.82759444444444452,0.82759444444444452,0.82759444444444452,0.82759444444444452,0.82759444444444452,0.82759444444444452,0.82759444444444452,0.82759444444444452]
["T2","t, K/1000",{"$f":"($I$2+459.67)*(5/9)/1000","v":0.40537222222222224},{"$f":"($I$2+459.67)*(5/9)/1000","v":0.40537222222222224},0.40537222222222224,0.40537222222222224,0.40537222222222224,0.40537222222222224,0.40537222222222224,0.40537222222222224,0.40537222222222224,0.40537222222222224,0.40537222222222224,0.40537222222222224]
["Cp1","Cp, J/Mol*K",{"$f":"C$34+C$35*C$42+C$36*C$42^2+C$37*C$42^3+C$38/C$42^2","v":39.082766996222951},{"$f":"D$34+D$35*D$42+D$36*D$42^2+D$37*D$42^3+D$38/D$42^2","v":20.786000086319575},51.900014755263179,33.505569408849709,33.342680837102982,0,0,0,0,0,52.019958610900822,52.805053432192288]
["Cp2","Cp, J/Mol*K",{"$f":"C$34+C$35*C$43+C$36*C$43^2+C$37*C$43^3+C$38/C$43^2","v":34.309075259282658},{"$f":"D$34+D$35*D$43+D$36*D$43^2+D$37*D$43^3+D$38/D$43^2","v":20.785999868410972},41.530188115086332,30.151824186601861,29.261478135248986,0,0,0,0,0,38.923985921791072,43.69735785606747]
[]
[]
[]
[{"$f":"D7/D23","v":0.99187359999999991},356.971001,{"$f":"B49/A49","v":359.89565706759413},null,{"$f":"C49/C53","v":0.23214634530157632},0.2321463453015763]
[null,27743.5946,null,null,{"$f":"B50/C53","v":17.895670496265272},17.895670496265272]
[]
[]
["  CH4",703.78690900000004,{"$f":"B53+B54+B56+B57+B58","v":1550.2964588999298}]
["  CO",178.556378]
["  COS",0]
["  H2",667.40152499999999]
["  H2S",1.0993000000000001E-7]
["  NH3",0.55164679000000005]

{"sheet":"Boiler","index":12,"n_rows":25,"n_cols":15,"rows_kept":25,"cut":false,"hidden":false,"merged":[]}
[null,{"$f":"GT!B1","v":"Treated Syngas"},{"$f":"GT!C1","v":"Fuel Gas"},"Air","Total Gas","GT Product",null,null,null,null,null,null,"Steam Output",293,"MMBtu/hr"]
[null,null,null,null,null,null,null,null,null,null,null,null,"Fuel Input",348,"MMBtu/hr"]
[{"$f":"GT!A3","v":"  H2O                     "},{"$f":"GT!B3","v":0},{"$f":"GT!C3","v":28.982145524921108},{"$f":"D23*0.00987032","v":370.4482802366951},{"$f":"C3+B3+D3","v":399.43042576161622},{"$f":"E3+E8*2+E11+E12","v":9571.7039662747138}]
[{"$f":"GT!A4","v":"  AR                      "},{"$f":"GT!B4","v":0},{"$f":"GT!C4","v":0},{"$f":"D23*0.00924784","v":347.0856490877822},{"$f":"C4+B4+D4","v":347.0856490877822},{"$f":"E4","v":347.0856490877822},null,null,null,null,null,null,"Steam Production",{"$f":"LHV!R38*(Boiler!N1/Boiler!N2)*1000000","v":1074438437.7647705},"Btu/hr"]
[{"$f":"GT!A5","v":"  CO2                     "},{"$f":"GT!B5","v":0},{"$f":"GT!C5","v":2.3375416602682311},{"$f":"D23*0.000326732","v":12.262754145589593},{"$f":"C5+B5+D5","v":14.600295805857824},{"$f":"E5+E8+E9","v":2410.8549737915901}]
[{"$f":"GT!A6","v":"  O2                      "},{"$f":"GT!B6","v":0},{"$f":"GT!C6","v":1.1602556050838423E-19},{"$f":"D23*0.2074029","v":7784.1496143086806},7784.1496143086806,{"$f":"E6-E8/1*2-E11/2*1-E12/2*3-E9/2*1","v":1015.3238627359138}]
[{"$f":"GT!A7","v":"  N2                      "},{"$f":"GT!B7","v":0},{"$f":"GT!C7","v":1883.9642628945157},{"$f":"D23*0.7731522","v":29017.590397395154},30901.554660289668,{"$f":"E7","v":30901.554660289668}]
[{"$f":"GT!A8","v":"  CH4                     "},{"$f":"GT!B8","v":0},{"$f":"GT!C8","v":1969.1232846467033},null,1969.1232846467033,0]
[{"$f":"GT!A9","v":"  CO                      "},{"$f":"GT!B9","v":0},{"$f":"GT!C9","v":427.13139333902905},null,427.13139333902905,0]
[{"$f":"GT!A10","v":"  COS                     "},{"$f":"GT!B10","v":0},{"$f":"GT!C10","v":0},null,0,{"$f":"E10","v":0}]
[{"$f":"GT!A11","v":"  H2                      "},{"$f":"GT!B11","v":0},{"$f":"GT!C11","v":5234.0269712196914},null,5234.0269712196914,0]
[{"$f":"GT!A12","v":"  H2S                     "},{"$f":"GT!B12","v":0},{"$f":"GT!C12","v":0},null,0,0]
[{"$f":"GT!A13","v":"  NH3                     "},{"$f":"GT!B13","v":0},{"$f":"GT!C13","v":2.3797577202403422},null,2.3797577202403422,{"$f":"E13","v":2.3797577202403422}]
[{"$f":"GT!A14","v":"  SO2                     "},{"$f":"GT!B14","v":0},{"$f":"GT!C14","v":0},null,0,{"$f":"E12","v":0}]
[{"$f":"GT!A15","v":"  SULFU-01                "},{"$f":"GT!B15","v":0},{"$f":"GT!C15","v":0},null,0,{"$f":"E15","v":0}]
[{"$f":"GT!A16","v":"  SO3                     "},{"$f":"GT!B16","v":0},{"$f":"GT!C16","v":0},null,0,{"$f":"E16","v":0}]
[{"$f":"GT!A17","v":"  C                       "},{"$f":"GT!B17","v":0},{"$f":"GT!C17","v":0},null,0,0]
[{"$f":"GT!A18","v":"  S                       "},{"$f":"GT!B18","v":0},{"$f":"GT!C18","v":0},null,0,0]
[{"$f":"GT!A19","v":"  S2                      "},{"$f":"GT!B19","v":0},{"$f":"GT!C19","v":0},null,0,0]
[{"$f":"GT!A20","v":"  S6                      "},{"$f":"GT!B20","v":0},{"$f":"GT!C20","v":0},null,0,0]
[{"$f":"GT!A21","v":"  S8                      "},{"$f":"GT!B21","v":0},{"$f":"GT!C21","v":0},null,0,0]
[{"$f":"GT!A22","v":"  HCL                     "},{"$f":"GT!B22","v":0},{"$f":"GT!C22","v":0},null,0,0]
[{"$f":"GT!A23","v":"Total Flow  lbmol/hr      "},{"$f":"GT!B23","v":0},{"$f":"GT!C23","v":9547.9453570053684},{"$f":"((B8+C8)/1*2+(B11+C11)/2*1+(B12+C12)/2*3+(B9+C9)/2*1)/0.2074029*1.15","v":37531.536995426199},{"$f":"SUM(E3:E22)","v":47079.482052179264},{"$f":"SUM(F3:F22)","v":44248.90286989991}]
[{"$f":"GT!A24","v":"Temperature F             "},{"$f":"GT!B24","v":95},{"$f":"GT!C24","v":0}]
[{"$f":"GT!A25","v":"Pressure    psia          "},{"$f":"GT!B25","v":520},{"$f":"GT!C25","v":0}]

{"sheet":"FT Vent","index":13,"n_rows":23,"n_cols":5,"rows_kept":23,"cut":false,"hidden":false,"merged":[]}
[null,{"$f":"GT!C1","v":"Fuel Gas"},"Air","Total Gas","Vent"]
[]
[{"$f":"GT!A3","v":"  H2O                     "},{"$f":"FT!Z12","v":13.886693609864517},{"$f":"C23*0.00987032","v":177.49899715066789},{"$f":"B3+C3","v":191.38569076053241},{"$f":"D3+D8*2+D11+D12","v":4586.2484607872648}]
[{"$f":"GT!A4","v":"  AR                      "},0,{"$f":"C23*0.00924784","v":166.30487418947234},{"$f":"B4+C4","v":166.30487418947234},{"$f":"D4","v":166.30487418947234}]
[{"$f":"GT!A5","v":"  CO2                     "},{"$f":"FT!Z11","v":1.1200249066628516},{"$f":"C23*0.000326732","v":5.8756557373045677},6.9956806439674191,{"$f":"D5+D8+D9","v":1155.1527242893069}]
[{"$f":"GT!A6","v":"  O2                      "},{"$f":"FT!Z8","v":5.5593241304626081E-20},{"$f":"C23*0.2074029","v":3729.7480483044378},3729.7480483044378,{"$f":"D6-D8/1*2-D11/2*1-D12/2*3-D9/2*1","v":486.48887586579542}]
[{"$f":"GT!A7","v":"  N2                      "},{"$f":"FT!Z7","v":902.69488393308336},{"$f":"C23*0.7731522","v":13903.676896476773},14806.371780409856,{"$f":"D7","v":14806.371780409856}]
[{"$f":"GT!A8","v":"  CH4                     "},{"$f":"FT!Z19","v":943.49853120521311},null,943.49853120521311,0]
[{"$f":"GT!A9","v":"  CO                      "},{"$f":"FT!Z10","v":204.65851244012649},null,204.65851244012649,0]
[{"$f":"GT!A10","v":"  COS                     "},{"$f":"FT!Z18","v":0},null,0,{"$f":"D10","v":0}]
[{"$f":"GT!A11","v":"  H2                      "},{"$f":"FT!Z6","v":2507.8657076163058},null,2507.8657076163058,0]
[{"$f":"GT!A12","v":"  H2S                     "},{"$f":"FT!Z9","v":0},null,0,0]
[{"$f":"GT!A13","v":"  NH3                     "},{"$f":"FT!Z13","v":1.1402525840701117},null,1.1402525840701117,{"$f":"D13","v":1.1402525840701117}]
[{"$f":"GT!A14","v":"  SO2                     "},0,null,0,{"$f":"D12","v":0}]
[{"$f":"GT!A15","v":"  SULFU-01                "},0,null,0,{"$f":"D15","v":0}]
[{"$f":"GT!A16","v":"  SO3                     "},0,null,0,{"$f":"D16","v":0}]
[{"$f":"GT!A17","v":"  C                       "},0,null,0,0]
[{"$f":"GT!A18","v":"  S                       "},0,null,0,0]
[{"$f":"GT!A19","v":"  S2                      "},0,null,0,0]
[{"$f":"GT!A20","v":"  S6                      "},0,null,0,0]
[{"$f":"GT!A21","v":"  S8                      "},0,null,0,0]
[{"$f":"GT!A22","v":"  HCL                     "},0,null,0,0]
[{"$f":"GT!A23","v":"Total Flow  lbmol/hr      "},{"$f":"SUM(B3:B22)","v":4574.8646062953258},{"$f":"((B8)/1*2+(B11)/2*1+(B12)/2*3+(B9)/2*1)/0.2074029*1.15","v":17983.104615723492},{"$f":"SUM(D3:D22)","v":22557.969078153987},{"$f":"SUM(E3:E22)","v":21201.706968125767}]

{"sheet":"SC","index":14,"n_rows":38,"n_cols":33,"rows_kept":38,"cut":false,"hidden":false,"merged":[[0,25,0,30]]}
[null,"Hp/lb","Hp",null,null,null,null,null,null,null,null,null,null,null,null,null,null,null,null,null,null,null,null,null,null,"Gasifier Island"]
["Total at 1814.696",{"$f":"5376/137364","v":3.9136891762033721E-2},{"$f":"D2*B2","v":47047.910867735067},{"$f":"SUM(E2:AE2)+IF(FT!F1=1,GT!J23/SC!O24,0)","v":1202137.133265543},{"$f":"IF(E28=1814.696,E25,0)","v":0},{"$f":"IF(F28=1814.696,F25,0)","v":0},0,0,0,0,0,0,0,0,188622.28989433817,0,0,0,67036.103976094615,56546.923983248627,17147.196256579449,0,0,0,0,{"$f":"IF(Z$28=$AG2,Z$25,0)*IF('F-T Black Box Dashboard'!$D23=\"Deficit\",-1,\"1\")","v":0},{"$f":"IF(AA$28=$AG2,AA$25,0)*IF('F-T Black Box Dashboard'!$D23=\"Deficit\",-1,\"1\")","v":0},{"$f":"IF(AB$28=$AG2,AB$25,0)*IF('F-T Black Box Dashboard'!$D23=\"Deficit\",-1,\"1\")","v":0},{"$f":"IF(AC$28=$AG2,AC$25,0)*IF('F-T Black Box Dashboard'!$D23=\"Deficit\",-1,\"1\")","v":0},{"$f":"IF(AD$28=$AG2,AD$25,0)*IF('F-T Black Box Dashboard'!$D23=\"Deficit\",-1,\"1\")","v":0},{"$f":"IF(AE$28=$AG2,AE$25,0)*IF('F-T Black Box Dashboard'!$D23=\"Deficit\",-1,\"1\")","v":0},null,1814.6959999999999]
["Total at 839.696",{"$f":"2341/165964","v":1.4105468655853076E-2},{"$f":"D3*B3","v":14987.328654634857},{"$f":"SUM(E3:AE3)+D2-Syngas!E38*18.01528","v":1062519.0144544295},{"$f":"IF(E28=839.696,E25,0)","v":74780.078375272991},{"$f":"IF(F28=839.696,F25,0)","v":0},0,0,0,0,0,0,0,0,0,0,0,0,0,0,0,0,0,0,66485.668968318307,{"$f":"IF(Z$28=$AG3,Z$25,0)*IF('F-T Black Box Dashboard'!$D24=\"Deficit\",-1,\"1\")","v":0},{"$f":"IF(AA$28=$AG3,AA$25,0)*IF('F-T Black Box Dashboard'!$D24=\"Deficit\",-1,\"1\")","v":0},{"$f":"IF(AB$28=$AG3,AB$25,0)*IF('F-T Black Box Dashboard'!$D24=\"Deficit\",-1,\"1\")","v":0},{"$f":"IF(AC$28=$AG3,AC$25,0)*IF('F-T Black Box Dashboard'!$D24=\"Deficit\",-1,\"1\")","v":0},{"$f":"IF(AD$28=$AG3,AD$25,0)*IF('F-T Black Box Dashboard'!$D24=\"Deficit\",-1,\"1\")","v":0},{"$f":"IF(AE$28=$AG3,AE$25,0)*IF('F-T Black Box Dashboard'!$D24=\"Deficit\",-1,\"1\")","v":0},null,839.69600000000003]
["Total at 614.696",{"$f":"2297/111472","v":2.0606071479833499E-2},17756.263111827531,{"$f":"SUM(E4:AE4)+D3+IF(FT!F1=2,Boiler!N4/SC!F24,0)","v":861700.54923885013},{"$f":"IF(E28=614.696,E25,0)","v":0},{"$f":"IF(F28=614.696,F25,0)","v":-208132.92678792513},0,0,0,0,0,0,0,0,0,0,0,0,0,0,0,7314.4615723457018,0,0,0,{"$f":"IF(Z$28=$AG4,Z$25,0)*IF('F-T Black Box Dashboard'!$D25=\"Deficit\",-1,\"1\")","v":0},{"$f":"IF(AA$28=$AG4,AA$25,0)*IF('F-T Black Box Dashboard'!$D25=\"Deficit\",-1,\"1\")","v":0},{"$f":"IF(AB$28=$AG4,AB$25,0)*IF('F-T Black Box Dashboard'!$D25=\"Deficit\",-1,\"1\")","v":0},{"$f":"IF(AC$28=$AG4,AC$25,0)*IF('F-T Black Box Dashboard'!$D25=\"Deficit\",-1,\"1\")","v":0},{"$f":"IF(AD$28=$AG4,AD$25,0)*IF('F-T Black Box Dashboard'!$D25=\"Deficit\",-1,\"1\")","v":0},{"$f":"IF(AE$28=$AG4,AE$25,0)*IF('F-T Black Box Dashboard'!$D25=\"Deficit\",-1,\"1\")","v":0},null,614.69600000000003]
["Total at 374.696",{"$f":"31189/609382","v":5.1181360788470943E-2},126765.57291744716,{"$f":"SUM(E5:AE5)+D4-(ASU!B5+ASU!B9)-(FT!D12+FT!O12)*18.01528","v":2476791.764903645},{"$f":"IF(E28=374.696,E25,0)","v":0},{"$f":"IF(F28=374.696,F25,0)","v":0},{"$f":"IF(G28=374.696,G25,0)","v":1901756.4908377447},0,-11483.786157720144,-2724.2847470894694,-2411.8054866672164,-2053.6215678711228,0,-4290.7001812432118,0,0,0,0,0,0,0,0,0,0,0,{"$f":"IF(Z$28=$AG5,Z$25,0)*IF('F-T Black Box Dashboard'!$D26=\"Deficit\",-1,\"1\")","v":0},{"$f":"IF(AA$28=$AG5,AA$25,0)*IF('F-T Black Box Dashboard'!$D26=\"Deficit\",-1,\"1\")","v":0},{"$f":"IF(AB$28=$AG5,AB$25,0)*IF('F-T Black Box Dashboard'!$D26=\"Deficit\",-1,\"1\")","v":0},{"$f":"IF(AC$28=$AG5,AC$25,0)*IF('F-T Black Box Dashboard'!$D26=\"Deficit\",-1,\"1\")","v":0},{"$f":"IF(AD$28=$AG5,AD$25,0)*IF('F-T Black Box Dashboard'!$D26=\"Deficit\",-1,\"1\")","v":0},{"$f":"IF(AE$28=$AG5,AE$25,0)*IF('F-T Black Box Dashboard'!$D26=\"Deficit\",-1,\"1\")","v":0},null,374.69600000000003]
["Total at 64.696",{"$f":"9154/383825","v":2.384941053865694E-2},55976.366854058899,{"$f":"SUM(E6:AE6)+D5-ASU!B4-(Syngas!BC38+Syngas!N38)*18.01528","v":2347075.4869739083},{"$f":"IF(E28=64.696,E25,0)","v":0},{"$f":"IF(F28=64.696,F25,0)","v":0},0,-86157.884039429671,0,0,0,0,-1197.3428839319613,0,0,25884.650154613151,319544.45225807058,0,0,0,0,0,3108.059521432584,2271.2133420033015,0,{"$f":"IF(Z$28=$AG6,Z$25,0)*IF('F-T Black Box Dashboard'!$D27=\"Deficit\",-1,\"1\")","v":0},{"$f":"IF(AA$28=$AG6,AA$25,0)*IF('F-T Black Box Dashboard'!$D27=\"Deficit\",-1,\"1\")","v":0},{"$f":"IF(AB$28=$AG6,AB$25,0)*IF('F-T Black Box Dashboard'!$D27=\"Deficit\",-1,\"1\")","v":0},{"$f":"IF(AC$28=$AG6,AC$25,0)*IF('F-T Black Box Dashboard'!$D27=\"Deficit\",-1,\"1\")","v":0},{"$f":"IF(AD$28=$AG6,AD$25,0)*IF('F-T Black Box Dashboard'!$D27=\"Deficit\",-1,\"1\")","v":0},{"$f":"IF(AE$28=$AG6,AE$25,0)*IF('F-T Black Box Dashboard'!$D27=\"Deficit\",-1,\"1\")","v":0},null,64.695999999999998]
["Total at 25",{"$f":"24947/383825","v":6.4995766299745975E-2},167738.17360174545,{"$f":"SUM(E7:AE7)+D6","v":2580755.3807147131},{"$f":"IF(E28=25,E25,0)","v":0},{"$f":"IF(F28=25,F25,0)","v":0},0,0,0,0,0,0,0,0,0,0,0,233679.89374080469,0,0,0,0,0,0,0,{"$f":"IF(Z$28=$AG7,Z$25,0)*IF('F-T Black Box Dashboard'!$D28=\"Deficit\",-1,\"1\")","v":0},{"$f":"IF(AA$28=$AG7,AA$25,0)*IF('F-T Black Box Dashboard'!$D28=\"Deficit\",-1,\"1\")","v":0},{"$f":"IF(AB$28=$AG7,AB$25,0)*IF('F-T Black Box Dashboard'!$D28=\"Deficit\",-1,\"1\")","v":0},{"$f":"IF(AC$28=$AG7,AC$25,0)*IF('F-T Black Box Dashboard'!$D28=\"Deficit\",-1,\"1\")","v":0},{"$f":"IF(AD$28=$AG7,AD$25,0)*IF('F-T Black Box Dashboard'!$D28=\"Deficit\",-1,\"1\")","v":0},{"$f":"IF(AE$28=$AG7,AE$25,0)*IF('F-T Black Box Dashboard'!$D28=\"Deficit\",-1,\"1\")","v":0},null,25]
["Total",null,{"$f":"(SUM(C2:C7)*0.983199276241674)*0.985","v":416697.10032417136}]
[]
[]
["Condenser Duty",{"$f":"1341480360/1602980*D7","v":2159747880.3186007},"Btu/hr"]
[null,{"$f":"SLOPE(D34:D38,B34:B38)*B11/10^6+INTERCEPT(D34:D38,B34:B38)","v":11.632551182125377},"MW"]
[]
[]
[]
[]
[]
[]
[]
[]
[]
["Efficiency",null,null,null,0.93,0.93,0.93,0.93,0.93,0.93,0.93,0.93,0.93,0.93,0.93,0.93,0.93,0.93,0.93,0.93,0.93,0.93,0.93,0.93,0.93,0.93,0.93,0.93,0.93,0.93,0.93]
["Btu/hr",null,null,null,{"$f":"E24*E25","v":50286392.494564228},{"$f":"F24*F25","v":-149013691.22975683},{"$f":"G24*G25","v":1492254337.5409634},{"$f":"H24*H25","v":-78190977.479689494},{"$f":"-Syngas!U2","v":-9011001.033945119},{"$f":"-Syngas!W2","v":-2137668.9129900779},{"$f":"-Syngas!AF2","v":-1892475.3069720492},{"$f":"-Syngas!AJ2","v":-1611418.5528418517},{"$f":"-Syngas!AN2","v":-1086626.1575103812},{"$f":"-Syngas!AR2","v":-3366790.6419120301},{"$f":"Syngas!G3","v":135424864.67026612},{"$f":"Syngas!J4","v":23491130.496922959},{"$f":"Syngas!J5","v":289996595.77103871},{"$f":"Syngas!J6","v":216396928.79973477},{"$f":"Syngas!AB7","v":48129811.773942441},{"$f":"Syngas!AC8","v":40598910.829897285},{"$f":"Syngas!AD9","v":12311146.969017204},{"$f":"Syngas!AH10","v":5236821.1751715876},{"$f":"Syngas!AL11","v":2820661.3330319482},{"$f":"Syngas!AP11","v":2061197.2224721552},{"$f":"Syngas!AT13","v":44708758.236739658},{"$f":"'F-T Black Box Dashboard'!C23*Syngas!$B$38","v":0},{"$f":"'F-T Black Box Dashboard'!C24*Syngas!$B$38","v":0},{"$f":"'F-T Black Box Dashboard'!C25*Syngas!$B$38","v":0},{"$f":"'F-T Black Box Dashboard'!C26*Syngas!$B$38","v":0},{"$f":"'F-T Black Box Dashboard'!C27*Syngas!$B$38","v":0},{"$f":"'F-T Black Box Dashboard'!C28*Syngas!$B$38","v":0}]
["Btu/lb",null,null,null,{"$f":"0.0002*E28^2-0.4842*E28+938.02","v":672.45707128319998},{"$f":"0.0002*F28^2-0.4842*F28+938.02","v":715.95443128319994},784.67161528320003,907.53131128320001,784.67161528320003,784.67161528320003,784.67161528320003,784.67161528320003,907.53131128320001,{"$f":"0.0002*N28^2-0.4842*N28+938.02","v":784.67161528320003},717.96851128319986,907.53131128320001,907.53131128320001,926.04,717.96851128319986,717.96851128319986,717.96851128319986,715.95443128319994,907.53131128320001,907.53131128320001,672.45707128319998,717.96851128319986,672.45707128319998,715.95443128319994,784.67161528320003,907.53131128320001,926.04]
["Total Flow  lb/hr      ",null,null,null,{"$f":"FT!AD8","v":74780.078375272991},{"$f":"FT!AD5","v":-208132.92678792513},{"$f":"FT!AD4","v":1901756.4908377447},{"$f":"FT!AD6","v":-86157.884039429671},{"$f":"I23/I24","v":-11483.786157720144},-2724.2847470894694,-2411.8054866672164,-2053.6215678711228,-1197.3428839319613,-4290.7001812432118,188622.28989433817,25884.650154613151,319544.45225807058,233679.89374080469,67036.103976094615,56546.923983248627,17147.196256579449,7314.4615723457018,3108.059521432584,2271.2133420033015,66485.668968318307,{"$f":"Z23/Z24","v":0},{"$f":"AA23/AA24","v":0},0,0,0,0]
[{"$f":"GT!A23","v":"Total Flow  lbmol/hr      "}]
[{"$f":"GT!A24","v":"Temperature F             "},null,null,null,523.88,488.85,438.26,{"$f":"EXP(0.2208*LN(H28)+4.7745)","v":297.42723956295004},475,475,475,445,400,475,853,376,355,265,2612,1175,625,523,430,430,525,525,525,525,525,525,525]
[{"$f":"GT!A25","v":"Pressure    psia          "},null,null,null,{"$f":"825+14.696","v":839.69600000000003},{"$f":"600+14.696","v":614.69600000000003},{"$f":"360+14.696","v":374.69600000000003},{"$f":"50+14.696","v":64.695999999999998},{"$f":"IF(EXP(4.519*LN(I27)-21.564) > 1814.696, 1814.696, IF(EXP(4.519*LN(I27)-21.564) > 839.696, 839.696,IF(EXP(4.519*LN(I27)-21.564) > 614.696, 614.696,IF(EXP(4.519*LN(I27)-21.564) > 374.696, 374.696,IF(EXP(4.519*LN(I27)-21.564) > 64.696, 64.696, 25)))))","v":374.69600000000003},374.69600000000003,374.69600000000003,374.69600000000003,64.695999999999998,374.69600000000003,1814.6959999999999,64.695999999999998,{"$f":"IF(EXP(4.519*LN(Q27)-21.564) > 1814.696, 1814.696, IF(EXP(4.519*LN(Q27)-21.564) > 839.696, 839.696,IF(EXP(4.519*LN(Q27)-21.564) > 614.696, 614.696,IF(EXP(4.519*LN(Q27)-21.564) > 374.696, 374.696,IF(EXP(4.519*LN(Q27)-21.564) > 64.696, 64.696, 25)))))","v":64.695999999999998},25,1814.6959999999999,1814.6959999999999,1814.6959999999999,614.69600000000003,64.695999999999998,{"$f":"IF(EXP(4.519*LN(X27)-21.564) > 1814.696, 1814.696, IF(EXP(4.519*LN(X27)-21.564) > 839.696, 839.696,IF(EXP(4.519*LN(X27)-21.564) > 614.696, 614.696,IF(EXP(4.519*LN(X27)-21.564) > 374.696, 374.696,IF(EXP(4.519*LN(X27)-21.564) > 64.696, 64.696, 25)))))","v":64.695999999999998},839.69600000000003,1814.6959999999999,839.69600000000003,614.69600000000003,374.69600000000003,64.695999999999998,25]
[]
[]
[null,"Source: JetFuelUpgrading Gasifier template rev3; 'Performance' tab"]
[]
[null,"Condenser Duty (MMBtu/hr)","Fan Load (per train)","Fan Load (total - MW)"]
[null,200,0.87,{"$f":"C34*4","v":3.48}]
[null,300,0.98,{"$f":"C35*4","v":3.92}]
[null,400,1.07,4.28]
[null,500,1.18,4.72]
[null,600,1.29,5.16]

{"sheet":"ASU","index":15,"n_rows":29,"n_cols":12,"rows_kept":29,"cut":false,"hidden":false,"merged":[]}
["O2 Requirement, lb/hr",{"$f":"(FT!N98+Syngas!W38)*32.18074+'F-T Black Box Dashboard'!$C$33*Syngas!$B$38","v":44679.195672082154},null,null,null,null,"CO2 Captured",{"$f":"Syngas!R38","v":17684.968790946881},"lb_mol/h",40119.72,"SelexLeanSolFlow",0.28999999999999998]
["N2 Production lb/hr",{"$f":"(B25/B24)*B1","v":143940.84599541948},null,null,null,null,"Lean solvent flow rate",{"$f":"H1*SelexLeanSolFlow","v":5128.640949374595},"gpm",null,"SelexSolRecFlow",0.72450000000000003]
["N2 Requirement, lb/hr",{"$f":"GT!D23*28.05955","v":49718.560929710773},null,null,null,null,"Solvent recycle flow rate",{"$f":"H1*SelexSolRecFlow","v":12812.759889041015},"gpm",null,"SelexLoadSolFlow",0.17]
["65 psia Steam Load, lb/hr",{"$f":"B22/B24*B1","v":6026.8598098719813},null,null,null,null,"Loaded solvent flow",{"$f":"H1*SelexLoadSolFlow","v":3006.4446944609699},"gpm",null,"SelexFrigPwr",0.98]
["250 psia Steam Load, lb/hr",{"$f":"B23/B24*B1","v":7476.8525782721626},null,null,null,null,"Refrigeration power",{"$f":"SelexFrigPwr*H2","v":5026.0681303871033},"kW",null,"SelexLeanSolPmpPwr",0.21]
["Power Load MAC, hp",{"$f":"B28/B24*B1","v":9813.3123762250125},null,null,null,null,"Lean solvent pump power",{"$f":"SelexLeanSolPmpPwr*H2","v":1077.0145993686649},"kW",null,"SelexSolRecPmpPwr",0.42599999999999999]
["Power Load N2, hp",{"$f":"B29/B25*B3","v":86.150179924548681},null,null,null,null,"Solvent recycle pump power",{"$f":"SelexSolRecPmpPwr*H3","v":5458.2357127314726},"kW",null,"SelexLoadSolPmpPwr",7.0999999999999994E-2]
["Cooling Tower Load, btu/hr",{"$f":"B26/B24*B1","v":23980508.150068838},null,null,null,null,"Loaded solvent pump power",{"$f":"SelexLoadSolPmpPwr*H4","v":213.45757330672885},"kW",null,"SelexCompPwr",0.82599999999999996]
["277 psia Steam Load, lb/hr",{"$f":"(B27/B25*B3)/819.2424","v":354.71031348608716},null,null,null,null,"CO2 compressor power",{"$f":"SelexCompPwr*H4","v":2483.3233176247609},"kW",null,"SelexMiscPwr",1.78E-2]
["O2 Compressor Load hp/lb",3.5299999999999998E-2,"125 to 940 psia; 90F inlet 241F outlet",null,null,null,"Misc power (1.78% of total)",{"$f":"SUM(H5:H9)*SelexMiscPwr","v":253.79416813485341},"kW",null,"SelexCoolWat",2.46]
["Power Load O2, hp",{"$f":"'F-T Black Box Dashboard'!$C$33*Syngas!$B$38*B10","v":0},null,null,null,null,"Total power",{"$f":"SUM(H5:H10)","v":14511.893501553584},"kW",null,"SelexInven",11.77]
[null,null,null,null,null,null,null,null,null,null,"SelexMakeup",5.0999999999999996]
[]
[]
[]
[]
[]
[]
[]
[]
[null,"lb/hr","psia"]
["Steam",47176,65]
["Steam",58526,250]
["O2",349732]
["N2",{"$f":"137476+989239","v":1126715}]
["Cooling Tower Load, btu/hr",{"$f":"187710431","v":187710431}]
["Heat Load, Btu/hr",6585394]
["Power Load MAC, hp",76814.931700000001]
["Power Load N2, hp",1952.3231999999989]

{"sheet":"LHV","index":16,"n_rows":43,"n_cols":18,"rows_kept":43,"cut":false,"hidden":false,"merged":[]}
["Component","LHV, Btu/lb","lb-mol/hr","MW","Flow, lb/hr",null,"MMBtu/hr",null,null,null,"Fuel Gas To GT",null,null,"Syngas to GT",null,null,null,"Total"]
[]
[null,null,null,null,null,null,null,null,null,null,"lb-mol/hr","lb/hr","MMBtu/hr","lb-mol/hr","lb/hr","MMBtu/hr",null,"MMBtu/hr"]
["H2",51573,{"$f":"FT!R6","v":7741.8926788359977},2.0158000031659467,{"$f":"C4*D4","v":15606.107286508024},"lb/hr",{"$f":"E4*B4/1000000","v":804.85377108707837},null,null,null,{"$f":"FT!AA6","v":5234.0269712196914},{"$f":"K4*D4","v":10550.751585155303},{"$f":"L4*B4/1000000","v":544.13391150121447},{"$f":"Syngas!Q26","v":0},{"$f":"N4*D4","v":0},{"$f":"O4*B4/1000000","v":0},null,{"$f":"P4+M4","v":544.13391150121447}]
["N2",0,{"$f":"FT!R7","v":2786.6591468275992},28.013400003913183,78063.797354644979,"lb/hr",0,null,null,null,{"$f":"FT!AA7","v":1883.9642628945157},{"$f":"K5*D5","v":52776.244489541525},0,{"$f":"Syngas!Q22","v":0},{"$f":"N5*D5","v":0},0,null,{"$f":"P5+M5","v":0}]
["O2",0,{"$f":"FT!R8","v":1.7161880181301031E-19},31.998799999999999,5.4915957154541542E-18,"lb/hr",0,null,null,null,{"$f":"FT!AA8","v":1.1602556050838423E-19},3.7126787055956855E-18,0,{"$f":"Syngas!Q21","v":0},0,0,null,0]
["H2S",6534,{"$f":"FT!R9","v":0},34.076314397036896,0,"lb/hr",0,null,null,null,{"$f":"FT!AA9","v":0},0,0,{"$f":"Syngas!Q27","v":0},0,0,null,0]
["CO",4344,{"$f":"FT!R10","v":631.78990577915556},28.010399960727547,17696.68795202452,"lb/hr",76.87441246359451,null,null,null,{"$f":"FT!AA10","v":427.13139333902905},11964.121163209042,51.972142332980077,{"$f":"Syngas!Q24","v":0},0,0,null,51.972142332980077]
["CO2",0,{"$f":"FT!R11","v":3.4575665669310829},44.009800111202942,152.16681348181515,"lb/hr",0,null,null,null,{"$f":"FT!AA11","v":2.3375416602682311},102.8747412200143,0,{"$f":"Syngas!Q20","v":0},0,0,null,0]
["H2O",0,{"$f":"FT!R12","v":42.868839134785624},18.015199965997791,772.29070932335469,"lb/hr",0,null,null,null,{"$f":"FT!AA12","v":28.982145524921108},522.11914707510175,0,{"$f":"Syngas!Q18","v":0},0,0,null,0]
["NH3",7998,{"$f":"FT!R13","v":3.5200103043104538},17.030999999999999,59.949295492711336,"lb/hr",0.47947446535070526,null,null,null,{"$f":"FT!AA13","v":2.3797577202403422},40.529653733413262,0.32415617055983931,{"$f":"Syngas!Q28","v":0},0,0,null,0.32415617055983931]
["HCL",0,{"$f":"FT!R14","v":0},36.460940000000001,0,"lb/hr",0,null,null,null,{"$f":"FT!AA14","v":0},0,0,{"$f":"Syngas!Q37","v":0},0,0,null,0]
["C",14650,{"$f":"FT!R15","v":0},12.0107,0,"lb/hr",0,null,null,null,{"$f":"FT!AA15","v":0},0,0,{"$f":"Syngas!Q32","v":0},0,0,null,0]
["HCN",9915,{"$f":"FT!R16","v":0},27.025300000000001,0,"lb/hr",0,null,null,null,{"$f":"FT!AA16","v":0},0,0,0,0,0,null,0]
["S",0,{"$f":"FT!R17","v":0},32.064999999999998,0,"lb/hr",0,null,null,null,{"$f":"FT!AA17","v":0},0,0,{"$f":"Syngas!Q33","v":0},0,0,null,0]
["COS",0,{"$f":"FT!R18","v":0},60.075000000000003,0,"lb/hr",0,null,null,null,{"$f":"FT!AA18","v":0},0,0,{"$f":"Syngas!Q25","v":0},0,0,null,0]
["CH4",21509,{"$f":"FT!R19","v":2912.6218158519164},16.042600033443922,46726.026840395447,"lb/hr",1005.0301113100656,null,null,null,{"$f":"FT!AA19","v":1969.1232846467033},31589.857272128407,679.46624006620993,{"$f":"Syngas!Q23","v":0},0,0,null,679.46624006620993]
["C2H4",20275,{"$f":"FT!R20","v":1.3179580833445753E-2},28.053599942613545,0.36973468811282434,"lb/hr",7.496370801487514E-3,null,null,null,{"$f":"FT!AA20","v":8.9102606317705696E-3},0.24996488714811058,5.0680380869279418E-3,0,0,0,null,5.0680380869279418E-3]
["C2H6",20424,{"$f":"FT!R21","v":0.53760050871522735},30.069399964695478,16.165324717781928,"lb/hr",0.33016059203597808,null,null,null,{"$f":"FT!AA21","v":0.36345318633117341},10.928819228235044,0.22321020391747254,0,0,0,null,0.22321020391747254]
["C3H6",19675,{"$f":"FT!R22","v":1.1065922117338957E-6},42.080399936510055,4.6565842836389547E-5,"lb/hr",9.1618295780596436E-7,null,null,null,{"$f":"FT!AA22","v":7.4812887786345365E-7},3.1481562384546612E-5,6.1939973991595449E-7,0,0,0,null,6.1939973991595449E-7]
["C3H8",19920,{"$f":"FT!R23","v":1.7661061328184057E-4},44.0961999945523,7.7878569244365769E-3,"lb/hr",1.5513410993477661E-4,null,null,null,{"$f":"FT!AA23","v":1.1940035229987024E-4},5.2651018144350805E-3,1.0488082814354681E-4,0,0,0,null,1.0488082814354681E-4]
["IC4H8",19469,{"$f":"FT!R24","v":1.0634944797851908E-10},56.107207013097565,5.9669704934594203E-9,"lb/hr",1.1617094853716145E-10,null,null,null,{"$f":"FT!AA24","v":7.1899198579123837E-11},4.0340632187547117E-9,7.8539176805935484E-11,0,0,0,null,7.8539176805935484E-11]
["NC4H8",19342,{"$f":"FT!R25","v":4.7176169503136495E-11},56.107200193042019,2.6469227866533629E-9,"lb/hr",5.1196780539449349E-11,null,null,null,{"$f":"FT!AA25","v":3.1894183221275709E-11},1.789493322989678E-9,3.4612379853266355E-11,0,0,0,null,3.4612379853266355E-11]
["IC4H10",19656,{"$f":"FT!R26","v":6.2156675986467121E-8},58.12300359943206,3.6127327020901607E-6,"lb/hr",7.1011873992284199E-8,null,null,null,{"$f":"FT!AA26","v":4.2021987652177832E-8},2.4424441395628219E-6,4.8008682007246825E-8,0,0,0,null,4.8008682007246825E-8]
["NC4H10",19594,{"$f":"FT!R27","v":9.1931182650425896E-8},58.123000522237177,5.3433161772005857E-6,"lb/hr",1.0469693717606828E-7,null,null,null,{"$f":"FT!AA27","v":6.2151506026921243E-8},3.6124320172605705E-6,7.078199294620362E-8,0,0,0,null,7.078199294620362E-8]
["C5H10",19185,{"$f":"FT!R28","v":9.4436705880844207E-12},70.134005878173568,6.6232244853624755E-10,"lb/hr",1.2706656175167908E-11,null,null,null,{"$f":"FT!AA28","v":6.3845403980438031E-12},4.4777339380584068E-10,8.5905325601650545E-12,0,0,0,null,8.5905325601650545E-12]
["NC5H12",19366,{"$f":"FT!R29","v":4.7813487461802274E-11},72.149834188547402,3.4497351923452241E-9,"lb/hr",6.6807571734957613E-11,null,null,null,{"$f":"FT!AA29","v":3.232505194075799E-11},2.3322471376618712E-9,4.5166298067959802E-11,0,0,0,null,4.5166298067959802E-11]
["IC5H12",19304,{"$f":"FT!R30","v":6.9129817683055095E-11},72.149814212558212,4.9877035023804466E-9,"lb/hr",9.6282628409952141E-11,null,null,null,{"$f":"FT!AA30","v":4.6736288563872403E-11},3.3720145368679031E-9,6.5093368619698005E-11,0,0,0,null,6.5093368619698005E-11]
["C6H12",19102,{"$f":"FT!R31","v":3.624974122118091E-15},84.160978773434209,3.0508137014582894E-13,"lb/hr",5.8276643325256239E-15,null,null,null,{"$f":"FT!AA31","v":2.4507201419888652E-15},2.0625500584955256E-13,3.9398831217381523E-15,0,0,0,null,3.9398831217381523E-15]
["NC6H14",19233,{"$f":"FT!R32","v":1.9938929704035224E-14},86.17667542498971,1.7182706734263296E-12,"lb/hr",3.3047499862008598E-14,null,null,null,{"$f":"FT!AA32","v":1.3480023577886203E-14},1.1616636165927079E-12,2.2342276337927552E-14,0,0,0,null,2.2342276337927552E-14]
["IC6H14",19203,{"$f":"FT!R33","v":2.1640500811269435E-14},86.18193037152507,1.8650201341217541E-12,"lb/hr",3.5813981635540049E-14,null,null,null,{"$f":"FT!AA33","v":1.4630397192991786E-14},1.2608758721941739E-12,2.4212599373744722E-14,0,0,0,null,2.4212599373744722E-14]
["C7H14",19042,{"$f":"FT!R34","v":1.3887628132276518E-18},98.187040575870199,1.363585106926431E-16,"lb/hr",2.5965387606093102E-18,null,null,null,{"$f":"FT!AA34","v":9.3889470218713238E-19},9.2187292220117532E-17,1.7554304184554779E-18,0,0,0,null,1.7554304184554779E-18]
["C7H16",19156,{"$f":"FT!R35","v":8.1239933385214193E-18},100.2043376949274,8.1405937192454093E-16,"lb/hr",1.5594121328586504E-17,null,null,null,{"$f":"FT!AA35","v":5.4923520658030262E-18},5.5035750114115858E-16,1.0542648291860035E-17,0,0,0,null,1.0542648291860035E-17]
["C8H16",19005,{"$f":"FT!R36","v":5.2241789140000191E-22},112.21252250814852,5.8621829397382209E-20,"lb/hr",1.1141078676972488E-21,null,null,null,{"$f":"FT!AA36","v":3.5318874172852034E-22},3.9632199630836244E-20,7.5320995398404276E-22,0,0,0,null,7.5320995398404276E-22]
["C8H18",19098,{"$f":"FT!R37","v":3.0110720956056434E-21},114.2307976639314,3.4395716730463814E-19,"lb/hr",6.5688939811839795E-21,null,null,null,{"$f":"FT!AA37","v":2.0356821276753314E-21},2.3253759323456212E-19,4.4410029555936672E-21,0,0,0,null,4.4410029555936672E-21]
["C9H18",18964,{"$f":"FT!R38","v":1.9118680495623073E-25},126.2486085343228,2.4137068095847099E-23,"lb/hr",4.5773535936964442E-25,null,null,null,{"$f":"FT!AA38","v":1.2925481341504247E-25},1.6318240340012632E-23,3.0945910980799954E-25,0,0,0,null,3.0945910980799954E-25]
["C9H20",19055,{"$f":"FT!R39","v":2.2887655194165185E-25},128.25856587778168,2.9355378315087873E-23,"lb/hr",5.5936673379399944E-25,null,null,null,{"$f":"FT!AA39","v":1.5473555313123807E-25},1.9846160134917884E-23,3.781685813708603E-25,0,0,0,null,3.781685813708603E-25]
["Total",null,null,null,null,null,null,null,null,"Total",{"$f":"SUM(K4:K37)","v":9548.3178407051819},107557.68213882842,1276.124833932219,0,0,0,null,{"$f":"SUM(R4:R37)","v":1276.124833932219}]
["Lb/hr",null,null,null,{"$f":"SUM(E4:E37)","v":159093.56915467329},null,{"$f":"SUM(G4:G38)","v":1887.5755825152714}]
["BTU/lb"]
[null,null,null,null,null,null,{"$f":"G39*1000000/E39","v":11864.562424142616}]
[]
[null,null,null,null,null,null,{"$f":"FT!Z4*1000000/G41","v":51535.887015844855},"lb/hr"]

{"sheet":"Supp Data 1","index":17,"n_rows":311,"n_cols":45,"rows_kept":311,"cut":false,"hidden":true,"merged":[]}
[95,"TG-2","TG-3",85,"TG-2","TG-3",75,"TG-2","TG-3",null,null,null,null,null,null,null,null,null,null,null,null,"SG-9A","SG-7",null,null,null,null,"CL-6","CL-7",null,"CL-6","CL-7",null,"CL-6","CL-7"]
[null,"TGCU-HYD","FS-TGWSH",null,"TGCU-HYD","FS-TGWSH",null,"TGCU-HYD","FS-TGWSH",null,null,null,null,null,null,null,null,null,null,null,null,"CLR-SG1","HX-HGREM",null,null,null,null,"CL-S1","MX-CL3",null,"CL-S1","MX-CL3",null,"CL-S1","MX-CL3"]
[null,"HTR-TG","TGCU-HYD",null,"HTR-TG","TGCU-HYD",null,"HTR-TG","TGCU-HYD",null,null,null,null,null,null,null,null,null,null,null,null,"SP-BURN","CND-NH3",null,null,null,null,"MX-CL2","CL-S1",null,"MX-CL2","CL-S1",null,"MX-CL2","CL-S1"]
[null,"VAPOR","VAPOR",null,"VAPOR","VAPOR",null,"VAPOR","VAPOR",null,null,null,null,null,null,null,null,null,null,null,null,"VAPOR","VAPOR",null,null,null,null,"VAPOR","VAPOR",null,"VAPOR","VAPOR",null,"VAPOR","VAPOR",null,null,75,85,95]
[]
["Substream: MIXED          "," "," ","Substream: MIXED          "," "," ","Substream: MIXED          "," "," ",null,null,null,null,null,null,null,null,null,null,null,"Substream: MIXED          "," "," ",null,null,null,"Substream: MIXED          "," "," ","Substream: MIXED          "," "," ","Substream: MIXED          "," "," "]
["Mole Flow   lbmol/hr      "," "," ","Mole Flow   lbmol/hr      "," "," ","Mole Flow   lbmol/hr      "," "," ",null,null,null,null,null,null,null,null,null,null,null,"Mole Flow   lbmol/hr      "," "," ",null,null,null,"Mole Flow   lbmol/hr      "," "," ","Mole Flow   lbmol/hr      "," "," ","Mole Flow   lbmol/hr      "," "," "]
["  H2O                     ",432.19369999999998,470.28089999999997,"  H2O                     ",439.40679999999998,481.17320000000001,"  H2O                     ",446.6121,492.04,null,null,{"$f":"C8/B8","v":1.0881253012248906},{"$f":"F8/E8","v":1.0950517834498694},{"$f":"I8/H8","v":1.1017166798660405},null,null,null,null,null,null,"  H2O                     ",18209.78,59.562539999999998,null,{"$f":"W8/V8","v":3.2709093684822111E-3},null,"  H2O                     ",108.0829,362.35829999999999,"  H2O                     ",104.0294,355.82010000000002,"  H2O                     ",99.971559999999997,349.2801,null,"  H2O                     ",{"$f":"AC8/AB8","v":3.352596016576165},{"$f":"AF8/AE8","v":3.4203802002126324},{"$f":"AI8/AH8","v":3.4937946351942495},null,{"$f":"AM8/AL8","v":1.0202184168033737},null,null,{"$f":"0.7680132794*(AH17/AH8)+ 0.883634734","v":3.4937928052839426}]
["  AR                      ",6.7893330000000001,6.7893330000000001,"  AR                      ",6.8465610000000003,6.8465610000000003,"  AR                      ",6.904382,6.904382,null,null,{"$f":"C9/B9","v":1},{"$f":"F9/E9","v":1},{"$f":"I9/H9","v":1},null,95,85,75,null,null,"  AR                      ",365.33539999999999,365.23289999999997,null,{"$f":"W9/V9","v":0.99971943589370205},null,"  AR                      ",6.904382,6.904382,"  AR                      ",6.8465610000000003,6.8465610000000003,"  AR                      ",6.7893330000000001,6.7893330000000001,null,"  AR                      "]
["  CO2                     ",14.014279999999999,29.511500000000002,"  CO2                     ",12.64282,26.532119999999999,"  CO2                     ",11.265840000000001,23.566600000000001,null,null,2.1058163530341911,2.0985919280666812,2.091863545017504,null,{"$f":"B14/B16","v":0.19270968939924929},{"$f":"E14/E16","v":0.17079698987436234},{"$f":"H14/H16","v":0.14959183124892678},null,null,"  CO2                     ",2182.8829999999998,2182.8829999999998,null,1,null,"  CO2                     ",0.25131510000000001,10.9467,"  CO2                     ",0.25138569999999999,12.273059999999999,"  CO2                     ",0.251444,13.59329,null,"  CO2                     ",{"$f":"AC10/AB10","v":43.55766923674701},{"$f":"AF10/AE10","v":48.821631461137208},{"$f":"AI10/AH10","v":54.060904217241216},null,{"$f":"AM10/AL10","v":1.1208504108835398},null,null,{"$f":"57.09764224*(AH17/AH8)-139.91945884","v":54.131706343562513}]
["  O2                      ",1.00806E-5,4.4697E-35,"  O2                      ",1.0329000000000001E-5,7.9366000000000005E-32,"  O2                      ",1.0579E-5,0,null,null,4.4339622641509436E-30,7.6838028850808405E-27,0,null,{"$f":"L14","v":1.23194615477641E-3},{"$f":"M14","v":8.9129153198990536E-4},{"$f":"N14","v":5.6429029153377895E-4},null,null,"  O2                      ",8.2977800000000003E-9,8.2952599999999993E-9,null,0.99969630431271972,null,"  O2                      ",203.2997,1.0579E-5,"  O2                      ",201.39529999999999,1.0329000000000001E-5,"  O2                      ",199.4873,1.00806E-5,null,"  O2                      ",{"$f":"AC11/AB11","v":5.2036476197456267E-8},5.1287194884885603E-8,5.0532540166717378E-8,null,{"$f":"AM11/AL11","v":0.98560084449747398}]
["  N2                      ",26.370470000000001,26.370470000000001,"  N2                      ",26.40523,26.40523,"  N2                      ",26.44003,26.44003,null,null,1,1,1,null,{"$f":"L16","v":0.18480189607616182},{"$f":"M16","v":0.13485325160108383},{"$f":"N16","v":8.6085391094877117E-2},null,null,"  N2                      ",313.39850000000001,313.38470000000001,null,0.99995596660481778,null,"  N2                      ",3.824068,26.295380000000002,"  N2                      ",3.7892730000000001,26.26174,"  N2                      ",3.7545090000000001,26.228149999999999,null,"  N2                      ",6.8762846267378093,6.9305484191822542,6.9857736391096674]
["  CH4                     ",0,0,"  CH4                     ",0,0,"  CH4                     ",0,0,null,null,{"$error":"#DIV/0!"},{"$error":"#DIV/0!"},{"$error":"#DIV/0!"},null,{"$f":"0.01548478*P10-0.00175256","v":1.2315071442157075E-3},{"$f":"0.01548478*Q10-0.00175256","v":8.9219381286672846E-4},{"$f":"0.01548478*R10-0.00175256","v":5.638365966867565E-4},null,null,"  CH4                     ",12.21095,12.208460000000001,null,0.99979608466171754,null,"  CH4                     ",2.6032199999999998E-3,0,"  CH4                     ",2.7503200000000001E-3,0,"  CH4                     ",2.91516E-3,0,null,"  CH4                     "]
["  CO                      ",15.380380000000001,1.8947800000000001E-2,"  CO                      ",13.773720000000001,1.22764E-2,"  CO                      ",12.187609999999999,6.87735E-3,null,null,1.23194615477641E-3,8.9129153198990536E-4,5.6429029153377895E-4,null,{"$f":"2.28940183*P10 - 0.25631604","v":0.1848738755693729},{"$f":"2.28940183*Q10 - 0.25631604","v":0.13470690117685663},{"$f":"2.28940183*R10 - 0.25631604","v":8.6159772214344121E-2},null,null,"  CO                      ",22206.35,22205.58,null,0.9999653252335482,null,"  CO                      ",1.3367560000000001,12.187609999999999,"  CO                      ",1.447867,13.773720000000001,"  CO                      ",1.5740970000000001,15.380380000000001,null,"  CO                      ",9.1173033822178464,9.5131113562226375,9.7709226305621577,null,{"$f":"AM14/AL14","v":1.0434128335332973},null,null,{"$f":"-0.18343412*(AH17/AH15)+12.05480038","v":9.7825339000781089}]
["  COS                     ",0.13892360000000001,3.1399900000000001E-3,"  COS                     ",0.13071659999999999,2.86155E-3,"  COS                     ",0.1226032,2.5746800000000002E-3,null,null,2.2602279238372745E-2,2.1891251761444224E-2,2.1000104401842697E-2,null,null,null,null,null,null,"  COS                     ",27.701789999999999,27.701789999999999,null,1,null,"  COS                     ",21.765529999999998,0.22189320000000001,"  COS                     ",24.596810000000001,0.25203300000000001,"  COS                     ",27.428080000000001,0.28285959999999999,null,"  COS                     ",1.0194706951771909E-2,1.024657262466149E-2,1.0312774353873838E-2]
["  H2                      ",79.811139999999995,14.74925,"  H2                      ",80.643810000000002,10.875080000000001,"  H2                      ",81.472430000000003,7.0135860000000001,null,null,0.18480189607616182,0.13485325160108383,8.6085391094877117E-2,null,null,null,null,null,null,"  H2                      ",12296.65,12296.08,null,0.99995364591169145,null,"  H2                      ",1.2584360000000001,114.8017,"  H2                      ",1.2049719999999999,113.6327,"  H2                      ",1.142949,112.4581,null,"  H2                      ",91.225696022682115,94.303187127999664,98.392929168318105,null,{"$f":"AM16/AL16","v":1.0337349150457824},null,null,{"$f":"39.03669226*(AH17/AH8)-34.39286042","v":98.276639068691281}]
["  H2S                     ",0.72698390000000002,27.701599999999999,"  H2S                     ",0.72717109999999996,28.729489999999998,"  H2S                     ",0.7273425,29.758310000000002,null,null,38.104832858059169,39.508569578741508,40.913751087005096,null,null,null,null,null,null,"  H2S                     ",315.2704,312.7466,null,0.99199480826617403,null,"  H2S                     ",347.4579,47.058439999999997,"  H2S                     ",343.60930000000002,46.813760000000002,"  H2S                     ",339.76179999999999,46.564880000000002,null,"  H2S                     ",0.13543637948655074,0.13624124841789789,0.13705154611260006]
["  NH3                     ",0,0,"  NH3                     ",0,0,"  NH3                     ",0,0,null,null,{"$error":"#DIV/0!"},{"$error":"#DIV/0!"},{"$error":"#DIV/0!"},null,null,null,null,null,null,"  NH3                     ",55.776510000000002,0,null,0,null,"  NH3                     ",45.231920000000002,0.28928959999999998,"  NH3                     ",45.231920000000002,0.28697679999999998,"  NH3                     ",45.231920000000002,0.28463189999999999,null,"  NH3                     ",6.3956957829780382E-3,6.3445637505549169E-3,6.2927220423099435E-3]
["  SO2                     ",26.79223,1.0729E-10,"  SO2                     ",27.827839999999998,2.9316E-10,"  SO2                     ",28.86431,1.1941099999999999E-9,null,null,4.0045192206845046E-12,1.0534773809250018E-11,4.1369774645574408E-11,null,null,null,null,null,null,"  SO2                     ",0,0,null,{"$error":"#DIV/0!"},null,"  SO2                     ",1.1757100000000001E-9,70.812979999999996,"  SO2                     ",2.8875000000000001E-10,69.487750000000005,"  SO2                     ",1.0571E-10,68.160669999999996,null,"  SO2                     ",60229971676.688972,240650216450.21646,644789234698.70398]
["  SULFU-01                ",0,0,"  SULFU-01                ",0,0,"  SULFU-01                ",0,0,null,null,{"$error":"#DIV/0!"},{"$error":"#DIV/0!"},{"$error":"#DIV/0!"},null,null,null,null,null,null,"  SULFU-01                ",0,0,null,{"$error":"#DIV/0!"},null,"  SULFU-01                ",0,0,"  SULFU-01                ",0,0,"  SULFU-01                ",0,0,null,"  SULFU-01                "]
["  SO3                     ",0,0,"  SO3                     ",0,0,"  SO3                     ",0,0,null,null,{"$error":"#DIV/0!"},{"$error":"#DIV/0!"},{"$error":"#DIV/0!"},null,null,null,null,null,null,"  SO3                     ",0,0,null,{"$error":"#DIV/0!"},null,"  SO3                     ",0,0,"  SO3                     ",0,0,"  SO3                     ",0,0,null,"  SO3                     "]
["  C                       ",0,0,"  C                       ",0,0,"  C                       ",0,0,null,null,{"$error":"#DIV/0!"},{"$error":"#DIV/0!"},{"$error":"#DIV/0!"},null,null,null,null,null,null,"  C                       ",0,0,null,{"$error":"#DIV/0!"},null,"  C                       ",0,0,"  C                       ",0,0,"  C                       ",0,0,null,"  C                       "]
["  S                       ",0,0,"  S                       ",0,0,"  S                       ",0,0,null,null,{"$error":"#DIV/0!"},{"$error":"#DIV/0!"},{"$error":"#DIV/0!"},null,null,null,null,null,null,"  S                       ",0,0,null,{"$error":"#DIV/0!"},null,"  S                       ",0,0,"  S                       ",0,0,"  S                       ",0,0,null,"  S                       "]
["  S2                      ",0,0,"  S2                      ",0,0,"  S2                      ",0,0,null,null,{"$error":"#DIV/0!"},{"$error":"#DIV/0!"},{"$error":"#DIV/0!"},null,null,null,null,null,null,"  S2                      ",0,0,null,{"$error":"#DIV/0!"},null,"  S2                      ",0,125.565,"  S2                      ",0,125.8263,"  S2                      ",0,126.0908,null,"  S2                      "]
["  S6                      ",9.9500799999999994E-5,1.5345000000000001E-21,"  S6                      ",9.9526399999999996E-5,1.1988E-20,"  S6                      ",9.95499E-5,2.0758E-19,null,null,1.5421986556892006E-17,1.2045045334705166E-16,2.0851854195735003E-15,null,null,null,null,null,null,"  S6                      ",0,0,null,{"$error":"#DIV/0!"},null,"  S6                      ",0,0,"  S6                      ",0,0,"  S6                      ",0,0,null,"  S6                      "]
["  S8                      ",5.7509900000000001E-3,2.8242000000000002E-28,"  S8                      ",5.7525500000000004E-3,4.3649000000000001E-27,"  S8                      ",5.7539799999999997E-3,1.9495E-25,null,null,4.9108066611139999E-26,7.5877654257677026E-25,3.3880896353480548E-23,null,null,null,null,null,null,"  S8                      ",0,0,null,{"$error":"#DIV/0!"},null,"  S8                      ",0,0,"  S8                      ",0,0,"  S8                      ",0,0,null,"  S8                      "]
["  HCL                     ",0,0,"  HCL                     ",0,0,"  HCL                     ",0,0,null,null,{"$error":"#DIV/0!"},{"$error":"#DIV/0!"},{"$error":"#DIV/0!"},null,null,null,null,null,null,"  HCL                     ",11.256930000000001,0,null,0,null,"  HCL                     ",0,0,"  HCL                     ",0,0,"  HCL                     ",0,0,null,"  HCL                     "]
["Mole Frac                 "," "," ","Mole Frac                 "," "," ","Mole Frac                 "," "," ",null,null,null,null,null,null,null,null,null,null,null,"Mole Frac                 "," "," ",null,null,null,"Mole Frac                 "," "," ","Mole Frac                 "," "," ","Mole Frac                 "," "," "]
["  H2O                     ",0.71766350000000001,0.81727559999999999,"  H2O                     ",0.72222090000000005,0.82878470000000004,"  H2O                     ",0.72666819999999999,0.84004239999999997,null,null,null,null,null,null,null,null,null,null,null,"  H2O                     ",0.32519429999999999,1.57676E-3,null,null,null,"  H2O                     ",0.14617350000000001,0.46609060000000002,"  H2O                     ",0.14203789999999999,0.46134029999999998,"  H2O                     ",0.13781650000000001,0.45650770000000002]
["  AR                      ",1.1273699999999999E-2,1.17988E-2,"  AR                      ",1.12531E-2,1.17926E-2,"  AR                      ",1.12339E-2,1.1787600000000001E-2,null,null,null,null,null,null,null,null,null,null,null,"  AR                      ",6.5242399999999997E-3,9.6685499999999997E-3,null,null,null,"  AR                      ",9.3376199999999996E-3,8.8809000000000006E-3,"  AR                      ",9.3480500000000001E-3,8.8769399999999998E-3,"  AR                      ",9.3594899999999998E-3,8.8736300000000004E-3]
["  CO2                     ",2.3270900000000001E-2,5.1286400000000003E-2,"  CO2                     ",2.078E-2,4.5699499999999997E-2,"  CO2                     ",1.8330200000000001E-2,4.0234399999999997E-2,null,null,null,null,null,null,null,null,null,null,null,"  CO2                     ",3.89824E-2,5.7785799999999998E-2,null,null,null,"  CO2                     ",3.3988399999999999E-4,1.40804E-2,"  CO2                     ",3.4323300000000003E-4,1.5912599999999999E-2,"  CO2                     ",3.4663000000000001E-4,1.7766299999999999E-2,null,"H2S/H2O",{"$f":"AB17/AB8","v":3.2147351708734684},{"$f":"AE17/AE8","v":3.3030018437095672},{"$f":"AH17/AH8","v":3.3985845574481384}]
["  O2                      ",1.6738999999999999E-8,7.7676000000000001E-38,"  O2                      ",1.6977E-8,1.3670000000000001E-34,"  O2                      ",1.72127E-8,0,null,null,null,null,null,null,null,null,null,null,null,"  O2                      ",1.4818000000000001E-13,2.1959E-13,null,null,null,"  O2                      ",0.27494649999999998,1.3607400000000001E-8,"  O2                      ",0.2749779,1.3392100000000001E-8,"  O2                      ",0.27500469999999999,1.31753E-8,null,"H2S/COS",{"$f":"AB17/AB15","v":15.963677429403281},{"$f":"AE17/AE15","v":13.969669237596257},{"$f":"AH17/AH15","v":12.387370898728602}]
["  N2                      ",4.3788500000000001E-2,4.5827800000000002E-2,"  N2                      ",4.3400300000000003E-2,4.5481000000000001E-2,"  N2                      ",4.3019700000000001E-2,4.5140100000000002E-2,null,null,null,null,null,null,null,null,null,null,null,"  N2                      ",5.5967400000000002E-3,8.2959999999999996E-3,null,null,null,"  N2                      ",5.1717500000000001E-3,3.3822900000000003E-2,"  N2                      ",5.1737399999999996E-3,3.4049700000000002E-2,"  N2                      ",5.1758100000000003E-3,3.4279999999999998E-2]
["  CH4                     ",0,0,"  CH4                     ",0,0,"  CH4                     ",0,0,null,null,null,null,null,null,null,null,null,null,null,"  CH4                     ",2.18066E-4,3.2318599999999999E-4,null,null,null,"  CH4                     ",3.5206400000000001E-6,0,"  CH4                     ",3.7551900000000002E-6,0,"  CH4                     ",4.01871E-6,0]
["  CO                      ",2.5539300000000001E-2,3.2928400000000001E-5,"  CO                      ",2.2638800000000001E-2,2.1145299999999999E-5,"  CO                      ",1.983E-2,1.1741499999999999E-5,null,null,null,null,null,null,null,null,null,null,null,"  CO                      ",0.39656599999999997,0.58783220000000003,null,null,null,"  CO                      ",1.8078599999999999E-3,1.5676499999999999E-2,"  CO                      ",1.9768699999999999E-3,1.7858300000000001E-2,"  CO                      ",2.1699800000000002E-3,2.0102100000000001E-2]
["  COS                     ",2.30685E-4,5.4568099999999999E-6,"  COS                     ",2.14849E-4,4.92881E-6,"  COS                     ",1.9948399999999999E-4,4.39565E-6,null,null,null,null,null,null,null,null,null,null,null,"  COS                     ",4.9470500000000001E-4,7.3332900000000001E-4,null,null,null,"  COS                     ",2.94361E-2,2.8541500000000002E-4,"  COS                     ",3.3583500000000002E-2,3.2677500000000001E-4,"  COS                     ",3.78111E-2,3.6969599999999998E-4]
["  H2                      ",0.13252749999999999,2.5631899999999999E-2,"  H2                      ",0.13254840000000001,1.8731500000000002E-2,"  H2                      ",0.13256119999999999,1.1974E-2,null,null,null,null,null,null,null,null,null,null,null,"  H2                      ",0.21959629999999999,0.32550499999999999,null,null,null,"  H2                      ",1.7019299999999999E-3,0.14766589999999999,"  H2                      ",1.6452299999999999E-3,0.14733109999999999,"  H2                      ",1.57562E-3,0.14698230000000001]
["  H2S                     ",1.20717E-3,4.8141099999999999E-2,"  H2S                     ",1.1952E-3,4.9484300000000002E-2,"  H2S                     ",1.18344E-3,5.0805299999999998E-2,null,null,null,null,null,null,null,null,null,null,null,"  H2S                     ",5.6301700000000003E-3,8.2791099999999992E-3,null,null,null,"  H2S                     ",0.46990880000000002,6.0529800000000002E-2,"  H2S                     ",0.4691517,6.0696600000000003E-2,"  H2S                     ",0.4683812,6.08601E-2]
["  NH3                     ",0,0,"  NH3                     ",0,0,"  NH3                     ",0,0,null,null,null,null,null,null,null,null,null,null,null,"  NH3                     ",9.9606900000000003E-4,0,null,null,null,"  NH3                     ",6.1172499999999998E-2,3.7210500000000002E-4,"  NH3                     ",6.1758E-2,3.7208100000000002E-4,"  NH3                     ",6.2354699999999999E-2,3.7201299999999998E-4]
["  SO2                     ",4.4488800000000002E-2,1.8645E-13,"  SO2                     ",4.5738599999999997E-2,5.0493999999999997E-13,"  SO2                     ",4.6964100000000002E-2,2.0387000000000002E-12,null,null,null,null,null,null,null,null,null,null,null,"  SO2                     ",0,0,null,null,null,"  SO2                     ",1.5901000000000001E-12,9.1084600000000002E-2,"  SO2                     ",3.9425000000000001E-13,9.0094599999999997E-2,"  SO2                     ",1.4573E-13,8.9085700000000004E-2]
["  SULFU-01                ",0,0,"  SULFU-01                ",0,0,"  SULFU-01                ",0,0,null,null,null,null,null,null,null,null,null,null,null,"  SULFU-01                ",0,0,null,null,null,"  SULFU-01                ",0,0,"  SULFU-01                ",0,0,"  SULFU-01                ",0,0]
["  SO3                     ",0,0,"  SO3                     ",0,0,"  SO3                     ",0,0,null,null,null,null,null,null,null,null,null,null,null,"  SO3                     ",0,0,null,null,null,"  SO3                     ",0,0,"  SO3                     ",0,0,"  SO3                     ",0,0]
["  C                       ",0,0,"  C                       ",0,0,"  C                       ",0,0,null,null,null,null,null,null,null,null,null,null,null,"  C                       ",0,0,null,null,null,"  C                       ",0,0,"  C                       ",0,0,"  C                       ",0,0]
["  S                       ",0,0,"  S                       ",0,0,"  S                       ",0,0,null,null,null,null,null,null,null,null,null,null,null,"  S                       ",0,0,null,null,null,"  S                       ",0,0,"  S                       ",0,0,"  S                       ",0,0]
["  S2                      ",0,0,"  S2                      ",0,0,"  S2                      ",0,0,null,null,null,null,null,null,null,null,null,null,null,"  S2                      ",0,0,null,null,null,"  S2                      ",0,0.1615106,"  S2                      ",0,0.1631407,"  S2                      ",0,0.1648001]
["  S6                      ",1.65222E-7,2.6667000000000001E-24,"  S6                      ",1.6358399999999999E-7,2.0648999999999999E-23,"  S6                      ",1.6197399999999999E-7,3.5438999999999998E-22,null,null,null,null,null,null,null,null,null,null,null,"  S6                      ",0,0,null,null,null,"  S6                      ",0,0,"  S6                      ",0,0,"  S6                      ",0,0]
["  S8                      ",9.5495900000000002E-6,4.9080000000000001E-31,"  S8                      ",9.4550399999999995E-6,7.5182000000000003E-30,"  S8                      ",9.3621100000000004E-6,3.3282E-28,null,null,null,null,null,null,null,null,null,null,null,"  S8                      ",0,0,null,null,null,"  S8                      ",0,0,"  S8                      ",0,0,"  S8                      ",0,0]
["  HCL                     ",0,0,"  HCL                     ",0,0,"  HCL                     ",0,0,null,null,null,null,null,null,null,null,null,null,null,"  HCL                     ",2.01029E-4,0,null,null,null,"  HCL                     ",0,0,"  HCL                     ",0,0,"  HCL                     ",0,0]
["Mass Flow   lb/hr         "," "," ","Mass Flow   lb/hr         "," "," ","Mass Flow   lb/hr         "," "," ",null,null,null,null,null,null,null,null,null,null,null,"Mass Flow   lb/hr         "," "," ",null,null,null,"Mass Flow   lb/hr         "," "," ","Mass Flow   lb/hr         "," "," ","Mass Flow   lb/hr         "," "," "]
["  H2O                     ",7786.09,8472.2420000000002,"  H2O                     ",7916.0360000000001,8668.4689999999991,"  H2O                     ",8045.8419999999996,8864.2379999999994,null,null,null,null,null,null,null,null,null,null,null,"  H2O                     ",328054,1073.0360000000001,null,null,null,"  H2O                     ",1947.144,6527.9859999999999,"  H2O                     ",1874.1179999999999,6410.1980000000003,"  H2O                     ",1801.0160000000001,6292.3789999999999]
["  AR                      ",271.22030000000001,271.22030000000001,"  AR                      ",273.50639999999999,273.50639999999999,"  AR                      ",275.81619999999998,275.81619999999998,null,null,null,null,null,null,null,null,null,null,null,"  AR                      ",14594.42,14590.32,null,null,null,"  AR                      ",275.81619999999998,275.81619999999998,"  AR                      ",273.50639999999999,273.50639999999999,"  AR                      ",271.22030000000001,271.22030000000001]
["  CO2                     ",616.76549999999997,1298.7950000000001,"  CO2                     ",556.40819999999997,1167.673,"  CO2                     ",495.8075,1037.162,null,null,null,null,null,null,null,null,null,null,null,"  CO2                     ",96068.23,96068.23,null,null,null,"  CO2                     ",11.06033,481.76209999999998,"  CO2                     ",11.06343,540.13480000000004,"  CO2                     ",11.066000000000001,598.23800000000006]
["  O2                      ",3.22567E-4,1.4301999999999999E-33,"  O2                      ",3.3051599999999999E-4,2.5395999999999999E-30,"  O2                      ",3.3851500000000001E-4,0,null,null,null,null,null,null,null,null,null,null,null,"  O2                      ",2.6551899999999998E-7,2.6543800000000002E-7,null,null,null,"  O2                      ",6505.3450000000003,3.3851500000000001E-4,"  O2                      ",6444.4089999999997,3.3051599999999999E-4,"  O2                      ",6383.3549999999996,3.2256800000000002E-4]
["  N2                      ",738.72850000000005,738.72850000000005,"  N2                      ",739.70240000000001,739.70240000000001,"  N2                      ",740.6771,740.6771,null,null,null,null,null,null,null,null,null,null,null,"  N2                      ",8779.3819999999996,8778.9950000000008,null,null,null,"  N2                      ",107.1255,736.62509999999997,"  N2                      ",106.1507,735.68280000000004,"  N2                      ",105.1769,734.74180000000001]
["  CH4                     ",0,0,"  CH4                     ",0,0,"  CH4                     ",0,0,null,null,null,null,null,null,null,null,null,null,null,"  CH4                     ",195.8973,195.85740000000001,null,null,null,"  CH4                     ",4.1762800000000003E-2,0,"  CH4                     ",4.4122700000000001E-2,0,"  CH4                     ",4.6767099999999999E-2,0]
["  CO                      ",430.8107,0.53073559999999997,"  CO                      ",385.80739999999997,0.34386840000000002,"  CO                      ",341.37990000000002,0.19263730000000001,null,null,null,null,null,null,null,null,null,null,null,"  CO                      ",622009,621987,null,null,null,"  CO                      ",37.443080000000002,341.37990000000002,"  CO                      ",40.555320000000002,385.80739999999997,"  CO                      ",44.091079999999998,430.8107]
["  COS                     ",8.3460319999999992,0.188639,"  COS                     ",7.8529809999999998,0.1719118,"  COS                     ",7.3655590000000002,0.15467719999999999,null,null,null,null,null,null,null,null,null,null,null,"  COS                     ",1664.2239999999999,1664.2239999999999,null,null,null,"  COS                     ",1307.595,13.330539999999999,"  COS                     ",1477.6880000000001,15.14123,"  COS                     ",1647.78,16.993189999999998]
["  H2                      ",160.8897,29.73272,"  H2                      ",162.56819999999999,21.92286,"  H2                      ",164.23859999999999,14.13855,null,null,null,null,null,null,null,null,null,null,null,"  H2                      ",24788.57,24787.41,null,null,null,"  H2                      ",2.5368569999999999,231.4264,"  H2                      ",2.4290790000000002,229.06989999999999,"  H2                      ",2.304049,226.7021]
["  H2S                     ",24.776979999999998,944.12270000000001,"  H2S                     ",24.783359999999998,979.15499999999997,"  H2S                     ",24.789200000000001,1014.2190000000001,null,null,null,null,null,null,null,null,null,null,null,"  H2S                     ",10745.01,10658.99,null,null,null,"  H2S                     ",11842.02,1603.84,"  H2S                     ",11710.85,1595.501,"  H2S                     ",11579.72,1587.019]
["  NH3                     ",0,0,"  NH3                     ",0,0,"  NH3                     ",0,0,null,null,null,null,null,null,null,null,null,null,null,"  NH3                     ",949.90520000000004,0,null,null,null,"  NH3                     ",770.32479999999998,4.9267640000000004,"  NH3                     ",770.32479999999998,4.8873749999999996,"  NH3                     ",770.32479999999998,4.8474399999999997]
["  SO2                     ",1716.4390000000001,6.8735100000000002E-9,"  SO2                     ",1782.7850000000001,1.8781000000000001E-8,"  SO2                     ",1849.1859999999999,7.6500099999999996E-8,null,null,null,null,null,null,null,null,null,null,null,"  SO2                     ",0,0,null,null,null,"  SO2                     ",7.5321700000000001E-8,4536.62,"  SO2                     ",1.8498699999999999E-8,4451.7190000000001,"  SO2                     ",6.7724399999999998E-9,4366.7]
["  SULFU-01                ",0,0,"  SULFU-01                ",0,0,"  SULFU-01                ",0,0,null,null,null,null,null,null,null,null,null,null,null,"  SULFU-01                ",0,0,null,null,null,"  SULFU-01                ",0,0,"  SULFU-01                ",0,0,"  SULFU-01                ",0,0]
["  SO3                     ",0,0,"  SO3                     ",0,0,"  SO3                     ",0,0,null,null,null,null,null,null,null,null,null,null,null,"  SO3                     ",0,0,null,null,null,"  SO3                     ",0,0,"  SO3                     ",0,0,"  SO3                     ",0,0]
["  C                       ",0,0,"  C                       ",0,0,"  C                       ",0,0,null,null,null,null,null,null,null,null,null,null,null,"  C                       ",0,0,null,null,null,"  C                       ",0,0,"  C                       ",0,0,"  C                       ",0,0]
["  S                       ",0,0,"  S                       ",0,0,"  S                       ",0,0,null,null,null,null,null,null,null,null,null,null,null,"  S                       ",0,0,null,null,null,"  S                       ",0,0,"  S                       ",0,0,"  S                       ",0,0]
["  S2                      ",0,0,"  S2                      ",0,0,"  S2                      ",0,0,null,null,null,null,null,null,null,null,null,null,null,"  S2                      ",0,0,null,null,null,"  S2                      ",0,8052.7370000000001,"  S2                      ",0,8069.4920000000002,"  S2                      ",0,8086.4520000000002]
["  S6                      ",1.9143500000000001E-2,2.9523000000000002E-19,"  S6                      ",1.9148399999999999E-2,2.3065E-18,"  S6                      ",1.9153E-2,3.9936999999999999E-17,null,null,null,null,null,null,null,null,null,null,null,"  S6                      ",0,0,null,null,null,"  S6                      ",0,0,"  S6                      ",0,0,"  S6                      ",0,0]
["  S8                      ",1.4752890000000001,7.2448999999999999E-26,"  S8                      ",1.475689,1.1197E-24,"  S8                      ",1.476056,5.0009000000000001E-23,null,null,null,null,null,null,null,null,null,null,null,"  S8                      ",0,0,null,null,null,"  S8                      ",0,0,"  S8                      ",0,0,"  S8                      ",0,0]
["  HCL                     ",0,0,"  HCL                     ",0,0,"  HCL                     ",0,0,null,null,null,null,null,null,null,null,null,null,null,"  HCL                     ",410.43490000000003,0,null,null,null,"  HCL                     ",0,0,"  HCL                     ",0,0,"  HCL                     ",0,0]
["Mass Frac                 "," "," ","Mass Frac                 "," "," ","Mass Frac                 "," "," ",null,null,null,null,null,null,null,null,null,null,null,"Mass Frac                 "," "," ",null,null,null,"Mass Frac                 "," "," ","Mass Frac                 "," "," ","Mass Frac                 "," "," "]
["  H2O                     ",0.66233249999999999,0.72070080000000003,"  H2O                     ",0.66796659999999997,0.7314581,"  H2O                     ",0.67348399999999997,0.74198850000000005,null,null,null,null,null,null,null,null,null,null,null,"  H2O                     ",0.29600870000000001,1.3760300000000001E-3,null,null,null,"  H2O                     ",8.5376900000000006E-2,0.28623419999999999,"  H2O                     ",8.2519700000000001E-2,0.28224909999999998,"  H2O                     ",7.9634200000000002E-2,0.27822560000000002]
["  AR                      ",2.3071600000000001E-2,2.3071600000000001E-2,"  AR                      ",2.30788E-2,2.30788E-2,"  AR                      ",2.3087400000000001E-2,2.3087400000000001E-2,null,null,null,null,null,null,null,null,null,null,null,"  AR                      ",1.31687E-2,1.87102E-2,null,null,null,"  AR                      ",1.2093700000000001E-2,1.2093700000000001E-2,"  AR                      ",1.2042799999999999E-2,1.2042799999999999E-2,"  AR                      ",1.1992299999999999E-2,1.1992299999999999E-2]
["  CO2                     ",5.24658E-2,0.1104835,"  CO2                     ",4.6950499999999999E-2,9.8529900000000004E-2,"  CO2                     ",4.1501900000000001E-2,8.6816400000000002E-2,null,null,null,null,null,null,null,null,null,null,null,"  CO2                     ",8.6683800000000005E-2,0.12319529999999999,null,null,null,"  CO2                     ",4.8496500000000002E-4,2.1123900000000001E-2,"  CO2                     ",4.8713700000000001E-4,2.37828E-2,"  CO2                     ",4.8929699999999997E-4,2.6451800000000001E-2]
["  O2                      ",2.7439600000000001E-8,1.2166E-37,"  O2                      ",2.7889400000000001E-8,2.143E-34,"  O2                      ",2.83357E-8,0,null,null,null,null,null,null,null,null,null,null,null,"  O2                      ",2.3957999999999997E-13,3.4038999999999998E-13,null,null,null,"  O2                      ",0.28524149999999998,1.4842900000000001E-8,"  O2                      ",0.28375539999999999,1.4553E-8,"  O2                      ",0.2822482,1.42627E-8]
["  N2                      ",6.2840699999999999E-2,6.2840699999999999E-2,"  N2                      ",6.2417100000000003E-2,6.2417100000000003E-2,"  N2                      ",6.1998999999999999E-2,6.1998999999999999E-2,null,null,null,null,null,null,null,null,null,null,null,"  N2                      ",7.9217799999999998E-3,1.12579E-2,null,null,null,"  N2                      ",4.6971599999999997E-3,3.2298899999999998E-2,"  N2                      ",4.6739499999999996E-3,3.2392999999999998E-2,"  N2                      ",4.6505299999999999E-3,3.2487500000000002E-2]
["  CH4                     ",0,0,"  CH4                     ",0,0,"  CH4                     ",0,0,null,null,null,null,null,null,null,null,null,null,null,"  CH4                     ",1.76761E-4,2.5116199999999998E-4,null,null,null,"  CH4                     ",1.83118E-6,0,"  CH4                     ",1.9427800000000001E-6,0,"  CH4                     ",2.0678700000000002E-6,0]
["  CO                      ",3.6647399999999997E-2,4.5147600000000001E-5,"  CO                      ",3.2554899999999998E-2,2.9016100000000002E-5,"  CO                      ",2.8575400000000001E-2,1.6124899999999999E-5,null,null,null,null,null,null,null,null,null,null,null,"  CO                      ",0.56124850000000004,0.79761959999999998,null,null,null,"  CO                      ",1.64178E-3,1.4968499999999999E-2,"  CO                      ",1.7857000000000001E-3,1.6987499999999999E-2,"  CO                      ",1.94954E-3,1.9048800000000001E-2]
["  COS                     ",7.0996500000000001E-4,1.60468E-5,"  COS                     ",6.6264600000000002E-4,1.45062E-5,"  COS                     ",6.1653999999999995E-4,1.2947400000000001E-5,null,null,null,null,null,null,null,null,null,null,null,"  COS                     ",1.5016599999999999E-3,2.13416E-3,null,null,null,"  COS                     ",5.7334400000000001E-2,5.8450799999999997E-4,"  COS                     ",6.5064399999999994E-2,6.6668800000000002E-4,"  COS                     ",7.2858699999999998E-2,7.51376E-4]
["  H2                      ",1.3686200000000001E-2,2.5292499999999998E-3,"  H2                      ",1.3717699999999999E-2,1.8498799999999999E-3,"  H2                      ",1.37477E-2,1.18348E-3,null,null,null,null,null,null,null,null,null,null,null,"  H2                      ",2.2367100000000001E-2,3.1786700000000001E-2,null,null,null,"  H2                      ",1.11234E-4,1.0147400000000001E-2,"  H2                      ",1.0695499999999999E-4,1.00862E-2,"  H2                      ",1.01877E-4,1.0023900000000001E-2]
["  H2S                     ",2.1076799999999998E-3,8.0312800000000004E-2,"  H2S                     ",2.0912600000000002E-3,8.2622500000000001E-2,"  H2S                     ",2.075E-3,8.4895999999999999E-2,null,null,null,null,null,null,null,null,null,null,null,"  H2S                     ",9.6953899999999999E-3,1.36688E-2,null,null,null,"  H2S                     ",0.51923980000000003,7.0323899999999995E-2,"  H2S                     ",0.51564350000000003,7.0251900000000006E-2,"  H2S                     ",0.51201229999999998,7.0171999999999998E-2]
["  NH3                     ",0,0,"  NH3                     ",0,0,"  NH3                     ",0,0,null,null,null,null,null,null,null,null,null,null,null,"  NH3                     ",8.5711499999999998E-4,0,null,null,null,"  NH3                     ",3.3776599999999997E-2,2.1602500000000001E-4,"  NH3                     ",3.3918299999999998E-2,2.1519700000000001E-4,"  NH3                     ",3.4060899999999998E-2,2.14336E-4]
["  SO2                     ",0.1460108,5.8470000000000002E-13,"  SO2                     ",0.15043400000000001,1.5848000000000001E-12,"  SO2                     ",0.1547877,6.4035000000000003E-12,null,null,null,null,null,null,null,null,null,null,null,"  SO2                     ",0,0,null,null,null,"  SO2                     ",3.3027000000000001E-12,0.19891829999999999,"  SO2                     ",8.1452000000000005E-13,0.19601479999999999,"  SO2                     ",2.9945E-13,0.19307920000000001]
["  SULFU-01                ",0,0,"  SULFU-01                ",0,0,"  SULFU-01                ",0,0,null,null,null,null,null,null,null,null,null,null,null,"  SULFU-01                ",0,0,null,null,null,"  SULFU-01                ",0,0,"  SULFU-01                ",0,0,"  SULFU-01                ",0,0]
["  SO3                     ",0,0,"  SO3                     ",0,0,"  SO3                     ",0,0,null,null,null,null,null,null,null,null,null,null,null,"  SO3                     ",0,0,null,null,null,"  SO3                     ",0,0,"  SO3                     ",0,0,"  SO3                     ",0,0]
["  C                       ",0,0,"  C                       ",0,0,"  C                       ",0,0,null,null,null,null,null,null,null,null,null,null,null,"  C                       ",0,0,null,null,null,"  C                       ",0,0,"  C                       ",0,0,"  C                       ",0,0]
["  S                       ",0,0,"  S                       ",0,0,"  S                       ",0,0,null,null,null,null,null,null,null,null,null,null,null,"  S                       ",0,0,null,null,null,"  S                       ",0,0,"  S                       ",0,0,"  S                       ",0,0]
["  S2                      ",0,0,"  S2                      ",0,0,"  S2                      ",0,0,null,null,null,null,null,null,null,null,null,null,null,"  S2                      ",0,0,null,null,null,"  S2                      ",0,0.35309030000000002,"  S2                      ",0,0.35530990000000001,"  S2                      ",0,0.3575528]
["  S6                      ",1.62847E-6,2.5114000000000001E-23,"  S6                      ",1.6157799999999999E-6,1.9461999999999999E-22,"  S6                      ",1.6032200000000001E-6,3.3429000000000002E-21,null,null,null,null,null,null,null,null,null,null,null,"  S6                      ",0,0,null,null,null,"  S6                      ",0,0,"  S6                      ",0,0,"  S6                      ",0,0]
["  S8                      ",1.2549699999999999E-4,6.1628999999999999E-30,"  S8                      ",1.24521E-4,9.4482999999999995E-29,"  S8                      ",1.2355499999999999E-4,4.1860999999999999E-27,null,null,null,null,null,null,null,null,null,null,null,"  S8                      ",0,0,null,null,null,"  S8                      ",0,0,"  S8                      ",0,0,"  S8                      ",0,0]
["  HCL                     ",0,0,"  HCL                     ",0,0,"  HCL                     ",0,0,null,null,null,null,null,null,null,null,null,null,null,"  HCL                     ",3.7034200000000001E-4,0,null,null,null,"  HCL                     ",0,0,"  HCL                     ",0,0,"  HCL                     ",0,0]
["Total Flow  lbmol/hr      ",602.22320000000002,575.42520000000002,"Total Flow  lbmol/hr      ",608.41049999999996,580.57680000000005,"Total Flow  lbmol/hr      ",614.60249999999996,585.73230000000001,null,null,null,null,null,null,null,null,null,null,null,"Total Flow  lbmol/hr      ",55996.62,37775.379999999997,null,null,null,"Total Flow  lbmol/hr      ",739.41549999999995,777.44169999999997,"Total Flow  lbmol/hr      ",732.40549999999996,771.27470000000005,"Total Flow  lbmol/hr      ",725.39599999999996,765.11320000000001]
["Total Flow  lb/hr         ",11755.56,11755.56,"Total Flow  lb/hr         ",11850.95,11850.95,"Total Flow  lb/hr         ",11946.6,11946.6,null,null,null,null,null,null,null,null,null,null,null,"Total Flow  lb/hr         ",1108260,779804,null,null,null,"Total Flow  lb/hr         ",22806.45,22806.45,"Total Flow  lb/hr         ",22711.14,22711.14,"Total Flow  lb/hr         ",22616.1,22616.1]
["Total Flow  cuft/hr       ",477248,558502,"Total Flow  cuft/hr       ",482141,563479,"Total Flow  cuft/hr       ",487038,568460,null,null,null,null,null,null,null,null,null,null,null,"Total Flow  cuft/hr       ",889900,428362,null,null,null,"Total Flow  cuft/hr       ",310185,1143280,"Total Flow  cuft/hr       ",307245,1134210,"Total Flow  cuft/hr       ",304305,1125150]
["Temperature F             ",450,550,"Temperature F             ",450,550,"Temperature F             ",450,550,null,null,null,null,null,null,null,null,null,null,null,"Temperature F             ",385.86880000000002,94.865110000000001,null,null,null,"Temperature F             ",448.85950000000003,2650,"Temperature F             ",448.85649999999998,2650,"Temperature F             ",448.85340000000002,2650]
["Pressure    psia          ",12.295949999999999,11.145949999999999,"Pressure    psia          ",12.295949999999999,11.145949999999999,"Pressure    psia          ",12.295949999999999,11.145949999999999,null,null,null,null,null,null,null,null,null,null,null,"Pressure    psia          ",560,525,null,null,null,"Pressure    psia          ",23.19595,22.69595,"Pressure    psia          ",23.19595,22.69595,"Pressure    psia          ",23.19595,22.69595]
["Vapor Frac                ",1,1,"Vapor Frac                ",1,1,"Vapor Frac                ",1,1,null,null,null,null,null,null,null,null,null,null,null,"Vapor Frac                ",1,1,null,null,null,"Vapor Frac                ",1,1,"Vapor Frac                ",1,1,"Vapor Frac                ",1,1]
["Liquid Frac               ",0,0,"Liquid Frac               ",0,0,"Liquid Frac               ",0,0,null,null,null,null,null,null,null,null,null,null,null,"Liquid Frac               ",0,0,null,null,null,"Liquid Frac               ",0,0,"Liquid Frac               ",0,0,"Liquid Frac               ",0,0]
["Solid Frac                ",0,0,"Solid Frac                ",0,0,"Solid Frac                ",0,0,null,null,null,null,null,null,null,null,null,null,null,"Solid Frac                ",0,0,null,null,null,"Solid Frac                ",0,0,"Solid Frac                ",0,0,"Solid Frac                ",0,0]
["Enthalpy    Btu/lbmol     ",-82468.639999999999,-90180.73,"Enthalpy    Btu/lbmol     ",-82540.850000000006,-90443.839999999997,"Enthalpy    Btu/lbmol     ",-82609.899999999994,-90701.28,null,null,null,null,null,null,null,null,null,null,null,"Enthalpy    Btu/lbmol     ",-57225.2,-37948.879999999997,null,null,null,"Enthalpy    Btu/lbmol     ",-19482.669999999998,-30392.95,"Enthalpy    Btu/lbmol     ",-19315.13,-30109.19,"Enthalpy    Btu/lbmol     ",-19144.73,-29819.8]
["Enthalpy    Btu/lb        ",-4224.7690000000002,-4414.2730000000001,"Enthalpy    Btu/lb        ",-4237.5290000000005,-4430.8360000000002,"Enthalpy    Btu/lb        ",-4249.9340000000002,-4447.0129999999999,null,null,null,null,null,null,null,null,null,null,null,"Enthalpy    Btu/lb        ",-2891.3969999999999,-1838.3240000000001,null,null,null,"Enthalpy    Btu/lb        ",-631.65409999999997,-1036.0550000000001,"Enthalpy    Btu/lb        ",-622.88840000000005,-1022.514,"Enthalpy    Btu/lb        ",-614.05420000000004,-1008.818]
["Enthalpy    Btu/hr        ",-49665000,-51892000,"Enthalpy    Btu/hr        ",-50219000,-52510000,"Enthalpy    Btu/hr        ",-50772000,-53127000,null,null,null,null,null,null,null,null,null,null,null,"Enthalpy    Btu/hr        ",-3204400000,-1433500000,null,null,null,"Enthalpy    Btu/hr        ",-14406000,-23629000,"Enthalpy    Btu/hr        ",-14147000,-23222000,"Enthalpy    Btu/hr        ",-13888000,-22816000]
["Entropy     Btu/lbmol-R   ",-0.2898194,-0.90356530000000002,"Entropy     Btu/lbmol-R   ",-0.43028110000000003,-1.0918540000000001,"Entropy     Btu/lbmol-R   ",-0.56830029999999998,-1.2825869999999999,null,null,null,null,null,null,null,null,null,null,null,"Entropy     Btu/lbmol-R   ",3.6560260000000002,7.609394,null,null,null,"Entropy     Btu/lbmol-R   ",8.5863230000000001,20.876989999999999,"Entropy     Btu/lbmol-R   ",8.7246889999999997,21.063210000000002,"Entropy     Btu/lbmol-R   ",8.8649769999999997,21.25196]
["Entropy     Btu/lb-R      ",-1.48471E-2,-4.4228700000000003E-2,"Entropy     Btu/lb-R      ",-2.2089999999999999E-2,-5.3489799999999997E-2,"Entropy     Btu/lb-R      ",-2.9236600000000001E-2,-6.2884200000000001E-2,null,null,null,null,null,null,null,null,null,null,null,"Entropy     Btu/lb-R      ",0.18472669999999999,0.36861519999999998,null,null,null,"Entropy     Btu/lb-R      ",0.27838000000000002,0.711669,"Entropy     Btu/lb-R      ",0.2813602,0.71531080000000002,"Entropy     Btu/lb-R      ",0.28433799999999998,0.71896340000000003]
["Density     lbmol/cuft    ",1.26187E-3,1.0303000000000001E-3,"Density     lbmol/cuft    ",1.2618900000000001E-3,1.03034E-3,"Density     lbmol/cuft    ",1.2619199999999999E-3,1.03038E-3,null,null,null,null,null,null,null,null,null,null,null,"Density     lbmol/cuft    ",6.2924599999999997E-2,8.8185600000000003E-2,null,null,null,"Density     lbmol/cuft    ",2.3837900000000002E-3,6.8001200000000002E-4,"Density     lbmol/cuft    ",2.3837900000000002E-3,6.8001100000000001E-4,"Density     lbmol/cuft    ",2.3837799999999998E-3,6.8001100000000001E-4]
["Density     lb/cuft       ",2.4632000000000001E-2,2.1048299999999999E-2,"Density     lb/cuft       ",2.4579799999999999E-2,2.10317E-2,"Density     lb/cuft       ",2.4528999999999999E-2,2.1015699999999998E-2,null,null,null,null,null,null,null,null,null,null,null,"Density     lb/cuft       ",1.245376,1.820433,null,null,null,"Density     lb/cuft       ",7.3525400000000005E-2,1.9948299999999999E-2,"Density     lb/cuft       ",7.3918700000000004E-2,2.0023699999999998E-2,"Density     lb/cuft       ",7.4320499999999998E-2,2.01005E-2]
["Average MW                ",19.52027,20.429349999999999,"Average MW                ",19.478539999999999,20.41236,"Average MW                ",19.437930000000001,20.396000000000001,null,null,null,null,null,null,null,null,null,null,null,"Average MW                ",19.791540000000001,20.643190000000001,null,null,null,"Average MW                ",30.843889999999998,29.335260000000002,"Average MW                ",31.008970000000001,29.44624,"Average MW                ",31.177600000000002,29.559159999999999]
["Liq Vol 60F               "," "," ","Liq Vol 60F               "," "," ","Liq Vol 60F               "," "," ",null,null,null,null,null,null,null,null,null,null,null,"Liq Vol 60F cuft/hr       ",37682.9,32374.13,null,null,null,"Liq Vol 60F cuft/hr       ",572.87919999999997," ","Liq Vol 60F cuft/hr       ",569.17089999999996," ","Liq Vol 60F cuft/hr       ",565.46519999999998," "]
["*** ALL PHASES ***        "," "," ","*** ALL PHASES ***        "," "," ","*** ALL PHASES ***        "," "," ",null,null,null,null,null,null,null,null,null,null,null,"*** ALL PHASES ***        "," "," ",null,null,null,"*** ALL PHASES ***        "," "," ","*** ALL PHASES ***        "," "," ","*** ALL PHASES ***        "," "," "]
["TDEW        F             ",271.90839999999997,192.62909999999999,"TDEW        F             ",271.70209999999997,193.27160000000001,"TDEW        F             ",271.49720000000002,193.893,null,null,null,null,null,null,null,null,null,null,null,"TDEW        F             ",367.83199999999999,94.007940000000005,null,null,null,"TDEW        F             ",151.18219999999999,750.52570000000003,"TDEW        F             ",150.07839999999999,751.36929999999995,"TDEW        F             ",148.92330000000001,752.22090000000003]
["CPMX        Btu/lb-R      ",0.42527379999999998,0.42073159999999998,"CPMX        Btu/lb-R      ",0.42629499999999998,0.4210139,"CPMX        Btu/lb-R      ",0.42729080000000003,0.42128599999999999,null,null,null,null,null,null,null,null,null,null,null,"CPMX        Btu/lb-R      ",0.4056843,0.35771950000000002,null,null,null,"CPMX        Btu/lb-R      ",0.2775397,0.36758000000000002,"CPMX        Btu/lb-R      ",0.27650930000000001,0.3659212,"CPMX        Btu/lb-R      ",0.27546670000000001,0.36424329999999999]
["*** VAPOR PHASE ***       "," "," ","*** VAPOR PHASE ***       "," "," ","*** VAPOR PHASE ***       "," "," ",null,null,null,null,null,null,null,null,null,null,null,"*** VAPOR PHASE ***       "," "," ",null,null,null,"*** VAPOR PHASE ***       "," "," ","*** VAPOR PHASE ***       "," "," ","*** VAPOR PHASE ***       "," "," "]
["CPIGMX      Btu/lb-R      ",0.42430859999999998,0.4199272,"CPIGMX      Btu/lb-R      ",0.42532039999999999,0.42019420000000002,"CPIGMX      Btu/lb-R      ",0.42630709999999999,0.42045120000000002,null,null,null,null,null,null,null,null,null,null,null,"CPIGMX      Btu/lb-R      ",0.3841733,0.34159270000000003,null,null,null,"CPIGMX      Btu/lb-R      ",0.2767712,0.36747999999999997,"CPIGMX      Btu/lb-R      ",0.27574599999999999,0.36582150000000002,"CPIGMX      Btu/lb-R      ",0.27470869999999997,0.36414400000000002]
["Substream: $TOTAL         "," "," ","Substream: $TOTAL         "," "," ","Substream: $TOTAL         "," "," ",null,null,null,null,null,null,null,null,null,null,null,"Substream: $TOTAL         "," "," ",null,null,null,"Substream: $TOTAL         "," "," ","Substream: $TOTAL         "," "," ","Substream: $TOTAL         "," "," "]
["Total Flow  lb/hr         ",11755.56,11755.56,"Total Flow  lb/hr         ",11850.95,11850.95,"Total Flow  lb/hr         ",11946.6,11946.6,null,null,null,null,null,null,null,null,null,null,null,"Total Flow  lb/hr         ",1108260,779804,null,null,null,"Total Flow  lb/hr         ",22806.45,22806.45,"Total Flow  lb/hr         ",22711.14,22711.14,"Total Flow  lb/hr         ",22616.1,22616.1]
["Enthalpy    Btu/hr        ",-49665000,-51892000,"Enthalpy    Btu/hr        ",-50219000,-52510000,"Enthalpy    Btu/hr        ",-50772000,-53127000,null,null,null,null,null,null,null,null,null,null,null,"Enthalpy    Btu/hr        ",-3204400000,-1433500000,null,null,null,"Enthalpy    Btu/hr        ",-14406000,-23629000,"Enthalpy    Btu/hr        ",-14147000,-23222000,"Enthalpy    Btu/hr        ",-13888000,-22816000]
["Substream: CISOLID        "," "," ","Substream: CISOLID        "," "," ","Substream: CISOLID        "," "," ",null,null,null,null,null,null,null,null,null,null,null,"Substream: CISOLID        "," "," ",null,null,null,"Substream: CISOLID        "," "," ","Substream: CISOLID        "," "," ","Substream: CISOLID        "," "," "]
["Mole Flow   lbmol/hr      "," "," ","Mole Flow   lbmol/hr      "," "," ","Mole Flow   lbmol/hr      "," "," ",null,null,null,null,null,null,null,null,null,null,null,"Mole Flow   lbmol/hr      "," "," ",null,null,null,"Mole Flow   lbmol/hr      "," "," ","Mole Flow   lbmol/hr      "," "," ","Mole Flow   lbmol/hr      "," "," "]
["  H2O                     ",0,0,"  H2O                     ",0,0,"  H2O                     ",0,0,null,null,null,null,null,null,null,null,null,null,null,"  H2O                     ",0,0,null,null,null,"  H2O                     ",0,0,"  H2O                     ",0,0,"  H2O                     ",0,0]
["  AR                      ",0,0,"  AR                      ",0,0,"  AR                      ",0,0,null,null,null,null,null,null,null,null,null,null,null,"  AR                      ",0,0,null,null,null,"  AR                      ",0,0,"  AR                      ",0,0,"  AR                      ",0,0]
["  CO2                     ",0,0,"  CO2                     ",0,0,"  CO2                     ",0,0,null,null,null,null,null,null,null,null,null,null,null,"  CO2                     ",0,0,null,null,null,"  CO2                     ",0,0,"  CO2                     ",0,0,"  CO2                     ",0,0]
["  O2                      ",0,0,"  O2                      ",0,0,"  O2                      ",0,0,null,null,null,null,null,null,null,null,null,null,null,"  O2                      ",0,0,null,null,null,"  O2                      ",0,0,"  O2                      ",0,0,"  O2                      ",0,0]
["  N2                      ",0,0,"  N2                      ",0,0,"  N2                      ",0,0,null,null,null,null,null,null,null,null,null,null,null,"  N2                      ",0,0,null,null,null,"  N2                      ",0,0,"  N2                      ",0,0,"  N2                      ",0,0]
["  CH4                     ",0,0,"  CH4                     ",0,0,"  CH4                     ",0,0,null,null,null,null,null,null,null,null,null,null,null,"  CH4                     ",0,0,null,null,null,"  CH4                     ",0,0,"  CH4                     ",0,0,"  CH4                     ",0,0]
["  CO                      ",0,0,"  CO                      ",0,0,"  CO                      ",0,0,null,null,null,null,null,null,null,null,null,null,null,"  CO                      ",0,0,null,null,null,"  CO                      ",0,0,"  CO                      ",0,0,"  CO                      ",0,0]
["  COS                     ",0,0,"  COS                     ",0,0,"  COS                     ",0,0,null,null,null,null,null,null,null,null,null,null,null,"  COS                     ",0,0,null,null,null,"  COS                     ",0,0,"  COS                     ",0,0,"  COS                     ",0,0]
["  H2                      ",0,0,"  H2                      ",0,0,"  H2                      ",0,0,null,null,null,null,null,null,null,null,null,null,null,"  H2                      ",0,0,null,null,null,"  H2                      ",0,0,"  H2                      ",0,0,"  H2                      ",0,0]
["  H2S                     ",0,0,"  H2S                     ",0,0,"  H2S                     ",0,0,null,null,null,null,null,null,null,null,null,null,null,"  H2S                     ",0,0,null,null,null,"  H2S                     ",0,0,"  H2S                     ",0,0,"  H2S                     ",0,0]
["  NH3                     ",0,0,"  NH3                     ",0,0,"  NH3                     ",0,0,null,null,null,null,null,null,null,null,null,null,null,"  NH3                     ",0,0,null,null,null,"  NH3                     ",0,0,"  NH3                     ",0,0,"  NH3                     ",0,0]
["  SO2                     ",0,0,"  SO2                     ",0,0,"  SO2                     ",0,0,null,null,null,null,null,null,null,null,null,null,null,"  SO2                     ",0,0,null,null,null,"  SO2                     ",0,0,"  SO2                     ",0,0,"  SO2                     ",0,0]
["  SULFU-01                ",0,0,"  SULFU-01                ",0,0,"  SULFU-01                ",0,0,null,null,null,null,null,null,null,null,null,null,null,"  SULFU-01                ",0,0,null,null,null,"  SULFU-01                ",0,0,"  SULFU-01                ",0,0,"  SULFU-01                ",0,0]
["  SO3                     ",0,0,"  SO3                     ",0,0,"  SO3                     ",0,0,null,null,null,null,null,null,null,null,null,null,null,"  SO3                     ",0,0,null,null,null,"  SO3                     ",0,0,"  SO3                     ",0,0,"  SO3                     ",0,0]
["  C                       ",0,0,"  C                       ",0,0,"  C                       ",0,0,null,null,null,null,null,null,null,null,null,null,null,"  C                       ",0,0,null,null,null,"  C                       ",0,0,"  C                       ",0,0,"  C                       ",0,0]
["  S                       ",0,0,"  S                       ",0,0,"  S                       ",0,0,null,null,null,null,null,null,null,null,null,null,null,"  S                       ",0,0,null,null,null,"  S                       ",0,0,"  S                       ",0,0,"  S                       ",0,0]
["  S2                      ",0,0,"  S2                      ",0,0,"  S2                      ",0,0,null,null,null,null,null,null,null,null,null,null,null,"  S2                      ",0,0,null,null,null,"  S2                      ",0,0,"  S2                      ",0,0,"  S2                      ",0,0]
["  S6                      ",0,0,"  S6                      ",0,0,"  S6                      ",0,0,null,null,null,null,null,null,null,null,null,null,null,"  S6                      ",0,0,null,null,null,"  S6                      ",0,0,"  S6                      ",0,0,"  S6                      ",0,0]
["  S8                      ",0,0,"  S8                      ",0,0,"  S8                      ",0,0,null,null,null,null,null,null,null,null,null,null,null,"  S8                      ",0,0,null,null,null,"  S8                      ",0,0,"  S8                      ",0,0,"  S8                      ",0,0]
["  HCL                     ",0,0,"  HCL                     ",0,0,"  HCL                     ",0,0,null,null,null,null,null,null,null,null,null,null,null,"  HCL                     ",0,0,null,null,null,"  HCL                     ",0,0,"  HCL                     ",0,0,"  HCL                     ",0,0]
["Mole Frac                 "," "," ","Mole Frac                 "," "," ","Mole Frac                 "," "," ",null,null,null,null,null,null,null,null,null,null,null,"Mole Frac                 "," "," ",null,null,null,"Mole Frac                 "," "," ","Mole Frac                 "," "," ","Mole Frac                 "," "," "]
["  H2O                     ",0,0,"  H2O                     ",0,0,"  H2O                     ",0,0,null,null,null,null,null,null,null,null,null,null,null,"  H2O                     ",0,0,null,null,null,"  H2O                     ",0,0,"  H2O                     ",0,0,"  H2O                     ",0,0]
["  AR                      ",0,0,"  AR                      ",0,0,"  AR                      ",0,0,null,null,null,null,null,null,null,null,null,null,null,"  AR                      ",0,0,null,null,null,"  AR                      ",0,0,"  AR                      ",0,0,"  AR                      ",0,0]
["  CO2                     ",0,0,"  CO2                     ",0,0,"  CO2                     ",0,0,null,null,null,null,null,null,null,null,null,null,null,"  CO2                     ",0,0,null,null,null,"  CO2                     ",0,0,"  CO2                     ",0,0,"  CO2                     ",0,0]
["  O2                      ",0,0,"  O2                      ",0,0,"  O2                      ",0,0,null,null,null,null,null,null,null,null,null,null,null,"  O2                      ",0,0,null,null,null,"  O2                      ",0,0,"  O2                      ",0,0,"  O2                      ",0,0]
["  N2                      ",0,0,"  N2                      ",0,0,"  N2                      ",0,0,null,null,null,null,null,null,null,null,null,null,null,"  N2                      ",0,0,null,null,null,"  N2                      ",0,0,"  N2                      ",0,0,"  N2                      ",0,0]
["  CH4                     ",0,0,"  CH4                     ",0,0,"  CH4                     ",0,0,null,null,null,null,null,null,null,null,null,null,null,"  CH4                     ",0,0,null,null,null,"  CH4                     ",0,0,"  CH4                     ",0,0,"  CH4                     ",0,0]
["  CO                      ",0,0,"  CO                      ",0,0,"  CO                      ",0,0,null,null,null,null,null,null,null,null,null,null,null,"  CO                      ",0,0,null,null,null,"  CO                      ",0,0,"  CO                      ",0,0,"  CO                      ",0,0]
["  COS                     ",0,0,"  COS                     ",0,0,"  COS                     ",0,0,null,null,null,null,null,null,null,null,null,null,null,"  COS                     ",0,0,null,null,null,"  COS                     ",0,0,"  COS                     ",0,0,"  COS                     ",0,0]
["  H2                      ",0,0,"  H2                      ",0,0,"  H2                      ",0,0,null,null,null,null,null,null,null,null,null,null,null,"  H2                      ",0,0,null,null,null,"  H2                      ",0,0,"  H2                      ",0,0,"  H2                      ",0,0]
["  H2S                     ",0,0,"  H2S                     ",0,0,"  H2S                     ",0,0,null,null,null,null,null,null,null,null,null,null,null,"  H2S                     ",0,0,null,null,null,"  H2S                     ",0,0,"  H2S                     ",0,0,"  H2S                     ",0,0]
["  NH3                     ",0,0,"  NH3                     ",0,0,"  NH3                     ",0,0,null,null,null,null,null,null,null,null,null,null,null,"  NH3                     ",0,0,null,null,null,"  NH3                     ",0,0,"  NH3                     ",0,0,"  NH3                     ",0,0]
["  SO2                     ",0,0,"  SO2                     ",0,0,"  SO2                     ",0,0,null,null,null,null,null,null,null,null,null,null,null,"  SO2                     ",0,0,null,null,null,"  SO2                     ",0,0,"  SO2                     ",0,0,"  SO2                     ",0,0]
["  SULFU-01                ",0,0,"  SULFU-01                ",0,0,"  SULFU-01                ",0,0,null,null,null,null,null,null,null,null,null,null,null,"  SULFU-01                ",0,0,null,null,null,"  SULFU-01                ",0,0,"  SULFU-01                ",0,0,"  SULFU-01                ",0,0]
["  SO3                     ",0,0,"  SO3                     ",0,0,"  SO3                     ",0,0,null,null,null,null,null,null,null,null,null,null,null,"  SO3                     ",0,0,null,null,null,"  SO3                     ",0,0,"  SO3                     ",0,0,"  SO3                     ",0,0]
["  C                       ",0,0,"  C                       ",0,0,"  C                       ",0,0,null,null,null,null,null,null,null,null,null,null,null,"  C                       ",0,0,null,null,null,"  C                       ",0,0,"  C                       ",0,0,"  C                       ",0,0]
["  S                       ",0,0,"  S                       ",0,0,"  S                       ",0,0,null,null,null,null,null,null,null,null,null,null,null,"  S                       ",0,0,null,null,null,"  S                       ",0,0,"  S                       ",0,0,"  S                       ",0,0]
["  S2                      ",0,0,"  S2                      ",0,0,"  S2                      ",0,0,null,null,null,null,null,null,null,null,null,null,null,"  S2                      ",0,0,null,null,null,"  S2                      ",0,0,"  S2                      ",0,0,"  S2                      ",0,0]
["  S6                      ",0,0,"  S6                      ",0,0,"  S6                      ",0,0,null,null,null,null,null,null,null,null,null,null,null,"  S6                      ",0,0,null,null,null,"  S6                      ",0,0,"  S6                      ",0,0,"  S6                      ",0,0]
["  S8                      ",0,0,"  S8                      ",0,0,"  S8                      ",0,0,null,null,null,null,null,null,null,null,null,null,null,"  S8                      ",0,0,null,null,null,"  S8                      ",0,0,"  S8                      ",0,0,"  S8                      ",0,0]
["  HCL                     ",0,0,"  HCL                     ",0,0,"  HCL                     ",0,0,null,null,null,null,null,null,null,null,null,null,null,"  HCL                     ",0,0,null,null,null,"  HCL                     ",0,0,"  HCL                     ",0,0,"  HCL                     ",0,0]
["Mass Flow   lb/hr         "," "," ","Mass Flow   lb/hr         "," "," ","Mass Flow   lb/hr         "," "," ",null,null,null,null,null,null,null,null,null,null,null,"Mass Flow   lb/hr         "," "," ",null,null,null,"Mass Flow   lb/hr         "," "," ","Mass Flow   lb/hr         "," "," ","Mass Flow   lb/hr         "," "," "]
["  H2O                     ",0,0,"  H2O                     ",0,0,"  H2O                     ",0,0,null,null,null,null,null,null,null,null,null,null,null,"  H2O                     ",0,0,null,null,null,"  H2O                     ",0,0,"  H2O                     ",0,0,"  H2O                     ",0,0]
["  AR                      ",0,0,"  AR                      ",0,0,"  AR                      ",0,0,null,null,null,null,null,null,null,null,null,null,null,"  AR                      ",0,0,null,null,null,"  AR                      ",0,0,"  AR                      ",0,0,"  AR                      ",0,0]
["  CO2                     ",0,0,"  CO2                     ",0,0,"  CO2                     ",0,0,null,null,null,null,null,null,null,null,null,null,null,"  CO2                     ",0,0,null,null,null,"  CO2                     ",0,0,"  CO2                     ",0,0,"  CO2                     ",0,0]
["  O2                      ",0,0,"  O2                      ",0,0,"  O2                      ",0,0,null,null,null,null,null,null,null,null,null,null,null,"  O2                      ",0,0,null,null,null,"  O2                      ",0,0,"  O2                      ",0,0,"  O2                      ",0,0]
["  N2                      ",0,0,"  N2                      ",0,0,"  N2                      ",0,0,null,null,null,null,null,null,null,null,null,null,null,"  N2                      ",0,0,null,null,null,"  N2                      ",0,0,"  N2                      ",0,0,"  N2                      ",0,0]
["  CH4                     ",0,0,"  CH4                     ",0,0,"  CH4                     ",0,0,null,null,null,null,null,null,null,null,null,null,null,"  CH4                     ",0,0,null,null,null,"  CH4                     ",0,0,"  CH4                     ",0,0,"  CH4                     ",0,0]
["  CO                      ",0,0,"  CO                      ",0,0,"  CO                      ",0,0,null,null,null,null,null,null,null,null,null,null,null,"  CO                      ",0,0,null,null,null,"  CO                      ",0,0,"  CO                      ",0,0,"  CO                      ",0,0]
["  COS                     ",0,0,"  COS                     ",0,0,"  COS                     ",0,0,null,null,null,null,null,null,null,null,null,null,null,"  COS                     ",0,0,null,null,null,"  COS                     ",0,0,"  COS                     ",0,0,"  COS                     ",0,0]
["  H2                      ",0,0,"  H2                      ",0,0,"  H2                      ",0,0,null,null,null,null,null,null,null,null,null,null,null,"  H2                      ",0,0,null,null,null,"  H2                      ",0,0,"  H2                      ",0,0,"  H2                      ",0,0]
["  H2S                     ",0,0,"  H2S                     ",0,0,"  H2S                     ",0,0,null,null,null,null,null,null,null,null,null,null,null,"  H2S                     ",0,0,null,null,null,"  H2S                     ",0,0,"  H2S                     ",0,0,"  H2S                     ",0,0]
["  NH3                     ",0,0,"  NH3                     ",0,0,"  NH3                     ",0,0,null,null,null,null,null,null,null,null,null,null,null,"  NH3                     ",0,0,null,null,null,"  NH3                     ",0,0,"  NH3                     ",0,0,"  NH3                     ",0,0]
["  SO2                     ",0,0,"  SO2                     ",0,0,"  SO2                     ",0,0,null,null,null,null,null,null,null,null,null,null,null,"  SO2                     ",0,0,null,null,null,"  SO2                     ",0,0,"  SO2                     ",0,0,"  SO2                     ",0,0]
["  SULFU-01                ",0,0,"  SULFU-01                ",0,0,"  SULFU-01                ",0,0,null,null,null,null,null,null,null,null,null,null,null,"  SULFU-01                ",0,0,null,null,null,"  SULFU-01                ",0,0,"  SULFU-01                ",0,0,"  SULFU-01                ",0,0]
["  SO3                     ",0,0,"  SO3                     ",0,0,"  SO3                     ",0,0,null,null,null,null,null,null,null,null,null,null,null,"  SO3                     ",0,0,null,null,null,"  SO3                     ",0,0,"  SO3                     ",0,0,"  SO3                     ",0,0]
["  C                       ",0,0,"  C                       ",0,0,"  C                       ",0,0,null,null,null,null,null,null,null,null,null,null,null,"  C                       ",0,0,null,null,null,"  C                       ",0,0,"  C                       ",0,0,"  C                       ",0,0]
["  S                       ",0,0,"  S                       ",0,0,"  S                       ",0,0,null,null,null,null,null,null,null,null,null,null,null,"  S                       ",0,0,null,null,null,"  S                       ",0,0,"  S                       ",0,0,"  S                       ",0,0]
["  S2                      ",0,0,"  S2                      ",0,0,"  S2                      ",0,0,null,null,null,null,null,null,null,null,null,null,null,"  S2                      ",0,0,null,null,null,"  S2                      ",0,0,"  S2                      ",0,0,"  S2                      ",0,0]
["  S6                      ",0,0,"  S6                      ",0,0,"  S6                      ",0,0,null,null,null,null,null,null,null,null,null,null,null,"  S6                      ",0,0,null,null,null,"  S6                      ",0,0,"  S6                      ",0,0,"  S6                      ",0,0]
["  S8                      ",0,0,"  S8                      ",0,0,"  S8                      ",0,0,null,null,null,null,null,null,null,null,null,null,null,"  S8                      ",0,0,null,null,null,"  S8                      ",0,0,"  S8                      ",0,0,"  S8                      ",0,0]
["  HCL                     ",0,0,"  HCL                     ",0,0,"  HCL                     ",0,0,null,null,null,null,null,null,null,null,null,null,null,"  HCL                     ",0,0,null,null,null,"  HCL                     ",0,0,"  HCL                     ",0,0,"  HCL                     ",0,0]
["Mass Frac                 "," "," ","Mass Frac                 "," "," ","Mass Frac                 "," "," ",null,null,null,null,null,null,null,null,null,null,null,"Mass Frac                 "," "," ",null,null,null,"Mass Frac                 "," "," ","Mass Frac                 "," "," ","Mass Frac                 "," "," "]
["  H2O                     "," "," ","  H2O                     "," "," ","  H2O                     "," "," ",null,null,null,null,null,null,null,null,null,null,null,"  H2O                     "," "," ",null,null,null,"  H2O                     "," "," ","  H2O                     "," "," ","  H2O                     "," "," "]
["  AR                      "," "," ","  AR                      "," "," ","  AR                      "," "," ",null,null,null,null,null,null,null,null,null,null,null,"  AR                      "," "," ",null,null,null,"  AR                      "," "," ","  AR                      "," "," ","  AR                      "," "," "]
["  CO2                     "," "," ","  CO2                     "," "," ","  CO2                     "," "," ",null,null,null,null,null,null,null,null,null,null,null,"  CO2                     "," "," ",null,null,null,"  CO2                     "," "," ","  CO2                     "," "," ","  CO2                     "," "," "]
["  O2                      "," "," ","  O2                      "," "," ","  O2                      "," "," ",null,null,null,null,null,null,null,null,null,null,null,"  O2                      "," "," ",null,null,null,"  O2                      "," "," ","  O2                      "," "," ","  O2                      "," "," "]
["  N2                      "," "," ","  N2                      "," "," ","  N2                      "," "," ",null,null,null,null,null,null,null,null,null,null,null,"  N2                      "," "," ",null,null,null,"  N2                      "," "," ","  N2                      "," "," ","  N2                      "," "," "]
["  CH4                     "," "," ","  CH4                     "," "," ","  CH4                     "," "," ",null,null,null,null,null,null,null,null,null,null,null,"  CH4                     "," "," ",null,null,null,"  CH4                     "," "," ","  CH4                     "," "," ","  CH4                     "," "," "]
["  CO                      "," "," ","  CO                      "," "," ","  CO                      "," "," ",null,null,null,null,null,null,null,null,null,null,null,"  CO                      "," "," ",null,null,null,"  CO                      "," "," ","  CO                      "," "," ","  CO                      "," "," "]
["  COS                     "," "," ","  COS                     "," "," ","  COS                     "," "," ",null,null,null,null,null,null,null,null,null,null,null,"  COS                     "," "," ",null,null,null,"  COS                     "," "," ","  COS                     "," "," ","  COS                     "," "," "]
["  H2                      "," "," ","  H2                      "," "," ","  H2                      "," "," ",null,null,null,null,null,null,null,null,null,null,null,"  H2                      "," "," ",null,null,null,"  H2                      "," "," ","  H2                      "," "," ","  H2                      "," "," "]
["  H2S                     "," "," ","  H2S                     "," "," ","  H2S                     "," "," ",null,null,null,null,null,null,null,null,null,null,null,"  H2S                     "," "," ",null,null,null,"  H2S                     "," "," ","  H2S                     "," "," ","  H2S                     "," "," "]
["  NH3                     "," "," ","  NH3                     "," "," ","  NH3                     "," "," ",null,null,null,null,null,null,null,null,null,null,null,"  NH3                     "," "," ",null,null,null,"  NH3                     "," "," ","  NH3                     "," "," ","  NH3                     "," "," "]
["  SO2                     "," "," ","  SO2                     "," "," ","  SO2                     "," "," ",null,null,null,null,null,null,null,null,null,null,null,"  SO2                     "," "," ",null,null,null,"  SO2                     "," "," ","  SO2                     "," "," ","  SO2                     "," "," "]
["  SULFU-01                "," "," ","  SULFU-01                "," "," ","  SULFU-01                "," "," ",null,null,null,null,null,null,null,null,null,null,null,"  SULFU-01                "," "," ",null,null,null,"  SULFU-01                "," "," ","  SULFU-01                "," "," ","  SULFU-01                "," "," "]
["  SO3                     "," "," ","  SO3                     "," "," ","  SO3                     "," "," ",null,null,null,null,null,null,null,null,null,null,null,"  SO3                     "," "," ",null,null,null,"  SO3                     "," "," ","  SO3                     "," "," ","  SO3                     "," "," "]
["  C                       "," "," ","  C                       "," "," ","  C                       "," "," ",null,null,null,null,null,null,null,null,null,null,null,"  C                       "," "," ",null,null,null,"  C                       "," "," ","  C                       "," "," ","  C                       "," "," "]
["  S                       "," "," ","  S                       "," "," ","  S                       "," "," ",null,null,null,null,null,null,null,null,null,null,null,"  S                       "," "," ",null,null,null,"  S                       "," "," ","  S                       "," "," ","  S                       "," "," "]
["  S2                      "," "," ","  S2                      "," "," ","  S2                      "," "," ",null,null,null,null,null,null,null,null,null,null,null,"  S2                      "," "," ",null,null,null,"  S2                      "," "," ","  S2                      "," "," ","  S2                      "," "," "]
["  S6                      "," "," ","  S6                      "," "," ","  S6                      "," "," ",null,null,null,null,null,null,null,null,null,null,null,"  S6                      "," "," ",null,null,null,"  S6                      "," "," ","  S6                      "," "," ","  S6                      "," "," "]
["  S8                      "," "," ","  S8                      "," "," ","  S8                      "," "," ",null,null,null,null,null,null,null,null,null,null,null,"  S8                      "," "," ",null,null,null,"  S8                      "," "," ","  S8                      "," "," ","  S8                      "," "," "]
["  HCL                     "," "," ","  HCL                     "," "," ","  HCL                     "," "," ",null,null,null,null,null,null,null,null,null,null,null,"  HCL                     "," "," ",null,null,null,"  HCL                     "," "," ","  HCL                     "," "," ","  HCL                     "," "," "]
["Total Flow  lbmol/hr      ",0,0,"Total Flow  lbmol/hr      ",0,0,"Total Flow  lbmol/hr      ",0,0,null,null,null,null,null,null,null,null,null,null,null,"Total Flow  lbmol/hr      ",0,0,null,null,null,"Total Flow  lbmol/hr      ",0,0,"Total Flow  lbmol/hr      ",0,0,"Total Flow  lbmol/hr      ",0,0]
["Total Flow  lb/hr         ",0,0,"Total Flow  lb/hr         ",0,0,"Total Flow  lb/hr         ",0,0,null,null,null,null,null,null,null,null,null,null,null,"Total Flow  lb/hr         ",0,0,null,null,null,"Total Flow  lb/hr         ",0,0,"Total Flow  lb/hr         ",0,0,"Total Flow  lb/hr         ",0,0]
["Total Flow  cuft/hr       ",0,0,"Total Flow  cuft/hr       ",0,0,"Total Flow  cuft/hr       ",0,0,null,null,null,null,null,null,null,null,null,null,null,"Total Flow  cuft/hr       ",0,0,null,null,null,"Total Flow  cuft/hr       ",0,0,"Total Flow  cuft/hr       ",0,0,"Total Flow  cuft/hr       ",0,0]
["Temperature               "," "," ","Temperature               "," "," ","Temperature               "," "," ",null,null,null,null,null,null,null,null,null,null,null,"Temperature               "," "," ",null,null,null,"Temperature               "," "," ","Temperature               "," "," ","Temperature               "," "," "]
["Pressure    psia          ",12.295949999999999," ","Pressure    psia          ",12.295949999999999," ","Pressure    psia          ",12.295949999999999," ",null,null,null,null,null,null,null,null,null,null,null,"Pressure    psia          ",560,525,null,null,null,"Pressure    psia          ",23.19595," ","Pressure    psia          ",23.19595," ","Pressure    psia          ",23.19595," "]
["Vapor Frac                "," "," ","Vapor Frac                "," "," ","Vapor Frac                "," "," ",null,null,null,null,null,null,null,null,null,null,null,"Vapor Frac                "," "," ",null,null,null,"Vapor Frac                "," "," ","Vapor Frac                "," "," ","Vapor Frac                "," "," "]
["Liquid Frac               "," "," ","Liquid Frac               "," "," ","Liquid Frac               "," "," ",null,null,null,null,null,null,null,null,null,null,null,"Liquid Frac               "," "," ",null,null,null,"Liquid Frac               "," "," ","Liquid Frac               "," "," ","Liquid Frac               "," "," "]
["Solid Frac                "," "," ","Solid Frac                "," "," ","Solid Frac                "," "," ",null,null,null,null,null,null,null,null,null,null,null,"Solid Frac                "," "," ",null,null,null,"Solid Frac                "," "," ","Solid Frac                "," "," ","Solid Frac                "," "," "]
["Enthalpy                  "," "," ","Enthalpy                  "," "," ","Enthalpy                  "," "," ",null,null,null,null,null,null,null,null,null,null,null,"Enthalpy                  "," "," ",null,null,null,"Enthalpy                  "," "," ","Enthalpy                  "," "," ","Enthalpy                  "," "," "]
["Enthalpy                  "," "," ","Enthalpy                  "," "," ","Enthalpy                  "," "," ",null,null,null,null,null,null,null,null,null,null,null,"Enthalpy                  "," "," ",null,null,null,"Enthalpy                  "," "," ","Enthalpy                  "," "," ","Enthalpy                  "," "," "]
["Enthalpy                  "," "," ","Enthalpy                  "," "," ","Enthalpy                  "," "," ",null,null,null,null,null,null,null,null,null,null,null,"Enthalpy                  "," "," ",null,null,null,"Enthalpy                  "," "," ","Enthalpy                  "," "," ","Enthalpy                  "," "," "]
["Entropy                   "," "," ","Entropy                   "," "," ","Entropy                   "," "," ",null,null,null,null,null,null,null,null,null,null,null,"Entropy                   "," "," ",null,null,null,"Entropy                   "," "," ","Entropy                   "," "," ","Entropy                   "," "," "]
["Entropy                   "," "," ","Entropy                   "," "," ","Entropy                   "," "," ",null,null,null,null,null,null,null,null,null,null,null,"Entropy                   "," "," ",null,null,null,"Entropy                   "," "," ","Entropy                   "," "," ","Entropy                   "," "," "]
["Density                   "," "," ","Density                   "," "," ","Density                   "," "," ",null,null,null,null,null,null,null,null,null,null,null,"Density                   "," "," ",null,null,null,"Density                   "," "," ","Density                   "," "," ","Density                   "," "," "]
["Density                   "," "," ","Density                   "," "," ","Density                   "," "," ",null,null,null,null,null,null,null,null,null,null,null,"Density                   "," "," ",null,null,null,"Density                   "," "," ","Density                   "," "," ","Density                   "," "," "]
["Average MW                "," "," ","Average MW                "," "," ","Average MW                "," "," ",null,null,null,null,null,null,null,null,null,null,null,"Average MW                "," "," ",null,null,null,"Average MW                "," "," ","Average MW                "," "," ","Average MW                "," "," "]
["Liq Vol 60F               "," "," ","Liq Vol 60F               "," "," ","Liq Vol 60F               "," "," ",null,null,null,null,null,null,null,null,null,null,null,"Liq Vol 60F               "," "," ",null,null,null,"Liq Vol 60F               "," "," ","Liq Vol 60F               "," "," ","Liq Vol 60F               "," "," "]
["Substream: NC             "," "," ","Substream: NC             "," "," ","Substream: NC             "," "," ",null,null,null,null,null,null,null,null,null,null,null,"Substream: NC             "," "," ",null,null,null,"Substream: NC             "," "," ","Substream: NC             "," "," ","Substream: NC             "," "," "]
["Mass Flow   lb/hr         "," "," ","Mass Flow   lb/hr         "," "," ","Mass Flow   lb/hr         "," "," ",null,null,null,null,null,null,null,null,null,null,null,"Mass Flow   lb/hr         "," "," ",null,null,null,"Mass Flow   lb/hr         "," "," ","Mass Flow   lb/hr         "," "," ","Mass Flow   lb/hr         "," "," "]
["  RAWCOAL                 ",0,0,"  RAWCOAL                 ",0,0,"  RAWCOAL                 ",0,0,null,null,null,null,null,null,null,null,null,null,null,"  RAWCOAL                 ",0,0,null,null,null,"  RAWCOAL                 ",0,0,"  RAWCOAL                 ",0,0,"  RAWCOAL                 ",0,0]
["  SLAG                    ",0,0,"  SLAG                    ",0,0,"  SLAG                    ",0,0,null,null,null,null,null,null,null,null,null,null,null,"  SLAG                    ",0,0,null,null,null,"  SLAG                    ",0,0,"  SLAG                    ",0,0,"  SLAG                    ",0,0]
["  ASH                     ",0,0,"  ASH                     ",0,0,"  ASH                     ",0,0,null,null,null,null,null,null,null,null,null,null,null,"  ASH                     ",0,0,null,null,null,"  ASH                     ",0,0,"  ASH                     ",0,0,"  ASH                     ",0,0]
["  DRYCOAL                 ",0,0,"  DRYCOAL                 ",0,0,"  DRYCOAL                 ",0,0,null,null,null,null,null,null,null,null,null,null,null,"  DRYCOAL                 ",0,0,null,null,null,"  DRYCOAL                 ",0,0,"  DRYCOAL                 ",0,0,"  DRYCOAL                 ",0,0]
["Mass Frac                 "," "," ","Mass Frac                 "," "," ","Mass Frac                 "," "," ",null,null,null,null,null,null,null,null,null,null,null,"Mass Frac                 "," "," ",null,null,null,"Mass Frac                 "," "," ","Mass Frac                 "," "," ","Mass Frac                 "," "," "]
["  RAWCOAL                 ",0,0,"  RAWCOAL                 ",0,0,"  RAWCOAL                 ",0,0,null,null,null,null,null,null,null,null,null,null,null,"  RAWCOAL                 ",0,0,null,null,null,"  RAWCOAL                 ",0,0,"  RAWCOAL                 ",0,0,"  RAWCOAL                 ",0,0]
["  SLAG                    ",0,0,"  SLAG                    ",0,0,"  SLAG                    ",0,0,null,null,null,null,null,null,null,null,null,null,null,"  SLAG                    ",0,0,null,null,null,"  SLAG                    ",0,0,"  SLAG                    ",0,0,"  SLAG                    ",0,0]
["  ASH                     ",0,0,"  ASH                     ",0,0,"  ASH                     ",0,0,null,null,null,null,null,null,null,null,null,null,null,"  ASH                     ",0,0,null,null,null,"  ASH                     ",0,0,"  ASH                     ",0,0,"  ASH                     ",0,0]
["  DRYCOAL                 ",0,0,"  DRYCOAL                 ",0,0,"  DRYCOAL                 ",0,0,null,null,null,null,null,null,null,null,null,null,null,"  DRYCOAL                 ",0,0,null,null,null,"  DRYCOAL                 ",0,0,"  DRYCOAL                 ",0,0,"  DRYCOAL                 ",0,0]
["Total Flow  lb/hr         ",0,0,"Total Flow  lb/hr         ",0,0,"Total Flow  lb/hr         ",0,0,null,null,null,null,null,null,null,null,null,null,null,"Total Flow  lb/hr         ",0,0,null,null,null,"Total Flow  lb/hr         ",0,0,"Total Flow  lb/hr         ",0,0,"Total Flow  lb/hr         ",0,0]
["Temperature               "," "," ","Temperature               "," "," ","Temperature               "," "," ",null,null,null,null,null,null,null,null,null,null,null,"Temperature               "," "," ",null,null,null,"Temperature               "," "," ","Temperature               "," "," ","Temperature               "," "," "]
["Pressure    psia          ",12.295949999999999," ","Pressure    psia          ",12.295949999999999," ","Pressure    psia          ",12.295949999999999," ",null,null,null,null,null,null,null,null,null,null,null,"Pressure    psia          ",560,525,null,null,null,"Pressure    psia          ",23.19595," ","Pressure    psia          ",23.19595," ","Pressure    psia          ",23.19595," "]
["Vapor Frac                "," "," ","Vapor Frac                "," "," ","Vapor Frac                "," "," ",null,null,null,null,null,null,null,null,null,null,null,"Vapor Frac                "," "," ",null,null,null,"Vapor Frac                "," "," ","Vapor Frac                "," "," ","Vapor Frac                "," "," "]
["Liquid Frac               "," "," ","Liquid Frac               "," "," ","Liquid Frac               "," "," ",null,null,null,null,null,null,null,null,null,null,null,"Liquid Frac               "," "," ",null,null,null,"Liquid Frac               "," "," ","Liquid Frac               "," "," ","Liquid Frac               "," "," "]
["Solid Frac                "," "," ","Solid Frac                "," "," ","Solid Frac                "," "," ",null,null,null,null,null,null,null,null,null,null,null,"Solid Frac                "," "," ",null,null,null,"Solid Frac                "," "," ","Solid Frac                "," "," ","Solid Frac                "," "," "]
["Enthalpy                  "," "," ","Enthalpy                  "," "," ","Enthalpy                  "," "," ",null,null,null,null,null,null,null,null,null,null,null,"Enthalpy                  "," "," ",null,null,null,"Enthalpy                  "," "," ","Enthalpy                  "," "," ","Enthalpy                  "," "," "]
["Enthalpy                  "," "," ","Enthalpy                  "," "," ","Enthalpy                  "," "," ",null,null,null,null,null,null,null,null,null,null,null,"Enthalpy                  "," "," ",null,null,null,"Enthalpy                  "," "," ","Enthalpy                  "," "," ","Enthalpy                  "," "," "]
["Entropy                   "," "," ","Entropy                   "," "," ","Entropy                   "," "," ",null,null,null,null,null,null,null,null,null,null,null,"Entropy                   "," "," ",null,null,null,"Entropy                   "," "," ","Entropy                   "," "," ","Entropy                   "," "," "]
["Density                   "," "," ","Density                   "," "," ","Density                   "," "," ",null,null,null,null,null,null,null,null,null,null,null,"Density                   "," "," ",null,null,null,"Density                   "," "," ","Density                   "," "," ","Density                   "," "," "]
["Average MW                ",1,1,"Average MW                ",1,1,"Average MW                ",1,1,null,null,null,null,null,null,null,null,null,null,null,"Average MW                ",1,1,null,null,null,"Average MW                ",1,1,"Average MW                ",1,1,"Average MW                ",1,1]
["RAWCOAL PROXANAL          "," "," ","RAWCOAL PROXANAL          "," "," ","RAWCOAL PROXANAL          "," "," ",null,null,null,null,null,null,null,null,null,null,null,"RAWCOAL PROXANAL          "," "," ",null,null,null,"RAWCOAL PROXANAL          "," "," ","RAWCOAL PROXANAL          "," "," ","RAWCOAL PROXANAL          "," "," "]
["  MOISTURE                "," "," ","  MOISTURE                "," "," ","  MOISTURE                "," "," ",null,null,null,null,null,null,null,null,null,null,null,"  MOISTURE                "," "," ",null,null,null,"  MOISTURE                "," "," ","  MOISTURE                "," "," ","  MOISTURE                "," "," "]
["  FC                      "," "," ","  FC                      "," "," ","  FC                      "," "," ",null,null,null,null,null,null,null,null,null,null,null,"  FC                      "," "," ",null,null,null,"  FC                      "," "," ","  FC                      "," "," ","  FC                      "," "," "]
["  VM                      "," "," ","  VM                      "," "," ","  VM                      "," "," ",null,null,null,null,null,null,null,null,null,null,null,"  VM                      "," "," ",null,null,null,"  VM                      "," "," ","  VM                      "," "," ","  VM                      "," "," "]
["  ASH                     "," "," ","  ASH                     "," "," ","  ASH                     "," "," ",null,null,null,null,null,null,null,null,null,null,null,"  ASH                     "," "," ",null,null,null,"  ASH                     "," "," ","  ASH                     "," "," ","  ASH                     "," "," "]
["RAWCOAL ULTANAL           "," "," ","RAWCOAL ULTANAL           "," "," ","RAWCOAL ULTANAL           "," "," ",null,null,null,null,null,null,null,null,null,null,null,"RAWCOAL ULTANAL           "," "," ",null,null,null,"RAWCOAL ULTANAL           "," "," ","RAWCOAL ULTANAL           "," "," ","RAWCOAL ULTANAL           "," "," "]
["  ASH                     "," "," ","  ASH                     "," "," ","  ASH                     "," "," ",null,null,null,null,null,null,null,null,null,null,null,"  ASH                     "," "," ",null,null,null,"  ASH                     "," "," ","  ASH                     "," "," ","  ASH                     "," "," "]
["  CARBON                  "," "," ","  CARBON                  "," "," ","  CARBON                  "," "," ",null,null,null,null,null,null,null,null,null,null,null,"  CARBON                  "," "," ",null,null,null,"  CARBON                  "," "," ","  CARBON                  "," "," ","  CARBON                  "," "," "]
["  HYDROGEN                "," "," ","  HYDROGEN                "," "," ","  HYDROGEN                "," "," ",null,null,null,null,null,null,null,null,null,null,null,"  HYDROGEN                "," "," ",null,null,null,"  HYDROGEN                "," "," ","  HYDROGEN                "," "," ","  HYDROGEN                "," "," "]
["  NITROGEN                "," "," ","  NITROGEN                "," "," ","  NITROGEN                "," "," ",null,null,null,null,null,null,null,null,null,null,null,"  NITROGEN                "," "," ",null,null,null,"  NITROGEN                "," "," ","  NITROGEN                "," "," ","  NITROGEN                "," "," "]
["  CHLORINE                "," "," ","  CHLORINE                "," "," ","  CHLORINE                "," "," ",null,null,null,null,null,null,null,null,null,null,null,"  CHLORINE                "," "," ",null,null,null,"  CHLORINE                "," "," ","  CHLORINE                "," "," ","  CHLORINE                "," "," "]
["  SULFUR                  "," "," ","  SULFUR                  "," "," ","  SULFUR                  "," "," ",null,null,null,null,null,null,null,null,null,null,null,"  SULFUR                  "," "," ",null,null,null,"  SULFUR                  "," "," ","  SULFUR                  "," "," ","  SULFUR                  "," "," "]
["  OXYGEN                  "," "," ","  OXYGEN                  "," "," ","  OXYGEN                  "," "," ",null,null,null,null,null,null,null,null,null,null,null,"  OXYGEN                  "," "," ",null,null,null,"  OXYGEN                  "," "," ","  OXYGEN                  "," "," ","  OXYGEN                  "," "," "]
["RAWCOAL SULFANAL          "," "," ","RAWCOAL SULFANAL          "," "," ","RAWCOAL SULFANAL          "," "," ",null,null,null,null,null,null,null,null,null,null,null,"RAWCOAL SULFANAL          "," "," ",null,null,null,"RAWCOAL SULFANAL          "," "," ","RAWCOAL SULFANAL          "," "," ","RAWCOAL SULFANAL          "," "," "]
["  PYRITIC                 "," "," ","  PYRITIC                 "," "," ","  PYRITIC                 "," "," ",null,null,null,null,null,null,null,null,null,null,null,"  PYRITIC                 "," "," ",null,null,null,"  PYRITIC                 "," "," ","  PYRITIC                 "," "," ","  PYRITIC                 "," "," "]
["  SULFATE                 "," "," ","  SULFATE                 "," "," ","  SULFATE                 "," "," ",null,null,null,null,null,null,null,null,null,null,null,"  SULFATE                 "," "," ",null,null,null,"  SULFATE                 "," "," ","  SULFATE                 "," "," ","  SULFATE                 "," "," "]
["  ORGANIC                 "," "," ","  ORGANIC                 "," "," ","  ORGANIC                 "," "," ",null,null,null,null,null,null,null,null,null,null,null,"  ORGANIC                 "," "," ",null,null,null,"  ORGANIC                 "," "," ","  ORGANIC                 "," "," ","  ORGANIC                 "," "," "]
["SLAG PROXANAL             "," "," ","SLAG PROXANAL             "," "," ","SLAG PROXANAL             "," "," ",null,null,null,null,null,null,null,null,null,null,null,"SLAG PROXANAL             "," "," ",null,null,null,"SLAG PROXANAL             "," "," ","SLAG PROXANAL             "," "," ","SLAG PROXANAL             "," "," "]
["  MOISTURE                "," "," ","  MOISTURE                "," "," ","  MOISTURE                "," "," ",null,null,null,null,null,null,null,null,null,null,null,"  MOISTURE                "," "," ",null,null,null,"  MOISTURE                "," "," ","  MOISTURE                "," "," ","  MOISTURE                "," "," "]
["  FC                      "," "," ","  FC                      "," "," ","  FC                      "," "," ",null,null,null,null,null,null,null,null,null,null,null,"  FC                      "," "," ",null,null,null,"  FC                      "," "," ","  FC                      "," "," ","  FC                      "," "," "]
["  VM                      "," "," ","  VM                      "," "," ","  VM                      "," "," ",null,null,null,null,null,null,null,null,null,null,null,"  VM                      "," "," ",null,null,null,"  VM                      "," "," ","  VM                      "," "," ","  VM                      "," "," "]
["  ASH                     "," "," ","  ASH                     "," "," ","  ASH                     "," "," ",null,null,null,null,null,null,null,null,null,null,null,"  ASH                     "," "," ",null,null,null,"  ASH                     "," "," ","  ASH                     "," "," ","  ASH                     "," "," "]
["SLAG ULTANAL              "," "," ","SLAG ULTANAL              "," "," ","SLAG ULTANAL              "," "," ",null,null,null,null,null,null,null,null,null,null,null,"SLAG ULTANAL              "," "," ",null,null,null,"SLAG ULTANAL              "," "," ","SLAG ULTANAL              "," "," ","SLAG ULTANAL              "," "," "]
["  ASH                     "," "," ","  ASH                     "," "," ","  ASH                     "," "," ",null,null,null,null,null,null,null,null,null,null,null,"  ASH                     "," "," ",null,null,null,"  ASH                     "," "," ","  ASH                     "," "," ","  ASH                     "," "," "]
["  CARBON                  "," "," ","  CARBON                  "," "," ","  CARBON                  "," "," ",null,null,null,null,null,null,null,null,null,null,null,"  CARBON                  "," "," ",null,null,null,"  CARBON                  "," "," ","  CARBON                  "," "," ","  CARBON                  "," "," "]
["  HYDROGEN                "," "," ","  HYDROGEN                "," "," ","  HYDROGEN                "," "," ",null,null,null,null,null,null,null,null,null,null,null,"  HYDROGEN                "," "," ",null,null,null,"  HYDROGEN                "," "," ","  HYDROGEN                "," "," ","  HYDROGEN                "," "," "]
["  NITROGEN                "," "," ","  NITROGEN                "," "," ","  NITROGEN                "," "," ",null,null,null,null,null,null,null,null,null,null,null,"  NITROGEN                "," "," ",null,null,null,"  NITROGEN                "," "," ","  NITROGEN                "," "," ","  NITROGEN                "," "," "]
["  CHLORINE                "," "," ","  CHLORINE                "," "," ","  CHLORINE                "," "," ",null,null,null,null,null,null,null,null,null,null,null,"  CHLORINE                "," "," ",null,null,null,"  CHLORINE                "," "," ","  CHLORINE                "," "," ","  CHLORINE                "," "," "]
["  SULFUR                  "," "," ","  SULFUR                  "," "," ","  SULFUR                  "," "," ",null,null,null,null,null,null,null,null,null,null,null,"  SULFUR                  "," "," ",null,null,null,"  SULFUR                  "," "," ","  SULFUR                  "," "," ","  SULFUR                  "," "," "]
["  OXYGEN                  "," "," ","  OXYGEN                  "," "," ","  OXYGEN                  "," "," ",null,null,null,null,null,null,null,null,null,null,null,"  OXYGEN                  "," "," ",null,null,null,"  OXYGEN                  "," "," ","  OXYGEN                  "," "," ","  OXYGEN                  "," "," "]
["SLAG SULFANAL             "," "," ","SLAG SULFANAL             "," "," ","SLAG SULFANAL             "," "," ",null,null,null,null,null,null,null,null,null,null,null,"SLAG SULFANAL             "," "," ",null,null,null,"SLAG SULFANAL             "," "," ","SLAG SULFANAL             "," "," ","SLAG SULFANAL             "," "," "]
["  PYRITIC                 "," "," ","  PYRITIC                 "," "," ","  PYRITIC                 "," "," ",null,null,null,null,null,null,null,null,null,null,null,"  PYRITIC                 "," "," ",null,null,null,"  PYRITIC                 "," "," ","  PYRITIC                 "," "," ","  PYRITIC                 "," "," "]
["  SULFATE                 "," "," ","  SULFATE                 "," "," ","  SULFATE                 "," "," ",null,null,null,null,null,null,null,null,null,null,null,"  SULFATE                 "," "," ",null,null,null,"  SULFATE                 "," "," ","  SULFATE                 "," "," ","  SULFATE                 "," "," "]
["  ORGANIC                 "," "," ","  ORGANIC                 "," "," ","  ORGANIC                 "," "," ",null,null,null,null,null,null,null,null,null,null,null,"  ORGANIC                 "," "," ",null,null,null,"  ORGANIC                 "," "," ","  ORGANIC                 "," "," ","  ORGANIC                 "," "," "]
["ASH GENANAL               "," "," ","ASH GENANAL               "," "," ","ASH GENANAL               "," "," ",null,null,null,null,null,null,null,null,null,null,null,"ASH GENANAL               "," "," ",null,null,null,"ASH GENANAL               "," "," ","ASH GENANAL               "," "," ","ASH GENANAL               "," "," "]
["  ELEM1                   "," "," ","  ELEM1                   "," "," ","  ELEM1                   "," "," ",null,null,null,null,null,null,null,null,null,null,null,"  ELEM1                   "," "," ",null,null,null,"  ELEM1                   "," "," ","  ELEM1                   "," "," ","  ELEM1                   "," "," "]
["  ELEM2                   "," "," ","  ELEM2                   "," "," ","  ELEM2                   "," "," ",null,null,null,null,null,null,null,null,null,null,null,"  ELEM2                   "," "," ",null,null,null,"  ELEM2                   "," "," ","  ELEM2                   "," "," ","  ELEM2                   "," "," "]
["  ELEM3                   "," "," ","  ELEM3                   "," "," ","  ELEM3                   "," "," ",null,null,null,null,null,null,null,null,null,null,null,"  ELEM3                   "," "," ",null,null,null,"  ELEM3                   "," "," ","  ELEM3                   "," "," ","  ELEM3                   "," "," "]
["  ELEM4                   "," "," ","  ELEM4                   "," "," ","  ELEM4                   "," "," ",null,null,null,null,null,null,null,null,null,null,null,"  ELEM4                   "," "," ",null,null,null,"  ELEM4                   "," "," ","  ELEM4                   "," "," ","  ELEM4                   "," "," "]
["  ELEM5                   "," "," ","  ELEM5                   "," "," ","  ELEM5                   "," "," ",null,null,null,null,null,null,null,null,null,null,null,"  ELEM5                   "," "," ",null,null,null,"  ELEM5                   "," "," ","  ELEM5                   "," "," ","  ELEM5                   "," "," "]
["  ELEM6                   "," "," ","  ELEM6                   "," "," ","  ELEM6                   "," "," ",null,null,null,null,null,null,null,null,null,null,null,"  ELEM6                   "," "," ",null,null,null,"  ELEM6                   "," "," ","  ELEM6                   "," "," ","  ELEM6                   "," "," "]
["  ELEM7                   "," "," ","  ELEM7                   "," "," ","  ELEM7                   "," "," ",null,null,null,null,null,null,null,null,null,null,null,"  ELEM7                   "," "," ",null,null,null,"  ELEM7                   "," "," ","  ELEM7                   "," "," ","  ELEM7                   "," "," "]
["  ELEM8                   "," "," ","  ELEM8                   "," "," ","  ELEM8                   "," "," ",null,null,null,null,null,null,null,null,null,null,null,"  ELEM8                   "," "," ",null,null,null,"  ELEM8                   "," "," ","  ELEM8                   "," "," ","  ELEM8                   "," "," "]
["  ELEM9                   "," "," ","  ELEM9                   "," "," ","  ELEM9                   "," "," ",null,null,null,null,null,null,null,null,null,null,null,"  ELEM9                   "," "," ",null,null,null,"  ELEM9                   "," "," ","  ELEM9                   "," "," ","  ELEM9                   "," "," "]
["  ELEM10                  "," "," ","  ELEM10                  "," "," ","  ELEM10                  "," "," ",null,null,null,null,null,null,null,null,null,null,null,"  ELEM10                  "," "," ",null,null,null,"  ELEM10                  "," "," ","  ELEM10                  "," "," ","  ELEM10                  "," "," "]
["  ELEM11                  "," "," ","  ELEM11                  "," "," ","  ELEM11                  "," "," ",null,null,null,null,null,null,null,null,null,null,null,"  ELEM11                  "," "," ",null,null,null,"  ELEM11                  "," "," ","  ELEM11                  "," "," ","  ELEM11                  "," "," "]
["  ELEM12                  "," "," ","  ELEM12                  "," "," ","  ELEM12                  "," "," ",null,null,null,null,null,null,null,null,null,null,null,"  ELEM12                  "," "," ",null,null,null,"  ELEM12                  "," "," ","  ELEM12                  "," "," ","  ELEM12                  "," "," "]
["  ELEM13                  "," "," ","  ELEM13                  "," "," ","  ELEM13                  "," "," ",null,null,null,null,null,null,null,null,null,null,null,"  ELEM13                  "," "," ",null,null,null,"  ELEM13                  "," "," ","  ELEM13                  "," "," ","  ELEM13                  "," "," "]
["  ELEM14                  "," "," ","  ELEM14                  "," "," ","  ELEM14                  "," "," ",null,null,null,null,null,null,null,null,null,null,null,"  ELEM14                  "," "," ",null,null,null,"  ELEM14                  "," "," ","  ELEM14                  "," "," ","  ELEM14                  "," "," "]
["  ELEM15                  "," "," ","  ELEM15                  "," "," ","  ELEM15                  "," "," ",null,null,null,null,null,null,null,null,null,null,null,"  ELEM15                  "," "," ",null,null,null,"  ELEM15                  "," "," ","  ELEM15                  "," "," ","  ELEM15                  "," "," "]
["  ELEM16                  "," "," ","  ELEM16                  "," "," ","  ELEM16                  "," "," ",null,null,null,null,null,null,null,null,null,null,null,"  ELEM16                  "," "," ",null,null,null,"  ELEM16                  "," "," ","  ELEM16                  "," "," ","  ELEM16                  "," "," "]
["  ELEM17                  "," "," ","  ELEM17                  "," "," ","  ELEM17                  "," "," ",null,null,null,null,null,null,null,null,null,null,null,"  ELEM17                  "," "," ",null,null,null,"  ELEM17                  "," "," ","  ELEM17                  "," "," ","  ELEM17                  "," "," "]
["  ELEM18                  "," "," ","  ELEM18                  "," "," ","  ELEM18                  "," "," ",null,null,null,null,null,null,null,null,null,null,null,"  ELEM18                  "," "," ",null,null,null,"  ELEM18                  "," "," ","  ELEM18                  "," "," ","  ELEM18                  "," "," "]
["  ELEM19                  "," "," ","  ELEM19                  "," "," ","  ELEM19                  "," "," ",null,null,null,null,null,null,null,null,null,null,null,"  ELEM19                  "," "," ",null,null,null,"  ELEM19                  "," "," ","  ELEM19                  "," "," ","  ELEM19                  "," "," "]
["  ELEM20                  "," "," ","  ELEM20                  "," "," ","  ELEM20                  "," "," ",null,null,null,null,null,null,null,null,null,null,null,"  ELEM20                  "," "," ",null,null,null,"  ELEM20                  "," "," ","  ELEM20                  "," "," ","  ELEM20                  "," "," "]
["DRYCOAL PROXANAL          "," "," ","DRYCOAL PROXANAL          "," "," ","DRYCOAL PROXANAL          "," "," ",null,null,null,null,null,null,null,null,null,null,null,"DRYCOAL PROXANAL          "," "," ",null,null,null,"DRYCOAL PROXANAL          "," "," ","DRYCOAL PROXANAL          "," "," ","DRYCOAL PROXANAL          "," "," "]
["  MOISTURE                "," "," ","  MOISTURE                "," "," ","  MOISTURE                "," "," ",null,null,null,null,null,null,null,null,null,null,null,"  MOISTURE                "," "," ",null,null,null,"  MOISTURE                "," "," ","  MOISTURE                "," "," ","  MOISTURE                "," "," "]
["  FC                      "," "," ","  FC                      "," "," ","  FC                      "," "," ",null,null,null,null,null,null,null,null,null,null,null,"  FC                      "," "," ",null,null,null,"  FC                      "," "," ","  FC                      "," "," ","  FC                      "," "," "]
["  VM                      "," "," ","  VM                      "," "," ","  VM                      "," "," ",null,null,null,null,null,null,null,null,null,null,null,"  VM                      "," "," ",null,null,null,"  VM                      "," "," ","  VM                      "," "," ","  VM                      "," "," "]
["  ASH                     "," "," ","  ASH                     "," "," ","  ASH                     "," "," ",null,null,null,null,null,null,null,null,null,null,null,"  ASH                     "," "," ",null,null,null,"  ASH                     "," "," ","  ASH                     "," "," ","  ASH                     "," "," "]
["DRYCOAL ULTANAL           "," "," ","DRYCOAL ULTANAL           "," "," ","DRYCOAL ULTANAL           "," "," ",null,null,null,null,null,null,null,null,null,null,null,"DRYCOAL ULTANAL           "," "," ",null,null,null,"DRYCOAL ULTANAL           "," "," ","DRYCOAL ULTANAL           "," "," ","DRYCOAL ULTANAL           "," "," "]
["  ASH                     "," "," ","  ASH                     "," "," ","  ASH                     "," "," ",null,null,null,null,null,null,null,null,null,null,null,"  ASH                     "," "," ",null,null,null,"  ASH                     "," "," ","  ASH                     "," "," ","  ASH                     "," "," "]
["  CARBON                  "," "," ","  CARBON                  "," "," ","  CARBON                  "," "," ",null,null,null,null,null,null,null,null,null,null,null,"  CARBON                  "," "," ",null,null,null,"  CARBON                  "," "," ","  CARBON                  "," "," ","  CARBON                  "," "," "]
["  HYDROGEN                "," "," ","  HYDROGEN                "," "," ","  HYDROGEN                "," "," ",null,null,null,null,null,null,null,null,null,null,null,"  HYDROGEN                "," "," ",null,null,null,"  HYDROGEN                "," "," ","  HYDROGEN                "," "," ","  HYDROGEN                "," "," "]
["  NITROGEN                "," "," ","  NITROGEN                "," "," ","  NITROGEN                "," "," ",null,null,null,null,null,null,null,null,null,null,null,"  NITROGEN                "," "," ",null,null,null,"  NITROGEN                "," "," ","  NITROGEN                "," "," ","  NITROGEN                "," "," "]
["  CHLORINE                "," "," ","  CHLORINE                "," "," ","  CHLORINE                "," "," ",null,null,null,null,null,null,null,null,null,null,null,"  CHLORINE                "," "," ",null,null,null,"  CHLORINE                "," "," ","  CHLORINE                "," "," ","  CHLORINE                "," "," "]
["  SULFUR                  "," "," ","  SULFUR                  "," "," ","  SULFUR                  "," "," ",null,null,null,null,null,null,null,null,null,null,null,"  SULFUR                  "," "," ",null,null,null,"  SULFUR                  "," "," ","  SULFUR                  "," "," ","  SULFUR                  "," "," "]
["  OXYGEN                  "," "," ","  OXYGEN                  "," "," ","  OXYGEN                  "," "," ",null,null,null,null,null,null,null,null,null,null,null,"  OXYGEN                  "," "," ",null,null,null,"  OXYGEN                  "," "," ","  OXYGEN                  "," "," ","  OXYGEN                  "," "," "]
["DRYCOAL SULFANAL          "," "," ","DRYCOAL SULFANAL          "," "," ","DRYCOAL SULFANAL          "," "," ",null,null,null,null,null,null,null,null,null,null,null,"DRYCOAL SULFANAL          "," "," ",null,null,null,"DRYCOAL SULFANAL          "," "," ","DRYCOAL SULFANAL          "," "," ","DRYCOAL SULFANAL          "," "," "]
["  PYRITIC                 "," "," ","  PYRITIC                 "," "," ","  PYRITIC                 "," "," ",null,null,null,null,null,null,null,null,null,null,null,"  PYRITIC                 "," "," ",null,null,null,"  PYRITIC                 "," "," ","  PYRITIC                 "," "," ","  PYRITIC                 "," "," "]
["  SULFATE                 "," "," ","  SULFATE                 "," "," ","  SULFATE                 "," "," ",null,null,null,null,null,null,null,null,null,null,null,"  SULFATE                 "," "," ",null,null,null,"  SULFATE                 "," "," ","  SULFATE                 "," "," ","  SULFATE                 "," "," "]
["  ORGANIC                 "," "," ","  ORGANIC                 "," "," ","  ORGANIC                 "," "," ",null,null,null,null,null,null,null,null,null,null,null,"  ORGANIC                 "," "," ",null,null,null,"  ORGANIC                 "," "," ","  ORGANIC                 "," "," ","  ORGANIC                 "," "," "]

{"sheet":"Supp Data 2","index":18,"n_rows":582,"n_cols":55,"rows_kept":582,"cut":false,"hidden":true,"merged":[]}
["Fuel Gas Ratio Calculation"]
["Fuel gas Out",null,null,null,null,null,null,"Mixed Gas in to FT"]
[null,"201S7","204S21B","303S2","301S1",null,null,"201S3"]
[null,"A200M1","P308M1","P308M1","P308M1",null,null,"P201F"]
[null,"P201S6","P204S4","P303F","P301F",null,null,"P201M1"]
[null,"VAPOR","VAPOR","VAPOR","VAPOR",null,null,"VAPOR"]
[]
["Substream: MIXED          "," "," "," "," ",null,"Substream: MIXED          "," ",null,null,null,null,null,null,null,null,null,null,"Calculate the Fuel Product Ratios",null,null,null,null,null,null,null,"Calculate Water output"]
["Mole Flow   lbmol/hr      "," "," "," "," ",null,"Mole Flow   lbmol/hr      "," ",null,null,"Fuel Gas Total Mole Flows","Flow/H2",null,null,null,null,null,null,"JetFuel","Naphtha",null,null,null,null,null,null,"Water 1","Water 2",null,null,null,null,null,null,null,"Calculate CO2 Flows",null,null,null,null,null,null,null,null,null,"Calculate Fuel Gas Flow and Distribution",null,null,null,null,null,"Calculate LPG flow"]
["  H2                      ",5.7562239999999996,0.75617909999999999,0,0,null,"  H2                      ",76729.02,null,null,{"$f":"B10+D10+E10","v":5.7562239999999996},{"$f":"K10/$H$10","v":7.5020168379577883E-5},"=$E$6*",{"$f":"CONCATENATE(M10,L10)","v":"=$E$6*7.50201683795779E-05"},null,null,null,null,0,0,{"$f":"S10/$H$14","v":0},{"$f":"T10/$H$14","v":0},"=$E$10*",{"$f":"CONCATENATE(W10,U10)","v":"=$E$10*0"},{"$f":"CONCATENATE(W10,V10)","v":"=$E$10*0"},null,2.2524550000000001E-2,6.6539299999999997E-3,{"$f":"AA10/$H$14","v":2.7508780697328855E-7},{"$f":"AB10/$H$14","v":8.1263111203277038E-8},"=$E$9*",{"$f":"CONCATENATE(AE10,AC10)","v":"=$E$9*2.75087806973289E-07"},{"$f":"CONCATENATE(AE10,AD10)","v":"=$E$9*8.1263111203277E-08"},null,null,0,0,{"$f":"AJ10/$H$14","v":0},{"$f":"AK10/$H$14","v":0},"=$E$9*",{"$f":"CONCATENATE(AN10,AL10)","v":"=$E$9*0"},{"$f":"CONCATENATE(AN10,AM10)","v":"=$E$9*0"},null,null,null,1236.1804099999999,2856.6779299999998,{"$f":"CONCATENATE(AU10,AT10)","v":"2856.677931236.18041"},null,null,null,0.75617909999999999,{"$f":"AZ10/$S$101","v":2.6878080911866647E-4},"=$P$96*",{"$f":"CONCATENATE(BB10,BA10)","v":"=$P$96*0.000268780809118666"}]
["  N2                      ",2.6241949999999998,0.5090249,0,0,null,"  N2                      ",8809.7049999999999,null,null,{"$f":"B11+D11+E11","v":2.6241949999999998},{"$f":"K11/$H$10","v":3.4200814763436309E-5},"=$E$6*",{"$f":"CONCATENATE(M11,L11)","v":"=$E$6*3.42008147634363E-05"},null,null,null,null,0,0,{"$f":"S11/$H$14","v":0},0,"=$E$10*","=$E$10*0",{"$f":"CONCATENATE(W11,V11)","v":"=$E$10*0"},null,4.5591800000000004E-3,2.8950400000000002E-3,{"$f":"AA11/$H$14","v":5.5680350009055793E-8},3.5356542292740559E-8,"=$E$9*",{"$f":"CONCATENATE(AE11,AC11)","v":"=$E$9*5.56803500090558E-08"},{"$f":"CONCATENATE(AE11,AD11)","v":"=$E$9*3.53565422927406E-08"},null,null,0,0,{"$f":"AJ11/$H$14","v":0},0,"=$E$9*",{"$f":"CONCATENATE(AN11,AL11)","v":"=$E$9*0"},{"$f":"CONCATENATE(AN11,AM11)","v":"=$E$9*0"},null,null,null,867.92961200000002,2005.69055,null,null,null,null,0.5090249,{"$f":"AZ11/$S$101","v":1.8093084625526982E-4},"=$P$96*",{"$f":"CONCATENATE(BB11,BA11)","v":"=$P$96*0.00018093084625527"}]
["  O2                      ",0,0,0,0,null,"  O2                      ",0,null,null,0,0,"=$E$6*","=$E$6*0",null,null,null,null,0,0,0,0,"=$E$10*","=$E$10*0","=$E$10*0",null,0,0,0,0,"=$E$9*","=$E$9*0","=$E$9*0",null,null,0,0,0,0,"=$E$9*","=$E$9*0","=$E$9*0",null,null,null,0,0,null,null,null,null,0,0,"=$P$96*","=$P$96*0"]
["  H2S                     ",2.7846400000000002E-7,1.6400699999999999E-7,0,0,null,"  H2S                     ",4.1578600000000002E-4,null,null,2.7846400000000002E-7,3.629187496464832E-12,"=$E$6*","=$E$6*3.62918749646483E-12",null,null,null,null,0,0,0,0,"=$E$10*","=$E$10*0","=$E$10*0",null,5.4560000000000002E-7,0,6.6633032617577811E-12,0,"=$E$9*","=$E$9*6.66330326175778E-12","=$E$9*0",null,null,0,0,0,0,"=$E$9*","=$E$9*0","=$E$9*0",null,null,null,0,0,null,null,null,null,1.6401E-7,5.8296692547509566E-11,"=$P$96*","=$P$96*5.82966925475096E-11"]
["  CO                      ",0.79769500000000004,0.1490233,0,0,null,"  CO                      ",81881.31,null,null,0.79769500000000004,1.0396262066164796E-5,"=$E$6*","=$E$6*1.03962620661648E-05",null,null,null,null,0,0,0,0,"=$E$10*","=$E$10*0","=$E$10*0",null,1.14365E-3,6.1317000000000001E-4,1.3967167843308809E-8,7.4885221059604451E-9,"=$E$9*","=$E$9*1.39671678433088E-08","=$E$9*7.48852210596045E-09",null,null,0,0,0,0,"=$E$9*","=$E$9*0","=$E$9*0",null,null,null,228.88968199999999,528.93905900000004,null,null,null,null,0.14902335,5.2969748291871894E-5,"=$P$96*","=$P$96*5.29697482918719E-05"]
["  CO2                     ",19.734870000000001,7.7742139999999997,0,0,null,"  CO2                     ",1399.6389999999999,null,null,19.734870000000001,2.5720216418768281E-4,"=$E$6*","=$E$6*0.000257202164187683",null,null,null,null,0,0,{"$f":"S15/$H$14","v":0},{"$f":"T15/$H$14","v":0},"=$E$10*","=$E$10*0","=$E$10*0",null,3.6428265999999998,0.10692469,4.4489109907987551E-5,1.3058497720664215E-6,"=$E$9*","=$E$9*4.44891099079876E-05","=$E$9*1.30584977206642E-06",null,null,37863.498299999999,1199.03874,0.46241930301310519,1.4643619404721296E-2,"=$E$9*","=$E$9*0.462419303013105","=$E$9*0.0146436194047213",null,null,null,1.8198486899999999,4.2054712299999997,null,null,null,null,7.7742140099999997,2.7633129927413661E-3,"=$P$96*","=$P$96*0.00276331299274137"]
["  H2O                     ",0.38981640000000001,9.2986470000000008,0,0,null,"  H2O                     ",9004.714897801543,null,null,0.38981640000000001,5.0804298034824372E-6,"=$E$6*","=$E$6*5.08042980348244E-06",null,null,null,null,0,0,0,0,"=$E$10*","=$E$10*0","=$E$10*0",null,14157.488799999999,4070.9870500000002,0.17290256836389159,4.971814752353132E-2,"=$E$9*","=$E$9*0.172902568363892","=$E$9*0.0497181475235313",null,null,0,0,0,0,"=$E$9*","=$E$9*0","=$E$9*0",null,null,null,11.6248041,24.5202913,null,null,null,null,9.2986470099999998,3.3051665499042077E-3,"=$P$96*","=$P$96*0.00330516654990421"]
["  NH3                     ",0,0,0,0,null,"  NH3                     ",0,null,null,0,0,"=$E$6*","=$E$6*0",null,null,null,null,0,0,0,0,"=$E$10*","=$E$10*0","=$E$10*0",null,0,12.1194135,0,1.4801196390238505E-4,"=$E$9*","=$E$9*0","=$E$9*0.000148011963902385",null,null,0,0,0,0,"=$E$9*","=$E$9*0","=$E$9*0",null,null,null,1.1019395700000001,2.53827303,null,null,null,null,0,0,"=$P$96*","=$P$96*0"]
["  HCL                     ",0,0,0,0,null,"  HCL                     ",0,null,null,0,0,"=$E$6*","=$E$6*0",null,null,null,null,0,0,0,0,"=$E$10*","=$E$10*0","=$E$10*0",null,0,0,0,0,"=$E$9*","=$E$9*0","=$E$9*0",null,null,0,0,0,0,"=$E$9*","=$E$9*0","=$E$9*0",null,null,null,0,0,null,null,null,null,0,0,"=$P$96*","=$P$96*0"]
["  C                       ",0,0,0,0,null,"  C                       ",0,null,null,0,0,"=$E$6*","=$E$6*0",null,null,null,null,0,0,0,0,"=$E$10*","=$E$10*0","=$E$10*0",null,0,0,0,0,"=$E$9*","=$E$9*0","=$E$9*0",null,null,0,0,0,0,"=$E$9*","=$E$9*0","=$E$9*0",null,null,null,0,0,null,null,null,null,0,0,"=$P$96*","=$P$96*0"]
["  HCN                     ",0,0,0,0,null,"  HCN                     ",0,null,null,0,0,"=$E$6*","=$E$6*0",null,null,null,null,0,0,0,0,"=$E$10*","=$E$10*0","=$E$10*0",null,0,6.0839000000000003E-6,0,7.4301449256246641E-11,"=$E$9*","=$E$9*0","=$E$9*7.43014492562466E-11",null,null,0,0,0,0,"=$E$9*","=$E$9*0","=$E$9*0",null,null,null,4.1738900000000004E-3,9.6454000000000002E-3,null,null,null,null,0,0,"=$P$96*","=$P$96*0"]
["  SULFUR                  ",0,0,0,0,null,"  SULFUR                  ",0,null,null,0,0,"=$E$6*","=$E$6*0",null,null,null,null,0,0,0,0,"=$E$10*","=$E$10*0","=$E$10*0",null,0,0,0,0,"=$E$9*","=$E$9*0","=$E$9*0",null,null,0,0,0,0,"=$E$9*","=$E$9*0","=$E$9*0",null,null,null,0,0,null,null,null,null,0,0,"=$P$96*","=$P$96*0"]
["  COS                     ",0,0,0,0,null,"  COS                     ",0,null,null,0,0,"=$E$6*","=$E$6*0",null,null,null,null,0,0,0,0,"=$E$10*","=$E$10*0","=$E$10*0",null,0,0,0,0,"=$E$9*","=$E$9*0","=$E$9*0",null,null,0,0,0,0,"=$E$9*","=$E$9*0","=$E$9*0",null,null,null,0,0,null,null,null,null,0,0,"=$P$96*","=$P$96*0"]
["  CH4                     ",1.19635,0.3480743,29.90588,8.5537899999999993,null,"  CH4                     ",2015.0150000000001,null,null,39.656019999999998,5.168320929942803E-4,"=$E$6*","=$E$6*0.00051683209299428",null,null,null,null,0,0,0,0,"=$E$10*","=$E$10*0","=$E$10*0",null,1.2444230000000001E-2,3.861531E-2,1.519788826045895E-7,4.7160102836654666E-7,"=$E$9*","=$E$9*1.51978882604589E-07","=$E$9*4.71601028366547E-07",null,null,0,0,0,0,"=$E$9*","=$E$9*0","=$E$9*0",null,null,null,1401.2168799999999,3238.05917,null,null,null,null,0.34807431,1.2372160864432982E-4,"=$P$96*","=$P$96*0.00012372160864433"]
["  C2H4                    ",0.60557970000000005,3.0662180000000001,0,0,null,"  C2H4                    ",728.33910000000003,null,null,0.60557970000000005,7.892446690965165E-6,"=$E$6*","=$E$6*7.89244669096517E-06",null,null,null,null,0,0,0,0,"=$E$10*","=$E$10*0","=$E$10*0",null,6.90962E-3,1.7632000000000001E-7,8.4385801839271986E-8,2.1533607608378517E-12,"=$E$9*","=$E$9*8.4385801839272E-08","=$E$9*2.15336076083785E-12",null,null,0,0,0,0,"=$E$9*","=$E$9*0","=$E$9*0",null,null,null,4.2217399999999999E-3,9.7559799999999992E-3,null,null,null,null,3.06621816,1.0898748695635052E-3,"=$P$96*","=$P$96*0.00108987486956351"]
["  C2H6                    ",0.14816679999999999,15.03627,41.090710000000001,4.5636099999999997,null,"  C2H6                    ",152.2978,null,null,45.802486799999997,5.9693824839676039E-4,"=$E$6*","=$E$6*0.00059693824839676",null,null,null,null,0,0,0,0,"=$E$10*","=$E$10*0","=$E$10*0",null,1.0398199999999999E-3,5.1232000000000003E-6,1.2699112898902081E-8,6.256861303269331E-11,"=$E$9*","=$E$9*1.26991128989021E-08","=$E$9*6.25686130326933E-11",null,null,0,0,0,0,"=$E$9*","=$E$9*0","=$E$9*0",null,null,null,0.18221023,0.42106792999999998,null,null,null,null,15.036274499999999,5.3445830838757275E-3,"=$P$96*","=$P$96*0.00534458308387573"]
["  C3H6                    ",0.25610519999999998,306.9828,0,0,null,"  C3H6                    ",15.95843,null,null,0.25610519999999998,3.3377879712265315E-6,"=$E$6*","=$E$6*3.33778797122653E-06",null,null,null,null,0,0,0,0,"=$E$10*","=$E$10*0","=$E$10*0",null,6.6989999999999997E-4,2.1334000000000001E-10,8.1813542064727588E-9,2.6054785884593201E-15,"=$E$9*","=$E$9*8.18135420647276E-09","=$E$9*2.60547858845932E-15",null,null,0,0,0,0,"=$E$9*","=$E$9*0","=$E$9*0",null,null,null,1.5747999999999999E-5,3.6393000000000002E-5,null,null,null,null,306.98284000000001,0.10911581148003976,"=$P$96*","=$P$96*0.10911581148004"]
["  C3H8                    ",4.6136099999999999E-2,54.527410000000003,38.016089999999998,93.27261,null,"  C3H8                    ",2.0753740000000001,null,null,131.33483609999999,1.7116709701231682E-3,"=$E$6*","=$E$6*0.00171167097012317",null,null,null,null,0,0,0,0,"=$E$10*","=$E$10*0","=$E$10*0",null,3.0839000000000001E-5,2.4114999999999999E-10,3.7663051555965581E-10,2.9451165351409251E-15,"=$E$9*","=$E$9*3.76630515559656E-10","=$E$9*2.94511653514093E-15",null,null,0,0,0,0,"=$E$9*","=$E$9*0","=$E$9*0",null,null,null,6.7327000000000001E-5,1.5558E-4,null,null,null,null,54.527409900000002,1.9381547773625569E-2,"=$P$96*","=$P$96*0.0193815477736256"]
["  IC4H8                   ",1.18114E-2,12.328290000000001,0,0,null,"  IC4H8                   ",4.6922499999999999E-2,null,null,1.18114E-2,1.5393654187164125E-7,"=$E$6*","=$E$6*1.53936541871641E-07",null,null,null,null,0,0,0,0,"=$E$10*","=$E$10*0","=$E$10*0",null,2.1583000000000002E-6,1.5381999999999999E-14,2.6358884585505536E-11,1.8785727780857438E-19,"=$E$9*","=$E$9*2.63588845855055E-11","=$E$9*1.87857277808574E-19",null,null,0,0,0,0,"=$E$9*","=$E$9*0","=$E$9*0",null,null,null,1.2413E-8,2.8684999999999998E-8,null,null,null,null,12.328287899999999,4.3820401764738878E-3,"=$P$96*","=$P$96*0.00438204017647389"]
["  NC4H8                   ",0.2256455,234.15969999999999,0,0,null,"  NC4H8                   ",0.85817589999999999,null,null,0.2256455,2.9408104000285678E-6,"=$E$6*","=$E$6*2.94081040002857E-06",null,null,null,null,0,0,0,0,"=$E$10*","=$E$10*0","=$E$10*0",null,4.6659999999999997E-5,7.8511999999999995E-15,5.698492122317046E-10,9.5885129341482195E-20,"=$E$9*","=$E$9*5.69849212231705E-10","=$E$9*9.58851293414822E-20",null,null,0,0,0,0,"=$E$9*","=$E$9*0","=$E$9*0",null,null,null,5.6146E-9,1.2975E-8,null,null,null,null,234.159727,8.3231129881883872E-2,"=$P$96*","=$P$96*0.0832311298818839"]
["  IC4H10                  ",2.9350299999999999E-3,3.0771850000000001,21.257899999999999,93.709869999999995,null,"  IC4H10                  ",1.66637E-2,null,null,114.97070502999999,1.4983992370813544E-3,"=$E$6*","=$E$6*0.00149839923708135",null,null,null,null,0,0,0,0,"=$E$10*","=$E$10*0","=$E$10*0",null,6.5974999999999994E-8,2.5566999999999999E-15,8.0573942942534744E-13,3.1224463800102855E-20,"=$E$9*","=$E$9*8.05739429425347E-13","=$E$9*3.12244638001029E-20",null,null,0,0,0,0,"=$E$9*","=$E$9*0","=$E$9*0",null,null,null,1.7196999999999998E-8,3.9740999999999998E-8,null,null,null,null,3.0771853999999998,1.0937731307571808E-3,"=$P$96*","=$P$96*0.00109377313075718"]
["  NC4H10                  ",5.8358100000000003E-2,58.513559999999998,20.587499999999999,97.254239999999996,null,"  NC4H10                  ",0.2707582,null,null,117.90009809999999,1.536577661229089E-3,"=$E$6*","=$E$6*0.00153657766122909",null,null,null,null,0,0,0,0,"=$E$10*","=$E$10*0","=$E$10*0",null,3.3089000000000002E-6,1.4743000000000002E-14,4.0410931383486664E-11,1.8005329909841453E-19,"=$E$9*","=$E$9*4.04109313834867E-11","=$E$9*1.80053299098415E-19",null,null,0,0,0,0,"=$E$9*","=$E$9*0","=$E$9*0",null,null,null,3.7061999999999998E-8,8.5646999999999999E-8,null,null,null,null,58.513555599999997,2.0798407174408916E-2,"=$P$96*","=$P$96*0.0207984071744089"]
["  C5H10                   ",0.21079980000000001,0,0,0,null,"  C5H10                   ",6.1168599999999997E-2,null,null,0.21079980000000001,2.7473281947299729E-6,"=$E$6*","=$E$6*2.74732819472997E-06",null,null,null,null,0,0,0,0,"=$E$10*","=$E$10*0","=$E$10*0",null,6.3776999999999996E-5,0,7.7889569671027483E-10,0,"=$E$9*","=$E$9*7.78895696710275E-10","=$E$9*0",null,null,0,0,0,0,"=$E$9*","=$E$9*0","=$E$9*0",null,null,null,0,0,null,null,null,null,0,0,"=$P$96*","=$P$96*0"]
["  NC5H12                  ",6.7087900000000006E-2,0,0,0,null,"  NC5H12                  ",1.1724099999999999E-2,null,null,6.7087900000000006E-2,8.7434845381838581E-7,"=$E$6*","=$E$6*8.74348453818386E-07",null,null,null,null,0,0,0,0,"=$E$10*","=$E$10*0","=$E$10*0",null,1.3993999999999999E-7,2.6189E-19,1.7090591247257768E-12,3.1984099912422018E-24,"=$E$9*","=$E$9*1.70905912472578E-12","=$E$9*3.1984099912422E-24",null,null,0,0,0,0,"=$E$9*","=$E$9*0","=$E$9*0",null,null,null,1.3144E-11,3.0373000000000001E-11,null,null,null,null,0,0,"=$P$96*","=$P$96*0"]
["  IC5H12                  ",7.2621600000000001E-3,0,0,0,null,"  IC5H12                  ",2.76122E-3,null,null,7.2621600000000001E-3,9.464684939283728E-8,"=$E$6*","=$E$6*9.46468493928373E-08",null,null,null,null,0,0,0,0,"=$E$10*","=$E$10*0","=$E$10*0",null,2.0315E-8,4.7872999999999999E-19,2.4810301642706989E-13,5.8466333770185161E-24,"=$E$9*","=$E$9*2.4810301642707E-13","=$E$9*5.84663337701852E-24",null,null,0,0,0,0,"=$E$9*","=$E$9*0","=$E$9*0",null,null,null,1.9393E-11,4.4815999999999998E-11,null,null,null,null,0,0,"=$P$96*","=$P$96*0"]
["  C6H12                   ",0.2046386,0,0,0,null,"  C6H12                   ",3.1300500000000001E-3,null,null,0.2046386,2.6670300233210329E-6,"=$E$6*","=$E$6*2.66703002332103E-06",null,null,null,null,0,0,0,0,"=$E$10*","=$E$10*0","=$E$10*0",null,5.3716000000000003E-8,0,6.5602272362276571E-13,0,"=$E$9*","=$E$9*6.56022723622766E-13","=$E$9*0",null,null,0,0,0,0,"=$E$9*","=$E$9*0","=$E$9*0",null,null,null,0,0,null,null,null,null,0,0,"=$P$96*","=$P$96*0"]
["  NC6H14                  ",6.27162E-2,0,0,0,null,"  NC6H14                  ",6.3178099999999999E-4,null,null,6.27162E-2,8.1737261859984649E-7,"=$E$6*","=$E$6*8.17372618599846E-07",null,null,null,null,0,0,0,0,"=$E$10*","=$E$10*0","=$E$10*0",null,2.9454000000000002E-9,0,3.5971578862135939E-14,0,"=$E$9*","=$E$9*3.59715788621359E-14","=$E$9*0",null,null,0,0,0,0,"=$E$9*","=$E$9*0","=$E$9*0",null,null,null,0,0,null,null,null,null,0,0,"=$P$96*","=$P$96*0"]
["  IC6H14                  ",6.7786399999999998E-3,0,0,0,null,"  IC6H14                  ",1.5396999999999999E-4,null,null,6.7786399999999998E-3,8.8345191949538776E-8,"=$E$6*","=$E$6*8.83451919495388E-08",null,null,null,null,0,0,0,0,"=$E$10*","=$E$10*0","=$E$10*0",null,3.0196999999999999E-10,0,3.6878989845179563E-15,0,"=$E$9*","=$E$9*3.68789898451796E-15","=$E$9*0",null,null,0,0,0,0,"=$E$9*","=$E$9*0","=$E$9*0",null,null,null,0,0,null,null,null,null,0,0,"=$P$96*","=$P$96*0"]
["  C7H14                   ",0.1732706,0,0,0,null,"  C7H14                   ",8.5296600000000006E-5,null,null,0.1732706,2.2582146885233251E-6,"=$E$6*","=$E$6*2.25821468852333E-06",null,null,null,null,0,0,0,0,"=$E$10*","=$E$10*0","=$E$10*0",null,7.0989000000000002E-10,0,8.6697440478175055E-15,0,"=$E$9*","=$E$9*8.66974404781751E-15","=$E$9*0",null,null,0,0,0,0,"=$E$9*","=$E$9*0","=$E$9*0",null,null,null,0,0,null,null,null,null,0,0,"=$P$96*","=$P$96*0"]
["  C7H16                   ",7.5348799999999994E-2,0,0,0,null,"  C7H16                   ",4.4632400000000003E-5,null,null,7.5348799999999994E-2,9.8201176034830098E-7,"=$E$6*","=$E$6*9.82011760348301E-07",null,null,null,null,0,0,0,0,"=$E$10*","=$E$10*0","=$E$10*0",null,6.2750000000000003E-11,0,7.6635315189754539E-16,0,"=$E$9*","=$E$9*7.66353151897545E-16","=$E$9*0",null,null,0,0,0,0,"=$E$9*","=$E$9*0","=$E$9*0",null,null,null,0,0,null,null,null,null,0,0,"=$P$96*","=$P$96*0"]
["  C8H16                   ",0.1525707,0,0,0,null,"  C8H16                   ",4.3873100000000002E-6,null,null,0.1525707,1.9884354055349592E-6,"=$E$6*","=$E$6*1.98843540553496E-06",null,null,null,null,0,0,0,0,"=$E$10*","=$E$10*0","=$E$10*0",null,1.1372E-11,0,1.3888395288253204E-16,0,"=$E$9*","=$E$9*1.38883952882532E-16","=$E$9*0",null,null,0,0,0,0,"=$E$9*","=$E$9*0","=$E$9*0",null,null,null,0,0,null,null,null,null,0,0,"=$P$96*","=$P$96*0"]
["  C8H18                   ",6.5701099999999998E-2,0,0,0,null,"  C8H18                   ",1.3527199999999999E-6,null,null,6.5701099999999998E-2,8.562744578257352E-7,"=$E$6*","=$E$6*8.56274457825735E-07",null,null,null,null,0,0,0,0,"=$E$10*","=$E$10*0","=$E$10*0",null,3.7181000000000001E-13,0,4.5408408829804994E-18,0,"=$E$9*","=$E$9*4.5408408829805E-18","=$E$9*0",null,null,0,0,0,0,"=$E$9*","=$E$9*0","=$E$9*0",null,null,null,0,0,null,null,null,null,0,0,"=$P$96*","=$P$96*0"]
["  C9H18                   ",0.13188079999999999,0,0,0,null,"  C9H18                   ",1.3475399999999999E-7,null,null,0.13188079999999999,1.7187864513322337E-6,"=$E$6*","=$E$6*1.71878645133223E-06",null,null,null,null,0,0,0,0,"=$E$10*",{"$f":"CONCATENATE(W42,U42)","v":"=$E$10*0"},"=$E$10*0",null,1.6103000000000002E-14,0,1.9666270605587529E-19,0,"=$E$9*","=$E$9*1.96662706055875E-19","=$E$9*0",null,null,0,0,0,0,"=$E$9*","=$E$9*0","=$E$9*0",null,null,null,0,0,null,null,null,null,0,0,"=$P$96*","=$P$96*0"]
["  C9H20                   ",5.6726600000000002E-2,0,0,0,null,"  C9H20                   ",3.1141400000000002E-8,null,null,5.6726600000000002E-2,7.3931088915250052E-7,"=$E$6*","=$E$6*7.39310889152501E-07",null,null,null,null,0,0,0,0,"=$E$10*","=$E$10*0","=$E$10*0",null,2.1090999999999999E-15,0,2.5758014863220922E-20,0,"=$E$9*","=$E$9*2.57580148632209E-20","=$E$9*0",null,null,0,0,0,0,"=$E$9*","=$E$9*0","=$E$9*0",null,null,null,0,0,null,null,null,null,0,0,"=$P$96*","=$P$96*0"]
["  C10H20                  ",0.1120787,0,0,0,null,"  C10H20                  ",1.9525099999999999E-9,null,null,0.1120787,1.4607080867186888E-6,"=$E$6*","=$E$6*1.46070808671869E-06",null,null,null,null,0,0,0,0,"=$E$10*","=$E$10*0","=$E$10*0",null,3.5544999999999999E-16,0,4.3410394875216333E-21,0,"=$E$9*","=$E$9*4.34103948752163E-21","=$E$9*0",null,null,0,0,0,0,"=$E$9*","=$E$9*0","=$E$9*0",null,null,null,0,0,null,null,null,null,0,0,"=$P$96*","=$P$96*0"]
["  C10H22                  ",4.8469699999999998E-2,0,0,0,null,"  C10H22                  ",1.1951199999999999E-9,null,null,4.8469699999999998E-2,6.316997141368415E-7,"=$E$6*","=$E$6*6.31699714136842E-07",null,null,null,null,0,0,0,0,"=$E$10*","=$E$10*0","=$E$10*0",null,4.7819999999999997E-18,0,5.8401605934247991E-23,0,"=$E$9*","=$E$9*5.8401605934248E-23","=$E$9*0",null,null,0,0,0,0,"=$E$9*","=$E$9*0","=$E$9*0",null,null,null,0,0,null,null,null,null,0,0,"=$P$96*","=$P$96*0"]
["  C11H22                  ",9.39281E-2,0,0,0,null,"  C11H22                  ",5.6764999999999997E-11,null,null,9.39281E-2,1.2241535210537029E-6,"=$E$6*","=$E$6*1.2241535210537E-06",null,null,null,null,0,0,0,0,"=$E$10*","=$E$10*0","=$E$10*0",null,1.5569999999999999E-19,0,1.9015328406445866E-24,0,"=$E$9*","=$E$9*1.90153284064459E-24","=$E$9*0",null,null,0,0,0,0,"=$E$9*","=$E$9*0","=$E$9*0",null,null,null,0,0,null,null,null,null,0,0,"=$P$96*","=$P$96*0"]
["  C11H24                  ",4.0210299999999997E-2,0,0,0,null,"  C11H24                  ",2.4591000000000001E-11,null,null,4.0210299999999997E-2,5.2405595692477235E-7,"=$E$6*","=$E$6*5.24055956924772E-07",null,null,null,null,0,0,0,0,"=$E$10*","=$E$10*0","=$E$10*0",null,8.1328999999999998E-21,0,9.932547488553859E-26,0,"=$E$9*","=$E$9*9.93254748855386E-26","=$E$9*0",null,null,0,0,0,0,"=$E$9*","=$E$9*0","=$E$9*0",null,null,null,0,0,null,null,null,null,0,0,"=$P$96*","=$P$96*0"]
["  C12H24                  ",7.7862200000000006E-2,0,0,0,null,"  C12H24                  ",9.9498000000000007E-13,null,null,7.7862200000000006E-2,1.0147685973312315E-6,"=$E$6*","=$E$6*1.01476859733123E-06",null,null,null,null,0,0,0,0,"=$E$10*","=$E$10*0","=$E$10*0",null,3.8602999999999999E-22,0,4.7145068880798317E-27,0,"=$E$9*","=$E$9*4.71450688807983E-27","=$E$9*0",null,null,0,0,0,0,"=$E$9*","=$E$9*0","=$E$9*0",null,null,null,0,0,null,null,null,null,0,0,"=$P$96*","=$P$96*0"]
["  C12H26                  ",3.32866E-2,0,0,0,null,"  C12H26                  ",4.0348999999999998E-13,null,null,3.32866E-2,4.338202156107298E-7,"=$E$6*","=$E$6*4.3382021561073E-07",null,null,null,null,900.59103400000004,0,1.0998737489666446E-2,0,"=$E$10*",{"$f":"CONCATENATE(W49,U49)","v":"=$E$10*0.0109987374896664"},"=$E$10*0",null,1.5836E-22,0,1.9340188866055028E-27,0,"=$E$9*","=$E$9*1.9340188866055E-27","=$E$9*0",null,null,0,0,0,0,"=$E$9*","=$E$9*0","=$E$9*0",null,null,null,0,0,null,null,null,null,0,0,"=$P$96*","=$P$96*0"]
["  C13H26                  ",6.3818200000000005E-2,0,0,0,null,"  C13H26                  ",2.1307E-14,null,null,6.3818200000000005E-2,8.3173485077745037E-7,"=$E$6*","=$E$6*8.3173485077745E-07",null,null,null,null,0,0,0,0,"=$E$10*","=$E$10*0","=$E$10*0",null,1.307E-22,0,1.5962128598089112E-27,0,"=$E$9*","=$E$9*1.59621285980891E-27","=$E$9*0",null,null,0,0,0,0,"=$E$9*","=$E$9*0","=$E$9*0",null,null,null,0,0,null,null,null,null,0,0,"=$P$96*","=$P$96*0"]
["  C13H28                  ",2.7322200000000001E-2,0,0,0,null,"  C13H28                  ",2.356E-15,null,null,2.7322200000000001E-2,3.5608691470319832E-7,"=$E$6*","=$E$6*3.56086914703198E-07",null,null,null,null,1912.77612,0,2.3360350732053507E-2,0,"=$E$10*","=$E$10*0.0233603507320535","=$E$10*0",null,4.3279000000000001E-23,0,5.2855773802348796E-28,0,"=$E$9*","=$E$9*5.28557738023488E-28","=$E$9*0",null,null,0,0,0,0,"=$E$9*","=$E$9*0","=$E$9*0",null,null,null,0,0,null,null,null,null,0,0,"=$P$96*","=$P$96*0"]
["  C14H28                  ",5.1714400000000001E-2,0,0,0,null,"  C14H28                  ",4.1867999999999998E-16,null,null,5.1714400000000001E-2,6.7398749521367537E-7,"=$E$6*","=$E$6*6.73987495213675E-07",null,null,null,null,0,0,0,0,"=$E$10*","=$E$10*0","=$E$10*0",null,4.3590000000000001E-23,0,5.3235591858508376E-28,0,"=$E$9*","=$E$9*5.32355918585084E-28","=$E$9*0",null,null,0,0,0,0,"=$E$9*","=$E$9*0","=$E$9*0",null,null,null,0,0,null,null,null,null,0,0,"=$P$96*","=$P$96*0"]
["  C14H30                  ",2.2075500000000001E-2,0,0,0,null,"  C14H30                  ",1.474E-17,null,null,2.2075500000000001E-2,2.8770731074109899E-7,"=$E$6*","=$E$6*2.87707310741099E-07",null,null,null,null,0,0,0,0,"=$E$10*","=$E$10*0","=$E$10*0",null,1.157E-23,0,1.4130208713075059E-28,0,"=$E$9*","=$E$9*1.41302087130751E-28","=$E$9*0",null,null,0,0,0,0,"=$E$9*","=$E$9*0","=$E$9*0",null,null,null,0,0,null,null,null,null,0,0,"=$P$96*","=$P$96*0"]
["  C15H30                  ",4.1463699999999999E-2,0,0,0,null,"  C15H30                  ",9.7488000000000001E-18,null,null,4.1463699999999999E-2,5.4039136691697613E-7,"=$E$6*","=$E$6*5.40391366916976E-07",null,null,null,null,0,0,0,0,"=$E$10*","=$E$10*0","=$E$10*0",null,1.5013E-23,0,1.8335075489143981E-28,0,"=$E$9*","=$E$9*1.8335075489144E-28","=$E$9*0",null,null,0,0,0,0,"=$E$9*","=$E$9*0","=$E$9*0",null,null,null,0,0,null,null,null,null,0,0,"=$P$96*","=$P$96*0"]
["  C15H32                  ",1.7744900000000001E-2,0,0,0,null,"  C15H32                  ",6.4497999999999998E-19,null,null,1.7744900000000001E-2,2.31267126831543E-7,"=$E$6*","=$E$6*2.31267126831543E-07",null,null,null,null,0,0,0,0,"=$E$10*","=$E$10*0","=$E$10*0",null,4.5744000000000003E-24,0,5.5866228813388556E-29,0,"=$E$9*","=$E$9*5.58662288133886E-29","=$E$9*0",null,null,0,0,0,0,"=$E$9*","=$E$9*0","=$E$9*0",null,null,null,0,0,null,null,null,null,0,0,"=$P$96*","=$P$96*0"]
["  C16H32                  ",3.2693600000000003E-2,0,0,0,null,"  C16H32                  ",3.3431E-19,null,null,3.2693600000000003E-2,4.2609171862223708E-7,"=$E$6*","=$E$6*4.26091718622237E-07",null,null,null,null,0,0,0,0,"=$E$10*","=$E$10*0","=$E$10*0",null,5.4415000000000003E-24,0,6.6455947028693119E-29,0,"=$E$9*","=$E$9*6.64559470286931E-29","=$E$9*0",null,null,0,0,0,0,"=$E$9*","=$E$9*0","=$E$9*0",null,null,null,0,0,null,null,null,null,0,0,"=$P$96*","=$P$96*0"]
["  C16H34                  ",1.41449E-2,0,0,0,null,"  C16H34                  ",2.9523000000000001E-20,null,null,1.41449E-2,1.843487640008956E-7,"=$E$6*","=$E$6*1.84348764000896E-07",null,null,null,null,0,0,0,0,"=$E$10*","=$E$10*0","=$E$10*0",null,1.8406000000000001E-24,0,2.247887826904577E-29,0,"=$E$9*","=$E$9*2.24788782690458E-29","=$E$9*0",null,null,0,0,0,0,"=$E$9*","=$E$9*0","=$E$9*0",null,null,null,0,0,null,null,null,null,0,0,"=$P$96*","=$P$96*0"]
["  C17H34                  ",2.58344E-2,0,0,0,null,"  C17H34                  ",1.8052999999999999E-21,null,null,2.58344E-2,3.366965979755769E-7,"=$E$6*","=$E$6*3.36696597975577E-07",null,null,null,null,0,0,0,0,"=$E$10*","=$E$10*0","=$E$10*0",null,1.4935000000000001E-24,0,1.8239815655123252E-29,0,"=$E$9*","=$E$9*1.82398156551233E-29","=$E$9*0",null,null,0,0,0,0,"=$E$9*","=$E$9*0","=$E$9*0",null,null,null,0,0,null,null,null,null,0,0,"=$P$96*","=$P$96*0"]
["  C17H36                  ",1.0884E-2,0,0,0,null,"  C17H36                  ",7.9660000000000001E-22,null,null,1.0884E-2,1.4184985029132393E-7,"=$E$6*","=$E$6*1.41849850291324E-07",null,null,null,null,0,0,0,0,"=$E$10*","=$E$10*0","=$E$10*0",null,6.1070000000000002E-25,0,7.4583564918538804E-30,0,"=$E$9*","=$E$9*7.45835649185388E-30","=$E$9*0",null,null,0,0,0,0,"=$E$9*","=$E$9*0","=$E$9*0",null,null,null,0,0,null,null,null,null,0,0,"=$P$96*","=$P$96*0"]
["  C18H36                  ",1.93557E-2,0,0,0,null,"  C18H36                  ",5.5108999999999997E-22,null,null,1.93557E-2,2.5226048762254489E-7,"=$E$6*","=$E$6*2.52260487622545E-07",null,null,null,null,0,0,0,0,"=$E$10*","=$E$10*0","=$E$10*0",null,7.4758000000000003E-25,0,9.1300444509253709E-30,0,"=$E$9*","=$E$9*9.13004445092537E-30","=$E$9*0",null,null,0,0,0,0,"=$E$9*","=$E$9*0","=$E$9*0",null,null,null,0,0,null,null,null,null,0,0,"=$P$96*","=$P$96*0"]
["  C18H38                  ",8.2774700000000003E-3,0,0,0,null,"  C18H38                  ",8.3340999999999999E-23,null,null,8.2774700000000003E-3,1.0787926132772189E-7,"=$E$6*","=$E$6*1.07879261327722E-07",null,null,null,null,0,0,0,0,"=$E$10*","=$E$10*0","=$E$10*0",null,2.6284999999999999E-25,0,3.2101342785062917E-30,0,"=$E$9*","=$E$9*3.21013427850629E-30","=$E$9*0",null,null,0,0,0,0,"=$E$9*","=$E$9*0","=$E$9*0",null,null,null,0,0,null,null,null,null,0,0,"=$P$96*","=$P$96*0"]
["  C19H38                  ",1.48133E-2,0,0,0,null,"  C19H38                  ",5.4544999999999997E-25,null,null,1.48133E-2,1.9305994003311912E-7,"=$E$6*","=$E$6*1.93059940033119E-07",null,null,null,null,0,0,0,0,"=$E$10*","=$E$10*0","=$E$10*0",null,1.4995999999999999E-25,0,1.8314313730447157E-30,0,"=$E$9*","=$E$9*1.83143137304472E-30","=$E$9*0",null,null,0,0,0,0,"=$E$9*","=$E$9*0","=$E$9*0",null,null,null,0,0,null,null,null,null,0,0,"=$P$96*","=$P$96*0"]
["  C19H40                  ",6.1373599999999997E-3,0,0,0,null,"  C19H40                  ",4.1701999999999998E-24,null,null,6.1373599999999997E-3,7.9987467583972784E-8,"=$E$6*","=$E$6*7.99874675839728E-08",null,null,null,null,0,0,0,0,"=$E$10*","=$E$10*0","=$E$10*0",null,9.7440999999999998E-26,0,1.190027370104362E-30,0,"=$E$9*","=$E$9*1.19002737010436E-30","=$E$9*0",null,null,0,0,0,0,"=$E$9*","=$E$9*0","=$E$9*0",null,null,null,0,0,null,null,null,null,0,0,"=$P$96*","=$P$96*0"]
["  C20H40                  ",1.0744099999999999E-2,0,0,0,null,"  C20H40                  ",6.5698000000000004E-27,null,null,1.0744099999999999E-2,1.4002655058021071E-7,"=$E$6*","=$E$6*1.40026550580211E-07",null,null,null,null,0,0,0,0,"=$E$10*","=$E$10*0","=$E$10*0",null,4.2732000000000002E-26,0,5.2187733684280336E-31,0,"=$E$9*","=$E$9*5.21877336842803E-31","=$E$9*0",null,null,0,0,0,0,"=$E$9*","=$E$9*0","=$E$9*0",null,null,null,0,0,null,null,null,null,0,0,"=$P$96*","=$P$96*0"]
["  C20H42                  ",4.4182700000000002E-3,0,0,0,null,"  C20H42                  ",4.1161999999999997E-27,null,null,4.4182700000000002E-3,5.75827763732679E-8,"=$E$6*","=$E$6*5.75827763732679E-08",null,null,null,null,0,0,0,0,"=$E$10*","=$E$10*0","=$E$10*0",null,1.7956E-26,0,2.1929302303541555E-31,0,"=$E$9*","=$E$9*2.19293023035416E-31","=$E$9*0",null,null,0,0,0,0,"=$E$9*","=$E$9*0","=$E$9*0",null,null,null,0,0,null,null,null,null,0,0,"=$P$96*","=$P$96*0"]
["  ALKYLATE                ",0,0,0,0,null,"  ALKYLATE                ",0,null,null,0,0,"=$E$6*","=$E$6*0",null,null,null,null,0,0,0,0,"=$E$10*","=$E$10*0","=$E$10*0",null,0,0,0,0,"=$E$9*","=$E$9*0","=$E$9*0",null,null,0,0,0,0,"=$E$9*","=$E$9*0","=$E$9*0",null,null,null,0,0,null,null,null,null,0,0,"=$P$96*","=$P$96*0"]
["  ISOMERAT                ",0,0,0,0,null,"  ISOMERAT                ",0,null,null,0,0,"=$E$6*","=$E$6*0",null,null,null,null,0,0,0,0,"=$E$10*","=$E$10*0","=$E$10*0",null,0,0,0,0,"=$E$9*","=$E$9*0","=$E$9*0",null,null,0,0,0,0,"=$E$9*","=$E$9*0","=$E$9*0",null,null,null,0,0,null,null,null,null,0,0,"=$P$96*","=$P$96*0"]
["  REFORMAT                ",0,0,0,0,null,"  REFORMAT                ",0,null,null,0,0,"=$E$6*","=$E$6*0",null,null,null,null,0,0,0,0,"=$E$10*","=$E$10*0","=$E$10*0",null,0,0,0,0,"=$E$9*","=$E$9*0","=$E$9*0",null,null,0,0,0,0,"=$E$9*","=$E$9*0","=$E$9*0",null,null,null,0,0,null,null,null,null,0,0,"=$P$96*","=$P$96*0"]
["  C7-300HC                ",0,0,0,0,null,"  C7-300HC                ",0,null,null,0,0,"=$E$6*","=$E$6*0",null,null,null,null,0,60.667001800000001,0,7.4091391307735553E-4,"=$E$10*","=$E$10*0","=$E$10*0.000740913913077356",null,0,0,0,0,"=$E$9*","=$E$9*0","=$E$9*0",null,null,0,0,0,0,"=$E$9*","=$E$9*0","=$E$9*0",null,null,null,0,0,null,null,null,null,0,0,"=$P$96*","=$P$96*0"]
["  3-350HC                 ",0,0,0,0,null,"  3-350HC                 ",0,null,null,0,0,"=$E$6*","=$E$6*0",null,null,null,null,0,33.1868281,0,4.053040687795542E-4,"=$E$10*","=$E$10*0","=$E$10*0.000405304068779554",null,0,0,0,0,"=$E$9*","=$E$9*0","=$E$9*0",null,null,0,0,0,0,"=$E$9*","=$E$9*0","=$E$9*0",null,null,null,0,0,null,null,null,null,0,0,"=$P$96*","=$P$96*0"]
["  350-5HC                 ",0,0,0,0,null,"  350-5HC                 ",0,null,null,0,0,"=$E$6*","=$E$6*0",null,null,null,null,0,0,0,0,"=$E$10*","=$E$10*0","=$E$10*0",null,0,0,0,0,"=$E$9*","=$E$9*0","=$E$9*0",null,null,0,0,0,0,"=$E$9*","=$E$9*0","=$E$9*0",null,null,null,0,0,null,null,null,null,0,0,"=$P$96*","=$P$96*0"]
["  500+HC                  ",0,0,0,0,null,"  500+HC                  ",0,null,null,0,0,"=$E$6*","=$E$6*0",null,null,null,null,0,0,0,0,"=$E$10*","=$E$10*0","=$E$10*0",null,0,0,0,0,"=$E$9*","=$E$9*0","=$E$9*0",null,null,0,0,0,0,"=$E$9*","=$E$9*0","=$E$9*0",null,null,null,0,0,null,null,null,null,0,0,"=$P$96*","=$P$96*0"]
["  C7-300HT                ",0,0,0,0,null,"  C7-300HT                ",0,null,null,0,0,"=$E$6*","=$E$6*0",null,null,null,null,0,0,0,0,"=$E$10*","=$E$10*0","=$E$10*0",null,0,0,0,0,"=$E$9*","=$E$9*0","=$E$9*0",null,null,0,0,0,0,"=$E$9*","=$E$9*0","=$E$9*0",null,null,null,0,0,null,null,null,null,0,0,"=$P$96*","=$P$96*0"]
["  3-350HT                 ",0,0,0,0,null,"  3-350HT                 ",0,null,null,0,0,"=$E$6*","=$E$6*0",null,null,null,null,0,0,0,0,"=$E$10*",{"$f":"CONCATENATE(W74,U74)","v":"=$E$10*0"},"=$E$10*0",null,0,0,0,0,"=$E$9*","=$E$9*0","=$E$9*0",null,null,0,0,0,0,"=$E$9*","=$E$9*0","=$E$9*0",null,null,null,0,0,null,null,null,null,0,0,"=$P$96*","=$P$96*0"]
["  350-5HT                 ",0,0,0,0,null,"  350-5HT                 ",0,null,null,{"$f":"B75+D75+E75","v":0},{"$f":"K75/$H$10","v":0},"=$E$6*",{"$f":"CONCATENATE(M75,L75)","v":"=$E$6*0"},null,null,null,null,0,0,{"$f":"S75/$H$14","v":0},0,"=$E$10*","=$E$10*0",{"$f":"CONCATENATE(W75,V75)","v":"=$E$10*0"},null,0,0,{"$f":"AA75/$H$14","v":0},0,"=$E$9*",{"$f":"CONCATENATE(AE75,AC75)","v":"=$E$9*0"},{"$f":"CONCATENATE(AE75,AD75)","v":"=$E$9*0"},null,null,0,0,{"$f":"AJ75/$H$14","v":0},0,"=$E$9*",{"$f":"CONCATENATE(AN75,AL75)","v":"=$E$9*0"},{"$f":"CONCATENATE(AN75,AM75)","v":"=$E$9*0"},null,null,null,0,0,null,null,null,null,0,{"$f":"AZ75/$S$101","v":0},"=$P$96*",{"$f":"CONCATENATE(BB75,BA75)","v":"=$P$96*0"}]
["  500+HT                  ",0,0,0,0,null,"  500+HT                  ",0,null,null,0,0,"=$E$6*","=$E$6*0",null,null,null,null,0,0,0,0,"=$E$10*","=$E$10*0","=$E$10*0",null,0,0,0,0,"=$E$9*","=$E$9*0","=$E$9*0",null,null,0,0,0,0,"=$E$9*","=$E$9*0","=$E$9*0",null,null,null,0,0,null,null,null,null,0,0,"=$P$96*","=$P$96*0"]
["  OXVAP                   ",5.0693099999999998E-2,0,0,0,null,"  OXVAP                   ",0,null,null,5.0693099999999998E-2,6.6067701633619186E-7,"=$E$6*","=$E$6*6.60677016336192E-07",null,null,null,null,0,0,0,0,"=$E$10*","=$E$10*0","=$E$10*0",null,46.552264700000002,0,5.6853346264245166E-4,0,"=$E$9*","=$E$9*0.000568533462642452","=$E$9*0",null,null,0,0,0,0,"=$E$9*","=$E$9*0","=$E$9*0",null,null,null,0,0,null,null,null,null,0,0,"=$P$96*","=$P$96*0"]
["  OXHC                    ",0.2300152,0,0,0,null,"  OXHC                    ",1.4779600000000001E-7,null,null,0.2300152,2.9977601694899791E-6,"=$E$6*","=$E$6*2.99776016948998E-06",null,null,null,null,0,0,0,0,"=$E$10*","=$E$10*0","=$E$10*0",null,2.5805000000000001E-4,0,3.151512842185842E-9,0,"=$E$9*","=$E$9*3.15151284218584E-09","=$E$9*0",null,null,0,0,0,0,"=$E$9*","=$E$9*0","=$E$9*0",null,null,null,0,0,null,null,null,null,0,0,"=$P$96*","=$P$96*0"]
["  OXH2O                   ",0.18298,0,0,0,null,"  OXH2O                   ",0,null,null,0.18298,2.3847561196532943E-6,"=$E$6*","=$E$6*2.38475611965329E-06",null,null,null,null,0,0,0,0,"=$E$10*","=$E$10*0","=$E$10*0",null,168.032915,0,2.0521522555025074E-3,0,"=$E$9*","=$E$9*0.00205215225550251","=$E$9*0",null,null,0,0,0,0,"=$E$9*","=$E$9*0","=$E$9*0",null,null,null,0,0,null,null,null,null,0,0,"=$P$96*","=$P$96*0"]
["  C5N                     ",0,0,0,0,null,"  C5N                     ",0,null,null,0,0,"=$E$6*","=$E$6*0",null,null,null,null,0,0,0,0,"=$E$10*","=$E$10*0","=$E$10*0",null,0,0,0,0,"=$E$9*","=$E$9*0","=$E$9*0",null,null,0,0,0,0,"=$E$9*","=$E$9*0","=$E$9*0",null,null,null,0,0,null,null,null,null,0,0,"=$P$96*","=$P$96*0"]
["  C6N                     ",0,0,0,0,null,"  C6N                     ",0,null,null,0,0,"=$E$6*","=$E$6*0",null,null,null,null,0,0,0,0,"=$E$10*","=$E$10*0","=$E$10*0",null,0,0,0,0,"=$E$9*","=$E$9*0","=$E$9*0",null,null,0,0,0,0,"=$E$9*","=$E$9*0","=$E$9*0",null,null,null,0,0,null,null,null,null,0,0,"=$P$96*","=$P$96*0"]
["  C7N                     ",0,0,0,0,null,"  C7N                     ",0,null,null,0,0,"=$E$6*","=$E$6*0",null,null,null,null,0,0,0,0,"=$E$10*","=$E$10*0","=$E$10*0",null,0,0,0,0,"=$E$9*","=$E$9*0","=$E$9*0",null,null,0,0,0,0,"=$E$9*","=$E$9*0","=$E$9*0",null,null,null,0,0,null,null,null,null,0,0,"=$P$96*","=$P$96*0"]
["  C8N                     ",0,0,0,0,null,"  C8N                     ",0,null,null,0,0,"=$E$6*","=$E$6*0",null,null,null,null,0,0,0,0,"=$E$10*","=$E$10*0","=$E$10*0",null,0,0,0,0,"=$E$9*","=$E$9*0","=$E$9*0",null,null,0,0,0,0,"=$E$9*","=$E$9*0","=$E$9*0",null,null,null,0,0,null,null,null,null,0,0,"=$P$96*","=$P$96*0"]
["  C9N                     ",0,0,0,0,null,"  C9N                     ",0,null,null,0,0,"=$E$6*","=$E$6*0",null,null,null,null,0,0,0,0,"=$E$10*","=$E$10*0","=$E$10*0",null,0,0,0,0,"=$E$9*","=$E$9*0","=$E$9*0",null,null,0,0,0,0,"=$E$9*","=$E$9*0","=$E$9*0",null,null,null,0,0,null,null,null,null,0,0,"=$P$96*","=$P$96*0"]
["  C10N                    ",0,0,0,0,null,"  C10N                    ",0,null,null,0,0,"=$E$6*","=$E$6*0",null,null,null,null,0,0,0,0,"=$E$10*","=$E$10*0","=$E$10*0",null,0,0,0,0,"=$E$9*","=$E$9*0","=$E$9*0",null,null,0,0,0,0,"=$E$9*","=$E$9*0","=$E$9*0",null,null,null,0,0,null,null,null,null,0,0,"=$P$96*","=$P$96*0"]
["  C6A                     ",0,0,0,0,null,"  C6A                     ",0,null,null,0,0,"=$E$6*","=$E$6*0",null,null,null,null,0,0,0,0,"=$E$10*","=$E$10*0","=$E$10*0",null,0,0,0,0,"=$E$9*","=$E$9*0","=$E$9*0",null,null,0,0,0,0,"=$E$9*","=$E$9*0","=$E$9*0",null,null,null,0,0,null,null,null,null,0,0,"=$P$96*","=$P$96*0"]
["  C7A                     ",0,0,0,0,null,"  C7A                     ",0,null,null,0,0,"=$E$6*","=$E$6*0",null,null,null,null,0,0,0,0,"=$E$10*","=$E$10*0","=$E$10*0",null,0,0,0,0,"=$E$9*","=$E$9*0","=$E$9*0",null,null,0,0,0,0,"=$E$9*","=$E$9*0","=$E$9*0",null,null,null,0,0,null,null,null,null,0,0,"=$P$96*","=$P$96*0"]
["  C8A                     ",0,0,0,0,null,"  C8A                     ",0,null,null,0,0,"=$E$6*","=$E$6*0",null,null,null,null,0,0,0,0,"=$E$10*","=$E$10*0","=$E$10*0",null,0,0,0,0,"=$E$9*","=$E$9*0","=$E$9*0",null,null,0,0,0,0,"=$E$9*","=$E$9*0","=$E$9*0",null,null,null,0,0,null,null,null,null,0,0,"=$P$96*","=$P$96*0"]
["  C9A                     ",0,0,0,0,null,"  C9A                     ",0,null,null,0,0,"=$E$6*","=$E$6*0",null,null,null,null,0,0,0,0,"=$E$10*","=$E$10*0","=$E$10*0",null,0,0,0,0,"=$E$9*","=$E$9*0","=$E$9*0",null,null,0,0,0,0,"=$E$9*","=$E$9*0","=$E$9*0",null,null,null,0,0,null,null,null,null,0,0,"=$P$96*","=$P$96*0"]
["  C10AP                   ",0,0,0,0,null,"  C10AP                   ",0,null,null,0,0,"=$E$6*","=$E$6*0",null,null,null,null,0,0,0,0,"=$E$10*","=$E$10*0","=$E$10*0",null,0,0,0,0,"=$E$9*","=$E$9*0","=$E$9*0",null,null,0,0,0,0,"=$E$9*","=$E$9*0","=$E$9*0",null,null,null,0,0,null,null,null,null,0,0,"=$P$96*","=$P$96*0"]
["  C21OP                   ",1.2572699999999999E-2,0,0,0,null,"  C21OP                   ",1.3355E-27,null,null,1.2572699999999999E-2,1.6385847232246677E-7,"=$E$6*","=$E$6*1.63858472322467E-07",null,null,null,null,0,0,0,0,"=$E$10*","=$E$10*0","=$E$10*0",null,2.9610000000000001E-26,0,3.6162098530177403E-31,0,"=$E$9*","=$E$9*3.61620985301774E-31","=$E$9*0",null,null,0,0,0,0,"=$E$9*","=$E$9*0","=$E$9*0",null,null,null,0,0,null,null,null,null,0,0,"=$P$96*","=$P$96*0"]
["  C22OP                   ",1.02238E-2,0,0,0,null,"  C22OP                   ",4.7769000000000002E-29,null,null,1.02238E-2,1.3324554386332577E-7,"=$E$6*","=$E$6*1.33245543863326E-07",null,null,null,null,0,0,0,0,"=$E$10*","=$E$10*0","=$E$10*0",null,1.1518E-26,0,1.406670215706124E-31,0,"=$E$9*","=$E$9*1.40667021570612E-31","=$E$9*0",null,null,0,0,0,0,"=$E$9*","=$E$9*0","=$E$9*0",null,null,null,0,0,null,null,null,null,0,0,"=$P$96*","=$P$96*0"]
["  C23OP                   ",8.1693500000000006E-3,0,0,0,null,"  C23OP                   ",0,null,null,8.1693500000000006E-3,1.064701464973748E-7,"=$E$6*","=$E$6*1.06470146497375E-07",null,null,null,null,0,0,0,0,"=$E$10*","=$E$10*0","=$E$10*0",null,4.526E-27,0,5.5275129330490685E-32,0,"=$E$9*","=$E$9*5.52751293304907E-32","=$E$9*0",null,null,0,0,0,0,"=$E$9*","=$E$9*0","=$E$9*0",null,null,null,0,0,null,null,null,null,0,0,"=$P$96*","=$P$96*0"]
["  C24OP                   ",6.4425100000000003E-3,0,0,0,null,"  C24OP                   ",0,null,null,6.4425100000000003E-3,8.3964450477798356E-8,"=$E$6*","=$E$6*8.39644504777984E-08",null,null,null,null,0,0,0,0,"=$E$10*","=$E$10*0","=$E$10*0",null,1.8091000000000001E-27,0,2.2094175093192819E-32,0,"=$E$9*","=$E$9*2.20941750931928E-32","=$E$9*0",null,null,0,0,0,0,"=$E$9*","=$E$9*0","=$E$9*0",null,null,null,0,0,null,null,null,null,0,0,"=$P$96*","=$P$96*0"]
["  C25OP                   ",5.02908E-3,0,0,0,null,"  C25OP                   ",0,null,null,5.02908E-3,6.5543388928986705E-8,"=$E$6*","=$E$6*6.55433889289867E-08",null,null,null,null,0,0,{"$f":"S95/$H$14","v":0},{"$f":"T95/$H$14","v":0},"=$E$10*","=$E$10*0","=$E$10*0",null,7.3521000000000003E-28,0,8.9789721244078784E-33,0,"=$E$9*","=$E$9*8.97897212440788E-33","=$E$9*0",null,null,0,0,0,0,"=$E$9*","=$E$9*0","=$E$9*0",null,null,null,0,0,null,null,null,null,0,0,"=$P$96*","=$P$96*0"]
["  C26OP                   ",3.8768499999999998E-3,0,0,0,null,"  C26OP                   ",0,null,null,3.8768499999999998E-3,5.0526515261109805E-8,"=$E$6*","=$E$6*5.05265152611098E-08",null,null,null,null,0,0,0,0,"=$E$10*","=$E$10*0","=$E$10*0",null,2.9803000000000002E-28,0,3.6397805555382542E-33,0,"=$E$9*","=$E$9*3.63978055553825E-33","=$E$9*0",null,null,0,0,0,0,"=$E$9*","=$E$9*0","=$E$9*0",null,null,null,0,0,null,null,null,null,0,0,"=$P$96*","=$P$96*0"]
["  C27OP                   ",2.9818100000000001E-3,0,0,0,null,"  C27OP                   ",0,null,null,2.9818100000000001E-3,3.8861567631125743E-8,"=$E$6*","=$E$6*3.88615676311257E-08",null,null,null,null,0,0,0,0,"=$E$10*","=$E$10*0","=$E$10*0",null,1.2423999999999999E-28,0,1.5173181767609727E-33,0,"=$E$9*","=$E$9*1.51731817676097E-33","=$E$9*0",null,null,0,0,0,0,"=$E$9*","=$E$9*0","=$E$9*0",null,null,null,0,0,null,null,null,null,0,0,"=$P$96*","=$P$96*0"]
["  C28OP                   ",2.2862300000000002E-3,0,0,0,null,"  C28OP                   ",0,null,null,2.2862300000000002E-3,2.9796157959530829E-8,"=$E$6*","=$E$6*2.97961579595308E-08",null,null,null,null,0,0,0,0,"=$E$10*","=$E$10*0","=$E$10*0",null,5.2953999999999995E-29,0,6.4671657060689421E-34,0,"=$E$9*","=$E$9*6.46716570606894E-34","=$E$9*0",null,null,0,0,0,0,"=$E$9*","=$E$9*0","=$E$9*0",null,null,null,0,0,null,null,null,null,0,0,"=$P$96*","=$P$96*0"]
["  C29OP                   ",1.74519E-3,0,0,0,null,"  C29OP                   ",0,null,null,1.74519E-3,2.2744849341227085E-8,"=$E$6*","=$E$6*2.27448493412271E-08",null,null,null,null,0,0,0,0,"=$E$10*","=$E$10*0","=$E$10*0",null,2.2422E-29,0,2.738353844119006E-34,0,"=$E$9*","=$E$9*2.73835384411901E-34","=$E$9*0",null,null,0,0,0,0,"=$E$9*","=$E$9*0","=$E$9*0",null,null,null,0,0,null,null,null,null,0,0,"=$P$96*","=$P$96*0"]
["  C30WAX                  ",3.4047400000000001E-4,0,0,0,null,"  C30WAX                  ",0,null,null,3.4047400000000001E-4,4.4373562962227324E-9,"=$E$6*","=$E$6*4.43735629622273E-09",null,null,null,null,0,0,0,0,"=$E$10*","=$E$10*0","=$E$10*0",null,1.4298E-34,0,1.746186034395395E-39,0,"=$E$9*","=$E$9*1.7461860343954E-39","=$E$9*0",null,null,0,0,0,0,"=$E$9*","=$E$9*0","=$E$9*0",null,null,null,0,0,null,null,null,null,0,0,"=$P$96*","=$P$96*0"]
["Mole Frac                 "," "," "," "," ",null,"Mole Frac                 "," ",null,null,null,null,null,null,null,null,null,null,2813.367154,93.853829899999994,null,null,"=$E$10*","=$E$10*","=$E$10*",null,17111.361430579615,4083.2621770238748,0.20897762176227536,4.9868061185438711E-2,"=$E$9*","=$E$9*0.208977621762275","=$E$9*0.0498680611854387",null,null,{"$f":"SUM(AJ10:AJ100)","v":37863.498299999999},{"$f":"SUM(AK10:AK100)","v":1199.03874}]
["  H2                      ",0.16751079999999999,1.0702800000000001E-3,0,0,null,"  H2                      ",0.42506840000000001]
["  N2                      ",7.6366199999999995E-2,7.2046100000000004E-4,0,0,null,"  N2                      ",4.8804500000000001E-2]
["  O2                      ",0,0,0,0,null,"  O2                      ",0]
["  H2S                     ",8.10353E-9,2.3213E-10,0,0,null,"  H2S                     ",2.3034000000000001E-9]
["  CO                      ",2.3213500000000001E-2,2.10924E-4,0,0,null,"  CO                      ",0.4536114]
["  CO2                     ",0.5743007,1.10034E-2,0,0,null,"  CO2                     ",7.7538099999999999E-3]
["  H2O                     ",1.1343900000000001E-2,1.3161000000000001E-2,0,0,null,"  H2O                     ",4.8613299999999998E-2]
["  NH3                     ",0,0,0,0,null,"  NH3                     ",0]
["  HCL                     ",0,0,0,0,null,"  HCL                     ",0]
["  C                       ",0,0,0,0,null,"  C                       ",0]
["  HCN                     ",0,0,0,0,null,"  HCN                     ",0]
["  SULFUR                  ",0,0,0,0,null,"  SULFUR                  ",0]
["  COS                     ",0,0,0,0,null,"  COS                     ",0]
["  CH4                     ",3.4814699999999997E-2,4.9265599999999995E-4,0.19823850000000001,2.8766300000000002E-2,null,"  CH4                     ",1.11629E-2]
["  C2H4                    ",1.7622800000000001E-2,4.3398500000000001E-3,0,0,null,"  C2H4                    ",4.0349000000000001E-3]
["  C2H6                    ",4.3117700000000004E-3,2.1281899999999999E-2,0.27237990000000001,1.5347299999999999E-2,null,"  C2H6                    ",8.43709E-4]
["  C3H6                    ",7.4528700000000003E-3,0.43449579999999999,0,0,null,"  C3H6                    ",8.8407599999999997E-5]
["  C3H8                    ",1.3426E-3,7.7176700000000001E-2,0.25199909999999998,0.31367519999999999,null,"  C3H8                    ",1.1497299999999999E-5]
["  IC4H8                   ",3.43724E-4,1.7449099999999999E-2,0,0,null,"  IC4H8                   ",2.5994399999999999E-7]
["  NC4H8                   ",6.5664699999999996E-3,0.33142379999999999,0,0,null,"  NC4H8                   ",4.7541799999999996E-6]
["  IC4H10                  ",8.5411800000000001E-5,4.3553699999999999E-3,0.14091319999999999,0.31514569999999997,null,"  IC4H10                  ",9.2314899999999998E-8]
["  NC4H10                  ",1.69827E-3,8.2818600000000006E-2,0.13646929999999999,0.32706540000000001,null,"  NC4H10                  ",1.49996E-6]
["  C5H10                   ",6.1344499999999996E-3,0,0,0,null,"  C5H10                   ",3.3886600000000001E-7]
["  NC5H12                  ",1.9523100000000001E-3,0,0,0,null,"  NC5H12                  ",6.4950299999999999E-8]
["  IC5H12                  ",2.11335E-4,0,0,0,null,"  IC5H12                  ",1.52968E-8]
["  C6H12                   ",5.9551500000000002E-3,0,0,0,null,"  C6H12                   ",1.7339999999999998E-8]
["  NC6H14                  ",1.8250899999999999E-3,0,0,0,null,"  NC6H14                  ",3.4999800000000001E-9]
["  IC6H14                  ",1.97264E-4,0,0,0,null,"  IC6H14                  ",8.5297E-10]
["  C7H14                   ",5.0423200000000003E-3,0,0,0,null,"  C7H14                   ",4.7253000000000002E-10]
["  C7H16                   ",2.1927100000000001E-3,0,0,0,null,"  C7H16                   ",2.4725999999999998E-10]
["  C8H16                   ",4.4399299999999999E-3,0,0,0,null,"  C8H16                   ",2.4305E-11]
["  C8H18                   ",1.9119600000000001E-3,0,0,0,null,"  C8H18                   ",7.4939000000000006E-12]
["  C9H18                   ",3.8378399999999999E-3,0,0,0,null,"  C9H18                   ",7.4652000000000003E-13]
["  C9H20                   ",1.6507900000000001E-3,0,0,0,null,"  C9H20                   ",1.7252000000000001E-13]
["  C10H20                  ",3.26158E-3,0,0,0,null,"  C10H20                  ",1.0817E-14]
["  C10H22                  ",1.41051E-3,0,0,0,null,"  C10H22                  ",6.6207999999999998E-15]
["  C11H22                  ",2.73339E-3,0,0,0,null,"  C11H22                  ",3.1447000000000001E-16]
["  C11H24                  ",1.17015E-3,0,0,0,null,"  C11H24                  ",1.3623E-16]
["  C12H24                  ",2.2658499999999998E-3,0,0,0,null,"  C12H24                  ",5.5119999999999996E-18]
["  C12H26                  ",9.68668E-4,0,0,0,null,"  C12H26                  ",2.2353E-18]
["  C13H26                  ",1.8571600000000001E-3,0,0,0,null,"  C13H26                  ",1.1803999999999999E-19]
["  C13H28                  ",7.9509800000000005E-4,0,0,0,null,"  C13H28                  ",1.3052E-20]
["  C14H28                  ",1.50493E-3,0,0,0,null,"  C14H28                  ",2.3194000000000001E-21]
["  C14H30                  ",6.4241700000000005E-4,0,0,0,null,"  C14H30                  ",8.1660000000000003E-23]
["  C15H30                  ",1.20663E-3,0,0,0,null,"  C15H30                  ",5.4007000000000001E-23]
["  C15H32                  ",5.1639199999999996E-4,0,0,0,null,"  C15H32                  ",3.5731000000000001E-24]
["  C16H32                  ",9.5141099999999999E-4,0,0,0,null,"  C16H32                  ",1.8519999999999999E-24]
["  C16H34                  ",4.11629E-4,0,0,0,null,"  C16H34                  ",1.6355E-25]
["  C17H34                  ",7.51803E-4,0,0,0,null,"  C17H34                  ",1.0001E-26]
["  C17H36                  ",3.1673500000000001E-4,0,0,0,null,"  C17H36                  ",4.4129999999999996E-27]
["  C18H36                  ",5.6326800000000002E-4,0,0,0,null,"  C18H36                  ",3.053E-27]
["  C18H38                  ",2.40881E-4,0,0,0,null,"  C18H38                  ",4.6169999999999997E-28]
["  C19H38                  ",4.3108000000000003E-4,0,0,0,null,"  C19H38                  ",3.0217E-30]
["  C19H40                  ",1.7860200000000001E-4,0,0,0,null,"  C19H40                  ",2.3101999999999999E-29]
["  C20H40                  ",3.1266300000000003E-4,0,0,0,null,"  C20H40                  ",3.6396000000000001E-32]
["  C20H42                  ",1.2857499999999999E-4,0,0,0,null,"  C20H42                  ",2.2803000000000001E-32]
["  ALKYLATE                ",0,0,0,0,null,"  ALKYLATE                ",0]
["  ISOMERAT                ",0,0,0,0,null,"  ISOMERAT                ",0]
["  REFORMAT                ",0,0,0,0,null,"  REFORMAT                ",0]
["  C7-300HC                ",0,0,0,0,null,"  C7-300HC                ",0]
["  3-350HC                 ",0,0,0,0,null,"  3-350HC                 ",0]
["  350-5HC                 ",0,0,0,0,null,"  350-5HC                 ",0]
["  500+HC                  ",0,0,0,0,null,"  500+HC                  ",0]
["  C7-300HT                ",0,0,0,0,null,"  C7-300HT                ",0]
["  3-350HT                 ",0,0,0,0,null,"  3-350HT                 ",0]
["  350-5HT                 ",0,0,0,0,null,"  350-5HT                 ",0]
["  500+HT                  ",0,0,0,0,null,"  500+HT                  ",0]
["  OXVAP                   ",1.47521E-3,0,0,0,null,"  OXVAP                   ",0]
["  OXHC                    ",6.6936299999999999E-3,0,0,0,null,"  OXHC                    ",8.1876999999999995E-13]
["  OXH2O                   ",5.3248699999999998E-3,0,0,0,null,"  OXH2O                   ",0]
["  C5N                     ",0,0,0,0,null,"  C5N                     ",0]
["  C6N                     ",0,0,0,0,null,"  C6N                     ",0]
["  C7N                     ",0,0,0,0,null,"  C7N                     ",0]
["  C8N                     ",0,0,0,0,null,"  C8N                     ",0]
["  C9N                     ",0,0,0,0,null,"  C9N                     ",0]
["  C10N                    ",0,0,0,0,null,"  C10N                    ",0]
["  C6A                     ",0,0,0,0,null,"  C6A                     ",0]
["  C7A                     ",0,0,0,0,null,"  C7A                     ",0]
["  C8A                     ",0,0,0,0,null,"  C8A                     ",0]
["  C9A                     ",0,0,0,0,null,"  C9A                     ",0]
["  C10AP                   ",0,0,0,0,null,"  C10AP                   ",0]
["  C21OP                   ",3.6587700000000002E-4,0,0,0,null,"  C21OP                   ",7.3985000000000005E-33]
["  C22OP                   ",2.97523E-4,0,0,0,null,"  C22OP                   ",2.6462999999999998E-34]
["  C23OP                   ",2.3773500000000001E-4,0,0,0,null,"  C23OP                   ",0]
["  C24OP                   ",1.8748199999999999E-4,0,0,0,null,"  C24OP                   ",0]
["  C25OP                   ",1.4635000000000001E-4,0,0,0,null,"  C25OP                   ",0]
["  C26OP                   ",1.1281999999999999E-4,0,0,0,null,"  C26OP                   ",0]
["  C27OP                   ",8.6773200000000005E-5,0,0,0,null,"  C27OP                   ",0]
["  C28OP                   ",6.6531200000000004E-5,0,0,0,null,"  C28OP                   ",0]
["  C29OP                   ",5.0786499999999999E-5,0,0,0,null,"  C29OP                   ",0]
["  C30WAX                  ",9.9080599999999998E-6,0,0,0,null,"  C30WAX                  ",0]
["Mass Flow   lb/hr         "," "," "," "," ",null,"Mass Flow   lb/hr         "," "]
["  H2                      ",11.603400000000001,1.5243059999999999,0,0,null,"  H2                      ",154670]
["  N2                      ",73.512619999999998,14.25952,0,0,null,"  N2                      ",246790]
["  O2                      ",0,0,0,0,null,"  O2                      ",0]
["  H2S                     ",9.4888800000000002E-6,5.5886600000000001E-6,0,0,null,"  H2S                     ",1.4168200000000001E-2]
["  CO                      ",22.34375,4.1742039999999996,0,0,null,"  CO                      ",2293530]
["  CO2                     ",868.52769999999998,342.14159999999998,0,0,null,"  CO2                     ",61597.84]
["  H2O                     ",7.022621,167.517,0,0,null,"  H2O                     ",158087]
["  NH3                     ",0,0,0,0,null,"  NH3                     ",0]
["  HCL                     ",0,0,0,0,null,"  HCL                     ",0]
["  C                       ",0,0,0,0,null,"  C                       ",0]
["  HCN                     ",0,0,0,0,null,"  HCN                     ",0]
["  SULFUR                  ",0,0,0,0,null,"  SULFUR                  ",0]
["  COS                     ",0,0,0,0,null,"  COS                     ",0]
["  CH4                     ",19.19256,5.5840170000000002,479.7681,137.22499999999999,null,"  CH4                     ",32326.080000000002]
["  C2H4                    ",16.988689999999998,86.018460000000005,0,0,null,"  C2H4                    ",20432.53]
["  C2H6                    ",4.4552860000000001,452.1318,1235.5730000000001,137.22499999999999,null,"  C2H6                    ",4579.5029999999997]
["  C3H6                    ",10.777010000000001,12917.96,0,0,null,"  C3H6                    ",671.53719999999998]
["  C3H8                    ",2.03443,2404.4520000000002,1676.365,4112.9679999999998,null,"  C3H8                    ",91.516109999999998]
["  IC4H8                   ",0.66270989999999996,691.70569999999998,0,0,null,"  IC4H8                   ",2.6326900000000002]
["  NC4H8                   ",12.66034,13138.05,0,0,null,"  NC4H8                   ",48.149850000000001]
["  IC4H10                  ",0.17059279999999999,178.8552,1235.5730000000001,5446.6989999999996,null,"  IC4H10                  ",0.96854660000000004]
["  NC4H10                  ",3.391953,3400.9830000000002,1196.607,5652.7079999999996,null,"  NC4H10                  ",15.73728]
["  C5H10                   ",14.784230000000001,0,0,0,null,"  C5H10                   ",4.2900029999999996]
["  NC5H12                  ",4.8403799999999997,0,0,0,null,"  NC5H12                  ",0.84589619999999999]
["  IC5H12                  ",0.52396319999999996,0,0,0,null,"  IC5H12                  ",0.1992215]
["  C6H12                   ",17.222549999999998,0,0,0,null,"  C6H12                   ",0.26342719999999997]
["  NC6H14                  ",5.4046700000000003,0,0,0,null,"  NC6H14                  ",5.4444699999999999E-2]
["  IC6H14                  ",0.58415980000000001,0,0,0,null,"  IC6H14                  ",1.3268500000000001E-2]
["  C7H14                   ",17.013020000000001,0,0,0,null,"  C7H14                   ",8.3750700000000001E-3]
["  C7H16                   ",7.5502079999999996,0,0,0,null,"  C7H16                   ",4.4723200000000001E-3]
["  C8H16                   ",17.120629999999998,0,0,0,null,"  C8H16                   ",4.9231899999999996E-4]
["  C8H18                   ",7.5050499999999998,0,0,0,null,"  C8H18                   ",1.5452200000000001E-4]
["  C9H18                   ",16.648790000000002,0,0,0,null,"  C9H18                   ",1.7011600000000002E-5]
["  C9H20                   ",7.2755929999999998,0,0,0,null,"  C9H20                   ",3.9940999999999996E-6]
["  C10H20                  ",15.72106,0,0,0,null,"  C10H20                  ",2.7387499999999998E-7]
["  C10H22                  ",6.8964600000000003,0,0,0,null,"  C10H22                  ",1.7004600000000001E-7]
["  C11H22                  ",14.49263,0,0,0,null,"  C11H22                  ",8.7584900000000004E-9]
["  C11H24                  ",6.2853079999999997,0,0,0,null,"  C11H24                  ",3.8438100000000002E-9]
["  C12H24                  ",13.10589,0,0,0,null,"  C12H24                  ",1.6748E-10]
["  C12H26                  ",5.669956,0,0,0,null,"  C12H26                  ",6.8730000000000005E-11]
["  C13H26                  ",11.63715,0,0,0,null,"  C13H26                  ",3.8854000000000004E-12]
["  C13H28                  ",5.0372370000000002,0,0,0,null,"  C13H28                  ",4.3435999999999998E-13]
["  C14H28                  ",10.15544,0,0,0,null,"  C14H28                  ",8.2219000000000005E-14]
["  C14H30                  ",4.3795960000000003,0,0,0,null,"  C14H30                  ",2.9244E-15]
["  C15H30                  ",8.7240590000000005,0,0,0,null,"  C15H30                  ",2.0511999999999999E-15]
["  C15H32                  ",3.7693430000000001,0,0,0,null,"  C15H32                  ",1.3700000000000001E-16]
["  C16H32                  ",7.3373939999999997,0,0,0,null,"  C16H32                  ",7.5029000000000003E-17]
["  C16H34                  ",3.2030449999999999,0,0,0,null,"  C16H34                  ",6.6851999999999997E-18]
["  C17H34                  ",6.1603640000000004,0,0,0,null,"  C17H34                  ",4.3047999999999998E-19]
["  C17H36                  ",2.617305,0,0,0,null,"  C17H36                  ",1.9156000000000001E-19]
["  C18H36                  ",4.8869860000000003,0,0,0,null,"  C18H36                  ",1.3913999999999999E-19]
["  C18H38                  ",2.1066020000000001,0,0,0,null,"  C18H38                  ",2.1209999999999999E-20]
["  C19H38                  ",3.9478900000000001,0,0,0,null,"  C19H38                  ",1.4537E-22]
["  C19H40                  ",1.6480330000000001,0,0,0,null,"  C19H40                  ",1.1198E-21]
["  C20H40                  ",3.0141140000000002,0,0,0,null,"  C20H40                  ",1.8430999999999998E-24]
["  C20H42                  ",1.2483900000000001,0,0,0,null,"  C20H42                  ",1.163E-24]
["  ALKYLATE                ",0,0,0,0,null,"  ALKYLATE                ",0]
["  ISOMERAT                ",0,0,0,0,null,"  ISOMERAT                ",0]
["  REFORMAT                ",0,0,0,0,null,"  REFORMAT                ",0]
["  C7-300HC                ",0,0,0,0,null,"  C7-300HC                ",0]
["  3-350HC                 ",0,0,0,0,null,"  3-350HC                 ",0]
["  350-5HC                 ",0,0,0,0,null,"  350-5HC                 ",0]
["  500+HC                  ",0,0,0,0,null,"  500+HC                  ",0]
["  C7-300HT                ",0,0,0,0,null,"  C7-300HT                ",0]
["  3-350HT                 ",0,0,0,0,null,"  3-350HT                 ",0]
["  350-5HT                 ",0,0,0,0,null,"  350-5HT                 ",0]
["  500+HT                  ",0,0,0,0,null,"  500+HT                  ",0]
["  OXVAP                   ",2.5813480000000002,0,0,0,null,"  OXVAP                   ",0]
["  OXHC                    ",20.076920000000001,0,0,0,null,"  OXHC                    ",1.2900399999999999E-5]
["  OXH2O                   ",8.3359159999999992,0,0,0,null,"  OXH2O                   ",0]
["  C5N                     ",0,0,0,0,null,"  C5N                     ",0]
["  C6N                     ",0,0,0,0,null,"  C6N                     ",0]
["  C7N                     ",0,0,0,0,null,"  C7N                     ",0]
["  C8N                     ",0,0,0,0,null,"  C8N                     ",0]
["  C9N                     ",0,0,0,0,null,"  C9N                     ",0]
["  C10N                    ",0,0,0,0,null,"  C10N                    ",0]
["  C6A                     ",0,0,0,0,null,"  C6A                     ",0]
["  C7A                     ",0,0,0,0,null,"  C7A                     ",0]
["  C8A                     ",0,0,0,0,null,"  C8A                     ",0]
["  C9A                     ",0,0,0,0,null,"  C9A                     ",0]
["  C10AP                   ",0,0,0,0,null,"  C10AP                   ",0]
["  C21OP                   ",3.7110660000000002,0,0,0,null,"  C21OP                   ",3.9419999999999999E-25]
["  C22OP                   ",3.1611609999999999,0,0,0,null,"  C22OP                   ",1.4769999999999999E-26]
["  C23OP                   ",2.6405059999999998,0,0,0,null,"  C23OP                   ",0]
["  C24OP                   ",2.172723,0,0,0,null,"  C24OP                   ",0]
["  C25OP                   ",1.7665900000000001,0,0,0,null,"  C25OP                   ",0]
["  C26OP                   ",1.416221,0,0,0,null,"  C26OP                   ",0]
["  C27OP                   ",1.131086,0,0,0,null,"  C27OP                   ",0]
["  C28OP                   ",0.89925580000000005,0,0,0,null,"  C28OP                   ",0]
["  C29OP                   ",0.71097239999999995,0,0,0,null,"  C29OP                   ",0]
["  C30WAX                  ",0.26658419999999999,0,0,0,null,"  C30WAX                  ",0]
["Mass Frac                 "," "," "," "," ",null,"Mass Frac                 "," "]
["  H2                      ",8.5273199999999997E-3,4.5090699999999998E-5,0,0,null,"  H2                      ",5.20276E-2]
["  N2                      ",5.4024299999999997E-2,4.2181199999999998E-4,0,0,null,"  N2                      ",8.3014599999999994E-2]
["  O2                      ",0,0,0,0,null,"  O2                      ",0]
["  H2S                     ",6.9733700000000003E-9,1.6532E-10,0,0,null,"  H2S                     ",4.76589E-9]
["  CO                      ",1.6420400000000002E-2,1.23478E-4,0,0,null,"  CO                      ",0.77149210000000001]
["  CO2                     ",0.63827999999999996,1.01209E-2,0,0,null,"  CO2                     ",2.0720100000000002E-2]
["  H2O                     ",5.1609200000000003E-3,4.9553399999999999E-3,0,0,null,"  H2O                     ",5.3176899999999999E-2]
["  NH3                     ",0,0,0,0,null,"  NH3                     ",0]
["  HCL                     ",0,0,0,0,null,"  HCL                     ",0]
["  C                       ",0,0,0,0,null,"  C                       ",0]
["  HCN                     ",0,0,0,0,null,"  HCN                     ",0]
["  SULFUR                  ",0,0,0,0,null,"  SULFUR                  ",0]
["  COS                     ",0,0,0,0,null,"  COS                     ",0]
["  CH4                     ",1.4104500000000001E-2,1.65181E-4,8.2379300000000003E-2,8.8607600000000005E-3,null,"  CH4                     ",1.08737E-2]
["  C2H4                    ",1.24849E-2,2.5445200000000002E-3,0,0,null,"  C2H4                    ",6.8730500000000003E-3]
["  C2H6                    ",3.2741799999999998E-3,1.3374499999999999E-2,0.21215609999999999,8.8607600000000005E-3,null,"  C2H6                    ",1.5404399999999999E-3]
["  C3H6                    ",7.9200099999999999E-3,0.38212770000000001,0,0,null,"  C3H6                    ",2.2588999999999999E-4]
["  C3H8                    ",1.4951000000000001E-3,7.1126300000000003E-2,0.28784310000000002,0.2655785,null,"  C3H8                    ",3.0784000000000002E-5]
["  IC4H8                   ",4.8702499999999998E-4,2.0461400000000001E-2,0,0,null,"  IC4H8                   ",8.8557899999999999E-7]
["  NC4H8                   ",9.3040699999999994E-3,0.38863799999999998,0,0,null,"  NC4H8                   ",1.61965E-5]
["  IC4H10                  ",1.25368E-4,5.2907400000000004E-3,0.21215609999999999,0.35169889999999998,null,"  IC4H10                  ",3.2579800000000002E-7]
["  NC4H10                  ",2.4927399999999998E-3,0.1006049,0.20546539999999999,0.36500110000000002,null,"  NC4H10                  ",5.2936700000000003E-6]
["  C5H10                   ",1.08649E-2,0,0,0,null,"  C5H10                   ",1.44306E-6]
["  NC5H12                  ",3.55719E-3,0,0,0,null,"  NC5H12                  ",2.8454100000000001E-7]
["  IC5H12                  ",3.8506E-4,0,0,0,null,"  IC5H12                  ",6.7013700000000004E-8]
["  C6H12                   ",1.2656799999999999E-2,0,0,0,null,"  C6H12                   ",8.8611100000000004E-8]
["  NC6H14                  ",3.9718899999999996E-3,0,0,0,null,"  NC6H14                  ",1.8314000000000001E-8]
["  IC6H14                  ",4.29298E-4,0,0,0,null,"  IC6H14                  ",4.4632600000000002E-9]
["  C7H14                   ",1.25028E-2,0,0,0,null,"  C7H14                   ",2.8171899999999999E-9]
["  C7H16                   ",5.5486399999999996E-3,0,0,0,null,"  C7H16                   ",1.50439E-9]
["  C8H16                   ",1.25819E-2,0,0,0,null,"  C8H16                   ",1.6561000000000001E-10]
["  C8H18                   ",5.5154499999999999E-3,0,0,0,null,"  C8H18                   ",5.1978E-11]
["  C9H18                   ",1.22351E-2,0,0,0,null,"  C9H18                   ",5.7223000000000004E-12]
["  C9H20                   ",5.3468300000000003E-3,0,0,0,null,"  C9H20                   ",1.3435000000000001E-12]
["  C10H20                  ",1.1553300000000001E-2,0,0,0,null,"  C10H20                  ",9.2124999999999999E-14]
["  C10H22                  ",5.0682000000000001E-3,0,0,0,null,"  C10H22                  ",5.7199999999999999E-14]
["  C11H22                  ",1.06506E-2,0,0,0,null,"  C11H22                  ",2.9462E-15]
["  C11H24                  ",4.6190700000000003E-3,0,0,0,null,"  C11H24                  ",1.2929999999999999E-15]
["  C12H24                  ",9.6314999999999994E-3,0,0,0,null,"  C12H24                  ",5.6334999999999995E-17]
["  C12H26                  ",4.1668399999999998E-3,0,0,0,null,"  C12H26                  ",2.3118999999999998E-17]
["  C13H26                  ",8.5521299999999998E-3,0,0,0,null,"  C13H26                  ",1.3070000000000001E-18]
["  C13H28                  ",3.70186E-3,0,0,0,null,"  C13H28                  ",1.4610999999999999E-19]
["  C14H28                  ",7.4632199999999996E-3,0,0,0,null,"  C14H28                  ",2.7656999999999998E-20]
["  C14H30                  ",3.2185600000000001E-3,0,0,0,null,"  C14H30                  ",9.8369000000000008E-22]
["  C15H30                  ",6.4113E-3,0,0,0,null,"  C15H30                  ",6.8995999999999996E-22]
["  C15H32                  ",2.7700899999999998E-3,0,0,0,null,"  C15H32                  ",4.6085000000000003E-23]
["  C16H32                  ",5.3922400000000004E-3,0,0,0,null,"  C16H32                  ",2.5238E-23]
["  C16H34                  ",2.3539099999999999E-3,0,0,0,null,"  C16H34                  ",2.2487999999999999E-24]
["  C17H34                  ",4.52725E-3,0,0,0,null,"  C17H34                  ",1.4481000000000001E-25]
["  C17H36                  ",1.9234600000000001E-3,0,0,0,null,"  C17H36                  ",6.4435999999999997E-26]
["  C18H36                  ",3.59144E-3,0,0,0,null,"  C18H36                  ",4.6803999999999999E-26]
["  C18H38                  ",1.5481399999999999E-3,0,0,0,null,"  C18H38                  ",7.1345999999999996E-27]
["  C19H38                  ",2.9012999999999999E-3,0,0,0,null,"  C19H38                  ",4.8897999999999998E-29]
["  C19H40                  ",1.2111400000000001E-3,0,0,0,null,"  C19H40                  ",3.7667000000000001E-28]
["  C20H40                  ",2.21507E-3,0,0,0,null,"  C20H40                  ",6.1997000000000004E-31]
["  C20H42                  ",9.1744099999999996E-4,0,0,0,null,"  C20H42                  ",3.9122E-31]
["  ALKYLATE                ",0,0,0,0,null,"  ALKYLATE                ",0]
["  ISOMERAT                ",0,0,0,0,null,"  ISOMERAT                ",0]
["  REFORMAT                ",0,0,0,0,null,"  REFORMAT                ",0]
["  C7-300HC                ",0,0,0,0,null,"  C7-300HC                ",0]
["  3-350HC                 ",0,0,0,0,null,"  3-350HC                 ",0]
["  350-5HC                 ",0,0,0,0,null,"  350-5HC                 ",0]
["  500+HC                  ",0,0,0,0,null,"  500+HC                  ",0]
["  C7-300HT                ",0,0,0,0,null,"  C7-300HT                ",0]
["  3-350HT                 ",0,0,0,0,null,"  3-350HT                 ",0]
["  350-5HT                 ",0,0,0,0,null,"  350-5HT                 ",0]
["  500+HT                  ",0,0,0,0,null,"  500+HT                  ",0]
["  OXVAP                   ",1.8970300000000001E-3,0,0,0,null,"  OXVAP                   ",0]
["  OXHC                    ",1.47545E-2,0,0,0,null,"  OXHC                    ",4.3393999999999999E-12]
["  OXH2O                   ",6.12606E-3,0,0,0,null,"  OXH2O                   ",0]
["  C5N                     ",0,0,0,0,null,"  C5N                     ",0]
["  C6N                     ",0,0,0,0,null,"  C6N                     ",0]
["  C7N                     ",0,0,0,0,null,"  C7N                     ",0]
["  C8N                     ",0,0,0,0,null,"  C8N                     ",0]
["  C9N                     ",0,0,0,0,null,"  C9N                     ",0]
["  C10N                    ",0,0,0,0,null,"  C10N                    ",0]
["  C6A                     ",0,0,0,0,null,"  C6A                     ",0]
["  C7A                     ",0,0,0,0,null,"  C7A                     ",0]
["  C8A                     ",0,0,0,0,null,"  C8A                     ",0]
["  C9A                     ",0,0,0,0,null,"  C9A                     ",0]
["  C10AP                   ",0,0,0,0,null,"  C10AP                   ",0]
["  C21OP                   ",2.72726E-3,0,0,0,null,"  C21OP                   ",1.326E-31]
["  C22OP                   ",2.3231300000000001E-3,0,0,0,null,"  C22OP                   ",4.9682000000000001E-33]
["  C23OP                   ",1.9405E-3,0,0,0,null,"  C23OP                   ",0]
["  C24OP                   ",1.59673E-3,0,0,0,null,"  C24OP                   ",0]
["  C25OP                   ",1.29827E-3,0,0,0,null,"  C25OP                   ",0]
["  C26OP                   ",1.04078E-3,0,0,0,null,"  C26OP                   ",0]
["  C27OP                   ",8.3123400000000003E-4,0,0,0,null,"  C27OP                   ",0]
["  C28OP                   ",6.6086200000000002E-4,0,0,0,null,"  C28OP                   ",0]
["  C29OP                   ",5.2249299999999996E-4,0,0,0,null,"  C29OP                   ",0]
["  C30WAX                  ",1.9591199999999999E-4,0,0,0,null,"  C30WAX                  ",0]
["Liq Vol 60F cuft/hr       "," "," "," "," ",null,"Liq Vol 60F cuft/hr       "," "]
["  H2                      ",0.61953119999999995,8.1386E-2,0,0,null,"  H2                      ",8258.1949999999997]
["  N2                      ",1.4548509999999999,0.28220289999999998,0,0,null,"  N2                      ",4884.0919999999996]
["  O2                      ",0,0,0,0,null,"  O2                      ",0]
["  H2S                     ",1.89663E-7,1.1170599999999999E-7,0,0,null,"  H2S                     ",2.8319400000000001E-4]
["  CO                      ",1.1930419999999999,0.2228811,0,0,null,"  CO                      ",122463]
["  CO2                     ",17.008009999999999,6.7000149999999996,0,0,null,"  CO2                     ",1206.2449999999999]
["  H2O                     ",0.1127088,2.6885460000000001,0,0,null,"  H2O                     ",2537.1990000000001]
["  NH3                     ",0,0,0,0,null,"  NH3                     ",0]
["  HCL                     ",0,0,0,0,null,"  HCL                     ",0]
["  C                       ",0,0,0,0,null,"  C                       ",0]
["  HCN                     ",0,0,0,0,null,"  HCN                     ",0]
["  SULFUR                  ",0,0,0,0,null,"  SULFUR                  ",0]
["  COS                     ",0,0,0,0,null,"  COS                     ",0]
["  CH4                     ",1.0263659999999999,0.29861799999999999,25.656680000000001,7.3384200000000002,null,"  CH4                     ",1728.71]
["  C2H4                    ",0.75592740000000003,3.8274710000000001,0,0,null,"  C2H4                    ",909.16449999999998]
["  C2H6                    ",0.20105480000000001,20.403459999999999,55.758009999999999,6.1925889999999999,null,"  C2H6                    ",206.66040000000001]
["  C3H6                    ",0.33134760000000002,397.17290000000003,0,0,null,"  C3H6                    ",20.646940000000001]
["  C3H8                    ",6.4402200000000007E-2,76.115710000000007,53.06729,130.20079999999999,null,"  C3H8                    ",2.897049]
["  IC4H8                   ",1.7654400000000001E-2,18.426880000000001,0,0,null,"  IC4H8                   ",7.0134199999999994E-2]
["  NC4H8                   ",0.33771669999999998,350.45960000000002,0,0,null,"  NC4H8                   ",1.284405]
["  IC4H10                  ",4.8672100000000003E-3,5.1029479999999996,35.252330000000001,155.4006,null,"  IC4H10                  ",2.7633700000000001E-2]
["  NC4H10                  ",9.3212699999999996E-2,93.460890000000006,32.883420000000001,155.33949999999999,null,"  NC4H10                  ",0.4324691]
["  C5H10                   ",0.3677723,0,0,0,null,"  C5H10                   ",0.10671799999999999]
["  NC5H12                  ",0.12322959999999999,0,0,0,null,"  NC5H12                  ",2.15353E-2]
["  IC5H12                  ",1.34731E-2,0,0,0,null,"  IC5H12                  ",5.1227800000000004E-3]
["  C6H12                   ",0.40802640000000001,0,0,0,null,"  C6H12                   ",6.2409600000000003E-3]
["  NC6H14                  ",0.1307392,0,0,0,null,"  NC6H14                  ",1.3170199999999999E-3]
["  IC6H14                  ",1.4261899999999999E-2,0,0,0,null,"  IC6H14                  ",3.2394500000000002E-4]
["  C7H14                   ",0.38848519999999997,0,0,0,null,"  C7H14                   ",1.9124100000000001E-4]
["  C7H16                   ",0.17573759999999999,0,0,0,null,"  C7H16                   ",1.04097E-4]
["  C8H16                   ",0.3812682,0,0,0,null,"  C8H16                   ",1.09637E-5]
["  C8H18                   ",0.1700412,0,0,0,null,"  C8H18                   ",3.5009900000000002E-6]
["  C9H18                   ",0.36353439999999998,0,0,0,null,"  C9H18                   ",3.7145499999999999E-7]
["  C9H20                   ",0.16144049999999999,0,0,0,null,"  C9H20                   ",8.8626399999999997E-8]
["  C10H20                  ",0.33815919999999999,0,0,0,null,"  C10H20                  ",5.8910300000000001E-9]
["  C10H22                  ",0.15046380000000001,0,0,0,null,"  C10H22                  ",3.7099899999999999E-9]
["  C11H22                  ",0.30785010000000002,0,0,0,null,"  C11H22                  ",1.8604999999999999E-10]
["  C11H24                  ",0.13523309999999999,0,0,0,null,"  C11H24                  ",8.2702E-11]
["  C12H24                  ",0.2751458,0,0,0,null,"  C12H24                  ",3.516E-12]
["  C12H26                  ",0.12082710000000001,0,0,0,null,"  C12H26                  ",1.4646E-12]
["  C13H26                  ",0.24212149999999999,0,0,0,null,"  C13H26                  ",8.0839000000000003E-14]
["  C13H28                  ",0.1037064,0,0,0,null,"  C13H28                  ",8.9425999999999998E-15]
["  C14H28                  ",0.2099298,0,0,0,null,"  C14H28                  ",1.6996E-15]
["  C14H30                  ",9.1909199999999996E-2,0,0,0,null,"  C14H30                  ",6.1369999999999999E-17]
["  C15H30                  ",0.17911560000000001,0,0,0,null,"  C15H30                  ",4.2112999999999998E-17]
["  C15H32                  ",7.8190800000000005E-2,0,0,0,null,"  C15H32                  ",2.842E-18]
["  C16H32                  ",0.1497819,0,0,0,null,"  C16H32                  ",1.5316E-18]
["  C16H34                  ",6.6016099999999994E-2,0,0,0,null,"  C16H34                  ",1.3779E-19]
["  C17H34                  ",0.12491099999999999,0,0,0,null,"  C17H34                  ",8.7287000000000006E-21]
["  C17H36                  ",5.3770900000000003E-2,0,0,0,null,"  C17H36                  ",3.9354000000000001E-21]
["  C18H36                  ",9.88034E-2,0,0,0,null,"  C18H36                  ",2.8131000000000001E-21]
["  C18H38                  ",4.3151500000000002E-2,0,0,0,null,"  C18H38                  ",4.3446999999999998E-22]
["  C19H38                  ",7.9466099999999998E-2,0,0,0,null,"  C19H38                  ",2.9260999999999999E-24]
["  C19H40                  ",3.3548000000000001E-2,0,0,0,null,"  C19H40                  ",2.2794999999999999E-23]
["  C20H40                  ",6.0495500000000001E-2,0,0,0,null,"  C20H40                  ",3.6991999999999999E-26]
["  C20H42                  ",2.5239500000000002E-2,0,0,0,null,"  C20H42                  ",2.3514000000000001E-26]
["  ALKYLATE                ",0,0,0,0,null,"  ALKYLATE                ",0]
["  ISOMERAT                ",0,0,0,0,null,"  ISOMERAT                ",0]
["  REFORMAT                ",0,0,0,0,null,"  REFORMAT                ",0]
["  C7-300HC                ",0,0,0,0,null,"  C7-300HC                ",0]
["  3-350HC                 ",0,0,0,0,null,"  3-350HC                 ",0]
["  350-5HC                 ",0,0,0,0,null,"  350-5HC                 ",0]
["  500+HC                  ",0,0,0,0,null,"  500+HC                  ",0]
["  C7-300HT                ",0,0,0,0,null,"  C7-300HT                ",0]
["  3-350HT                 ",0,0,0,0,null,"  3-350HT                 ",0]
["  350-5HT                 ",0,0,0,0,null,"  350-5HT                 ",0]
["  500+HT                  ",0,0,0,0,null,"  500+HT                  ",0]
["  OXVAP                   ",5.2407299999999997E-2,0,0,0,null,"  OXVAP                   ",0]
["  OXHC                    ",0.39228400000000002,0,0,0,null,"  OXHC                    ",2.52062E-7]
["  OXH2O                   ",0.16923640000000001,0,0,0,null,"  OXH2O                   ",0]
["  C5N                     ",0,0,0,0,null,"  C5N                     ",0]
["  C6N                     ",0,0,0,0,null,"  C6N                     ",0]
["  C7N                     ",0,0,0,0,null,"  C7N                     ",0]
["  C8N                     ",0,0,0,0,null,"  C8N                     ",0]
["  C9N                     ",0,0,0,0,null,"  C9N                     ",0]
["  C10N                    ",0,0,0,0,null,"  C10N                    ",0]
["  C6A                     ",0,0,0,0,null,"  C6A                     ",0]
["  C7A                     ",0,0,0,0,null,"  C7A                     ",0]
["  C8A                     ",0,0,0,0,null,"  C8A                     ",0]
["  C9A                     ",0,0,0,0,null,"  C9A                     ",0]
["  C10AP                   ",0,0,0,0,null,"  C10AP                   ",0]
["  C21OP                   ",7.4402899999999994E-2,0,0,0,null,"  C21OP                   ",7.9032000000000005E-27]
["  C22OP                   ",6.31771E-2,0,0,0,null,"  C22OP                   ",2.9517999999999998E-28]
["  C23OP                   ",5.2636799999999997E-2,0,0,0,null,"  C23OP                   ",0]
["  C24OP                   ",4.32132E-2,0,0,0,null,"  C24OP                   ",0]
["  C25OP                   ",3.50595E-2,0,0,0,null,"  C25OP                   ",0]
["  C26OP                   ",2.80451E-2,0,0,0,null,"  C26OP                   ",0]
["  C27OP                   ",2.23498E-2,0,0,0,null,"  C27OP                   ",0]
["  C28OP                   ",1.7741400000000001E-2,0,0,0,null,"  C28OP                   ",0]
["  C29OP                   ",1.3982400000000001E-2,0,0,0,null,"  C29OP                   ",0]
["  C30WAX                  ",4.8167699999999997E-3,0,0,0,null,"  C30WAX                  ",0]
["LiqVolFrac60F             "," "," "," "," ",null,"LiqVolFrac60F             "," "]
["  H2                      ",2.07507E-2,8.3452099999999993E-5,0,0,null,"  H2                      ",5.8066899999999998E-2]
["  N2                      ",4.8729099999999997E-2,2.8936700000000001E-4,0,0,null,"  N2                      ",3.43421E-2]
["  O2                      ",0,0,0,0,null,"  O2                      ",0]
["  H2S                     ",6.3526200000000003E-9,1.1454E-10,0,0,null,"  H2S                     ",1.99126E-9]
["  CO                      ",3.9960000000000002E-2,2.2853899999999999E-4,0,0,null,"  CO                      ",0.86108859999999998]
["  CO2                     ",0.56967020000000002,6.8700899999999997E-3,0,0,null,"  CO2                     ",8.4816300000000004E-3]
["  H2O                     ",3.7751E-3,2.7567999999999998E-3,0,0,null,"  H2O                     ",1.7840100000000001E-2]
["  NH3                     ",0,0,0,0,null,"  NH3                     ",0]
["  HCL                     ",0,0,0,0,null,"  HCL                     ",0]
["  C                       ",0,0,0,0,null,"  C                       ",0]
["  HCN                     ",0,0,0,0,null,"  HCN                     ",0]
["  SULFUR                  ",0,0,0,0,null,"  SULFUR                  ",0]
["  COS                     ",0,0,0,0,null,"  COS                     ",0]
["  CH4                     ",3.43773E-2,3.0619799999999998E-4,0.12662609999999999,1.6147100000000001E-2,null,"  CH4                     ",1.2155300000000001E-2]
["  C2H4                    ",2.53192E-2,3.9246300000000001E-3,0,0,null,"  C2H4                    ",6.3927300000000001E-3]
["  C2H6                    ",6.7341800000000002E-3,2.09214E-2,0.27518819999999999,1.36259E-2,null,"  C2H6                    ",1.45312E-3]
["  C3H6                    ",1.1098200000000001E-2,0.40725509999999998,0,0,null,"  C3H6                    ",1.4517800000000001E-4]
["  C3H8                    ",2.1570999999999999E-3,7.8047800000000001E-2,0.26190839999999999,0.28648800000000002,null,"  C3H8                    ",2.0370400000000001E-5]
["  IC4H8                   ",5.9132200000000003E-4,1.8894600000000001E-2,0,0,null,"  IC4H8                   ",4.9314499999999996E-7]
["  NC4H8                   ",1.13115E-2,0.35935600000000001,0,0,null,"  NC4H8                   ",9.0312200000000006E-6]
["  IC4H10                  ",1.6302299999999999E-4,5.2324900000000002E-3,0.17398440000000001,0.34193669999999998,null,"  IC4H10                  ",1.9430499999999999E-7]
["  NC4H10                  ",3.1220900000000001E-3,9.5833299999999996E-2,0.16229289999999999,0.3418022,null,"  NC4H10                  ",3.0408799999999998E-6]
["  C5H10                   ",1.23182E-2,0,0,0,null,"  C5H10                   ",7.5038099999999995E-7]
["  NC5H12                  ",4.1274800000000002E-3,0,0,0,null,"  NC5H12                  ",1.5142499999999999E-7]
["  IC5H12                  ",4.5127399999999999E-4,0,0,0,null,"  IC5H12                  ",3.6020500000000001E-8]
["  C6H12                   ",1.36665E-2,0,0,0,null,"  C6H12                   ",4.3882899999999998E-8]
["  NC6H14                  ",4.37901E-3,0,0,0,null,"  NC6H14                  ",9.26054E-9]
["  IC6H14                  ",4.7769300000000001E-4,0,0,0,null,"  IC6H14                  ",2.2778000000000001E-9]
["  C7H14                   ",1.3011999999999999E-2,0,0,0,null,"  C7H14                   ",1.3446999999999999E-9]
["  C7H16                   ",5.8861900000000003E-3,0,0,0,null,"  C7H16                   ",7.3195000000000004E-10]
["  C8H16                   ",1.2770200000000001E-2,0,0,0,null,"  C8H16                   ",7.7090999999999998E-11]
["  C8H18                   ",5.6953999999999998E-3,0,0,0,null,"  C8H18                   ",2.4617000000000001E-11]
["  C9H18                   ",1.2176299999999999E-2,0,0,0,null,"  C9H18                   ",2.6118999999999998E-12]
["  C9H20                   ",5.4073200000000002E-3,0,0,0,null,"  C9H20                   ",6.2316999999999996E-13]
["  C10H20                  ",1.1326299999999999E-2,0,0,0,null,"  C10H20                  ",4.1422000000000001E-14]
["  C10H22                  ",5.0396699999999996E-3,0,0,0,null,"  C10H22                  ",2.6087E-14]
["  C11H22                  ",1.03112E-2,0,0,0,null,"  C11H22                  ",1.3082E-15]
["  C11H24                  ",4.5295300000000004E-3,0,0,0,null,"  C11H24                  ",5.8152000000000003E-16]
["  C12H24                  ",9.2157999999999997E-3,0,0,0,null,"  C12H24                  ",2.4723E-17]
["  C12H26                  ",4.0470100000000002E-3,0,0,0,null,"  C12H26                  ",1.0298E-17]
["  C13H26                  ",8.1096699999999994E-3,0,0,0,null,"  C13H26                  ",5.6841000000000002E-19]
["  C13H28                  ",3.47357E-3,0,0,0,null,"  C13H28                  ",6.2879000000000002E-20]
["  C14H28                  ",7.0314399999999999E-3,0,0,0,null,"  C14H28                  ",1.1951E-20]
["  C14H30                  ",3.0784300000000001E-3,0,0,0,null,"  C14H30                  ",4.3151999999999998E-22]
["  C15H30                  ",5.9993399999999997E-3,0,0,0,null,"  C15H30                  ",2.9611E-22]
["  C15H32                  ",2.6189400000000002E-3,0,0,0,null,"  C15H32                  ",1.9982999999999999E-23]
["  C16H32                  ",5.0168299999999999E-3,0,0,0,null,"  C16H32                  ",1.0769000000000001E-23]
["  C16H34                  ",2.2111600000000002E-3,0,0,0,null,"  C16H34                  ",9.6883E-25]
["  C17H34                  ",4.1837999999999997E-3,0,0,0,null,"  C17H34                  ",6.1376000000000001E-26]
["  C17H36                  ",1.80102E-3,0,0,0,null,"  C17H36                  ",2.7671999999999999E-26]
["  C18H36                  ",3.30934E-3,0,0,0,null,"  C18H36                  ",1.9780000000000001E-26]
["  C18H38                  ",1.4453300000000001E-3,0,0,0,null,"  C18H38                  ",3.0549E-27]
["  C19H38                  ",2.6616600000000002E-3,0,0,0,null,"  C19H38                  ",2.0574000000000001E-29]
["  C19H40                  ",1.12367E-3,0,0,0,null,"  C19H40                  ",1.6028000000000001E-28]
["  C20H40                  ",2.0262499999999998E-3,0,0,0,null,"  C20H40                  ",2.6011000000000002E-31]
["  C20H42                  ",8.4537900000000005E-4,0,0,0,null,"  C20H42                  ",1.6533E-31]
["  ALKYLATE                ",0,0,0,0,null,"  ALKYLATE                ",0]
["  ISOMERAT                ",0,0,0,0,null,"  ISOMERAT                ",0]
["  REFORMAT                ",0,0,0,0,null,"  REFORMAT                ",0]
["  C7-300HC                ",0,0,0,0,null,"  C7-300HC                ",0]
["  3-350HC                 ",0,0,0,0,null,"  3-350HC                 ",0]
["  350-5HC                 ",0,0,0,0,null,"  350-5HC                 ",0]
["  500+HC                  ",0,0,0,0,null,"  500+HC                  ",0]
["  C7-300HT                ",0,0,0,0,null,"  C7-300HT                ",0]
["  3-350HT                 ",0,0,0,0,null,"  3-350HT                 ",0]
["  350-5HT                 ",0,0,0,0,null,"  350-5HT                 ",0]
["  500+HT                  ",0,0,0,0,null,"  500+HT                  ",0]
["  OXVAP                   ",1.75534E-3,0,0,0,null,"  OXVAP                   ",0]
["  OXHC                    ",1.31392E-2,0,0,0,null,"  OXHC                    ",1.7724E-12]
["  OXH2O                   ",5.6684400000000003E-3,0,0,0,null,"  OXH2O                   ",0]
["  C5N                     ",0,0,0,0,null,"  C5N                     ",0]
["  C6N                     ",0,0,0,0,null,"  C6N                     ",0]
["  C7N                     ",0,0,0,0,null,"  C7N                     ",0]
["  C8N                     ",0,0,0,0,null,"  C8N                     ",0]
["  C9N                     ",0,0,0,0,null,"  C9N                     ",0]
["  C10N                    ",0,0,0,0,null,"  C10N                    ",0]
["  C6A                     ",0,0,0,0,null,"  C6A                     ",0]
["  C7A                     ",0,0,0,0,null,"  C7A                     ",0]
["  C8A                     ",0,0,0,0,null,"  C8A                     ",0]
["  C9A                     ",0,0,0,0,null,"  C9A                     ",0]
["  C10AP                   ",0,0,0,0,null,"  C10AP                   ",0]
["  C21OP                   ",2.4920699999999999E-3,0,0,0,null,"  C21OP                   ",5.5570999999999996E-32]
["  C22OP                   ",2.1160699999999998E-3,0,0,0,null,"  C22OP                   ",2.0755E-33]
["  C23OP                   ",1.7630300000000001E-3,0,0,0,null,"  C23OP                   ",0]
["  C24OP                   ",1.4473999999999999E-3,0,0,0,null,"  C24OP                   ",0]
["  C25OP                   ",1.1742899999999999E-3,0,0,0,null,"  C25OP                   ",0]
["  C26OP                   ",9.3934900000000002E-4,0,0,0,null,"  C26OP                   ",0]
["  C27OP                   ",7.4859199999999996E-4,0,0,0,null,"  C27OP                   ",0]
["  C28OP                   ",5.9423600000000005E-4,0,0,0,null,"  C28OP                   ",0]
["  C29OP                   ",4.68331E-4,0,0,0,null,"  C29OP                   ",0]
["  C30WAX                  ",1.6133400000000001E-4,0,0,0,null,"  C30WAX                  ",0]
["Total Flow  lbmol/hr      ",34.363300000000002,706.52670000000001,150.85810000000001,297.35410000000002,null,"Total Flow  lbmol/hr      ",180510]
["Total Flow  lb/hr         ",1360.732,33805.35,5823.8860000000004,15486.82,null,"Total Flow  lb/hr         ",2972850]
["Total Flow  cuft/hr       ",2677.95,79828.820000000007,17068.060000000001,19736.919999999998,null,"Total Flow  cuft/hr       ",5032480]
["Temperature F             ",100,100,90,100,null,"Temperature F             ",378.7319]
["Pressure    psia          ",75,50,50,80,null,"Pressure    psia          ",325]
["Vapor Frac                ",1,1,1,1,null,"Vapor Frac                ",1]
["Liquid Frac               ",0,0,0,0,null,"Liquid Frac               ",0]
["Solid Frac                ",0,0,0,0,null,"Solid Frac                ",0]
["Enthalpy    Btu/lbmol     ",-105860,-8224.5509999999995,-43041.04,-51350.84,null,"Enthalpy    Btu/lbmol     ",-26111.98]
["Enthalpy    Btu/lb        ",-2673.2449999999999,-171.89179999999999,-1114.9059999999999,-985.9597,null,"Enthalpy    Btu/lb        ",-1585.5070000000001]
["Enthalpy    Btu/hr        ",-3637600,-5810900,-6493100,-15269000,null,"Enthalpy    Btu/hr        ",-4713500000]
["Entropy     Btu/lbmol-R   ",-13.62584,-47.427059999999997,-55.187190000000001,-79.068759999999997,null,"Entropy     Btu/lbmol-R   ",8.1437039999999996]
["Entropy     Btu/lb-R      ",-0.34410099999999999,-0.99121820000000005,-1.429532,-1.5181560000000001,null,"Entropy     Btu/lb-R      ",0.49448170000000002]
["Density     lbmol/cuft    ",1.28319E-2,8.8505200000000006E-3,8.8386200000000002E-3,1.5065800000000001E-2,null,"Density     lbmol/cuft    ",3.5868900000000002E-2]
["Density     lb/cuft       ",0.50812420000000003,0.42347309999999999,0.3412154,0.78466279999999999,null,"Density     lb/cuft       ",0.59073180000000003]
["Average MW                ",39.598390000000002,47.847239999999999,38.605069999999998,52.082090000000001,null,"Average MW                ",16.469169999999998]
["Liq Vol 60F cuft/hr       ",29.855889999999999,975.24360000000001,202.61770000000001,454.47190000000001,null,"Liq Vol 60F cuft/hr       ",142218]
["*** ALL PHASES ***        "," "," "," "," ",null,"*** ALL PHASES ***        "," "]
["CPMX        Btu/lb-R      ",0.29798419999999998,0.39456770000000002,0.4327763,0.4397974,null,"CPMX        Btu/lb-R      ",0.44095309999999999]
["*** LIQUID PHASE ***      "," "," "," "," ",null,"*** LIQUID PHASE ***      "," "]
["MUMX                      "," "," "," "," ",null,"MUMX                      "," "]
["KMX                       "," "," "," "," ",null,"KMX                       "," "]

{"sheet":"Supp Data 3","index":19,"n_rows":581,"n_cols":16,"rows_kept":581,"cut":false,"hidden":true,"merged":[]}
["Review Product Distribution of FT Plant"]
[null,"204S14","201S23","201S3"]
[null,"P204H3","P201S3","P201F",null,null,null,null,null,null,null,{"$f":"D9-G9*D13","v":128349.82361938388}]
[null,"P204S2","P201S2","P201M1"]
[null,"VAPOR","MIXED","VAPOR"]
[null,null,null,null,null,null,null,null,null,null,null,null,{"$error":"#DIV/0!"}]
["Substream: MIXED          "," "," "," "]
["Mole Flow   lbmol/hr      "," "," "," "]
["  H2                      ",26848.61,26848.65,76729.02,{"$f":"B9/C9","v":0.99999851016717778},null,{"$f":"IF(D9=0,0,((C9-D9)/($D$13-$C$13)))","v":-0.63043451087169811},-0.63043451087169811,"=","*(E6","+","*0.96628425949707*$E$10)",{"$f":"CONCATENATE(I9,E9,J9,K9,H9,L9)","v":"=0.999998510167178*(E6+-0.630434510871698*0.96628425949707*$E$10)"},null,null,{"$f":"H9*P13","v":51620.803619383878}]
["  N2                      ",8806.5849999999991,8806.5720000000001,8809.7049999999999,{"$f":"B10/C10","v":1.0000014761702964},null,{"$f":"IF(D10=0,0,((C10-D10)/($D$13-$C$13)))","v":-3.9597768071105138E-5},-3.9597768071105138E-5,"=","*(E7","+","*0.96628425949707*$E$10)",{"$f":"CONCATENATE(I10,E10,J10,K10,H10,L10)","v":"=1.0000014761703*(E7+-3.95977680711051E-05*0.96628425949707*$E$10)"}]
["  O2                      ",0,0,0,0,null,0,0,"=","*(E8","+","*0.96628425949707*$E$10)","=0*(E8+0*0.96628425949707*$E$10)"]
["  H2S                     ",4.1048099999999998E-4,4.15344E-4,4.1578600000000002E-4,{"$f":"B12/C12","v":0.98829163295966715},null,-5.586407113766467E-12,-5.586407113766467E-12,"=","*(E9","+","*0.96628425949707*$E$10)","=0.988291632959667*(E9+-5.58640711376647E-12*0.96628425949707*$E$10)"]
["  CO                      ",2760.6729999999998,2760.6889999999999,81881.31,0.99999420434536446,null,-1,-1,"=","*(E10","+","=(1-0.96628425949707)*$E$10",{"$f":"CONCATENATE(L13)","v":"=(1-0.96628425949707)*$E$10"},null,null,{"$f":"G13*D13","v":-81881.31}]
["  CO2                     ",112.57859999999999,37979.68,1399.6389999999999,2.9641797929840378E-3,null,0.46233258204583605,0.46233258204583605,"=","*(E11","+","*0.96628425949707*$E$10)","=0.00296417979298404*(E11+0.462332582045836*0.96628425949707*$E$10)",null,{"$f":"0.00296417979298404*(D14+0.462332582045836*0.96628425949707*$D$13)","v":112.57860000000012}]
["  H2O                     ",0,14137.73,8775.1949999999997,0,null,6.7776705139864862E-2,6.7776705139864862E-2,"=","*(E12","+","*0.96628425949707*$E$10)","=0*(E12+0.0677767051398649*0.96628425949707*$E$10)"]
["  NH3                     ",0,0,0,0,null,0,0,"=","*(E13","+","*0.96628425949707*$E$10)","=0*(E13+0*0.96628425949707*$E$10)"]
["  HCL                     ",0,0,0,0,null,0,0,"=","*(E14","+","*0.96628425949707*$E$10)","=0*(E14+0*0.96628425949707*$E$10)"]
["  C                       ",0,0,0,0,null,0,0,"=","*(E15","+","*0.96628425949707*$E$10)","=0*(E15+0*0.96628425949707*$E$10)"]
["  HCN                     ",0,0,0,0,null,0,0,"=","*(E16","+","*0.96628425949707*$E$10)","=0*(E16+0*0.96628425949707*$E$10)"]
["  SULFUR                  ",0,0,0,0,null,0,0,"=","*(E17","+","*0.96628425949707*$E$10)","=0*(E17+0*0.96628425949707*$E$10)"]
["  COS                     ",0,0,0,0,null,0,0,"=","*(E18","+","*0.96628425949707*$E$10)","=0*(E18+0*0.96628425949707*$E$10)"]
["  CH4                     ",2908.299,2908.3510000000001,2015.0150000000001,0.99998212045244883,null,1.1290811279148074E-2,1.1290811279148074E-2,"=","*(E19","+","*0.96628425949707*$E$10)","=0.999982120452449*(E19+0.0112908112791481*0.96628425949707*$E$10)"]
["  C2H4                    ",1077.4369999999999,1080.2940000000001,728.33910000000003,0.99735534956224858,null,4.4483333870698524E-3,4.4483333870698524E-3,"=","*(E20","+","*0.96628425949707*$E$10)","=0.997355349562249*(E20+0.00444833338706985*0.96628425949707*$E$10)"]
["  C2H6                    ",225.29509999999999,240.28100000000001,152.2978,0.9376317727993474,null,1.1120135166785409E-3,1.1120135166785409E-3,"=","*(E21","+","*0.96628425949707*$E$10)","=0.937631772799347*(E21+0.00111201351667854*0.96628425949707*$E$10)"]
["  C3H6                    ",23.607410000000002,330.38780000000003,15.95843,7.1453637210574961E-2,null,3.9740508356222335E-3,3.9740508356222335E-3,"=","*(E22","+","*0.96628425949707*$E$10)","=0.071453637210575*(E22+0.00397405083562223*0.96628425949707*$E$10)"]
["  C3H8                    ",3.0701139999999998,57.559040000000003,2.0753740000000001,5.333851989192314E-2,null,7.0125417746657985E-4,7.0125417746657985E-4,"=","*(E23","+","*0.96628425949707*$E$10)","=0.0533385198919231*(E23+0.00070125417746658*0.96628425949707*$E$10)"]
["  IC4H8                   ",6.9412699999999994E-2,12.384029999999999,4.6922499999999999E-2,5.6050171067092052E-3,null,1.559278395956978E-4,1.559278395956978E-4,"=","*(E24","+","*0.96628425949707*$E$10)","=0.00560501710670921*(E24+0.000155927839595698*0.96628425949707*$E$10)"]
["  NC4H8                   ",1.2695050000000001,235.16560000000001,0.85817589999999999,5.3983448259439307E-3,null,2.9613951601820719E-3,2.9613951601820719E-3,"=","*(E25","+","*0.96628425949707*$E$10)","=0.00539834482594393*(E25+0.00296139516018207*0.96628425949707*$E$10)"]
["  IC4H10                  ",2.4650700000000001E-2,3.0985049999999998,1.66637E-2,7.9556753982969221E-3,null,3.8951176836693428E-5,3.8951176836693428E-5,"=","*(E26","+","*0.96628425949707*$E$10)","=0.00795567539829692*(E26+3.89511768366934E-05*0.96628425949707*$E$10)"]
["  NC4H10                  ",0.40053430000000001,58.84084,0.2707582,6.8070799125233431E-3,null,7.4026317108911467E-4,7.4026317108911467E-4,"=","*(E27","+","*0.96628425949707*$E$10)","=0.00680707991252334*(E27+0.000740263171089115*0.96628425949707*$E$10)"]
["  C5H10                   ",9.0487200000000004E-2,192.75489999999999,6.1168599999999997E-2,4.6944176256997881E-4,null,2.4354426060432463E-3,2.4354426060432463E-3,"=","*(E28","+","*0.96628425949707*$E$10)","=0.000469441762569979*(E28+0.00243544260604325*0.96628425949707*$E$10)"]
["  NC5H12                  ",1.7343600000000001E-2,57.792900000000003,1.1724099999999999E-2,3.0009914712706922E-4,null,7.3029224454646284E-4,7.3029224454646284E-4,"=","*(E29","+","*0.96628425949707*$E$10)","=0.000300099147127069*(E29+0.000730292244546463*0.96628425949707*$E$10)"]
["  IC5H12                  ",4.0846900000000002E-3,6.4213969999999998,2.76122E-3,6.3610613079988676E-4,null,8.1124689099697529E-5,8.1124689099697529E-5,"=","*(E30","+","*0.96628425949707*$E$10)","=0.000636106130799887*(E30+8.11246890996975E-05*0.96628425949707*$E$10)"]
["  C6H12                   ",4.6303000000000004E-3,160.60659999999999,3.1300500000000001E-3,2.8830072985792618E-5,null,2.0298560339914416E-3,2.0298560339914416E-3,"=","*(E31","+","*0.96628425949707*$E$10)","=2.88300729857926E-05*(E31+0.00202985603399144*0.96628425949707*$E$10)"]
["  NC6H14                  ",9.3459700000000001E-4,48.163679999999999,6.3178099999999999E-4,1.9404601143434225E-5,null,6.0872940088526348E-4,6.0872940088526348E-4,"=","*(E32","+","*0.96628425949707*$E$10)","=1.94046011434342E-05*(E32+0.000608729400885263*0.96628425949707*$E$10)"]
["  IC6H14                  ",2.2776799999999999E-4,5.3550709999999997,1.5396999999999999E-4,4.2533142884566796E-5,null,6.7680422149366085E-5,6.7680422149366085E-5,"=","*(E33","+","*0.96628425949707*$E$10)","=4.25331428845668E-05*(E33+6.76804221493661E-05*0.96628425949707*$E$10)"]
["  C7H14                   ",1.2617999999999999E-4,124.70820000000001,8.5296600000000006E-5,1.0118019504731844E-6,null,1.5761771473381131E-3,1.5761771473381131E-3,"=","*(E34","+","*0.96628425949707*$E$10)","=1.01180195047318E-06*(E34+0.00157617714733811*0.96628425949707*$E$10)"]
["  C7H16                   ",6.6025000000000006E-5,53.4223,4.4632400000000003E-5,1.2359071024647012E-6,null,6.7520015253166431E-4,6.7520015253166431E-4,"=","*(E35","+","*0.96628425949707*$E$10)","=1.2359071024647E-06*(E35+0.000675200152531664*0.96628425949707*$E$10)"]
["  C8H16                   ",6.4901699999999997E-6,103.7653,4.3873100000000002E-6,6.2546631677449006E-8,null,1.3114823203004182E-3,1.3114823203004182E-3,"=","*(E36","+","*0.96628425949707*$E$10)","=6.2546631677449E-08*(E36+0.00131148232030042*0.96628425949707*$E$10)"]
["  C8H18                   ",2.0010899999999999E-6,44.439,1.3527199999999999E-6,4.5030041180044552E-8,null,5.6166139857875992E-4,5.6166139857875992E-4,"=","*(E37","+","*0.96628425949707*$E$10)","=4.50300411800446E-08*(E37+0.00056166139857876*0.96628425949707*$E$10)"]
["  C9H18                   ",1.9934299999999999E-7,86.178349999999995,1.3475399999999999E-7,2.3131447747607144E-9,null,1.0892021419453468E-3,1.0892021419453468E-3,"=","*(E38","+","*0.96628425949707*$E$10)","=2.31314477476071E-09*(E38+0.00108920214194535*0.96628425949707*$E$10)"]
["  C9H20                   ",4.6067599999999998E-8,36.902439999999999,3.1141400000000002E-8,1.2483618969368962E-9,null,4.6640736008452969E-4,4.6640736008452969E-4,"=","*(E39","+","*0.96628425949707*$E$10)","=1.2483618969369E-09*(E39+0.00046640736008453*0.96628425949707*$E$10)"]
["  C10H20                  ",2.8883600000000001E-9,71.460880000000003,1.9525099999999999E-9,4.0418757787477566E-11,null,9.0318906872643848E-4,9.0318906872643848E-4,"=","*(E40","+","*0.96628425949707*$E$10)","=4.04187577874776E-11*(E40+0.000903189068726438*0.96628425949707*$E$10)"]
["  C10H22                  ",1.7679500000000001E-9,30.566179999999999,1.1951199999999999E-9,5.7840070299919721E-11,null,3.8632381309045694E-4,3.8632381309045694E-4,"=","*(E41","+","*0.96628425949707*$E$10)","=5.78400702999197E-11*(E41+0.000386323813090457*0.96628425949707*$E$10)"]
["  C11H22                  ",8.3972E-11,59.036520000000003,5.6764999999999997E-11,1.4223738120065342E-12,null,7.4615845090426219E-4,7.4615845090426219E-4,"=","*(E42","+","*0.96628425949707*$E$10)","=1.42237381200653E-12*(E42+0.000746158450904262*0.96628425949707*$E$10)"]
["  C11H24                  ",3.6377000000000001E-11,25.26735,2.4591000000000001E-11,1.4396840190997474E-12,null,3.1935227100878552E-4,3.1935227100878552E-4,"=","*(E43","+","*0.96628425949707*$E$10)","=1.43968401909975E-12*(E43+0.000319352271008786*0.96628425949707*$E$10)"]
["  C12H24                  ",1.4719E-12,48.59093,9.9498000000000007E-13,3.0291661427348684E-14,null,6.1413736881563413E-4,6.1413736881563413E-4,"=","*(E44","+","*0.96628425949707*$E$10)","=3.02916614273487E-14*(E44+0.000614137368815634*0.96628425949707*$E$10)"]
["  C12H26                  ",5.9688999999999999E-13,20.784510000000001,4.0348999999999998E-13,2.8718021257176619E-14,null,2.6269396950258513E-4,2.6269396950258513E-4,"=","*(E45","+","*0.96628425949707*$E$10)","=2.87180212571766E-14*(E45+0.000262693969502585*0.96628425949707*$E$10)"]
["  C13H26                  ",3.1520000000000001E-14,39.779420000000002,2.1307E-14,7.9236952172756661E-16,null,5.0276930965948785E-4,5.0276930965948785E-4,"=","*(E46","+","*0.96628425949707*$E$10)","=7.92369521727567E-16*(E46+0.000502769309659488*0.96628425949707*$E$10)"]
["  C13H28                  ",3.4851999999999999E-15,17.004529999999999,2.356E-15,2.0495714965365111E-16,null,2.1491906642138206E-4,2.1491906642138206E-4,"=","*(E47","+","*0.96628425949707*$E$10)","=2.04957149653651E-16*(E47+0.000214919066421382*0.96628425949707*$E$10)"]
["  C14H28                  ",6.1935999999999997E-16,32.320050000000002,4.1867999999999998E-16,1.9163336690382593E-17,null,4.0849085347800801E-4,4.0849085347800801E-4,"=","*(E48","+","*0.96628425949707*$E$10)","=1.91633366903826E-17*(E48+0.000408490853478008*0.96628425949707*$E$10)"]
["  C14H30                  ",2.1805999999999999E-17,13.75454,1.474E-17,1.5853674495839191E-18,null,1.7384266991534356E-4,1.7384266991534356E-4,"=","*(E49","+","*0.96628425949707*$E$10)","=1.58536744958392E-18*(E49+0.000173842669915344*0.96628425949707*$E$10)"]
["  C15H30                  ",1.4421000000000001E-17,26.029229999999998,9.7488000000000001E-18,5.540309874706244E-19,null,3.2898161909017371E-4,3.2898161909017371E-4,"=","*(E50","+","*0.96628425949707*$E$10)","=5.54030987470624E-19*(E50+0.000328981619090174*0.96628425949707*$E$10)"]
["  C15H32                  ",9.5412000000000005E-19,11.10544,6.4497999999999998E-19,8.5914650837787619E-20,null,1.4036088013009908E-4,1.4036088013009908E-4,"=","*(E51","+","*0.96628425949707*$E$10)","=8.59146508377876E-20*(E51+0.000140360880130099*0.96628425949707*$E$10)"]
["  C16H32                  ",4.9455E-19,20.68554,3.3431E-19,2.3908005302254618E-20,null,2.614430945884512E-4,2.614430945884512E-4,"=","*(E52","+","*0.96628425949707*$E$10)","=2.39080053022546E-20*(E52+0.000261443094588451*0.96628425949707*$E$10)"]
["  C16H34                  ",4.3673000000000001E-20,8.9038450000000005,2.9523000000000001E-20,4.9049595989148508E-21,null,1.1253507476894046E-4,1.1253507476894046E-4,"=","*(E53","+","*0.96628425949707*$E$10)","=4.90495959891485E-21*(E53+0.00011253507476894*0.96628425949707*$E$10)"]
["  C17H34                  ",2.6706000000000001E-21,16.325759999999999,1.8052999999999999E-21,1.6358197106903447E-22,null,2.0634013982271448E-4,2.0634013982271448E-4,"=","*(E54","+","*0.96628425949707*$E$10)","=1.63581971069034E-22*(E54+0.000206340139822714*0.96628425949707*$E$10)"]
["  C17H36                  ",1.1783999999999999E-21,6.9128910000000001,7.9660000000000001E-22,1.7046413721842278E-22,null,8.7371546287534822E-5,8.7371546287534822E-5,"=","*(E55","+","*0.96628425949707*$E$10)","=1.70464137218423E-22*(E55+8.73715462875348E-05*0.96628425949707*$E$10)"]
["  C18H36                  ",8.1524000000000004E-22,12.48677,5.5108999999999997E-22,6.528830113792438E-23,null,1.5781941347502821E-4,1.5781941347502821E-4,"=","*(E56","+","*0.96628425949707*$E$10)","=6.52883011379244E-23*(E56+0.000157819413475028*0.96628425949707*$E$10)"]
["  C18H38                  ",1.2329E-22,5.3164759999999998,8.3340999999999999E-23,2.3190173340385627E-23,null,6.7194568657392111E-5,6.7194568657392111E-5,"=","*(E57","+","*0.96628425949707*$E$10)","=2.31901733403856E-23*(E57+6.71945686573921E-05*0.96628425949707*$E$10)"]
["  C19H38                  ",8.0687999999999996E-25,9.4940230000000003,5.4544999999999997E-25,8.4988207844029858E-26,null,1.1999429327027149E-4,1.1999429327027149E-4,"=","*(E58","+","*0.96628425949707*$E$10)","=8.49882078440299E-26*(E58+0.000119994293270271*0.96628425949707*$E$10)"]
["  C19H40                  ",6.1690000000000003E-24,3.98644,4.1701999999999998E-24,1.5474960114789137E-24,null,5.038433659412254E-5,5.038433659412254E-5,"=","*(E59","+","*0.96628425949707*$E$10)","=1.54749601147891E-24*(E59+5.03843365941225E-05*0.96628425949707*$E$10)"]
["  C20H40                  ",9.7188000000000002E-27,6.9413499999999999,6.5698000000000004E-27,1.4001310984174549E-27,null,8.7731237599866666E-5,8.7731237599866666E-5,"=","*(E60","+","*0.96628425949707*$E$10)","=1.40013109841745E-27*(E60+8.77312375998667E-05*0.96628425949707*$E$10)"]
["  C20H42                  ",6.0890999999999999E-27,2.8790070000000001,4.1161999999999997E-27,2.1150000677316866E-27,null,3.6387568292721064E-5,3.6387568292721064E-5,"=","*(E61","+","*0.96628425949707*$E$10)","=2.11500006773169E-27*(E61+3.63875682927211E-05*0.96628425949707*$E$10)"]
["  ALKYLATE                ",0,0,0,0,null,0,0,"=","*(E62","+","*0.96628425949707*$E$10)","=0*(E62+0*0.96628425949707*$E$10)"]
["  ISOMERAT                ",0,0,0,0,null,0,0,"=","*(E63","+","*0.96628425949707*$E$10)","=0*(E63+0*0.96628425949707*$E$10)"]
["  REFORMAT                ",0,0,0,0,null,0,0,"=","*(E64","+","*0.96628425949707*$E$10)","=0*(E64+0*0.96628425949707*$E$10)"]
["  C7-300HC                ",0,0,0,0,null,0,0,"=","*(E65","+","*0.96628425949707*$E$10)","=0*(E65+0*0.96628425949707*$E$10)"]
["  3-350HC                 ",0,0,0,0,null,0,0,"=","*(E66","+","*0.96628425949707*$E$10)","=0*(E66+0*0.96628425949707*$E$10)"]
["  350-5HC                 ",0,0,0,0,null,0,0,"=","*(E67","+","*0.96628425949707*$E$10)","=0*(E67+0*0.96628425949707*$E$10)"]
["  500+HC                  ",0,0,0,0,null,0,0,"=","*(E68","+","*0.96628425949707*$E$10)","=0*(E68+0*0.96628425949707*$E$10)"]
["  C7-300HT                ",0,0,0,0,null,0,0,"=","*(E69","+","*0.96628425949707*$E$10)","=0*(E69+0*0.96628425949707*$E$10)"]
["  3-350HT                 ",0,0,0,0,null,0,0,"=","*(E70","+","*0.96628425949707*$E$10)","=0*(E70+0*0.96628425949707*$E$10)"]
["  350-5HT                 ",0,0,0,0,null,{"$f":"IF(D74=0,0,((C74-D74)/($D$13-$C$13)))","v":0},0,"=","*(E71","+","*0.96628425949707*$E$10)",{"$f":"CONCATENATE(I74,E74,J74,K74,H74,L74)","v":"=0*(E71+0*0.96628425949707*$E$10)"}]
["  500+HT                  ",0,0,0,0,null,0,0,"=","*(E72","+","*0.96628425949707*$E$10)","=0*(E72+0*0.96628425949707*$E$10)"]
["  OXVAP                   ",0,46.465510000000002,0,{"$f":"B76/C76","v":0},null,0,0,"=","*(E73","+","*0.96628425949707*$E$10)","=0*(E73+0*0.96628425949707*$E$10)"]
["  OXHC                    ",2.18636E-7,157.55330000000001,1.4779600000000001E-7,1.3876954655979912E-9,null,1.9913051472662735E-3,1.9913051472662735E-3,"=","*(E74","+","*0.96628425949707*$E$10)","=1.38769546559799E-09*(E74+0.00199130514726627*0.96628425949707*$E$10)"]
["  OXH2O                   ",0,0,0,0,null,0,0,"=","*(E75","+","*0.96628425949707*$E$10)","=0*(E75+0*0.96628425949707*$E$10)"]
["  C5N                     ",0,0,0,0,null,0,0,"=","*(E76","+","*0.96628425949707*$E$10)","=0*(E76+0*0.96628425949707*$E$10)"]
["  C6N                     ",0,0,0,0,null,0,0,"=","*(E77","+","*0.96628425949707*$E$10)","=0*(E77+0*0.96628425949707*$E$10)"]
["  C7N                     ",0,0,0,0,null,0,0,"=","*(E78","+","*0.96628425949707*$E$10)","=0*(E78+0*0.96628425949707*$E$10)"]
["  C8N                     ",0,0,0,0,null,0,0,"=","*(E79","+","*0.96628425949707*$E$10)","=0*(E79+0*0.96628425949707*$E$10)"]
["  C9N                     ",0,0,0,0,null,0,0,"=","*(E80","+","*0.96628425949707*$E$10)","=0*(E80+0*0.96628425949707*$E$10)"]
["  C10N                    ",0,0,0,0,null,0,0,"=","*(E81","+","*0.96628425949707*$E$10)","=0*(E81+0*0.96628425949707*$E$10)"]
["  C6A                     ",0,0,0,0,null,0,0,"=","*(E82","+","*0.96628425949707*$E$10)","=0*(E82+0*0.96628425949707*$E$10)"]
["  C7A                     ",0,0,0,0,null,0,0,"=","*(E83","+","*0.96628425949707*$E$10)","=0*(E83+0*0.96628425949707*$E$10)"]
["  C8A                     ",0,0,0,0,null,0,0,"=","*(E84","+","*0.96628425949707*$E$10)","=0*(E84+0*0.96628425949707*$E$10)"]
["  C9A                     ",0,0,0,0,null,0,0,"=","*(E85","+","*0.96628425949707*$E$10)","=0*(E85+0*0.96628425949707*$E$10)"]
["  C10AP                   ",0,0,0,0,null,0,0,"=","*(E86","+","*0.96628425949707*$E$10)","=0*(E86+0*0.96628425949707*$E$10)"]
["  C21OP                   ",1.9755999999999999E-27,8.2301479999999998,1.3355E-27,2.4004428595937765E-28,null,1.0402026546277993E-4,1.0402026546277993E-4,"=","*(E87","+","*0.96628425949707*$E$10)","=2.40044285959378E-28*(E87+0.00010402026546278*0.96628425949707*$E$10)"]
["  C22OP                   ",7.0664000000000002E-29,6.7456880000000004,4.7769000000000002E-29,1.0475432602278671E-29,null,8.5258279254405762E-5,8.5258279254405762E-5,"=","*(E88","+","*0.96628425949707*$E$10)","=1.04754326022787E-29*(E88+8.52582792544058E-05*0.96628425949707*$E$10)"]
["  C23OP                   ",0,5.4333390000000001,0,0,null,0,0,"=","*(E89","+","*0.96628425949707*$E$10)","=0*(E89+0*0.96628425949707*$E$10)"]
["  C24OP                   ",0,4.3188630000000003,0,0,null,0,0,"=","*(E90","+","*0.96628425949707*$E$10)","=0*(E90+0*0.96628425949707*$E$10)"]
["  C25OP                   ",0,3.3977119999999998,0,0,null,0,0,"=","*(E91","+","*0.96628425949707*$E$10)","=0*(E91+0*0.96628425949707*$E$10)"]
["  C26OP                   ",0,2.63984,0,0,null,0,0,"=","*(E92","+","*0.96628425949707*$E$10)","=0*(E92+0*0.96628425949707*$E$10)"]
["  C27OP                   ",0,2.0458180000000001,0,0,null,0,0,"=","*(E93","+","*0.96628425949707*$E$10)","=0*(E93+0*0.96628425949707*$E$10)"]
["  C28OP                   ",0,1.580562,0,0,null,0,0,"=","*(E94","+","*0.96628425949707*$E$10)","=0*(E94+0*0.96628425949707*$E$10)"]
["  C29OP                   ",0,1.21512,0,0,null,0,0,"=","*(E95","+","*0.96628425949707*$E$10)","=0*(E95+0*0.96628425949707*$E$10)"]
["  C30WAX                  ",0,0.27834759999999997,0,0,null,0,0,"=","*(E96","+","*0.96628425949707*$E$10)","=0*(E96+0*0.96628425949707*$E$10)"]
["Mole Frac                 "," "," "," ",{"$error":"#VALUE!"}]
["  H2                      ",0.62777280000000002,0.27647739999999998,0.42506840000000001,2.2706116304623816]
["  N2                      ",0.20591509999999999,9.0686799999999998E-2,4.8804500000000001E-2,2.2706182156609342]
["  O2                      ",0,0,0,{"$error":"#DIV/0!"}]
["  H2S                     ",9.5978499999999995E-9,4.2770600000000001E-9,2.3034000000000001E-9,2.2440297774639588]
["  CO                      ",6.4549899999999993E-2,2.8428499999999999E-2,0.4536114,2.2706052025256342]
["  CO2                     ",2.6323100000000001E-3,0.39110070000000002,7.7538099999999999E-3,6.7305172299614909E-3]
["  H2O                     ",0,0.1455851,4.8613299999999998E-2,0]
["  NH3                     ",0,0,0,{"$error":"#DIV/0!"}]
["  HCL                     ",0,0,0,{"$error":"#DIV/0!"}]
["  C                       ",0,0,0,{"$error":"#DIV/0!"}]
["  HCN                     ",0,0,0,{"$error":"#DIV/0!"}]
["  SULFUR                  ",0,0,0,{"$error":"#DIV/0!"}]
["  COS                     ",0,0,0,{"$error":"#DIV/0!"}]
["  CH4                     ",6.8001699999999998E-2,2.9949099999999999E-2,1.11629E-2,2.2705757435114911]
["  C2H4                    ",2.51925E-2,1.11244E-2,4.0349000000000001E-3,2.2646165186437024]
["  C2H6                    ",5.2678400000000002E-3,2.4743299999999998E-3,8.43709E-4,2.1289965364361265]
["  C3H6                    ",5.5198699999999999E-4,3.4022100000000001E-3,8.8407599999999997E-5,0.16224365926853426]
["  C3H8                    ",7.1785299999999999E-5,5.9272199999999995E-4,1.1497299999999999E-5,0.12111124608163693]
["  IC4H8                   ",1.62301E-6,1.2752600000000001E-4,2.5994399999999999E-7,1.2726894907705094E-2]
["  NC4H8                   ",2.9683500000000001E-5,2.42165E-3,4.7541799999999996E-6,1.2257551669316375E-2]
["  IC4H10                  ",5.7638299999999995E-7,3.1907299999999999E-5,9.2314899999999998E-8,1.8064298765486268E-2]
["  NC4H10                  ",9.3652699999999995E-6,6.0592100000000004E-4,1.49996E-6,1.5456255848534708E-2]
["  C5H10                   ",2.1157700000000002E-6,1.9849199999999998E-3,3.3886600000000001E-7,1.0659220522741472E-3]
["  NC5H12                  ",4.05528E-7,5.9513000000000003E-4,6.4950299999999999E-8,6.8141078419841044E-4]
["  IC5H12                  ",9.5507999999999997E-8,6.6125199999999995E-5,1.52968E-8,1.4443510189761242E-3]
["  C6H12                   ",1.08265E-7,1.65387E-3,1.7339999999999998E-8,6.5461614274398832E-5]
["  NC6H14                  ",2.1852700000000001E-8,4.9597200000000001E-4,3.4999800000000001E-9,4.4060350181058611E-5]
["  IC6H14                  ",5.3256699999999999E-9,5.51445E-5,8.5297E-10,9.6576630488988022E-5]
["  C7H14                   ",2.9503300000000001E-9,1.2842000000000001E-3,4.7253000000000002E-10,2.2974069459585731E-6]
["  C7H16                   ",1.5437899999999999E-9,5.5012300000000002E-4,2.4725999999999998E-10,2.8062633265651496E-6]
["  C8H16                   ",1.5174999999999999E-10,1.06854E-3,2.4305E-11,1.4201620903288598E-7]
["  C8H18                   ",4.6788999999999999E-11,4.5761599999999999E-4,7.4939000000000006E-12,1.0224511380720953E-7]
["  C9H18                   ",4.6609999999999996E-12,8.8743299999999997E-4,7.4652000000000003E-13,5.252227492103629E-9]
["  C9H20                   ",1.0772000000000001E-12,3.8000799999999998E-4,1.7252000000000001E-13,2.8346771646912702E-9]
["  C10H20                  ",6.7535E-14,7.3587800000000003E-4,1.0817E-14,9.177472352754125E-11]
["  C10H22                  ",4.1337999999999998E-14,3.1475900000000001E-4,6.6207999999999998E-15,1.3133222560752829E-10]
["  C11H22                  ",1.9633999999999999E-15,6.07936E-4,3.1447000000000001E-16,3.2296162753974102E-12]
["  C11H24                  ",8.5057000000000003E-16,2.60194E-4,1.3623E-16,{"$f":"B138/C138","v":3.2689839120041201E-12}]
["  C12H24                  ",3.4415000000000001E-17,5.00371E-4,5.5119999999999996E-18,6.8778966007222641E-14]
["  C12H26                  ",1.3955999999999999E-17,2.14031E-4,2.2353E-18,6.5205507613383103E-14]
["  C13H26                  ",7.3700000000000001E-19,4.0963399999999997E-4,1.1803999999999999E-19,1.7991670613279173E-15]
["  C13H28                  ",8.1492000000000003E-20,1.7510599999999999E-4,1.3052E-20,4.6538668006807314E-16]
["  C14H28                  ",1.4482E-20,3.3282E-4,2.3194000000000001E-21,4.3513010035454599E-17]
["  C14H30                  ",5.0986000000000003E-22,1.4163899999999999E-4,8.1660000000000003E-23,3.5997147678252462E-18]
["  C15H30                  ",3.3719999999999999E-22,2.6803900000000003E-4,5.4007000000000001E-23,1.2580258842929572E-18]
["  C15H32                  ",2.2308999999999999E-23,1.1436E-4,3.5731000000000001E-24,1.9507694998251137E-19]
["  C16H32                  ",1.1564E-23,2.13012E-4,1.8519999999999999E-24,5.428802133213153E-20]
["  C16H34                  ",1.0212E-24,9.1688500000000001E-5,1.6355E-25,1.11377108361463E-20]
["  C17H34                  ",6.2444000000000002E-26,1.6811699999999999E-4,1.0001E-26,3.7143180047229015E-22]
["  C17H36                  ",2.7552999999999999E-26,7.1186400000000007E-5,4.4129999999999996E-27,3.8705426879291546E-22]
["  C18H36                  ",1.9061999999999999E-26,1.28584E-4,3.053E-27,1.482455048839669E-22]
["  C18H38                  ",2.8826999999999999E-27,5.4747100000000003E-5,4.6169999999999997E-28,5.265484381821137E-23]
["  C19H38                  ",1.8866999999999999E-29,9.7765900000000005E-5,3.0217E-30,1.9298139739929769E-25]
["  C19H40                  ",1.4424E-28,4.1050899999999997E-5,2.3101999999999999E-29,3.513686667040187E-24]
["  C20H40                  ",2.2723999999999999E-31,7.1479500000000006E-5,3.6396000000000001E-32,3.1790933064724846E-27]
["  C20H42                  ",1.4236999999999999E-31,2.9646999999999999E-5,2.2803000000000001E-32,4.8021722265321957E-27]
["  ALKYLATE                ",0,0,0,{"$error":"#DIV/0!"}]
["  ISOMERAT                ",0,0,0,{"$error":"#DIV/0!"}]
["  REFORMAT                ",0,0,0,{"$error":"#DIV/0!"}]
["  C7-300HC                ",0,0,0,{"$error":"#DIV/0!"}]
["  3-350HC                 ",0,0,0,{"$error":"#DIV/0!"}]
["  350-5HC                 ",0,0,0,{"$error":"#DIV/0!"}]
["  500+HC                  ",0,0,0,{"$error":"#DIV/0!"}]
["  C7-300HT                ",0,0,0,{"$error":"#DIV/0!"}]
["  3-350HT                 ",0,0,0,{"$error":"#DIV/0!"}]
["  350-5HT                 ",0,0,0,{"$error":"#DIV/0!"}]
["  500+HT                  ",0,0,0,{"$error":"#DIV/0!"}]
["  OXVAP                   ",0,4.7848500000000001E-4,0,0]
["  OXHC                    ",5.1121000000000004E-12,1.62243E-3,8.1876999999999995E-13,3.1508909475293235E-9]
["  OXH2O                   ",0,0,0,{"$error":"#DIV/0!"}]
["  C5N                     ",0,0,0,{"$error":"#DIV/0!"}]
["  C6N                     ",0,0,0,{"$error":"#DIV/0!"}]
["  C7N                     ",0,0,0,{"$error":"#DIV/0!"}]
["  C8N                     ",0,0,0,{"$error":"#DIV/0!"}]
["  C9N                     ",0,0,0,{"$error":"#DIV/0!"}]
["  C10N                    ",0,0,0,{"$error":"#DIV/0!"}]
["  C6A                     ",0,0,0,{"$error":"#DIV/0!"}]
["  C7A                     ",0,0,0,{"$error":"#DIV/0!"}]
["  C8A                     ",0,0,0,{"$error":"#DIV/0!"}]
["  C9A                     ",0,0,0,{"$error":"#DIV/0!"}]
["  C10AP                   ",0,0,0,{"$error":"#DIV/0!"}]
["  C21OP                   ",4.6193999999999999E-32,8.4751000000000002E-5,7.3985000000000005E-33,5.4505551556913784E-28]
["  C22OP                   ",1.6523000000000001E-33,6.9464599999999999E-5,2.6462999999999998E-34,2.3786216288584402E-29]
["  C23OP                   ",0,5.5950499999999999E-5,0,0]
["  C24OP                   ",0,4.4474100000000002E-5,0,0]
["  C25OP                   ",0,3.4988399999999999E-5,0,0]
["  C26OP                   ",0,2.7184099999999999E-5,0,0]
["  C27OP                   ",0,2.10671E-5,0,0]
["  C28OP                   ",0,1.6276000000000001E-5,0,0]
["  C29OP                   ",0,1.25129E-5,0,0]
["  C30WAX                  ",0,2.8663200000000001E-6,0,0]
["Mass Flow   lb/hr         "," "," "," ",{"$error":"#VALUE!"}]
["  H2                      ",54121.43,54121.5,154670,0.99999870661382262]
["  N2                      ",246702,246702,246790,1]
["  O2                      ",0,0,0,{"$error":"#DIV/0!"}]
["  H2S                     ",1.3987400000000001E-2,1.41531E-2,1.4168200000000001E-2,0.9882923175841335]
["  CO                      ",77327.56,77328.009999999995,2293530,0.99999418063389967]
["  CO2                     ",4954.5630000000001,1671480,61597.84,2.9641772560844281E-3]
["  H2O                     ",0,254694,158087,0]
["  NH3                     ",0,0,0,{"$error":"#DIV/0!"}]
["  HCL                     ",0,0,0,{"$error":"#DIV/0!"}]
["  C                       ",0,0,0,{"$f":"B202/C202","v":{"$error":"#DIV/0!"}}]
["  HCN                     ",0,0,0,{"$error":"#DIV/0!"}]
["  SULFUR                  ",0,0,0,{"$error":"#DIV/0!"}]
["  COS                     ",0,0,0,{"$error":"#DIV/0!"}]
["  CH4                     ",46656.68,46657.51,32326.080000000002,0.9999822107952181]
["  C2H4                    ",30225.98,30306.14,20432.53,0.99735499143077933]
["  C2H6                    ",6774.4880000000003,7225.1049999999996,4579.5029999999997,0.93763177144138399]
["  C3H6                    ",993.40930000000003,13902.85,671.53719999999998,7.1453644396652485E-2]
["  C3H8                    ",135.38040000000001,2538.1350000000002,91.516109999999998,5.3338534002328478E-2]
["  IC4H8                   ",3.894555,694.83339999999998,2.6326900000000002,5.6050198508016454E-3]
["  NC4H8                   ",71.228380000000001,13194.48,48.149850000000001,5.3983468844547118E-3]
["  IC4H10                  ",1.432777,180.09440000000001,0.96854660000000004,7.9556998996082057E-3]
["  NC4H10                  ",23.280259999999998,3420.0059999999999,15.73728,6.8070816250029968E-3]
["  C5H10                   ",6.3462290000000001,13518.67,4.2900029999999996,4.6944181639170128E-4]
["  NC5H12                  ",1.2513399999999999,4169.7460000000001,0.84589619999999999,3.0009981423328899E-4]
["  IC5H12                  ",0.29470970000000002,463.30250000000001,0.1992215,6.3610643154310626E-4]
["  C6H12                   ",0.38968960000000002,13516.78,0.26342719999999997,2.8830061597510651E-5]
["  NC6H14                  ",8.0540299999999995E-2,4150.5820000000003,5.4444699999999999E-2,1.9404579887832596E-5]
["  IC6H14                  ",1.9628199999999998E-2,461.48180000000002,1.3268500000000001E-2,4.253298829986361E-5]
["  C7H14                   ",1.23892E-2,12244.8,8.3750700000000001E-3,1.0117927610087548E-6]
["  C7H16                   ",6.6159299999999999E-3,5353.0959999999995,4.4723200000000001E-3,1.2359072207933504E-6]
["  C8H16                   ",7.2829100000000005E-4,11643.97,4.9231899999999996E-4,6.2546622844270471E-8]
["  C8H18                   ",2.2858500000000001E-4,5076.2759999999998,1.5452200000000001E-4,4.5030057467324477E-8]
["  C9H18                   ",2.5165300000000001E-5,10879.26,1.7011600000000002E-5,2.3131444601930645E-9]
["  C9H20                   ",5.9085000000000003E-6,4732.9970000000003,3.9940999999999996E-6,1.2483633520156467E-9]
["  C10H20                  ",4.0514500000000002E-7,10023.67,2.7387499999999998E-7,4.0418828632626572E-11]
["  C10H22                  ",2.5155E-7,4349.0720000000001,1.7004600000000001E-7,5.7839925390979957E-11]
["  C11H22                  ",1.2956499999999999E-8,9109.0280000000002,8.7584900000000004E-9,1.4223800827047626E-12]
["  C11H24                  ",5.68617E-9,3949.5549999999998,3.8438100000000002E-9,1.4396989027877824E-12]
["  C12H24                  ",2.4775E-10,8178.9040000000005,1.6748E-10,3.0291344659382231E-14]
["  C12H26                  ",1.0167E-10,3540.38,6.8730000000000005E-11,2.8717256339714945E-14]
["  C13H26                  ",5.7476000000000003E-12,7253.7139999999999,3.8854000000000004E-12,7.9236650355941804E-16]
["  C13H28                  ",6.4255000000000002E-13,3135.027,4.3435999999999998E-13,2.0495836240006866E-16]
["  C14H28                  ",1.2163000000000001E-13,6346.8559999999998,8.2219000000000005E-14,1.9163819062540573E-17]
["  C14H30                  ",4.3259999999999997E-15,2728.7759999999998,2.9244E-15,1.5853261682160793E-18]
["  C15H30                  ",3.0343E-15,5476.6019999999999,2.0511999999999999E-15,5.540479297199249E-19]
["  C15H32                  ",2.0267E-16,2358.9929999999999,1.3700000000000001E-16,8.5913777616126877E-20]
["  C16H32                  ",1.1099E-16,4642.4309999999996,7.5029000000000003E-17,2.3907732823600397E-20]
["  C16H34                  ",9.8894999999999996E-18,2016.2280000000001,6.6851999999999997E-18,4.9049512257542296E-21]
["  C17H34                  ",6.3682000000000001E-19,3892.9690000000001,4.3047999999999998E-19,1.6358208863209546E-22]
["  C17H36                  ",2.8336999999999998E-19,1662.3530000000001,1.9156000000000001E-19,1.7046319283569733E-22]
["  C18H36                  ",2.0583000000000001E-19,3152.69,1.3913999999999999E-19,6.5287104028623178E-23]
["  C18H38                  ",3.1376E-20,1353.0340000000001,2.1209999999999999E-20,2.318936552961714E-23]
["  C19H38                  ",2.1504E-22,2530.2449999999999,1.4537E-22,8.4987817385272976E-26]
["  C19H40                  ",1.6565000000000001E-21,1070.4590000000001,1.1198E-21,1.5474670211563451E-24]
["  C20H40                  ",2.7265000000000001E-24,1947.299,1.8430999999999998E-24,1.4001445078542125E-27]
["  C20H42                  ",1.7205E-24,813.46860000000004,1.163E-24,2.1150171008444578E-27]
["  ALKYLATE                ",0,0,0,{"$error":"#DIV/0!"}]
["  ISOMERAT                ",0,0,0,{"$error":"#DIV/0!"}]
["  REFORMAT                ",0,0,0,{"$error":"#DIV/0!"}]
["  C7-300HC                ",0,0,0,{"$error":"#DIV/0!"}]
["  3-350HC                 ",0,0,0,{"$error":"#DIV/0!"}]
["  350-5HC                 ",0,0,0,{"$error":"#DIV/0!"}]
["  500+HC                  ",0,0,0,{"$error":"#DIV/0!"}]
["  C7-300HT                ",0,0,0,{"$error":"#DIV/0!"}]
["  3-350HT                 ",0,0,0,{"$error":"#DIV/0!"}]
["  350-5HT                 ",0,0,0,{"$error":"#DIV/0!"}]
["  500+HT                  ",0,0,0,{"$error":"#DIV/0!"}]
["  OXVAP                   ",0,2366.0740000000001,0,0]
["  OXHC                    ",1.9083700000000002E-5,13752.07,1.2900399999999999E-5,1.3876965431385968E-9]
["  OXH2O                   ",0,0,0,{"$error":"#DIV/0!"}]
["  C5N                     ",0,0,0,{"$error":"#DIV/0!"}]
["  C6N                     ",0,0,0,{"$error":"#DIV/0!"}]
["  C7N                     ",0,0,0,{"$error":"#DIV/0!"}]
["  C8N                     ",0,0,0,{"$f":"B266/C266","v":{"$error":"#DIV/0!"}}]
["  C9N                     ",0,0,0,{"$error":"#DIV/0!"}]
["  C10N                    ",0,0,0,{"$error":"#DIV/0!"}]
["  C6A                     ",0,0,0,{"$error":"#DIV/0!"}]
["  C7A                     ",0,0,0,{"$error":"#DIV/0!"}]
["  C8A                     ",0,0,0,{"$error":"#DIV/0!"}]
["  C9A                     ",0,0,0,{"$error":"#DIV/0!"}]
["  C10AP                   ",0,0,0,{"$error":"#DIV/0!"}]
["  C21OP                   ",5.8314000000000002E-25,2429.2719999999999,3.9419999999999999E-25,2.4004722402431677E-28]
["  C22OP                   ",2.1849000000000001E-26,2085.7280000000001,1.4769999999999999E-26,1.0475479065343132E-29]
["  C23OP                   ",0,1756.17,0,0]
["  C24OP                   ",0,1456.527,0,0]
["  C25OP                   ",0,1193.53,0,0]
["  C26OP                   ",0,964.33759999999995,0,0]
["  C27OP                   ",0,776.0367,0,0]
["  C28OP                   ",0,621.69050000000004,0,0]
["  C29OP                   ",0,495.02670000000001,0,0]
["  C30WAX                  ",0,217.94059999999999,0,0]
["Mass Frac                 "," "," "," ",{"$error":"#VALUE!"}]
["  H2                      ",0.115644,2.0607500000000001E-2,5.20276E-2,5.6117432973431995]
["  N2                      ",0.52714170000000005,9.3935199999999996E-2,8.3014599999999994E-2,5.6117589572386075]
["  O2                      ",0,0,0,{"$error":"#DIV/0!"}]
["  H2S                     ",2.9887799999999998E-8,5.3890200000000001E-9,4.76589E-9,5.5460547557811992]
["  CO                      ",0.16522980000000001,2.94437E-2,0.77149210000000001,5.6117199944300484]
["  CO2                     ",1.05866E-2,0.63643839999999996,2.0720100000000002E-2,1.663413144147179E-2]
["  H2O                     ",0,9.6978200000000001E-2,5.3176899999999999E-2,0]
["  NH3                     ",0,0,0,{"$error":"#DIV/0!"}]
["  HCL                     ",0,0,0,{"$error":"#DIV/0!"}]
["  C                       ",0,0,0,{"$error":"#DIV/0!"}]
["  HCN                     ",0,0,0,{"$error":"#DIV/0!"}]
["  SULFUR                  ",0,0,0,{"$error":"#DIV/0!"}]
["  COS                     ",0,0,0,{"$error":"#DIV/0!"}]
["  CH4                     ",9.9693699999999996E-2,1.7765400000000001E-2,1.08737E-2,5.6116777556373618]
["  C2H4                    ",6.4585400000000001E-2,1.15394E-2,6.8730500000000003E-3,5.5969461150493096]
["  C2H6                    ",1.4475399999999999E-2,2.7510600000000001E-3,1.5404399999999999E-3,5.2617536513198546]
["  C3H6                    ",2.1226700000000001E-3,5.2937000000000001E-3,2.2588999999999999E-4,0.40098041067684231]
["  C3H8                    ",2.8927400000000001E-4,9.6643E-4,3.0784000000000002E-5,0.29932224786068312]
["  IC4H8                   ",8.3217000000000003E-6,2.64567E-4,8.8557899999999999E-7,3.1454036217668874E-2]
["  NC4H8                   ",1.5219699999999999E-4,5.0239799999999999E-3,1.61965E-5,3.0294109451072655E-2]
["  IC4H10                  ",3.06149E-6,6.8573399999999996E-5,3.2579800000000002E-7,4.4645445610105375E-2]
["  NC4H10                  ",4.9744099999999997E-5,1.30222E-3,5.2936700000000003E-6,3.8199459384742979E-2]
["  C5H10                   ",1.35603E-5,5.1474199999999998E-3,1.44306E-6,2.6343877126793619E-3]
["  NC5H12                  ",2.6738000000000001E-6,1.5876900000000001E-3,2.8454100000000001E-7,1.6840819051578079E-3]
["  IC5H12                  ",6.2972100000000003E-7,1.7640900000000001E-4,6.7013700000000004E-8,3.5696648130197437E-3]
["  C6H12                   ",8.3267E-7,5.1466999999999997E-3,8.8611100000000004E-8,1.6178716459090291E-4]
["  NC6H14                  ",1.7209500000000001E-7,1.5803900000000001E-3,1.8314000000000001E-8,1.0889400717544403E-4]
["  IC6H14                  ",4.1940800000000001E-8,1.75716E-4,4.4632600000000002E-9,2.3868515103917686E-4]
["  C7H14                   ",2.6472800000000001E-8,4.6623799999999998E-3,2.8171899999999999E-9,5.6779584675637766E-6]
["  C7H16                   ",1.4136599999999999E-8,2.03827E-3,1.50439E-9,6.93558753256438E-6]
["  C8H16                   ",1.5561800000000001E-9,4.4336000000000002E-3,1.6561000000000001E-10,3.5099693251533743E-7]
["  C8H18                   ",4.8843000000000004E-10,1.93286E-3,5.1978E-11,2.5269807435613551E-7]
["  C9H18                   ",5.3772000000000003E-11,4.1424299999999999E-3,5.7223000000000004E-12,1.298078663972596E-8]
["  C9H20                   ",1.2625E-11,1.80215E-3,1.3435000000000001E-12,7.0055211830313794E-9]
["  C10H20                  ",8.6569000000000002E-13,3.81665E-3,9.2124999999999999E-14,2.2681933108878205E-10]
["  C10H22                  ",5.3749999999999998E-13,1.6559700000000001E-3,5.7199999999999999E-14,3.2458317481596887E-10]
["  C11H22                  ",2.7685000000000001E-14,3.46839E-3,2.9462E-15,7.9820896727299981E-12]
["  C11H24                  ",1.2150000000000001E-14,1.5038499999999999E-3,1.2929999999999999E-15,8.0792632243907313E-12]
["  C12H24                  ",5.2938000000000004E-16,3.1142299999999999E-3,5.6334999999999995E-17,1.6998744472951582E-13]
["  C12H26                  ",2.1725E-16,1.3480499999999999E-3,2.3118999999999998E-17,1.6115871073031416E-13]
["  C13H26                  ",1.2281E-17,2.76195E-3,1.3070000000000001E-18,4.4464961349770992E-15]
["  C13H28                  ",1.3729999999999999E-18,1.19371E-3,1.4610999999999999E-19,1.1501956086486667E-15]
["  C14H28                  ",2.5988999999999998E-19,2.4166499999999998E-3,2.7656999999999998E-20,1.07541431320216E-16]
["  C14H30                  ",9.2435999999999997E-21,1.0390200000000001E-3,9.8369000000000008E-22,8.8964601258878545E-18]
["  C15H30                  ",6.4835E-21,2.0852900000000001E-3,6.8995999999999996E-22,3.1091598770434807E-18]
["  C15H32                  ",4.3305999999999997E-22,8.9821900000000001E-4,4.6085000000000003E-23,{"$f":"B330/C330","v":4.8213186316477382E-19}]
["  C16H32                  ",2.3715999999999998E-22,1.76767E-3,2.5238E-23,1.3416531366148657E-19]
["  C16H34                  ",2.1131000000000001E-23,7.6770699999999996E-4,2.2487999999999999E-24,2.7524823923710479E-20]
["  C17H34                  ",1.3606999999999999E-24,1.4823E-3,1.4481000000000001E-25,9.1796532415840252E-22]
["  C17H36                  ",6.0550000000000003E-25,6.3296399999999997E-4,6.4435999999999997E-26,9.5661048653635921E-22]
["  C18H36                  ",4.3980999999999998E-25,1.2004299999999999E-3,4.6803999999999999E-26,3.6637704822438627E-22]
["  C18H38                  ",6.7042999999999998E-26,5.1518600000000005E-4,7.1345999999999996E-27,1.3013358282251458E-22]
["  C19H38                  ",4.5949E-28,9.6342599999999997E-4,4.8897999999999998E-29,4.769333607355417E-25]
["  C19H40                  ",3.5395999999999999E-27,4.0759200000000002E-4,3.7667000000000001E-28,8.6841743704488798E-24]
["  C20H40                  ",5.8257999999999999E-30,7.4146100000000001E-4,6.1997000000000004E-31,7.8571900612439497E-27]
["  C20H42                  ",3.6762000000000002E-30,3.0973900000000001E-4,3.9122E-31,1.1868702359082971E-26]
["  ALKYLATE                ",0,0,0,{"$error":"#DIV/0!"}]
["  ISOMERAT                ",0,0,0,{"$error":"#DIV/0!"}]
["  REFORMAT                ",0,0,0,{"$error":"#DIV/0!"}]
["  C7-300HC                ",0,0,0,{"$error":"#DIV/0!"}]
["  3-350HC                 ",0,0,0,{"$error":"#DIV/0!"}]
["  350-5HC                 ",0,0,0,{"$error":"#DIV/0!"}]
["  500+HC                  ",0,0,0,{"$error":"#DIV/0!"}]
["  C7-300HT                ",0,0,0,{"$error":"#DIV/0!"}]
["  3-350HT                 ",0,0,0,{"$error":"#DIV/0!"}]
["  350-5HT                 ",0,0,0,{"$error":"#DIV/0!"}]
["  500+HT                  ",0,0,0,{"$error":"#DIV/0!"}]
["  OXVAP                   ",0,9.0091499999999996E-4,0,0]
["  OXHC                    ",4.0777E-11,5.2362900000000002E-3,4.3393999999999999E-12,7.7873838156404621E-9]
["  OXH2O                   ",0,0,0,{"$error":"#DIV/0!"}]
["  C5N                     ",0,0,0,{"$error":"#DIV/0!"}]
["  C6N                     ",0,0,0,{"$error":"#DIV/0!"}]
["  C7N                     ",0,0,0,{"$error":"#DIV/0!"}]
["  C8N                     ",0,0,0,{"$error":"#DIV/0!"}]
["  C9N                     ",0,0,0,{"$error":"#DIV/0!"}]
["  C10N                    ",0,0,0,{"$error":"#DIV/0!"}]
["  C6A                     ",0,0,0,{"$error":"#DIV/0!"}]
["  C7A                     ",0,0,0,{"$error":"#DIV/0!"}]
["  C8A                     ",0,0,0,{"$error":"#DIV/0!"}]
["  C9A                     ",0,0,0,{"$error":"#DIV/0!"}]
["  C10AP                   ",0,0,0,{"$error":"#DIV/0!"}]
["  C21OP                   ",1.246E-30,9.2497900000000004E-4,1.326E-31,1.3470576088754447E-27]
["  C22OP                   ",4.6686000000000002E-32,7.9416999999999997E-4,4.9682000000000001E-33,5.8785902262739718E-29]
["  C23OP                   ",0,6.6868600000000004E-4,0,0]
["  C24OP                   ",0,5.5459300000000003E-4,0,0]
["  C25OP                   ",0,4.5445300000000001E-4,0,0]
["  C26OP                   ",0,3.6718500000000002E-4,0,0]
["  C27OP                   ",0,2.9548699999999998E-4,0,0]
["  C28OP                   ",0,2.36717E-4,0,0]
["  C29OP                   ",0,1.88488E-4,0,0]
["  C30WAX                  ",0,8.2983899999999997E-5,0,0]
["Liq Vol 60F cuft/hr       "," "," "," ",{"$error":"#VALUE!"}]
["  H2                      ",2889.6640000000002,2889.6680000000001,8258.1949999999997,0.99999861575793481]
["  N2                      ",4882.3620000000001,4882.3549999999996,4884.0919999999996,1.0000014337343353]
["  O2                      ",0,0,0,{"$error":"#DIV/0!"}]
["  H2S                     ",2.7958099999999999E-4,2.8289299999999999E-4,2.8319400000000001E-4,0.9882923932370189]
["  CO                      ",4128.8950000000004,4128.92,122463,0.99999394514788376]
["  CO2                     ",97.023120000000006,32731.85,1206.2449999999999,2.9641807597187452E-3]
["  H2O                     ",0,4087.6849999999999,2537.1990000000001,0]
["  NH3                     ",0,0,0,{"$error":"#DIV/0!"}]
["  HCL                     ",0,0,0,{"$error":"#DIV/0!"}]
["  C                       ",0,0,0,{"$error":"#DIV/0!"}]
["  HCN                     ",0,0,0,{"$error":"#DIV/0!"}]
["  SULFUR                  ",0,0,0,{"$error":"#DIV/0!"}]
["  COS                     ",0,0,0,{"$error":"#DIV/0!"}]
["  CH4                     ",2495.0720000000001,2495.116,1728.71,0.99998236554933728]
["  C2H4                    ",1344.933,1348.5,909.16449999999998,0.99735483870967745]
["  C2H6                    ",305.714,326.04919999999998,206.66040000000001,0.93763149855911321]
["  C3H6                    ",30.54316,427.45409999999998,20.646940000000001,7.1453660170764544E-2]
["  C3H8                    ",4.2856230000000002,80.347610000000003,2.897049,{"$f":"B394/C394","v":5.333852494181221E-2}]
["  IC4H8                   ",0.10375,18.510200000000001,7.0134199999999994E-2,5.6050177739840733E-3]
["  NC4H8                   ",1.900029,351.96510000000001,1.284405,5.398344892718056E-3]
["  IC4H10                  ",4.08788E-2,5.1383029999999996,2.7633700000000001E-2,7.9557005493837169E-3]
["  NC4H10                  ",0.6397543,93.983639999999994,0.4324691,6.8070815303599656E-3]
["  C5H10                   ",0.1578686,336.29020000000003,0.10671799999999999,4.6944157159500925E-4]
["  NC5H12                  ",3.1857400000000001E-2,106.1562,2.15353E-2,3.0009928765347668E-4]
["  IC5H12                  ",7.5781599999999996E-3,11.913349999999999,5.1227800000000004E-3,6.361065527328585E-4]
["  C6H12                   ",9.2322900000000006E-3,320.23140000000001,6.2409600000000003E-3,2.8830058513937111E-5]
["  NC6H14                  ",1.9482799999999999E-3,100.4028,1.3170199999999999E-3,1.9404638117662056E-5]
["  IC6H14                  ",4.79214E-4,11.266830000000001,3.2394500000000002E-4,4.2533170377115832E-5]
["  C7H14                   ",2.82904E-4,279.60480000000001,1.9124100000000001E-4,1.0117995113102493E-6]
["  C7H16                   ",1.5399200000000001E-4,124.5979,1.04097E-4,1.2359116806944581E-6]
["  C8H16                   ",1.6218700000000001E-5,259.30549999999999,1.09637E-5,6.2546687208717137E-8]
["  C8H18                   ",5.1790300000000003E-6,115.0127,3.5009900000000002E-6,4.5030070592204166E-8]
["  C9H18                   ",5.4949599999999999E-7,237.5538,3.7145499999999999E-7,2.3131433805731587E-9]
["  C9H20                   ",1.3110600000000001E-7,105.02200000000001,8.8626399999999997E-8,1.2483670088172002E-9]
["  C10H20                  ",8.71464E-9,215.6087,5.8910300000000001E-9,4.041877716437231E-11]
["  C10H22                  ",5.48821E-9,94.886039999999994,3.7099899999999999E-9,5.7840015243549004E-11]
["  C11H22                  ",2.7522000000000001E-10,193.49250000000001,1.8604999999999999E-10,1.4223807124307144E-12]
["  C11H24                  ",1.2233999999999999E-10,84.977649999999997,8.2702E-11,1.4396726668718186E-12]
["  C12H24                  ",5.2012000000000001E-12,171.70840000000001,3.516E-12,3.029088850632817E-14]
["  C12H26                  ",2.1666000000000001E-12,75.445710000000005,1.4646E-12,2.8717338600166925E-14]
["  C13H26                  ",1.1959E-13,150.92009999999999,8.0839000000000003E-14,7.9240604796842838E-16]
["  C13H28                  ",1.3228999999999999E-14,64.543809999999993,8.9425999999999998E-15,2.0496156021778078E-16]
["  C14H28                  ",2.5142000000000001E-15,131.19999999999999,1.6996E-15,1.9163109756097564E-17]
["  C14H30                  ",9.0785000000000005E-17,57.265509999999999,6.1369999999999999E-17,1.5853346979709079E-18]
["  C15H30                  ",6.2297999999999999E-17,112.4414,4.2112999999999998E-17,5.5404859775847681E-19]
["  C15H32                  ",4.2042000000000003E-18,48.934719999999999,2.842E-18,8.5914459099796634E-20]
["  C16H32                  ",2.2656999999999998E-18,94.768259999999998,1.5316E-18,2.3907793600937697E-20]
["  C16H34                  ",2.0382999999999999E-19,41.555349999999997,1.3779E-19,4.9050242628205514E-21]
["  C17H34                  ",1.2912E-20,78.936040000000006,8.7287000000000006E-21,1.6357547198972738E-22]
["  C17H36                  ",5.8217000000000002E-21,34.151989999999998,3.9354000000000001E-21,1.7046444438523202E-22]
["  C18H36                  ",4.1614999999999997E-21,63.740029999999997,2.8131000000000001E-21,6.528864200409068E-23]
["  C18H38                  ",6.4270999999999998E-22,27.71547,4.3446999999999998E-22,2.3189576074300742E-23]
["  C19H38                  ",4.3285000000000003E-24,50.930720000000001,2.9260999999999999E-24,8.4987999384261608E-26]
["  C19H40                  ",3.3721E-23,21.790700000000001,2.2794999999999999E-23,1.5474950322844148E-24]
["  C20H40                  ",5.4721999999999998E-26,39.083759999999998,3.6991999999999999E-26,1.4001211756494258E-27]
["  C20H42                  ",3.4784000000000001E-26,16.446429999999999,2.3514000000000001E-26,2.1149878727480677E-27]
["  ALKYLATE                ",0,0,0,{"$error":"#DIV/0!"}]
["  ISOMERAT                ",0,0,0,{"$error":"#DIV/0!"}]
["  REFORMAT                ",0,0,0,{"$error":"#DIV/0!"}]
["  C7-300HC                ",0,0,0,{"$error":"#DIV/0!"}]
["  3-350HC                 ",0,0,0,{"$error":"#DIV/0!"}]
["  350-5HC                 ",0,0,0,{"$error":"#DIV/0!"}]
["  500+HC                  ",0,0,0,{"$error":"#DIV/0!"}]
["  C7-300HT                ",0,0,0,{"$error":"#DIV/0!"}]
["  3-350HT                 ",0,0,0,{"$error":"#DIV/0!"}]
["  350-5HT                 ",0,0,0,{"$error":"#DIV/0!"}]
["  500+HT                  ",0,0,0,{"$error":"#DIV/0!"}]
["  OXVAP                   ",0,48.036769999999997,0,0]
["  OXHC                    ",3.7287700000000001E-7,268.70240000000001,2.52062E-7,1.3876950857156467E-9]
["  OXH2O                   ",0,0,0,{"$error":"#DIV/0!"}]
["  C5N                     ",0,0,0,{"$error":"#DIV/0!"}]
["  C6N                     ",0,0,0,{"$error":"#DIV/0!"}]
["  C7N                     ",0,0,0,{"$error":"#DIV/0!"}]
["  C8N                     ",0,0,0,{"$error":"#DIV/0!"}]
["  C9N                     ",0,0,0,{"$error":"#DIV/0!"}]
["  C10N                    ",0,0,0,{"$error":"#DIV/0!"}]
["  C6A                     ",0,0,0,{"$error":"#DIV/0!"}]
["  C7A                     ",0,0,0,{"$error":"#DIV/0!"}]
["  C8A                     ",0,0,0,{"$error":"#DIV/0!"}]
["  C9A                     ",0,0,0,{"$error":"#DIV/0!"}]
["  C10AP                   ",0,0,0,{"$error":"#DIV/0!"}]
["  C21OP                   ",1.1691E-26,48.704320000000003,7.9032000000000005E-27,{"$f":"B458/C458","v":2.400403085393657E-28}]
["  C22OP                   ",4.3666E-28,41.684139999999999,2.9517999999999998E-28,1.0475447016539145E-29]
["  C23OP                   ",0,35.008130000000001,0,0]
["  C24OP                   ",0,28.968859999999999,0,0]
["  C25OP                   ",0,23.68666,0,0]
["  C26OP                   ",0,19.09656,0,0]
["  C27OP                   ",0,15.33423,0,0]
["  C28OP                   ",0,12.265359999999999,0,0]
["  C29OP                   ",0,9.7355180000000008,0,0]
["  C30WAX                  ",0,3.9378510000000002,0,0]
["LiqVolFrac60F             "," "," "," ",{"$error":"#VALUE!"}]
["  H2                      ",0.1785795,4.9564900000000002E-2,5.8066899999999998E-2,3.6029428083179829]
["  N2                      ",0.30172710000000003,8.3744399999999997E-2,3.43421E-2,3.6029525556335713]
["  O2                      ",0,0,0,{"$error":"#DIV/0!"}]
["  H2S                     ",1.7277899999999999E-8,4.8523099999999998E-9,1.99126E-9,3.5607576597538078]
["  CO                      ",0.25516329999999998,7.0821200000000001E-2,0.86108859999999998,3.602922571207491]
["  CO2                     ",5.9959699999999998E-3,0.5614325,8.4816300000000004E-3,1.0679770052499633E-2]
["  H2O                     ",0,7.0113900000000007E-2,1.7840100000000001E-2,0]
["  NH3                     ",0,0,0,{"$error":"#DIV/0!"}]
["  HCL                     ",0,0,0,{"$error":"#DIV/0!"}]
["  C                       ",0,0,0,{"$error":"#DIV/0!"}]
["  HCN                     ",0,0,0,{"$error":"#DIV/0!"}]
["  SULFUR                  ",0,0,0,{"$error":"#DIV/0!"}]
["  COS                     ",0,0,0,{"$error":"#DIV/0!"}]
["  CH4                     ",0.154194,4.2797399999999999E-2,1.2155300000000001E-2,3.6028824180908186]
["  C2H4                    ",8.3115999999999995E-2,2.3130100000000001E-2,6.3927300000000001E-3,3.5934129121793679]
["  C2H6                    ",1.8892900000000001E-2,5.59255E-3,1.45312E-3,3.3782263904658878]
["  C3H6                    ",1.88755E-3,7.3318999999999997E-3,1.4517800000000001E-4,0.25744350032051722]
["  C3H8                    ",2.64849E-4,1.37816E-3,2.0370400000000001E-5,0.19217579961688047]
["  IC4H8                   ",6.4116900000000001E-6,3.1749600000000001E-4,4.9314499999999996E-7,2.0194553632171743E-2]
["  NC4H8                   ",1.17421E-4,6.0370700000000003E-3,9.0312200000000006E-6,1.9449998095102426E-2]
["  IC4H10                  ",2.52629E-6,8.8134700000000002E-5,1.9430499999999999E-7,2.8663965498265723E-2]
["  NC4H10                  ",3.9536400000000003E-5,1.6120500000000001E-3,3.0408799999999998E-6,2.4525542011724202E-2]
["  C5H10                   ",9.7561899999999992E-6,5.7682100000000002E-3,7.5038099999999995E-7,1.6913721934534282E-3]
["  NC5H12                  ",1.9687700000000001E-6,1.82084E-3,1.5142499999999999E-7,1.0812427231387711E-3]
["  IC5H12                  ",4.6832600000000001E-7,2.0434399999999999E-4,3.6020500000000001E-8,2.291850996359081E-3]
["  C6H12                   ",5.7054999999999998E-7,5.4927600000000002E-3,4.3882899999999998E-8,1.0387309840590158E-4]
["  NC6H14                  ",1.20402E-7,1.7221599999999999E-3,9.26054E-9,6.9913364611882752E-5]
["  IC6H14                  ",2.9615199999999998E-8,1.9325399999999999E-4,2.2778000000000001E-9,1.5324495223902222E-4]
["  C7H14                   ",1.7483300000000001E-8,4.7959200000000004E-3,1.3446999999999999E-9,3.6454528015479823E-6]
["  C7H16                   ",9.5165800000000002E-9,2.1371599999999999E-3,7.3195000000000004E-10,4.4529094686406265E-6]
["  C8H16                   ",1.00231E-9,4.4477300000000004E-3,7.7090999999999998E-11,2.2535315767818639E-7]
["  C8H18                   ",3.2005999999999998E-10,1.9727500000000001E-3,2.4617000000000001E-11,1.6224052718286653E-7]
["  C9H18                   ",3.3959000000000003E-11,4.07464E-3,2.6118999999999998E-12,8.3342332083325165E-9]
["  C9H20                   ",8.1021999999999999E-12,1.8013899999999999E-3,6.2316999999999996E-13,4.497748960524928E-9]
["  C10H20                  ",5.3855999999999998E-13,3.6982299999999998E-3,4.1422000000000001E-14,1.4562642128802156E-10]
["  C10H22                  ",3.3917000000000001E-13,1.6275300000000001E-3,2.6087E-14,2.0839554416815665E-10]
["  C11H22                  ",1.7007999999999999E-14,3.3188800000000002E-3,1.3082E-15,5.1246203538543117E-12]
["  C11H24                  ",7.5607E-15,1.45758E-3,5.8152000000000003E-16,5.1871595384129861E-12]
["  C12H24                  ",3.2142999999999998E-16,2.9452200000000001E-3,2.4723E-17,1.0913615960777123E-13]
["  C12H26                  ",1.3389999999999999E-16,1.29408E-3,1.0298E-17,1.034711918892186E-13]
["  C13H26                  ",7.3902999999999999E-18,2.58866E-3,5.6841000000000002E-19,2.854874722829572E-15]
["  C13H28                  ",8.1754E-19,1.10709E-3,6.2879000000000002E-20,7.3845848124362063E-16]
["  C14H28                  ",1.5538E-19,2.25041E-3,1.1951E-20,6.9045196208690865E-17]
["  C14H30                  ",5.6104E-21,9.8224599999999999E-4,4.3151999999999998E-22,5.7118074290961735E-18]
["  C15H30                  ",3.8499999999999999E-21,1.9286500000000001E-3,2.9611E-22,1.9962149690197804E-18]
["  C15H32                  ",2.5981999999999998E-22,8.3935200000000002E-4,1.9982999999999999E-23,3.0954831822644129E-19]
["  C16H32                  ",1.4001999999999999E-22,1.6255099999999999E-3,1.0769000000000001E-23,8.6139119414829807E-20]
["  C16H34                  ",1.2596E-23,7.1277700000000005E-4,9.6883E-25,1.7671726220122141E-20]
["  C17H34                  ",7.9797999999999998E-25,1.35395E-3,6.1376000000000001E-26,5.8937183795561136E-22]
["  C17H36                  ",3.5977999999999998E-25,5.85791E-4,2.7671999999999999E-26,6.1417809423497452E-22]
["  C18H36                  ",2.5718E-25,1.0933E-3,1.9780000000000001E-26,2.3523278148724045E-22]
["  C18H38                  ",3.9718999999999997E-26,4.75389E-4,3.0549E-27,8.3550523886753793E-23]
["  C19H38                  ",2.6750000000000001E-28,8.7358800000000001E-4,2.0574000000000001E-29,3.0620841861380879E-25]
["  C19H40                  ",2.0839000000000001E-27,3.7376500000000002E-4,1.6028000000000001E-28,{"$f":"B522/C522","v":5.5754284108998967E-24}]
["  C20H40                  ",3.3817999999999999E-30,6.7038299999999998E-4,2.6011000000000002E-31,5.0445789943957412E-27]
["  C20H42                  ",2.1496000000000001E-30,2.8209699999999998E-4,1.6533E-31,7.6200739461958123E-27]
["  ALKYLATE                ",0,0,0,{"$error":"#DIV/0!"}]
["  ISOMERAT                ",0,0,0,{"$error":"#DIV/0!"}]
["  REFORMAT                ",0,0,0,{"$error":"#DIV/0!"}]
["  C7-300HC                ",0,0,0,{"$error":"#DIV/0!"}]
["  3-350HC                 ",0,0,0,{"$error":"#DIV/0!"}]
["  350-5HC                 ",0,0,0,{"$error":"#DIV/0!"}]
["  500+HC                  ",0,0,0,{"$error":"#DIV/0!"}]
["  C7-300HT                ",0,0,0,{"$error":"#DIV/0!"}]
["  3-350HT                 ",0,0,0,{"$error":"#DIV/0!"}]
["  350-5HT                 ",0,0,0,{"$error":"#DIV/0!"}]
["  500+HT                  ",0,0,0,{"$error":"#DIV/0!"}]
["  OXVAP                   ",0,8.2395000000000005E-4,0,0]
["  OXHC                    ",2.3044000000000001E-11,4.6089099999999999E-3,1.7724E-12,4.9998806659275191E-9]
["  OXH2O                   ",0,0,0,{"$error":"#DIV/0!"}]
["  C5N                     ",0,0,0,{"$error":"#DIV/0!"}]
["  C6N                     ",0,0,0,{"$error":"#DIV/0!"}]
["  C7N                     ",0,0,0,{"$error":"#DIV/0!"}]
["  C8N                     ",0,0,0,{"$error":"#DIV/0!"}]
["  C9N                     ",0,0,0,{"$error":"#DIV/0!"}]
["  C10N                    ",0,0,0,{"$error":"#DIV/0!"}]
["  C6A                     ",0,0,0,{"$error":"#DIV/0!"}]
["  C7A                     ",0,0,0,{"$error":"#DIV/0!"}]
["  C8A                     ",0,0,0,{"$error":"#DIV/0!"}]
["  C9A                     ",0,0,0,{"$error":"#DIV/0!"}]
["  C10AP                   ",0,0,0,{"$error":"#DIV/0!"}]
["  C21OP                   ",7.2251999999999999E-31,8.3540000000000003E-4,5.5570999999999996E-32,8.6487909983241553E-28]
["  C22OP                   ",2.6985000000000001E-32,7.1498600000000003E-4,2.0755E-33,3.7741997745410396E-29]
["  C23OP                   ",0,6.0047599999999996E-4,0,0]
["  C24OP                   ",0,4.9688800000000002E-4,0,0]
["  C25OP                   ",0,4.0628499999999999E-4,0,0]
["  C26OP                   ",0,3.2755300000000001E-4,0,0]
["  C27OP                   ",0,2.6301999999999999E-4,0,0]
["  C28OP                   ",0,2.1038099999999999E-4,0,0]
["  C29OP                   ",0,1.6698799999999999E-4,0,0]
["  C30WAX                  ",0,6.7543899999999995E-5,0,0]
["Total Flow  lbmol/hr      ",42768.04,97109.72,180510,0.4404094667351528]
["Total Flow  lb/hr         ",468000,2626300,2972850,0.17819746411301071]
["Total Flow  cuft/hr       ",358531,1700910,5032480,0.21078775479008297]
["Temperature F             ",-140,100,378.7319,-1.4]
["Pressure    psia          ",400,284,325,1.408450704225352]
["Vapor Frac                ",1,0.85727799999999998,1,1.1664827512195577]
["Liquid Frac               ",0,0.14272199999999999,0,0]
["Solid Frac                ",0,0,0,{"$error":"#DIV/0!"}]
["Enthalpy    Btu/lbmol     ",-6915.92,-87456.21,-26111.98,7.9078661195128394E-2]
["Enthalpy    Btu/lb        ",-632.00900000000001,-3233.7689999999998,-1585.5070000000001,0.19544036695261785]
["Enthalpy    Btu/hr        ",-295780000,-8492800000,-4713500000,3.4827147701582517E-2]
["Entropy     Btu/lbmol-R   ",-8.6190990000000003,-11.34488,8.1437039999999996,0.75973469970594665]
["Entropy     Btu/lb-R      ",-0.78765359999999995,-0.4194869,0.49448170000000002,1.8776595884162293]
["Density     lbmol/cuft    ",0.1192868,5.7092700000000003E-2,3.5868900000000002E-2,2.0893529295338982]
["Density     lb/cuft       ",1.305326,1.544054,0.59073180000000003,0.84538882707470075]
["Average MW                ",10.94275,27.04466,16.469169999999998,0.40461776927496962]
["Liq Vol 60F cuft/hr       ",16181.39,58300.6,142218,0.27755100290563045]
["*** ALL PHASES ***        "," "," "," ",{"$error":"#VALUE!"}]
["CPMX        Btu/lb-R      ",0.65761959999999997,0.4017271,0.44095309999999999,1.636980925608454]
["*** LIQUID PHASE ***      "," "," "," ",{"$error":"#VALUE!"}]
["MUMX        cP            "," ",0.61982870000000001," ",{"$error":"#VALUE!"}]
["KMX         Btu-ft/hr-sqft"," ",0.35541270000000003," ",{"$error":"#VALUE!"}]

{"sheet":"LHV-Ref","index":20,"n_rows":160,"n_cols":26,"rows_kept":160,"cut":false,"hidden":true,"merged":[]}
["Component","LHV, Btu/lb","lb-mol/hr","MW","Flow, lb/hr",null,"MMBtu/hr",null,null,null,"Fuel Gas To GT",null,null,"Syngas to GT",null,null,null,"Total",null,"Fuel Gas To GT - CCAT TRIG"]
["Extract"]
[null,null,null,null,null,null,null,null,null,null,"lb-mol/hr","lb/hr","MMBtu/hr","lb-mol/hr","lb/hr","MMBtu/hr",null,"MMBtu/hr",null,"lb-mol/hr","lb/hr","MMBtu/hr"]
["H2",51573,{"$f":"FT!R6","v":7741.8926788359977},2.0158000031659467,{"$f":"C4*D4","v":15606.107286508024},"lb/hr",{"$f":"E4*B4/1000000","v":804.85377108707837},null,null,null,{"$f":"FT!AA6","v":5234.0269712196914},{"$f":"K4*D4","v":10550.751585155303},{"$f":"L4*B4/1000000","v":544.13391150121447},{"$f":"Syngas!Q26","v":0},{"$f":"N4*D4","v":0},{"$f":"O4*B4/1000000","v":0},null,{"$f":"P4+M4","v":544.13391150121447},null,{"$f":"VLOOKUP(A4,$D$127:$F$160,3,FALSE)","v":12298.329946385998},{"$f":"T4*$D4","v":24790.973544860753},{"$f":"U4*B4/1000000","v":1278.5448786291036}]
["N2",0,{"$f":"FT!R7","v":2786.6591468275992},28.013400003913183,78063.797354644979,"lb/hr",0,null,null,null,{"$f":"FT!AA7","v":1883.9642628945157},{"$f":"K5*D5","v":52776.244489541525},0,{"$f":"Syngas!Q22","v":0},{"$f":"N5*D5","v":0},0,null,{"$f":"P5+M5","v":0},null,{"$f":"VLOOKUP(A5,$D$127:$F$160,3,FALSE)","v":842.86807105499997},{"$f":"T5*$D5","v":23611.600424990433},{"$f":"U5*B5/1000000","v":0}]
["O2",0,{"$f":"FT!R8","v":1.7161880181301031E-19},31.998799999999999,5.4915957154541542E-18,"lb/hr",0,null,null,null,{"$f":"FT!AA8","v":1.1602556050838423E-19},3.7126787055956855E-18,0,{"$f":"Syngas!Q21","v":0},0,0,null,0,null,1.40067800262E-12,4.4820015270236852E-11,0]
["H2S",6534,{"$f":"FT!R9","v":0},34.076314397036896,0,"lb/hr",0,null,null,null,{"$f":"FT!AA9","v":0},0,0,{"$f":"Syngas!Q27","v":0},0,0,null,0,null,4.6610707715999997E-8,1.5883211303988095E-6,1.0378090266025821E-8]
["CO",4344,{"$f":"FT!R10","v":631.78990577915556},28.010399960727547,17696.68795202452,"lb/hr",76.87441246359451,null,null,null,{"$f":"FT!AA10","v":427.13139333902905},11964.121163209042,51.972142332980077,{"$f":"Syngas!Q24","v":0},0,0,null,51.972142332980077,null,5410.9442108609992,151562.71151139989,658.38841880552116]
["CO2",0,{"$f":"FT!R11","v":3.4575665669310829},44.009800111202942,152.16681348181515,"lb/hr",0,null,null,null,{"$f":"FT!AA11","v":2.3375416602682311},102.8747412200143,0,{"$f":"Syngas!Q20","v":0},0,0,null,0,null,1170.139094379,51497.587645923821,0]
["H2O",0,{"$f":"FT!R12","v":42.868839134785624},18.015199965997791,772.29070932335469,"lb/hr",0,null,null,null,{"$f":"FT!AA12","v":28.982145524921108},522.11914707510175,0,{"$f":"Syngas!Q18","v":0},0,0,null,0,null,1211.5782458009999,21826.824372557836,0]
["NH3",7998,{"$f":"FT!R13","v":3.5200103043104538},17.030999999999999,59.949295492711336,"lb/hr",0.47947446535070526,null,null,null,{"$f":"FT!AA13","v":2.3797577202403422},40.529653733413262,0.32415617055983931,{"$f":"Syngas!Q28","v":0},0,0,null,0.32415617055983931,null,0.71802590170500002,12.228699131937855,9.7805135657238959E-2]
["HCL",0,{"$f":"FT!R14","v":0},36.460940000000001,0,"lb/hr",0,null,null,null,{"$f":"FT!AA14","v":0},0,0,{"$f":"Syngas!Q37","v":0},0,0,null,0,null,0,0,0]
["C",14650,{"$f":"FT!R15","v":0},12.0107,0,"lb/hr",0,null,null,null,{"$f":"FT!AA15","v":0},0,0,{"$f":"Syngas!Q32","v":0},0,0,null,0]
["HCN",9915,{"$f":"FT!R16","v":0},27.025300000000001,0,"lb/hr",0,null,null,null,{"$f":"FT!AA16","v":0},0,0,0,0,0,null,0]
["S",0,{"$f":"FT!R17","v":0},32.064999999999998,0,"lb/hr",0,null,null,null,{"$f":"FT!AA17","v":0},0,0,{"$f":"Syngas!Q33","v":0},0,0,null,0]
["COS",0,{"$f":"FT!R18","v":0},60.075000000000003,0,"lb/hr",0,null,null,null,{"$f":"FT!AA18","v":0},0,0,{"$f":"Syngas!Q25","v":0},0,0,null,0]
["CH4",21509,{"$f":"FT!R19","v":2912.6218158519164},16.042600033443922,46726.026840395447,"lb/hr",1005.0301113100656,null,null,null,{"$f":"FT!AA19","v":1969.1232846467033},31589.857272128407,679.46624006620993,{"$f":"Syngas!Q23","v":0},0,0,null,679.46624006620993,null,{"$f":"VLOOKUP(A17,$D$127:$F$160,3,FALSE)","v":11.341849942799998},181.95276227167918,3.9136219637015475]
["C2H4",20275,{"$f":"FT!R20","v":1.3179580833445753E-2},28.053599942613545,0.36973468811282434,"lb/hr",7.496370801487514E-3,null,null,null,{"$f":"FT!AA20","v":8.9102606317705696E-3},0.24996488714811058,5.0680380869279418E-3,0,0,0,null,5.0680380869279418E-3]
["C2H6",20424,{"$f":"FT!R21","v":0.53760050871522735},30.069399964695478,16.165324717781928,"lb/hr",0.33016059203597808,null,null,null,{"$f":"FT!AA21","v":0.36345318633117341},10.928819228235044,0.22321020391747254,0,0,0,null,0.22321020391747254,null,{"$f":"FT!AJ21","v":0},{"$f":"T19*M19","v":0},{"$f":"U19*K19/1000000","v":0}]
["C3H6",19675,{"$f":"FT!R22","v":1.1065922117338957E-6},42.080399936510055,4.6565842836389547E-5,"lb/hr",9.1618295780596436E-7,null,null,null,{"$f":"FT!AA22","v":7.4812887786345365E-7},3.1481562384546612E-5,6.1939973991595449E-7,0,0,0,null,6.1939973991595449E-7,null,{"$f":"FT!AJ22","v":0},0,0]
["C3H8",19920,{"$f":"FT!R23","v":1.7661061328184057E-4},44.0961999945523,7.7878569244365769E-3,"lb/hr",1.5513410993477661E-4,null,null,null,{"$f":"FT!AA23","v":1.1940035229987024E-4},5.2651018144350805E-3,1.0488082814354681E-4,0,0,0,null,1.0488082814354681E-4,null,{"$f":"FT!AJ23","v":0},0,0]
["IC4H8",19469,{"$f":"FT!R24","v":1.0634944797851908E-10},56.107207013097565,5.9669704934594203E-9,"lb/hr",1.1617094853716145E-10,null,null,null,{"$f":"FT!AA24","v":7.1899198579123837E-11},4.0340632187547117E-9,7.8539176805935484E-11,0,0,0,null,7.8539176805935484E-11,null,{"$f":"FT!AJ24","v":0},0,0]
["NC4H8",19342,{"$f":"FT!R25","v":4.7176169503136495E-11},56.107200193042019,2.6469227866533629E-9,"lb/hr",5.1196780539449349E-11,null,null,null,{"$f":"FT!AA25","v":3.1894183221275709E-11},1.789493322989678E-9,3.4612379853266355E-11,0,0,0,null,3.4612379853266355E-11,null,{"$f":"FT!AJ25","v":0},0,0]
["IC4H10",19656,{"$f":"FT!R26","v":6.2156675986467121E-8},58.12300359943206,3.6127327020901607E-6,"lb/hr",7.1011873992284199E-8,null,null,null,{"$f":"FT!AA26","v":4.2021987652177832E-8},2.4424441395628219E-6,4.8008682007246825E-8,0,0,0,null,4.8008682007246825E-8,null,{"$f":"FT!AJ26","v":0},0,0]
["NC4H10",19594,{"$f":"FT!R27","v":9.1931182650425896E-8},58.123000522237177,5.3433161772005857E-6,"lb/hr",1.0469693717606828E-7,null,null,null,{"$f":"FT!AA27","v":6.2151506026921243E-8},3.6124320172605705E-6,7.078199294620362E-8,0,0,0,null,7.078199294620362E-8,null,{"$f":"FT!AJ27","v":0},0,0]
["C5H10",19185,{"$f":"FT!R28","v":9.4436705880844207E-12},70.134005878173568,6.6232244853624755E-10,"lb/hr",1.2706656175167908E-11,null,null,null,{"$f":"FT!AA28","v":6.3845403980438031E-12},4.4777339380584068E-10,8.5905325601650545E-12,0,0,0,null,8.5905325601650545E-12,null,{"$f":"FT!AJ28","v":0},0,0]
["NC5H12",19366,{"$f":"FT!R29","v":4.7813487461802274E-11},72.149834188547402,3.4497351923452241E-9,"lb/hr",6.6807571734957613E-11,null,null,null,{"$f":"FT!AA29","v":3.232505194075799E-11},2.3322471376618712E-9,4.5166298067959802E-11,0,0,0,null,4.5166298067959802E-11,null,{"$f":"FT!AJ29","v":0},0,0]
["IC5H12",19304,{"$f":"FT!R30","v":6.9129817683055095E-11},72.149814212558212,4.9877035023804466E-9,"lb/hr",9.6282628409952141E-11,null,null,null,{"$f":"FT!AA30","v":4.6736288563872403E-11},3.3720145368679031E-9,6.5093368619698005E-11,0,0,0,null,6.5093368619698005E-11,null,{"$f":"FT!AJ30","v":0},0,0]
["C6H12",19102,{"$f":"FT!R31","v":3.624974122118091E-15},84.160978773434209,3.0508137014582894E-13,"lb/hr",5.8276643325256239E-15,null,null,null,{"$f":"FT!AA31","v":2.4507201419888652E-15},2.0625500584955256E-13,3.9398831217381523E-15,0,0,0,null,3.9398831217381523E-15,null,{"$f":"FT!AJ31","v":0},0,0]
["NC6H14",19233,{"$f":"FT!R32","v":1.9938929704035224E-14},86.17667542498971,1.7182706734263296E-12,"lb/hr",3.3047499862008598E-14,null,null,null,{"$f":"FT!AA32","v":1.3480023577886203E-14},1.1616636165927079E-12,2.2342276337927552E-14,0,0,0,null,2.2342276337927552E-14,null,{"$f":"FT!AJ32","v":0},0,0]
["IC6H14",19203,{"$f":"FT!R33","v":2.1640500811269435E-14},86.18193037152507,1.8650201341217541E-12,"lb/hr",3.5813981635540049E-14,null,null,null,{"$f":"FT!AA33","v":1.4630397192991786E-14},1.2608758721941739E-12,2.4212599373744722E-14,0,0,0,null,2.4212599373744722E-14,null,{"$f":"FT!AJ33","v":0},0,0]
["C7H14",19042,{"$f":"FT!R34","v":1.3887628132276518E-18},98.187040575870199,1.363585106926431E-16,"lb/hr",2.5965387606093102E-18,null,null,null,{"$f":"FT!AA34","v":9.3889470218713238E-19},9.2187292220117532E-17,1.7554304184554779E-18,0,0,0,null,1.7554304184554779E-18,null,{"$f":"FT!AJ34","v":0},0,0]
["C7H16",19156,{"$f":"FT!R35","v":8.1239933385214193E-18},100.2043376949274,8.1405937192454093E-16,"lb/hr",1.5594121328586504E-17,null,null,null,{"$f":"FT!AA35","v":5.4923520658030262E-18},5.5035750114115858E-16,1.0542648291860035E-17,0,0,0,null,1.0542648291860035E-17,null,{"$f":"FT!AJ35","v":0},0,0]
["C8H16",19005,{"$f":"FT!R36","v":5.2241789140000191E-22},112.21252250814852,5.8621829397382209E-20,"lb/hr",1.1141078676972488E-21,null,null,null,{"$f":"FT!AA36","v":3.5318874172852034E-22},3.9632199630836244E-20,7.5320995398404276E-22,0,0,0,null,7.5320995398404276E-22,null,{"$f":"FT!AJ36","v":0},0,0]
["C8H18",19098,{"$f":"FT!R37","v":3.0110720956056434E-21},114.2307976639314,3.4395716730463814E-19,"lb/hr",6.5688939811839795E-21,null,null,null,{"$f":"FT!AA37","v":2.0356821276753314E-21},2.3253759323456212E-19,4.4410029555936672E-21,0,0,0,null,4.4410029555936672E-21,null,{"$f":"FT!AJ37","v":0},0,0]
["C9H18",18964,{"$f":"FT!R38","v":1.9118680495623073E-25},126.2486085343228,2.4137068095847099E-23,"lb/hr",4.5773535936964442E-25,null,null,null,{"$f":"FT!AA38","v":1.2925481341504247E-25},1.6318240340012632E-23,3.0945910980799954E-25,0,0,0,null,3.0945910980799954E-25,null,{"$f":"FT!AJ38","v":0},0,0]
["C9H20",19055,{"$f":"FT!R39","v":2.2887655194165185E-25},128.25856587778168,2.9355378315087873E-23,"lb/hr",5.5936673379399944E-25,null,null,null,{"$f":"FT!AA39","v":1.5473555313123807E-25},1.9846160134917884E-23,3.781685813708603E-25,0,0,0,null,3.781685813708603E-25,null,{"$f":"FT!AJ39","v":0},0,0]
["Total",null,null,null,null,null,null,null,null,"Total",{"$f":"SUM(K4:K37)","v":9548.3178407051819},107557.68213882842,1276.124833932219,0,0,0,null,{"$f":"SUM(R4:R37)","v":1276.124833932219},null,{"$f":"SUM(T4:T37)","v":20945.919444373114},273483.8789627247,1940.9447245443614,{"$f":"R38/V38","v":0.65747613406754302}]
["Lb/hr",null,null,null,{"$f":"SUM(E4:E37)","v":159093.56915467329},null,{"$f":"SUM(G4:G38)","v":1887.5755825152714}]
["BTU/lb"]
[null,null,null,null,null,null,{"$f":"G39*1000000/E39","v":11864.562424142616}]
[]
[null,null,null,null,null,null,{"$f":"FT!Z4*1000000/G41","v":51535.887015844855},"lb/hr"]
[]
[]
[null,null,null,null,null,null,null,null,null,null,null,"H2O",28660.26,{"$f":"M46*B10","v":0}]
[null,null,null,null,null,null,null,null,null,null,null,"AR",17206.009999999998,{"$f":"M47*0","v":0}]
[null,null,null,null,null,null,null,null,null,null,null,"CO2",56186.96,{"$f":"M48*B9","v":0}]
[null,null,null,null,null,null,null,null,null,null,null,"O2",0,{"$f":"M49*B6","v":0}]
[null,null,null,null,null,null,null,null,null,null,null,"N2",24235.64,{"$f":"M50*B5","v":0},null,null,null,null,null,null,null,null,"Reducing","Increasing"]
[null,null,null,null,null,null,null,null,null,null,null,"CH4",15220.96,{"$f":"M51*B17","v":327387628.63999999},null,null,null,null,null,null,null,null,"O2","H2O"]
[null,null,null,null,null,null,null,null,null,null,null,"CO",6370.97,{"$f":"M52*B8","v":27675493.68},null,null,3732.0331225960699,null,null,null,null,null,"CH4","CO2"]
[null,null,null,null,null,null,null,null,null,null,null,"COS",0,{"$f":"M53*B16","v":0},null,null,null,null,null,null,null,null,"CO","SO2"]
[null,null,null,null,null,null,null,null,null,null,null,"H2",65476.01,{"$f":"M54*B4","v":3376794263.73},null,null,null,null,null,null,null,null,"H2"]
[null,null,null,null,null,null,null,null,null,null,null,"H2S",6.4835349999999998,{"$f":"M55*B7","v":42363.417690000002},null,null,null,null,null,null,null,null,"H2S"]
[null,null,null,null,null,null,null,null,null,null,null,"NH3",16.675809999999998,{"$f":"M56*B11","v":133373.12837999998}]
[null,null,null,null,null,null,null,null,null,null,null,null,{"$f":"SUM(M46:M56)","v":213379.96934499999},{"$f":"SUM(N46:N56)/1000000","v":3732.0331225960699},null,null,null,null,null,null,null,null,"CH4","O2","CO2","H2O"]
[null,null,null,null,null,null,null,null,null,null,null,null,null,null,null,null,null,null,null,null,null,null,1,2,1,2]
[null,null,null,null,null,null,null,null,null,null,null,null,null,null,null,null,null,null,null,null,null,null,"H2","O2","H2O"]
[null,null,null,null,null,null,null,null,null,null,null,null,null,null,null,null,null,null,null,null,null,null,2,1,2]
[null,null,null,null,null,null,null,null,null,null,null,null,null,null,null,null,null,null,null,null,null,null,"H2S","O2","H2O","SO2"]
[null,null,null,null,null,null,null,null,null,null,null,null,null,null,null,null,null,null,null,null,null,null,2,3,2,2]
[null,null,null,null,null,null,null,null,null,null,null,null,null,null,null,null,null,null,null,null,null,null,"CO","O2","CO2"]
[null,null,null,null,null,null,null,null,null,null,null,null,null,null,null,null,null,null,null,null,null,null,2,1,2]
[]
[]
[]
[null,null,null,null,null,null,null,null,null,null,null,null,"Based on Case B4B"]
[null,null,null,null,null,null,null,null,null,null,null,null,"lb/hr","lb/hr","MMBtu/hr","lb/hr","lb/hr","lb/hr",null,"hp"]
[null,null,null,null,null,null,null,null,null,null,null,null,"Fuel Gas","Total Input","Heating Value","N2 In 1","N2 in 2","Steam in",null,"Power Out","Total N2 Equivalnet","Exhaust Temp","Moist Frac"]
[null,null,null,null,null,null,null,null,null,null,{"$f":"(-98.27037*W71 - 152.87975)*O71","v":-61625.484231979965},{"$f":"EXP(-89.63369*LN(O71)^2 + 1084.92856*LN(O71) - 3269.77687)","v":121989.65919686055},0,143244.05215350501,373.2,45775.1,76132.7,0.1,null,-63171.700100000002,{"$f":"P71+Q71+R71*10","v":121908.79999999999},1044,0.12463050000000001]
[null,null,null,null,null,null,null,null,null,null,{"$f":"(-98.27037*W72 - 152.87975)*O72","v":-65534.727894685238},{"$f":"EXP(-89.63369*LN(O72)^2 + 1084.92856*LN(O72) - 3269.77687)","v":289655.82247068261},1500,163134.2584279,390.33575700742,45775.1,77927.8,16595.3,null,-67243.216100000005,{"$f":"P72+Q72+R72*10","v":289655.90000000002},1046,0.1527772]
[null,null,null,null,null,null,null,null,null,null,{"$f":"(-98.27037*W73 - 152.87975)*O73","v":-69894.80934075675},484622.45430767682,3124.8,184253.3759255,408.90806558882502,45775.1,77927.8,36089.300000000003,null,-71649.322100000005,{"$f":"P73+Q73+R73*10","v":484595.9},1048,0.18368329999999999]
[null,null,null,null,null,null,null,null,null,null,null,null,5000,192246.21423449999,430.34256892160698,45775.1,77927.8,42207.3,null,-75738.522299999997,{"$f":"P74+Q74+R74*10","v":545775.9},1079,0.19546340000000001]
[]
[null,null,null,null,null,null,null,null,null,null,null,null,null,null,{"$f":"T71/O71","v":-169.27036468381567},null,null,null,null,null,null,null,{"$f":"W71","v":0.12463050000000001}]
[null,null,null,null,null,null,null,null,null,null,null,null,null,null,{"$f":"T72/O72","v":-172.27019275797929},null,null,null,null,null,null,null,{"$f":"W72","v":0.1527772}]
[null,null,null,null,null,null,null,null,null,null,null,null,null,null,{"$f":"T73/O73","v":-175.22110256452251},null,null,null,null,null,null,null,{"$f":"W73","v":0.18368329999999999}]
[null,null,null,null,null,null,null,null,null,null,null,null,null,null,{"$f":"T74/O74","v":-175.99588739220647},null,null,null,null,null,null,null,{"$f":"W74","v":0.19546340000000001}]
[]
[]
[]
[]
[]
[null,null,null,null,null,null,null,null,null,null,null,"Syngas Mix","Air","Total Gas","GT Product","CP"]
[null,null,null,null,null,null,null,null,null,null,null,null,1]
[null,null,null,null,null,null,null,null,null,null,"H2O",15681.35,{"$f":"M86*2399.135","v":2399.1350000000002},{"$f":"M87+L87","v":18080.485000000001},{"$f":"N87+N92*2+N95+N96","v":36921.744305599997}]
[null,null,null,null,null,null,null,null,null,null,"AR",471.55610000000001,{"$f":"M86*2247.831","v":2247.8310000000001},2719.3870999999999,{"$f":"N88","v":2719.3870999999999}]
[null,null,null,null,null,null,null,null,null,null,"CO2",7492.2079999999996,{"$f":"M86*79.41737","v":79.417370000000005},7571.6253699999997,{"$f":"N89+N92+N93","v":24732.123370000001}]
[null,null,null,null,null,null,null,null,null,null,"O2",209.2467,{"$f":"M86*50412.51","v":50412.51},50621.756700000005,{"$f":"N90-N92/1*2-N95/2*1-N96/2*3-N93/2*1","v":31314.755741600005}]
[null,null,null,null,null,null,null,null,null,null,"N2",39382.51,{"$f":"M86*187927","v":187927},227309.51,{"$f":"N91","v":227309.51}]
[null,null,null,null,null,null,null,null,null,null,"CH4",2610.2779999999998,null,2610.2779999999998,0]
[null,null,null,null,null,null,null,null,null,null,"CO",14550.22,null,14550.22,0]
[null,null,null,null,null,null,null,null,null,null,"COS",0,null,0,{"$f":"N94","v":0}]
[null,null,null,null,null,null,null,null,null,null,"H2",13619.72,null,13619.72,0]
[null,null,null,null,null,null,null,null,null,null,"H2S",0.9833056,null,0.9833056,0]
[null,null,null,null,null,null,null,null,null,null,"NH3",0.29427759999999997,null,0.29427759999999997,{"$f":"N97","v":0.29427759999999997}]
[null,null,null,null,null,null,null,null,null,null,"SO2",null,null,0,{"$f":"N96","v":0.9833056}]
[]
[null,null,null,null,null,null,null,null,null,null,null,"H2O","Ar","CO2","O2","N2","CH4","CO",null,"COS","H2","H2S","NH3","SO2"]
[null,null,null,null,null,null,null,null,null,null,"A",30.091999999999999,20.786000000000001,24.997350000000001,31.322340000000001,28.986409999999999,0,0,null,0,0,0,19.995629999999998,21.430489999999999]
[null,null,null,null,null,null,null,null,null,null,"B",6.8325139999999998,2.8259110000000001E-7,55.186959999999999,-20.235309999999998,1.8539779999999999,0,0,null,0,0,0,49.771189999999997,74.350939999999994]
[null,null,null,null,null,null,null,null,null,null,"C",6.7934349999999997,-1.464191E-7,-33.691369999999999,57.866439999999997,-9.6474589999999996,0,0,null,0,0,0,-15.37599,-57.75217]
[null,null,null,null,null,null,null,null,null,null,"D",-2.5344799999999998,1.092131E-8,7.9483870000000003,-36.506239999999998,16.635370000000002,0,0,null,0,0,0,1.921168,16.355340000000002]
[null,null,null,null,null,null,null,null,null,null,"E",8.2139000000000004E-2,-3.661371E-8,-0.13663800000000001,-7.3740000000000003E-3,1.17E-4,0,0,null,0,0,0,0.18917400000000001,8.6731000000000003E-2]
[null,null,null,null,null,null,null,null,null,null,"F",-250.881,-6.1973500000000001,-403.60750000000002,-8.9034709999999997,-8.6719139999999992,0,0,null,0,0,0,-53.306669999999997,-305.7688]
[null,null,null,null,null,null,null,null,null,null,"G",223.39670000000001,179.999,228.2431,246.7945,226.41679999999999,0,0,null,0,0,0,203.85910000000001,254.88720000000001]
[null,null,null,null,null,null,null,null,null,null,"H",-241.82640000000001,0,-393.5224,0,0,0,0,null,0,0,0,-45.898060000000001,-296.84219999999999]
[null,null,null,null,null,null,null,null,null,null,"t, K/1000",{"$f":"(1090+459.67)*(5/9)/1000","v":0.86092777777777785},{"$f":"(1090+459.67)*(5/9)/1000","v":0.86092777777777785},0.86092777777777785,0.86092777777777785,0.86092777777777785,0.86092777777777785,0.86092777777777785,null,0.86092777777777785,0.86092777777777785,0.86092777777777785,0.86092777777777785,0.86092777777777785]
[null,null,null,null,null,null,null,null,null,null,"Cp, J/Mol*K",{"$f":"L101+L102*$L$109+L103*$L$109^2+L104*$L$109^3+L105/$L$109^2","v":39.503097521991471},20.786000092336149,52.425057880363482,33.48641743161636,34.047353485138956,0,0,null,{"$f":"T101+T102*$L$109+T103*$L$109^2+T104*$L$109^3+T105/$L$109^2","v":0},{"$f":"U101+U102*$L$109+U103*$L$109^2+U104*$L$109^3+U105/$L$109^2","v":0},{"$f":"V101+V102*$L$109+V103*$L$109^2+V104*$L$109^3+V105/$L$109^2","v":0},{"$f":"W101+W102*$L$109+W103*$L$109^2+W104*$L$109^3+W105/$L$109^2","v":52.929555246897962},{"$f":"X101+X102*$L$109+X103*$L$109^2+X104*$L$109^3+X105/$L$109^2","v":53.189196922332982}]
[]
[]
[null,null,null,null,null,null,null,null,null,null,"Q=mCpDt"]
[]
[]
[]
[]
[]
[]
[]
[]
[]
[]
[]
[]
[null,null,null,null,null,22233.69]
[null,null,null,"H2O",5.4492899999999997E-2,{"$f":"E127*$F$126","v":1211.5782458009999},"  H2O                     "]
[null,null,null,"AR                     ",5.7919600000000002E-2,{"$f":"E128*$F$126","v":1287.766431324},"  AR                      "]
[null,null,null,"CO2",5.2629099999999998E-2,1170.139094379,"  CO2                     "]
[null,null,null,"O2",6.2998000000000003E-17,1.40067800262E-12,"  O2                      "]
[null,null,null,"N2",3.7909499999999999E-2,842.86807105499997,"  N2                      "]
[null,null,null,"CH4",5.1011999999999997E-4,11.341849942799998,"  CH4                     "]
[null,null,null,"CO",0.2433669,5410.9442108609992,"  CO                      "]
[null,null,null,"COS                     ",1.6379E-13,3.6416560850999998E-9,"  COS                     "]
[null,null,null,"H2",0.55313939999999995,12298.329946385998,"  H2                      "]
[null,null,null,"H2S",2.0963999999999998E-12,4.6610707715999997E-8,"  H2S                     "]
[null,null,null,"HCL",0,0,"  HCL                     "]
[null,null,null,"NH3",3.2294500000000001E-5,0.71802590170500002,"  NH3                     "]
[null,null,null,"  SO2                     ",3.5425000000000002E-18,7.8762846825000001E-14,"  SO2                     "]
[null,null,null,"  C                       ",2.1829000000000001E-23,4.8533921900999996E-19,"  C                       "]
[null,null,null,"  S                       ",1.7559E-19,3.9040136271E-15,"  S                       "]
[null,null,null,"  S2                      ",7.7196E-26,1.7163519332400001E-21,"  S2                      "]
[null,null,null,"  S6                      ",2.5051999999999999E-42,5.5699840187999994E-38,"  S6                      "]
[null,null,null,"  S8                      ",1.3438000000000001E-41,2.9877632622000002E-37,"  S8                      "]
[null,null,null,"  C2H4                    ",1.6845200000000001E-8,3.74530954788E-4,"  C2H4                    "]
[null,null,null,"  C2H6                    ",2.7945599999999999E-9,6.2133380726399988E-5,"  C2H6                    "]
[null,null,null,"  C3H6                    ",1.5686E-12,3.4875766133999996E-8,"  C3H6                    "]
[null,null,null,"  C3H8                    ",5.6933000000000006E-14,1.26583067277E-9,"  C3H8                    "]
[null,null,null,"  ISOBU-01                ",3.1975000000000002E-19,7.1092223775000007E-15]
[null,null,null,"  N-BUT-01                ",9.1362000000000004E-15,2.0313143857799999E-10]
[null,null,null,"  1-BUT-01                ",1.5645000000000001E-15,3.4784608005000002E-11]
[null,null,null,"  1-PEN-01                ",3.3469999999999998E-22,7.4416160429999995E-18]
[null,null,null,"  N-PEN-01                ",1.1621E-23,2.5837771148999999E-19]
[null,null,null,"  1-HEX-01                ",3.4095E-27,7.5805766055E-23]
[null,null,null,"  N-HEX-01                ",1.4737E-28,3.2765788952999998E-24]
[null,null,null,"  C7-C11                  ",5.5446999999999999E-41,1.2327914094299998E-36]
[null,null,null,"  C12-C18                 ",8.0232000000000005E-43,1.7838534160800001E-38]
[null,null,null,"  C19-C24                 ",1.4046999999999999E-45,3.1231664342999994E-41]
[null,null,null,"  C25PL                   ",1.6208E-45,3.6036364751999997E-41]
[null,null,null,"  ALCS                    ",6.0156000000000006E-39,1.3374898556400001E-34]

{"sheet":"SC-Ref","index":21,"n_rows":74,"n_cols":33,"rows_kept":74,"cut":false,"hidden":true,"merged":[[0,25,0,30]]}
[null,"Hp/lb","Hp",null,null,null,null,null,null,null,null,null,null,null,null,null,null,null,null,null,null,null,null,null,null,"Gasifier Island"]
["Total at 1814.696",{"$f":"5376/137364","v":3.9136891762033721E-2},{"$f":"D2*B2","v":47047.910867735067},{"$f":"SUM(E2:AE2)+IF(FT!F1=1,GT!J23/'SC-Ref'!O24,0)","v":1202137.133265543},{"$f":"IF(E28=1814.696,E25,0)","v":0},{"$f":"IF(F28=1814.696,F25,0)","v":0},0,0,0,0,0,0,0,0,188622.28989433817,0,0,0,67036.103976094615,56546.923983248627,17147.196256579449,0,0,0,0,{"$f":"IF(Z$28=$AG2,Z$25,0)*IF('F-T Black Box Dashboard'!$D23=\"Deficit\",-1,\"1\")","v":0},{"$f":"IF(AA$28=$AG2,AA$25,0)*IF('F-T Black Box Dashboard'!$D23=\"Deficit\",-1,\"1\")","v":0},{"$f":"IF(AB$28=$AG2,AB$25,0)*IF('F-T Black Box Dashboard'!$D23=\"Deficit\",-1,\"1\")","v":0},{"$f":"IF(AC$28=$AG2,AC$25,0)*IF('F-T Black Box Dashboard'!$D23=\"Deficit\",-1,\"1\")","v":0},{"$f":"IF(AD$28=$AG2,AD$25,0)*IF('F-T Black Box Dashboard'!$D23=\"Deficit\",-1,\"1\")","v":0},{"$f":"IF(AE$28=$AG2,AE$25,0)*IF('F-T Black Box Dashboard'!$D23=\"Deficit\",-1,\"1\")","v":0},null,1814.6959999999999]
["Total at 839.696",{"$f":"2341/165964","v":1.4105468655853076E-2},{"$f":"D3*B3","v":14987.328654634857},{"$f":"SUM(E3:AE3)+D2-Syngas!E38*18.01528","v":1062519.0144544295},{"$f":"IF(E28=839.696,E25,0)","v":74780.078375272991},{"$f":"IF(F28=839.696,F25,0)","v":0},0,0,0,0,0,0,0,0,0,0,0,0,0,0,0,0,0,0,66485.668968318307,{"$f":"IF(Z$28=$AG3,Z$25,0)*IF('F-T Black Box Dashboard'!$D24=\"Deficit\",-1,\"1\")","v":0},{"$f":"IF(AA$28=$AG3,AA$25,0)*IF('F-T Black Box Dashboard'!$D24=\"Deficit\",-1,\"1\")","v":0},{"$f":"IF(AB$28=$AG3,AB$25,0)*IF('F-T Black Box Dashboard'!$D24=\"Deficit\",-1,\"1\")","v":0},{"$f":"IF(AC$28=$AG3,AC$25,0)*IF('F-T Black Box Dashboard'!$D24=\"Deficit\",-1,\"1\")","v":0},{"$f":"IF(AD$28=$AG3,AD$25,0)*IF('F-T Black Box Dashboard'!$D24=\"Deficit\",-1,\"1\")","v":0},{"$f":"IF(AE$28=$AG3,AE$25,0)*IF('F-T Black Box Dashboard'!$D24=\"Deficit\",-1,\"1\")","v":0},null,839.69600000000003]
["Total at 614.696",{"$f":"2297/111472","v":2.0606071479833499E-2},17756.263111827531,{"$f":"SUM(E4:AE4)+D3+IF(FT!F1=2,Boiler!N4/'SC-Ref'!F24,0)","v":861700.54923885013},{"$f":"IF(E28=614.696,E25,0)","v":0},{"$f":"IF(F28=614.696,F25,0)","v":-208132.92678792513},0,0,0,0,0,0,0,0,0,0,0,0,0,0,0,7314.4615723457018,0,0,0,{"$f":"IF(Z$28=$AG4,Z$25,0)*IF('F-T Black Box Dashboard'!$D25=\"Deficit\",-1,\"1\")","v":0},{"$f":"IF(AA$28=$AG4,AA$25,0)*IF('F-T Black Box Dashboard'!$D25=\"Deficit\",-1,\"1\")","v":0},{"$f":"IF(AB$28=$AG4,AB$25,0)*IF('F-T Black Box Dashboard'!$D25=\"Deficit\",-1,\"1\")","v":0},{"$f":"IF(AC$28=$AG4,AC$25,0)*IF('F-T Black Box Dashboard'!$D25=\"Deficit\",-1,\"1\")","v":0},{"$f":"IF(AD$28=$AG4,AD$25,0)*IF('F-T Black Box Dashboard'!$D25=\"Deficit\",-1,\"1\")","v":0},{"$f":"IF(AE$28=$AG4,AE$25,0)*IF('F-T Black Box Dashboard'!$D25=\"Deficit\",-1,\"1\")","v":0},null,614.69600000000003]
["Total at 374.696",{"$f":"31189/609382","v":5.1181360788470943E-2},126765.57291744716,{"$f":"SUM(E5:AE5)+D4-(ASU!B5+ASU!B9)-(FT!D12+FT!O12)*18.01528","v":2476791.764903645},{"$f":"IF(E28=374.696,E25,0)","v":0},{"$f":"IF(F28=374.696,F25,0)","v":0},{"$f":"IF(G28=374.696,G25,0)","v":1901756.4908377447},0,-11483.786157720144,-2724.2847470894694,-2411.8054866672164,-2053.6215678711228,0,-4290.7001812432118,0,0,0,0,0,0,0,0,0,0,0,{"$f":"IF(Z$28=$AG5,Z$25,0)*IF('F-T Black Box Dashboard'!$D26=\"Deficit\",-1,\"1\")","v":0},{"$f":"IF(AA$28=$AG5,AA$25,0)*IF('F-T Black Box Dashboard'!$D26=\"Deficit\",-1,\"1\")","v":0},{"$f":"IF(AB$28=$AG5,AB$25,0)*IF('F-T Black Box Dashboard'!$D26=\"Deficit\",-1,\"1\")","v":0},{"$f":"IF(AC$28=$AG5,AC$25,0)*IF('F-T Black Box Dashboard'!$D26=\"Deficit\",-1,\"1\")","v":0},{"$f":"IF(AD$28=$AG5,AD$25,0)*IF('F-T Black Box Dashboard'!$D26=\"Deficit\",-1,\"1\")","v":0},{"$f":"IF(AE$28=$AG5,AE$25,0)*IF('F-T Black Box Dashboard'!$D26=\"Deficit\",-1,\"1\")","v":0},null,374.69600000000003]
["Total at 64.696",{"$f":"9154/383825","v":2.384941053865694E-2},55976.366854058899,{"$f":"SUM(E6:AE6)+D5-ASU!B4-(Syngas!BC38+Syngas!N38)*18.01528","v":2347075.4869739083},{"$f":"IF(E28=64.696,E25,0)","v":0},{"$f":"IF(F28=64.696,F25,0)","v":0},0,-86157.884039429671,0,0,0,0,-1197.3428839319613,0,0,25884.650154613151,319544.45225807058,0,0,0,0,0,3108.059521432584,2271.2133420033015,0,{"$f":"IF(Z$28=$AG6,Z$25,0)*IF('F-T Black Box Dashboard'!$D27=\"Deficit\",-1,\"1\")","v":0},{"$f":"IF(AA$28=$AG6,AA$25,0)*IF('F-T Black Box Dashboard'!$D27=\"Deficit\",-1,\"1\")","v":0},{"$f":"IF(AB$28=$AG6,AB$25,0)*IF('F-T Black Box Dashboard'!$D27=\"Deficit\",-1,\"1\")","v":0},{"$f":"IF(AC$28=$AG6,AC$25,0)*IF('F-T Black Box Dashboard'!$D27=\"Deficit\",-1,\"1\")","v":0},{"$f":"IF(AD$28=$AG6,AD$25,0)*IF('F-T Black Box Dashboard'!$D27=\"Deficit\",-1,\"1\")","v":0},{"$f":"IF(AE$28=$AG6,AE$25,0)*IF('F-T Black Box Dashboard'!$D27=\"Deficit\",-1,\"1\")","v":0},null,64.695999999999998]
["Total at 25",{"$f":"24947/383825","v":6.4995766299745975E-2},167738.17360174545,{"$f":"SUM(E7:AE7)+D6","v":2580755.3807147131},{"$f":"IF(E28=25,E25,0)","v":0},{"$f":"IF(F28=25,F25,0)","v":0},0,0,0,0,0,0,0,0,0,0,0,233679.89374080469,0,0,0,0,0,0,0,{"$f":"IF(Z$28=$AG7,Z$25,0)*IF('F-T Black Box Dashboard'!$D28=\"Deficit\",-1,\"1\")","v":0},{"$f":"IF(AA$28=$AG7,AA$25,0)*IF('F-T Black Box Dashboard'!$D28=\"Deficit\",-1,\"1\")","v":0},{"$f":"IF(AB$28=$AG7,AB$25,0)*IF('F-T Black Box Dashboard'!$D28=\"Deficit\",-1,\"1\")","v":0},{"$f":"IF(AC$28=$AG7,AC$25,0)*IF('F-T Black Box Dashboard'!$D28=\"Deficit\",-1,\"1\")","v":0},{"$f":"IF(AD$28=$AG7,AD$25,0)*IF('F-T Black Box Dashboard'!$D28=\"Deficit\",-1,\"1\")","v":0},{"$f":"IF(AE$28=$AG7,AE$25,0)*IF('F-T Black Box Dashboard'!$D28=\"Deficit\",-1,\"1\")","v":0},null,25]
["Total",null,{"$f":"(SUM(C2:C7)*0.983199276241674)*0.985","v":416697.10032417136}]
[]
[]
["Condenser Duty",{"$f":"1341480360/1602980*D7","v":2159747880.3186007},"Btu/hr"]
[null,{"$f":"SLOPE(D70:D74,B70:B74)*B11/10^6+INTERCEPT(D70:D74,B70:B74)","v":11.632551182125377},"MW"]
[]
[]
[]
[]
[]
[]
[]
[]
[]
["Efficiency",null,null,null,0.93,0.93,0.93,0.93,0.93,0.93,0.93,0.93,0.93,0.93,0.93,0.93,0.93,0.93,0.93,0.93,0.93,0.93,0.93,0.93,0.93,0.93,0.93,0.93,0.93,0.93,0.93]
["Btu/hr",null,null,null,{"$f":"E24*E25","v":50286392.494564228},{"$f":"F24*F25","v":-149013691.22975683},{"$f":"G24*G25","v":1492254337.5409634},{"$f":"H24*H25","v":-78190977.479689494},{"$f":"-Syngas!U2","v":-9011001.033945119},{"$f":"-Syngas!W2","v":-2137668.9129900779},{"$f":"-Syngas!AF2","v":-1892475.3069720492},{"$f":"-Syngas!AJ2","v":-1611418.5528418517},{"$f":"-Syngas!AN2","v":-1086626.1575103812},{"$f":"-Syngas!AR2","v":-3366790.6419120301},{"$f":"Syngas!G3","v":135424864.67026612},{"$f":"Syngas!J4","v":23491130.496922959},{"$f":"Syngas!J5","v":289996595.77103871},{"$f":"Syngas!J6","v":216396928.79973477},{"$f":"Syngas!AB7","v":48129811.773942441},{"$f":"Syngas!AC8","v":40598910.829897285},{"$f":"Syngas!AD9","v":12311146.969017204},{"$f":"Syngas!AH10","v":5236821.1751715876},{"$f":"Syngas!AL11","v":2820661.3330319482},{"$f":"Syngas!AP11","v":2061197.2224721552},{"$f":"Syngas!AT13","v":44708758.236739658},{"$f":"'F-T Black Box Dashboard'!C23*Syngas!$B$38","v":0},{"$f":"'F-T Black Box Dashboard'!C24*Syngas!$B$38","v":0},{"$f":"'F-T Black Box Dashboard'!C25*Syngas!$B$38","v":0},{"$f":"'F-T Black Box Dashboard'!C26*Syngas!$B$38","v":0},{"$f":"'F-T Black Box Dashboard'!C27*Syngas!$B$38","v":0},{"$f":"'F-T Black Box Dashboard'!C28*Syngas!$B$38","v":0}]
["Btu/lb",null,null,null,{"$f":"0.0002*E28^2-0.4842*E28+938.02","v":672.45707128319998},{"$f":"0.0002*F28^2-0.4842*F28+938.02","v":715.95443128319994},784.67161528320003,907.53131128320001,784.67161528320003,784.67161528320003,784.67161528320003,784.67161528320003,907.53131128320001,{"$f":"0.0002*N28^2-0.4842*N28+938.02","v":784.67161528320003},717.96851128319986,907.53131128320001,907.53131128320001,926.04,717.96851128319986,717.96851128319986,717.96851128319986,715.95443128319994,907.53131128320001,907.53131128320001,672.45707128319998,717.96851128319986,672.45707128319998,715.95443128319994,784.67161528320003,907.53131128320001,926.04]
["Total Flow  lb/hr      ",null,null,null,{"$f":"FT!AD8","v":74780.078375272991},{"$f":"FT!AD5","v":-208132.92678792513},{"$f":"FT!AD4","v":1901756.4908377447},{"$f":"FT!AD6","v":-86157.884039429671},{"$f":"I23/I24","v":-11483.786157720144},-2724.2847470894694,-2411.8054866672164,-2053.6215678711228,-1197.3428839319613,-4290.7001812432118,188622.28989433817,25884.650154613151,319544.45225807058,233679.89374080469,67036.103976094615,56546.923983248627,17147.196256579449,7314.4615723457018,3108.059521432584,2271.2133420033015,66485.668968318307,{"$f":"Z23/Z24","v":0},{"$f":"AA23/AA24","v":0},0,0,0,0]
[{"$f":"GT!A23","v":"Total Flow  lbmol/hr      "}]
[{"$f":"GT!A24","v":"Temperature F             "},null,null,null,523.88,488.85,438.26,{"$f":"EXP(0.2208*LN(H28)+4.7745)","v":297.42723956295004},475,475,475,445,400,475,853,376,355,265,2612,1175,625,523,430,430,525,525,525,525,525,525,525]
[{"$f":"GT!A25","v":"Pressure    psia          "},null,null,null,{"$f":"825+14.696","v":839.69600000000003},{"$f":"600+14.696","v":614.69600000000003},{"$f":"360+14.696","v":374.69600000000003},{"$f":"50+14.696","v":64.695999999999998},{"$f":"IF(EXP(4.519*LN(I27)-21.564) > 1814.696, 1814.696, IF(EXP(4.519*LN(I27)-21.564) > 839.696, 839.696,IF(EXP(4.519*LN(I27)-21.564) > 614.696, 614.696,IF(EXP(4.519*LN(I27)-21.564) > 374.696, 374.696,IF(EXP(4.519*LN(I27)-21.564) > 64.696, 64.696, 25)))))","v":374.69600000000003},374.69600000000003,374.69600000000003,374.69600000000003,64.695999999999998,374.69600000000003,1814.6959999999999,64.695999999999998,64.695999999999998,25,1814.6959999999999,1814.6959999999999,1814.6959999999999,614.69600000000003,64.695999999999998,64.695999999999998,839.69600000000003,1814.6959999999999,839.69600000000003,614.69600000000003,374.69600000000003,64.695999999999998,25]
[]
[null,null,null,null,null,null,null,null,null,null,null,null,null,null,null,null,null,null,null,null,null,"psia","btu/lb","F"]
[null,null,null,null,null,null,null,null,null,null,null,null,null,null,null,null,null,null,null,null,null,14.71,970.1,212]
[null,null,null,null,null,null,null,null,null,null,null,null,null,null,null,null,null,null,null,null,null,50,914,280.98]
[null,null,null,null,null,null,null,null,null,null,null,null,null,null,null,null,null,null,null,null,null,374.7,787.7,438.26]
[null,null,null,null,null,null,null,null,null,null,null,null,null,null,null,null,null,null,null,null,null,614.69000000000005,718.8,488.85]
[null,null,null,null,null,null,null,null,null,null,null,null,null,null,null,null,null,null,null,null,null,839.7,681.4,523.88]
[null,null,null,null,null,null,null,null,null,null,null,null,null,null,null,null,null,null,null,null,null,1500,557.29999999999995,596.26]
[null,null,null,null,null,null,null,null,null,null,null,null,null,null,null,null,null,null,null,null,null,2000,464.6,635.85]
[]
[]
[]
[]
[null,null,null,null,null,null,null,null,null,null,null,null,null,null,null,null,null,null,null,null,null,{"$f":"LN(V32)","v":3.912023005428146},6.8178305714541496,5.638283492423505]
[null,null,null,null,null,null,null,null,null,null,null,null,null,null,null,null,null,null,null,null,null,5.9261257057996417,6.6691173067092784,6.0828123415672577]
[null,null,null,null,null,null,null,null,null,null,null,null,null,null,null,null,null,null,null,null,null,6.4211180756823776,6.5775831549094042,6.19205569395168]
[null,null,null,null,null,null,null,null,null,null,null,null,null,null,null,null,null,null,null,null,null,6.7330446851895172,6.5241495052268661,6.2612626504612026]
[null,null,null,null,null,null,null,null,null,null,null,null,null,null,null,null,null,null,null,null,null,7.3132203870903014,6.3231036945754902,6.3906768135503809]
[null,null,null,null,null,null,null,null,null,null,null,null,null,null,null,null,null,null,null,null,null,7.6009024595420822,6.1411768203363089,6.4549626864667555]
[]
[]
[]
[]
[]
[]
[null,null,2267.7800000000007,"MMBtu/hr"]
[null,"Btu/lb",{"$f":"0.0002*C56^2-0.4842*C56+938.02","v":717.96851128319986}]
[null,"Pressure    psia          ",{"$f":"S28","v":1814.6959999999999}]
[null,null,{"$f":"C54*10^6/C55","v":3158606.4908987125},"lb/hr"]
[]
[]
[]
[]
[]
[]
[]
[]
[]
[null,"Source: JetFuelUpgrading Gasifier template rev3; 'Performance' tab"]
[]
[null,"Condenser Duty (MMBtu/hr)","Fan Load (per train)","Fan Load (total - MW)"]
[null,200,0.87,{"$f":"C70*4","v":3.48}]
[null,300,0.98,{"$f":"C71*4","v":3.92}]
[null,400,1.07,4.28]
[null,500,1.18,4.72]
[null,600,1.29,5.16]

{"sheet":"IGCC Syngas-Ref","index":22,"n_rows":322,"n_cols":86,"rows_kept":322,"cut":false,"hidden":true,"merged":[]}
["Raw Syngas",null,null,"To Shift","Shift Steam","RX1 Feed","RX1 Product","RX2 Product","LHTR Feed","LTHR Vapor","LTHR Effluent","Carbon Bed Product","Feed to AGR","AGR Steam","Total Treated Syngas","Treated Syngas","Syngas to GT","To Compression From AGR","To Compression From F-T","Total Compression Flow","To Claus","Bypass","Oxygen Requirement","SWS Gas","Reacted","Claus Product","Combined Stream","TG RX1 Prod","TG RX2 Prod","TG RX3 Prod","Sulf Prod 1","To RX4","TG RX4 Prod","TG RX5 Prod","Sulf Prod 2","To RX6","TG RX6 Prod","TG RX7 Prod","Sulf Prod 3","To RX8","TG RX8 Prod","TG RX9 Prod","Sulf Prod 4","To RX10","TG RX10 Prod","KO Prod Eff","KO Prod Vap","TG Recycle","Vapor Recycle","Sour Water From Claus","Sour Water from Claus","Sour Water from Gasifier","SWS Total Feed","After HCl Scrub","SWS Steam Requirement"]
["Heat Requirement, Btu/hr"," ",null,null,null,null,null,null,null,null,null,null,null,null,null,null,null,null,null,null,{"$f":"U38*5068.40012586112","v":7969356.1366142118},null,{"$f":"2589.38481787048*W38","v":1893498.3814305707},null,null,null,null,null,null,null,null,{"$f":"758.688264539061*AF38","v":1688791.1220055951},null,null,null,{"$f":"659.988485385667*AJ38","v":1438541.29287932},null,null,null,{"$f":"447.704978363232*AN38","v":970135.40926798503},null,null,null,{"$f":"1389.60330230554*AR38","v":3005923.3115405925}]
["Heat Produced, Btu/hr (878-400)",null,null,null,null,null,{"$f":"(-0.13008254*(((B24*(100-D16)/100)/(B26+(B24*(100-D16)/100)))*F38)^2+10061.40870388*(((B24*(100-D16)/100)/(B26+(B24*(100-D16)/100)))*F38)+22900436.9392837)*(-1.16927516*(O24/O26)^2 + 2.86533602*(O24/O26) - 0.73651763)","v":129224503.10521314}]
["Heat Produced, Btu/hr (401-380)",null,null,null,null,null,null,null,null,{"$f":"(-0.13572483*((((B24*(100-D16)/100)/(B26+(B24*(100-D16)/100)))*F38)*(I18/I38))^2+4250.29086941*((((B24*(100-D16)/100)/(B26+(B24*(100-D16)/100)))*F38)*(I18/I38))+5884395.67765694)/(4.14417875*(O24/O26)^2 - 9.50936397*(O24/O26) + 6.25579392)","v":22474521.558321994},null,null,null,null,null,null,null,null,null,null,null,null,null,null,null,null,null,null,null,null,null,null,null,null,null,null,null,null,null,null,null,null,null,null,null,null,null,null,null,null,null,null,null,null,null,null,null,null,null,null,"CL-6","CL-7"]
["Heat Produced, Btu/hr (380-290)",null,null,null,null,null,null,null,null,{"$f":"(1.61259722*((((B24*(100-D16)/100)/(B26+(B24*(100-D16)/100)))*F38)*(I18/I38))^2+1316.08312711*((((B24*(100-D16)/100)/(B26+(B24*(100-D16)/100)))*F38)*(I18/I38))+257920273.417978)/(0.09062094*(O24/O26)^2 - 0.31650747*(O24/O26) + 1.26284358)","v":285981593.06022507},null,null,null,1800,900,850]
["Heat Produced, Btu/hr (290-150)",null,null,null,null,null,null,null,null,{"$f":"(-0.7948155*((((B24*(100-D16)/100)/(B26+(B24*(100-D16)/100)))*F38)*(I18/I38))^2+29457.31350076*((((B24*(100-D16)/100)/(B26+(B24*(100-D16)/100)))*F38)*(I18/I38))+113222754.629576)/(0.33233527*(O24/O26)^2 - 1.28247071*(O24/O26) + 2.13257142)","v":210064520.6539588},null,null,null,900,500]
["Heat Produced, Btu/hr (2637-1200)",null,null,null,null,null,null,null,null,null,null,null,null,null,null,null,null,null,null,null,null,null,null,null,null,null,null,{"$f":"242673.038659365*((AA27-AB27)+(AA28-AB28)+(AA26-AB26))","v":42009416.793741934},null,null,null,null,null,null,null,null,null,null,null,null,null,null,null,null,null,null,null,null,null,null,null,null,null,null,null,null,null,null,null,null,null,null,null,null,null,null,null,null,null,null,null,null,null,null,null,null,null,null,null,null,null,null,null,"SG-7A","IRC-TG2","SG-AGR"]
["Heat Produced, Btu/hr (1200-650)",null,null,null,null,null,null,null,null,null,null,null,null,null,null,null,null,null,null,null,null,null,null,null,null,null,null,null,{"$f":"71607.0665217873*(AB34-AC34)","v":35578906.869227007},null,null,null,null,null,null,null,null,null,null,null,null,null,null,null,null,null,null,null,null,null,null,null,null,null,null,null,null,null,null,null,null,null,null,null,null,null,null,null,null,null,null,null,null,null,null,null,null,null,null,null,null,null,null,"MX-AGR","MX-AGR","AGR-SEL2"]
["Heat Produced, Btu/hr (650-365)",null,null,null,null,null,null,null,null,null,null,null,null,null,null,null,null,null,null,null,null,null,null,null,null,null,null,null,null,{"$f":"301931.653452632*((AC34-AD34)+(AC35-AD35))","v":10788889.221665299},null,null,null,null,null,null,null,null,null,null,null,null,null,null,null,null,null,null,null,null,null,null,null,null,null,null,null,null,null,null,null,null,null,null,null,null,"TG-2","TG-3",null,null,null,"TG-3","KO-TG","TG-5",null,null,null,"TG-5","IRC-TG2",null,null,null,null,"HX-HGREM","FS-TGRCY","MX-AGR"]
["Heat Produced, Btu/hr (548-340)",null,null,null,null,null,null,null,null,null,null,null,null,null,null,null,null,null,null,null,null,null,null,null,null,null,null,null,null,null,null,null,null,{"$f":"1092203.04956855*((AG34-AH34)+(AG35-AH35))","v":4589506.4023053348},null,null,null,null,null,null,null,null,null,null,null,null,null,null,null,null,null,null,null,null,null,null,null,null,null,null,null,null,null,null,null,null,"TGCU-HYD","FS-TGWSH",null,null,null,"FS-TGWSH","MX-TGKO","C-TGRCY",null,null,null,"C-TGRCY","MX-AGR",null,null,null,null,"VAPOR","VAPOR","VAPOR"]
["Heat Produced, Btu/hr (455-320)",null,null,null,null,null,null,null,null,null,null,null,null,null,null,null,null,null,null,null,null,null,null,null,null,null,null,null,null,null,null,null,null,null,null,null,null,{"$f":"1989967.58654677*((AK34-AL34)+(AK35-AL35))","v":2478719.2970275022},null,null,null,{"$f":"5313881.94099519*((AO34-AP34)+(AO35-AP35))","v":1811339.8012859384},null,null,null,null,null,null,null,null,null,null,null,null,null,null,null,null,null,null,null,null,null,null,null,null,"HTR-TG","TGCU-HYD",null,null,null,"TGCU-HYD","FS-TGWSH","FS-TGWSH",null,null,null,"FS-TGWSH","FS-TGRCY"]
["Heat Produced, Btu/hr (388-280)"]
["Heat Produced, Btu/hr (550-120)",null,null,null,null,null,null,null,null,null,null,null,null,null,null,null,null,null,null,null,null,null,null,null,null,null,null,null,null,null,null,null,null,null,null,null,null,null,null,null,null,null,null,null,null,{"$f":"19336.4284059765*AS38","v":40166020.07922709},null,null,null,null,null,null,null,null,null,null,null,null,null,null,null,null,null,null,null,null,null,null,null,null,null,"VAPOR","LIQUID","VAPOR",null,null,null,"VAPOR","VAPOR",null,null,null,"Substream: MIXED          "," "," "," "]
["Cooling Water Load, Btu/hr",null,null,null,null,null,null,null,null,{"$f":"(-0.12380712*((((B24*(100-D16)/100)/(B26+(B24*(100-D16)/100)))*F38)*(I18/I38))^2+4615.05807884*((((B24*(100-D16)/100)/(B26+(B24*(100-D16)/100)))*F38)*(I18/I38))+17214852.8341922)/(0.33233527*(O24/O26)^2 - 1.28247071*(O24/O26) + 2.13257142)","v":32410252.341065284},null,null,null,null,null,null,null,{"$f":"1687.95780903661*R38","v":27685934.710702438},null,{"$f":"5533.61697445116*T38","v":297164410.80128038},null,null,null,null,null,null,null,null,null,null,null,null,null,null,null,null,null,null,null,null,null,null,null,null,null,null,{"$f":"10112.1997756051*AU38","v":4057893.3954407987},null,null,null,null,null,null,{"$f":"-1487991.20182419*BB27^2+10526911.7787319*BB27+26613521.8193591","v":10643102.408515178},null,null,null,null,null,null,"VAPOR","VAPOR",null,null,null,null,"VAPOR","VAPOR",null,null,null,null,null,null,null,null,null,null,null,null,null,null,"Mole Flow   lbmol/hr      "," "," "," "]
["Power Requirement, hp",null,null,null,null,null,null,null,null,null,null,null,null,null,null,null,null,{"$f":"1.00363406682087*R38","v":16461.636125430381},null,{"$f":"0.750365236789251*T38","v":40295.857936274493},null,null,null,null,null,null,null,null,null,null,null,null,null,null,null,null,null,null,null,null,null,null,null,null,null,null,{"$f":"2.57883614909954*AU38","v":1034.8531881856354},null,null,null,null,null,null,null,null,null,null,null,null,null,null,null,null,null,null,null,null,null,null,null,"Substream: MIXED          "," "," "," ",null,null,"Substream: MIXED          "," "," ",null,null,null,"  H2O                     ",59.562570000000001,0.20816029999999999,59.77073]
["Bypass, %",null,null,{"$f":"FT!B1","v":83.275358070783653},null,null,null,null,null,null,null,null,null,null,null,null,null,null,null,null,null,0.01,null,null,null,null,null,null,null,null,null,null,null,null,null,null,null,null,null,null,null,null,null,null,null,null,null,null,null,null,null,null,null,null,null,null,null,null,null,"Substream: MIXED          "," "," ",null,null,null,"Substream: MIXED          "," "," ",null,null,"Mole Flow   lbmol/hr      "," "," "," ",null,null,"Mole Flow   lbmol/hr      "," "," ",null,null,null,"  AR                      ",365.23309999999998,6.4435450000000003,371.67660000000001]
["Syngas Slip, %",null,null,null,null,null,null,null,null,null,null,null,null,null,null,100]
["  H2O                     ",{"$f":"$B$38*VLOOKUP(A18,'Mole-Mass Frac Convert'!$A$2:$C$14,3,FALSE)","v":66082.50281664163},{"$f":"B18","v":66082.50281664163},{"$f":"C18*(100-$D$16)/100","v":11052.061973947619},{"$f":"(1.8*D24-D18)","v":14525.891040252865},{"$f":"D18+E18","v":25577.953014200484},{"$f":"F18-((F24-G24)+(F25-G25))","v":13928.827246383804},{"$f":"G18-((G24-H24)+(G25-H25))","v":11679.084714899069},{"$f":"H18+(C18-D18)","v":66709.525557593079},{"$f":"I18*(-0.0000000000555262*((((B24*(100-D16)/100)/(B26+(B24*(100-D16)/100)))*F38)*(I18/I38))^2 + 6.4651421392828E-07*((((B24*(100-D16)/100)/(B26+(B24*(100-D16)/100)))*F38)*(I18/I38)) + 0.00294156913206361)","v":307.66737348513783},{"$f":"I18-J18","v":66401.858184107943},{"$f":"J18","v":307.66737348513783},{"$f":"L18+AV18","v":307.84640769877666},{"$f":"61*1000*(U27*2+U20)/(-5687.4143--6598.7739)/18.01528","v":8737.751858938127},{"$f":"M18*0","v":0},{"$f":"O18*($P$17/100)","v":0},{"$f":"O18*((100-$P$17)/100)","v":0},{"$f":"M18*0","v":0},0,{"$f":"S18+R18","v":0},{"$f":"M18-O18-R18","v":307.84640769877666},{"$f":"U18*$V$16","v":3.0784640769877667},0,{"$f":"BB18*0.002","v":120.31837530973971},{"$f":"U18-V18+X18+W18","v":425.08631893152858},{"$f":"Y18+Y25*-1*(1-$W$68)+Y28*-1/2*3*-1+(Y20+Y25*-1*(1-$W$68)*-1)*-1*(1-$W$78)*-1+(((Y27+Y25*-1*(1-$W$68)*-1)*-1-(Y27+Y25*-1*(1-$W$68)*-1)*-1*W94)-((Y27+Y25*-1*(1-$W$68)*-1)*-1-(Y27+Y25*-1*(1-$W$68)*-1)*-1*W94)*W83)*(1-$W$88)*-1+((Y27+Y25*-1*(1-$W$68)*-1)*-1*$W$94)*-1","v":1297.4758862055774},{"$f":"Z18+V18","v":1300.5543502825651},{"$f":"AA18+AA27*0.30098+AA27*0.04089+AA27*0.00813+AA26*0.2941","v":1474.1806626175321},{"$f":"AB18","v":1474.1806626175321},1474.1806626175321,{"$f":"0*AD18","v":0},{"$f":"AD18-AE18","v":1474.1806626175321},{"$f":"AF18+0.14923*AF27++AF27*0.57719-AF25*0.85621","v":1552.6595878304199},{"$f":"AG18","v":1552.6595878304199},{"$f":"0*AH18","v":0},{"$f":"AH18-AI18","v":1552.6595878304199},{"$f":"AJ18+0.14923*AJ27++AJ27*0.57719-AJ25*0.85621","v":1576.4634804439231},{"$f":"AK18","v":1576.4634804439231},{"$f":"0*AL18","v":0},{"$f":"AL18-AM18","v":1576.4634804439231},{"$f":"AN18+0.14923*AN27++AN27*0.57719-AN25*0.85621","v":1582.691062241541},{"$f":"AO18","v":1582.691062241541},{"$f":"0*AP18","v":0},{"$f":"AP18-AQ18","v":1582.691062241541},{"$f":"AR18*1.09506495185249","v":1733.1495118708992},{"$f":"AS18*0.966906534026791","v":1675.7935874733159},{"$f":"AS18-AT18","v":57.355924397583294},0.17903421363882535,{"$f":"AU18*0.0122426979670296","v":0.7021912590193965},{"$f":"AT18-AW18+AU18","v":1732.4473206118798},441.68365463632745,{"$f":"BA43*$AZ$38","v":0},{"$f":"AY18+AZ18+K18","v":66843.541838744277},{"$f":"BA18*0.9","v":60159.187654869849},{"$f":"(3672373.86378479*BB27^2-25391537.9138363*BB27+114986989.27911)/(-5687.4143--6598.7739)/18.01528","v":9704.0539933944183},null,null,null,null,"Mole Flow   lbmol/hr      "," "," ",null,null,null,"Mole Flow   lbmol/hr      "," "," ",null,{"$f":"BU18/BT18","v":0.9669065340267915},"  H2O                     ",481.18259999999998,465.2586,15.92399,null,{"$f":"CA18/BZ18","v":1.224269796702962E-2},"  H2O                     ",15.92399,0.1949526,null,null,null,"  CO2                     ",2182.884,29.481369999999998,2212.3649999999998]
["  AR                      ",{"$f":"$B$38*VLOOKUP(A19,'Mole-Mass Frac Convert'!$A$2:$C$14,3,FALSE)","v":1329.5305508584422},1329.5305508584422,{"$f":"C19*(100-$D$16)/100","v":222.35922397061208},0,222.35922397061208,{"$f":"F19","v":222.35922397061208},{"$f":"G19","v":222.35922397061208},1329.5305508584422,{"$f":"I19*0.999753651028616","v":1329.2030223748147},0.327528483627475,1329.2030223748147,1334.6073659890594,0,{"$f":"M19*1","v":1334.6073659890594},1334.6073659890594,{"$f":"O19*((100-$P$17)/100)","v":0},{"$f":"M19*0","v":0},0,0,0,0,{"$f":"W21*0.0334616275545071","v":23.255714517845497},{"$f":"BB19","v":0.32759025563926603},23.583304773484763,{"$f":"Y19","v":23.583304773484763},23.583304773484763,{"$f":"AA19","v":23.583304773484763},23.583304773484763,23.583304773484763,0,23.583304773484763,{"$f":"AF19","v":23.583304773484763},23.583304773484763,0,23.583304773484763,{"$f":"AJ19","v":23.583304773484763},23.583304773484763,0,23.583304773484763,{"$f":"AN19","v":23.583304773484763},23.583304773484763,0,23.583304773484763,{"$f":"AR19*1","v":23.583304773484763},{"$f":"AS19*0.0000114310648273243","v":2.6958228570825093E-4},23.583035191199055,5.4043436142447039,{"$f":"AU19*1","v":23.583035191199055},2.6958228570705955E-4,6.1772011791028092E-5,{"$f":"BA44*$AZ$38","v":0},0.32759025563926603,{"$f":"BA19","v":0.32759025563926603},0,null,null,{"$f":"(BI19-BJ19)/BI19","v":-2.4203802002126324},null,"  H2O                     ",104.0294,355.82010000000002,null,null,{"$f":"BP19/BO19","v":1.0950649518524949},"  H2O                     ",439.4101,481.18259999999998,null,{"$f":"BU19/BT19","v":1.1431064827324311E-5},"  AR                      ",6.8466500000000003,7.8264500000000003E-5,6.846571,null,1,"  AR                      ",6.846571,6.8465860000000003,null,null,null,"  O2                      ",8.2952699999999992E-9,0,8.2952699999999992E-9]
["  CO2                     ",{"$f":"$B$38*VLOOKUP(A20,'Mole-Mass Frac Convert'!$A$2:$C$14,3,FALSE)","v":3787.9424909719414},3787.9424909719414,633.5198180996955,0,633.5198180996955,{"$f":"F20+((F24-G24)+(F25-G25))","v":12282.645585916376},{"$f":"G20+((G24-H24)+(G25-H25))","v":14532.388117401111},17686.810790273357,{"$f":"I20*1","v":17686.810790273357},0,17686.810790273357,17700.524033859248,0,{"$f":"M20*0.07335907","v":1298.4939816365629},1298.4939816365629,0,{"$f":"$M$20*0.92664093*(1-'F-T Black Box Dashboard'!$H$3)","v":16402.030052222686},{"$f":"SUM(FT!X11:Y11)*(1-'F-T Black Box Dashboard'!$H$3)","v":37299.628767550254},53701.658819772943,0,0,0,8.4124310770228306E-4,8.4124310770228306E-4,{"$f":"Y20+Y25*-1*(1-$W$68)*-1+W78*(Y20+Y25*-1*(1-$W$68)*-1)*-1","v":43.325524312646458},43.325524312646458,{"$f":"AA20-AA27*0.00813","v":41.927324411574524},41.927324411574524,41.927324411574524,0,41.927324411574524,{"$f":"AF20+0.85621*AF25","v":44.652856995591797},44.652856995591797,0,44.652856995591797,44.652856995591797,44.652856995591797,0,44.652856995591797,44.652856995591797,44.652856995591797,0,44.652856995591797,{"$f":"AR20*2.09858079544133","v":93.707628152536984},{"$f":"AS20*0.0000522929117898556","v":4.9002447330172057E-3},93.702727907803961,13.713243585890105,{"$f":"AU20*0.999990950939387","v":93.701879986139517},5.7481663974670028E-3,8.4124310770228306E-4,0,8.4124310770228306E-4,8.4124310770228306E-4,0,null,null,{"$f":"(BI20-BJ20)/BI20","v":0},null,"  AR                      ",6.8465610000000003,6.8465610000000003,null,null,{"$f":"BP20/BO20","v":1},"  AR                      ",6.8466500000000003,6.8466500000000003,null,5.2292911789855634E-5,"  CO2                     ",26.523479999999999,1.3869900000000001E-3,26.522089999999999,null,{"$f":"CA20/BZ20","v":0.99999095093938684},"  CO2                     ",26.522089999999999,26.521850000000001,null,null,null,"  N2                      ",313.38479999999998,26.176480000000002,339.56130000000002]
["  O2                      ",{"$f":"$B$38*VLOOKUP(A21,'Mole-Mass Frac Convert'!$A$2:$C$14,3,FALSE)","v":3.0197293956989146E-8},3.0197293956989146E-8,5.050389286619321E-9,0,5.050389286619321E-9,{"$f":"F21","v":5.050389286619321E-9},5.050389286619321E-9,3.0197293956989146E-8,{"$f":"I21*0.999733663702822","v":3.0189251321531844E-8},8.0426354573015878E-12,3.0189251321531844E-8,3.0189251321531844E-8,0,{"$f":"M21*1","v":3.0189251321531844E-8},3.0189251321531844E-8,0,{"$f":"M21*0","v":0},0,0,0,0,{"$f":"(Y28*-1*(1-$W$73)/2*1.5+(((Y27+Y25*-1*(1-$W$68)*-1)*-1-(Y27+Y25*-1*(1-$W$68)*-1)*-1*W94)-((Y27+Y25*-1*(1-$W$68)*-1)*-1-(Y27+Y25*-1*(1-$W$68)*-1)*-1*W94)*W83)*(1-$W$88)/2+(Y27+Y25*-1*(1-$W$68)*-1)*-1*1.5*$W$94)*-1","v":694.99651443921107},8.0426354573015878E-12,694.99651443921914,{"$f":"Y21+Y28*-1*(1-$W$73)/2*1.5+(((Y27+Y25*-1*(1-$W$68)*-1)*-1-(Y27+Y25*-1*(1-$W$68)*-1)*-1*W94)-((Y27+Y25*-1*(1-$W$68)*-1)*-1-(Y27+Y25*-1*(1-$W$68)*-1)*-1*W94)*W83)*(1-$W$88)/2+(Y27+Y25*-1*(1-$W$68)*-1)*-1*1.5*$W$94","v":8.1286088970955461E-12},8.1286088970955461E-12,{"$f":"AA21","v":8.1286088970955461E-12},8.1286088970955461E-12,8.1286088970955461E-12,0,8.1286088970955461E-12,{"$f":"AF21","v":8.1286088970955461E-12},8.1286088970955461E-12,0,8.1286088970955461E-12,8.1286088970955461E-12,8.1286088970955461E-12,0,8.1286088970955461E-12,8.1286088970955461E-12,8.1286088970955461E-12,0,8.1286088970955461E-12,{"$f":"AR21*8.4168998267032E-30","v":6.841768681730159E-41},{"$f":"AS21*0","v":0},6.841768681730159E-41,0,{"$f":"AU21*1","v":6.841768681730159E-41},0,0,0,8.0426354573015878E-12,8.0426354573015878E-12,0,null,null,-47.821631461137208,null,"  CO2                     ",0.25138569999999999,12.273059999999999,null,null,2.0985807954413285,"  CO2                     ",12.638769999999999,26.523479999999999,null,0,"  O2                      ",8.6939000000000004E-35,0,0,null,1,"  O2                      ",0,0,null,null,null,"  CH4                     ",12.208460000000001,0,12.208460000000001]
["  N2                      ",{"$f":"$B$38*VLOOKUP(A22,'Mole-Mass Frac Convert'!$A$2:$C$14,3,FALSE)","v":1140.5207398615555},1140.5207398615555,190.7480098702942,0,190.7480098702942,190.7480098702942,190.7480098702942,1140.5207398615555,{"$f":"I22*0.999961391008572","v":1140.4767055060868},4.4034355468738795E-2,1140.4767055060868,1145.8356805965821,0,{"$f":"M22*1","v":1145.8356805965821},1145.8356805965821,0,0,0,0,0,0,{"$f":"W21*0.0187078868928013","v":13.001916183019908},4.4038204019719807E-2,13.045954387039629,{"$f":"Y22+Y28*-1*(1-$W$73)*-1/2","v":93.723073669475113},93.723073669475113,{"$f":"AA22+AA28*1/2","v":94.238203048886803},94.238203048886803,94.238203048886803,0,94.238203048886803,{"$f":"AF22","v":94.238203048886803},94.238203048886803,0,94.238203048886803,94.238203048886803,94.238203048886803,0,94.238203048886803,94.238203048886803,94.238203048886803,0,94.238203048886803,{"$f":"AR22*1","v":94.238203048886803},{"$f":"AS22*7.18190008782431E-07","v":6.7680935875320534E-5},94.238135367950932,5.358975090495167,{"$f":"AU22*1","v":94.238135367950932},6.7680935870839676E-5,3.8485509810115559E-6,0,4.4038204019719807E-2,4.4038204019719807E-2,0,null,null,0.99999994871280518,null,"  O2                      ",201.39529999999999,1.0329000000000001E-5,null,null,8.4168998267031974E-30,"  O2                      ",1.0329100000000001E-5,8.6939000000000004E-35,null,7.1819000878243083E-7,"  N2                      ",26.404990000000002,1.89638E-5,26.404979999999998,null,1,"  N2                      ",26.404979999999998,26.405239999999999,null,null,null,"  CO                      ",22205.59,4.7496999999999998E-2,22205.64]
["  CH4                     ",{"$f":"$B$38*VLOOKUP(A23,'Mole-Mass Frac Convert'!$A$2:$C$14,3,FALSE)","v":44.437349359730206},44.437349359730206,7.4319875632497894,0,7.4319875632497894,7.4319875632497894,7.4319875632497894,44.437349359730206,{"$f":"I23*0.999821471711865","v":44.429416035819756},7.9333239104499853E-3,44.429416035819756,45.105582585142933,0,{"$f":"M23*1","v":45.105582585142933},45.105582585142933,0,0,0,0,0,0,0,7.9333239104499853E-3,7.9333239104499853E-3,{"$f":"Y23","v":7.9333239104499853E-3},7.9333239104499853E-3,{"$f":"AA23","v":7.9333239104499853E-3},7.9333239104499853E-3,7.9333239104499853E-3,0,7.9333239104499853E-3,{"$f":"AF23","v":7.9333239104499853E-3},7.9333239104499853E-3,0,7.9333239104499853E-3,7.9333239104499853E-3,7.9333239104499853E-3,0,7.9333239104499853E-3,7.9333239104499853E-3,7.9333239104499853E-3,0,7.9333239104499853E-3,{"$f":"AR23*1","v":7.9333239104499853E-3},{"$f":"AS23*0","v":0},7.9333239104499853E-3,0.67616654932317444,{"$f":"AU23*1","v":7.9333239104499853E-3},0,0,0,7.9333239104499853E-3,7.9333239104499853E-3,0,null,null,-5.9305484191822542,null,"  N2                      ",3.7892730000000001,26.26174,null,null,1,"  N2                      ",26.404990000000002,26.404990000000002,null,0,"  CH4                     ",0,0,0,null,1,"  CH4                     ",0,0,null,null,null,"  COS                     ",27.701799999999999,2.3387099999999999E-3,27.704139999999999]
["  CO                      ",{"$f":"$B$38*VLOOKUP(A24,'Mole-Mass Frac Convert'!$A$2:$C$14,3,FALSE)","v":84964.293746430427},84964.293746430427,14209.973896778047,0,14209.973896778047,{"$f":"F24*(1-0.81866)","v":2576.8366664417304},{"$f":"G24*(1-0.872515)","v":328.50802242132391},71082.827872073714,{"$f":"I24*0.999969394747119","v":71080.652364151189},2.1755079225258669,71080.652364151189,71080.654275149442,0,{"$f":"M24*1","v":71080.654275149442},71080.654275149442,{"$f":"O24*((100-$P$17)/100)","v":0},0,0,0,0,0,0,2.1755079392200094,2.1755079392200094,{"$f":"Y24+(Y20+Y25*-1*(1-$W$68)*-1)*-1*(1-$W$78)*-1","v":45.501032251866469},45.501032251866469,{"$f":"AA24","v":45.501032251866469},45.501032251866469,45.501032251866469,0,45.501032251866469,{"$f":"AF24","v":45.501032251866469},45.501032251866469,0,45.501032251866469,45.501032251866469,45.501032251866469,0,45.501032251866469,45.501032251866469,45.501032251866469,0,45.501032251866469,{"$f":"AR24*(0.01548478*(AR24/AR26)-0.00175256)","v":3.7341655427535654E-2},{"$f":"AS24*5.72783458082612E-07","v":2.1388682526313211E-8},3.7341634038853128E-2,1.9109982468891282E-3,{"$f":"AU24*0.999991846452391","v":3.7341329572062196E-2},3.2585547345836963E-7,1.669414264053766E-8,0,2.1755079392200094,2.1755079392200094,0,null,null,1,null,"  CH4                     ",2.7503200000000001E-3,0,null,null,1,"  CH4                     ",0,0,null,5.7278345808261173E-7,"  CO                      ",1.2264600000000001E-2,7.0249599999999997E-9,1.2264600000000001E-2,null,0.99999184645239136,"  CO                      ",1.2264600000000001E-2,1.2264499999999999E-2,null,{"$f":"CG24/CF24","v":2.8778317968002807E-3},null,"  H2                      ",12296.08,35.386049999999997,12331.47]
["  COS                     ",{"$f":"$B$38*VLOOKUP(A25,'Mole-Mass Frac Convert'!$A$2:$C$14,3,FALSE)","v":106.01461974623308},106.01461974623308,17.730565545177768,0,17.730565545177768,{"$f":"F25*(1-0.90175)","v":1.7420280648137147},{"$f":"G25*(1-0.811633)","v":0.3281406004847649},88.61219480154007,{"$f":"I25*1","v":88.61219480154007},0,88.61219480154007,88.614132412565922,0,{"$f":"M25*0","v":0},0,0,0,0,0,88.614132412565922,0.88614132412565927,0,2.8211825293098826E-7,87.727991370558513,{"$f":"Y25+Y25*-1*(1-W68)","v":0.89891122924380795},1.7850525533694672,{"$f":"AA25+AA27*0.00813","v":3.1832524544414018},3.1832524544414018,3.1832524544414018,0,3.1832524544414018,{"$f":"AF25*(1-0.85621)","v":0.45771987042412909},0.45771987042412909,0,0.45771987042412909,0.45771987042412909,0.45771987042412909,0,0.45771987042412909,0.45771987042412909,0.45771987042412909,0,0.45771987042412909,{"$f":"AR25*0.0218861821211535","v":1.0017740444573271E-2},{"$f":"AS25*0.000128110492756866","v":1.2833776646646678E-6},1.0016457066908607E-2,1.9376110258548518E-3,{"$f":"AU25*0.999982519132809","v":1.0016281970552895E-2},1.458474020376091E-6,2.8211825293098826E-7,0,2.8211825293098826E-7,2.8211825293098826E-7,0,null,null,-8.5131113562226375,null,"  CO                      ",1.447867,13.773720000000001,null,null,8.9073165842722091E-4,"  CO                      ",13.769130000000001,1.2264600000000001E-2,null,1.281104927568656E-4,"  COS                     ",2.8606399999999998E-3,3.6647799999999998E-7,2.8602699999999998E-3,null,0.99998251913280922,"  COS                     ",2.8602699999999998E-3,2.8602200000000001E-3,null,null,null,"  H2S                     ",312.74669999999998,19.723579999999998,332.47030000000001]
["  H2                      ",{"$f":"$B$38*VLOOKUP(A26,'Mole-Mass Frac Convert'!$A$2:$C$14,3,FALSE)","v":40599.227625910513},40599.227625910513,6790.0754464610154,0,6790.0754464610154,{"$f":"F26+(F24-G24)","v":18423.212676797331},{"$f":"G26+(G24-H24)","v":20671.541320817738},54480.69350026724,{"$f":"I26*0.999959072257041","v":54478.46372844743},2.2297718198096845,54478.46372844743,54480.910435179547,0,{"$f":"M26*1","v":54480.910435179547},54480.910435179547,0,0,0,0,0,0,0,2.2297946559279156,2.2297946559279156,{"$f":"Y26+(Y20+Y25*-1*(1-$W$68)*-1)*-1*(1-$W$78)+((Y27+Y25*-1*(1-$W$68)*-1)*-1-(Y27+Y25*-1*(1-$W$68)*-1)*-1*W94)*W83*-1","v":385.69603761558568},385.69603761558568,{"$f":"AA26-AA26*0.2941+AA28*1/2*3","v":273.80822109107703},273.80822109107703,273.80822109107703,0,273.80822109107703,{"$f":"AF26","v":273.80822109107703},273.80822109107703,0,273.80822109107703,273.80822109107703,273.80822109107703,0,273.80822109107703,273.80822109107703,273.80822109107703,0,273.80822109107703,{"$f":"AR26*(2.28940183*(AR24/AR26) - 0.25631604)","v":33.988707554802772},{"$f":"AS26*1.04425866596494E-06","v":3.5493002409050817E-5},33.988672061800365,2.4467067321144196,{"$f":"AU26*0.999991719089431","v":33.988390604646661},3.1695015611177269E-4,2.283611823106213E-5,0,2.2297946559279156,2.2297946559279156,0,null,null,0.98975342737533845,null,"  COS                     ",24.596810000000001,0.25203300000000001,null,null,2.1886182121153463E-2,"  COS                     ",0.1307053,2.8606399999999998E-3,null,1.0442586659649367E-6,"  H2                      ",10.86838,1.13494E-5,10.868370000000001,null,0.99999171908943107,"  H2                      ",10.868370000000001,10.86828,null,null,null,"  NH3                     ",0,0,0]
["  H2S                     ",{"$f":"$B$38*VLOOKUP(A27,'Mole-Mass Frac Convert'!$A$2:$C$14,3,FALSE)","v":1142.1302251150585},1142.1302251150585,191.01719051584612,0,191.01719051584612,{"$f":"F27+(F25-G25)","v":207.00572799621017},{"$f":"G27+(G25-H25)","v":208.41961546053912},1159.5326500597514,{"$f":"I27*0.992825624256985","v":1151.2137271419288},8.3189229178226469,1151.2137271419288,1175.9008628295678,0,{"$f":"M27*0.0000001","v":1.1759008628295678E-4},1.1759008628295678E-4,0,0,0,0,1175.9007452394815,11.759007452394815,0,8.3586266436077317,1172.5003644306944,{"$f":"Y27+Y25*-1*(1-$W$68)*-1+((Y27+Y25*-1*(1-$W$68)*-1)*-1-(Y27+Y25*-1*(1-$W$68)*-1)*-1*W94)*W83+(((Y27+Y25*-1*(1-$W$68)*-1)*-1-(Y27+Y25*-1*(1-$W$68)*-1)*-1*W94)-((Y27+Y25*-1*(1-$W$68)*-1)*-1-(Y27+Y25*-1*(1-$W$68)*-1)*-1*W94)*W83)*(1-W88)+(Y27+Y25*-1*(1-$W$68)*-1)*-1*W94","v":160.22130018252949},171.98030763492432,{"$f":"AA27-AA27*0.30098-AA27*0.04089-AA27*0.00813","v":111.78719996270081},111.78719996270081,111.78719996270081,0,111.78719996270081,{"$f":"AF27-AF27*0.14923-AF27*0.57719+AF25*0.85621","v":33.308274749812966},33.308274749812966,0,33.308274749812966,{"$f":"AJ27-AJ27*0.14923-AJ27*0.57719","v":9.1124778060538318},9.1124778060538318,0,9.1124778060538318,{"$f":"AN27-AN27*0.14923-AN27*0.57719","v":2.4929916781802079},2.4929916781802079,0,2.4929916781802079,{"$f":"AR27*39.5097879180144","v":98.497572486274834},{"$f":"AS27*0.00136500220499607","v":0.13444940363052538},98.363123082644307,24.687135687639149,{"$f":"AU27*0.999758809298668","v":98.339398812002798},0.15817367427203521,3.9703725785084742E-2,0,8.3586266436077317,8.3586266436077317,0,null,null,-93.303187127999664,null,"  H2                      ",1.2049719999999999,113.6327,null,null,0.13477001980310971,"  H2                      ",80.643900000000002,10.86838,null,1.3650022049960652E-3,"  H2S                     ",28.73021,3.9216800000000003E-2,28.690989999999999,null,0.99975880929866834,"  H2S                     ",28.690989999999999,28.684069999999998,null,null,null,"  SO2                     ",0,0,0]
["  NH3                     ",{"$f":"$B$38*VLOOKUP(A28,'Mole-Mass Frac Convert'!$A$2:$C$14,3,FALSE)","v":202.98062165461792},202.98062165461792,33.947782157432222,0,33.947782157432222,{"$f":"F28","v":33.947782157432222},33.947782157432222,202.98062165461792,{"$f":"I28*0","v":0},202.98062165461792,0,0,0,{"$f":"M28*0","v":0},0,0,0,0,0,0,0,0,{"$f":"BB28*0.8","v":162.38449732369435},162.38449732369435,{"$f":"Y28+Y28*-1*(1-W73)","v":1.0302587588233791},1.0302587588233791,{"$f":"AA28-AA28*1","v":0},0,0,0,0,{"$f":"AF28","v":0},0,0,0,{"$f":"AJ28","v":0},0,0,0,{"$f":"AN28","v":0},0,0,0,{"$f":"AR28*1","v":0},{"$f":"AS28*0","v":0},0,0,{"$f":"AU28*1","v":0},0,0,0,202.98062165461792,202.98062165461792,0,null,null,0.86375875158210214,null,"  H2S                     ",343.60930000000002,46.813760000000002,null,null,39.509787918014425,"  H2S                     ",0.72716689999999995,28.73021,null,0,"  NH3                     ",0,0,0,null,1,"  NH3                     ",0,0,null,null,null,"  SULFU-01                ",0,0,0]
["  SO2                     ",{"$f":"$B$38*VLOOKUP(A29,'Mole-Mass Frac Convert'!$A$2:$C$14,3,FALSE)","v":0},0,0,0,0,0,0,0,0,0,0,8.4519950456832019E-9,0,0,0,0,0,0,0,8.4519950456832019E-9,8.4519950456832019E-11,0,{"$f":"BB29","v":4.3108776506964559E-11},8.410583871733334E-9,{"$f":"Y29+(Y27+Y25*-1*(1-$W$68)*-1)*-1*$W$94*-1","v":237.82264696538064},237.82264696546517,{"$f":"AA29-(AA27*0.30098)/2-AA27*0.04089/2-AA26*0.2941/2","v":151.70859074851751},151.70859074851751,151.70859074851751,0,151.70859074851751,{"$f":"AF29-0.14923*AF27/2-AF27*0.57719/2","v":111.10636185006496},111.10636185006496,0,111.10636185006496,{"$f":"AJ29-0.14923*AJ27/2-AJ27*0.57719/2","v":99.008463378185382},99.008463378185382,0,99.008463378185382,{"$f":"AN29-0.14923*AN27/2-AN27*0.57719/2","v":95.698720314248575},95.698720314248575,0,95.698720314248575,{"$f":"AR29*1.05546168722946E-11","v":1.0100633280857699E-9},{"$f":"AS29*0.00429150211085387","v":4.3346889045761669E-12},1.0057286391811937E-9,8.4519950456832019E-9,{"$f":"AU29*0.999213567667373","v":1.0049377016614927E-9},5.1256264242772289E-12,4.3108776506964559E-11,0,4.3108776506964559E-11,4.3108776506964559E-11,0,null,null,0.99365543624944508,null,"  NH3                     ",45.231920000000002,0.28697679999999998,null,null,1,"  NH3                     ",0,0,null,4.2915021108538747E-3,"  SO2                     ",2.9371999999999999E-10,1.2604999999999999E-12,2.9245999999999999E-10,null,0.99921356766737324,"  SO2                     ",2.9245999999999999E-10,2.9222999999999998E-10,null,null,null,"  SO3                     ",0,0,0]
["  SULFU-01                ",{"$f":"B38*0","v":0},0,0,0,0,0,0,0,0,0,0,0,0,0,0,0,0,0,0,0,0,0,0,0,{"$f":"Y30","v":0},0,{"$f":"AA30","v":0},0,0,0,0,{"$f":"AF30","v":0},0,0,0,{"$f":"AJ30","v":0},0,0,0,{"$f":"AN30","v":0},0,0,0,{"$f":"AR30*1","v":0},{"$f":"AS30*0","v":0},0,0,{"$f":"AU30*1","v":0},0,0,0,0,0,0,null,null,-240650216449.21646,null,"  SO2                     ",2.8875000000000001E-10,69.487750000000005,null,null,1.0554616872294598E-11,"  SO2                     ",27.828579999999999,2.9371999999999999E-10,null,0,"  SULFU-01                ",0,0,0,null,1,"  SULFU-01                ",0,0,null,null,null,"  C                       ",0,0,0]
["  SO3                     ",{"$f":"B38*0","v":0},0,0,0,0,0,0,0,0,0,0,0,0,0,0,0,0,0,0,0,0,0,0,0,{"$f":"Y31","v":0},0,{"$f":"AA31","v":0},0,0,0,0,{"$f":"AF31","v":0},0,0,0,{"$f":"AJ31","v":0},0,0,0,{"$f":"AN31","v":0},0,0,0,{"$f":"AR31*1","v":0},0,0,0,0,0,0,0,0,0,0,null,null,{"$error":"#DIV/0!"},null,"  SULFU-01                ",0,0,null,null,1,"  SULFU-01                ",0,0,null,0,"  SO3                     ",0,0,0,null,1,"  SO3                     ",0,0,null,null,null,"  S                       ",0,0,0]
["  C                       ",{"$f":"B38*0","v":0},0,0,0,0,0,0,0,0,0,0,0,0,0,0,0,0,0,0,0,0,0,0,0,{"$f":"Y32","v":0},0,{"$f":"AA32","v":0},0,0,0,0,{"$f":"AF32","v":0},0,0,0,{"$f":"AJ32","v":0},0,0,0,{"$f":"AN32","v":0},0,0,0,{"$f":"AR32*1","v":0},0,0,0,0,0,0,0,0,0,0,null,null,{"$error":"#DIV/0!"},null,"  SO3                     ",0,0,null,null,1,"  SO3                     ",0,0,null,0,"  C                       ",0,0,0,null,1,"  C                       ",0,0,null,null,null,"  S2                      ",0,0,0]
["  S                       ",{"$f":"B38*0","v":0},0,0,0,0,0,0,0,0,0,0,0,0,0,0,0,0,0,0,0,0,0,0,0,{"$f":"Y33","v":0},0,{"$f":"AA33","v":0},0,0,0,0,{"$f":"AF33","v":0},0,0,0,{"$f":"AJ33","v":0},0,0,0,{"$f":"AN33","v":0},0,0,0,{"$f":"AR33*1","v":0},0,0,0,0,0,0,0,0,0,0,null,null,{"$error":"#DIV/0!"},null,"  C                       ",0,0,null,null,1,"  C                       ",0,0,null,0,"  S                       ",0,0,0,null,1,"  S                       ",0,0,null,null,null,"  S6                      ",0,0,0]
["  S2                      ",{"$f":"B38*0","v":0},0,0,0,0,0,0,0,0,0,0,2.7555209343117697E-13,0,0,0,0,0,0,0,2.7555209343117697E-13,2.7555209343117698E-15,0,0,2.7279657249686518E-13,{"$f":"Y34+((Y27+Y25*-1*(1-$W$68)*-1)*-1-(Y27+Y25*-1*(1-$W$68)*-1)*-1*W94)*W83/2*-1+(((Y27+Y25*-1*(1-$W$68)*-1)*-1-(Y27+Y25*-1*(1-$W$68)*-1)*-1*W94)-((Y27+Y25*-1*(1-$W$68)*-1)*-1-(Y27+Y25*-1*(1-$W$68)*-1)*-1*W94)*W83)*(1-$W$88)/2*-1","v":430.64274871625508},430.64274871625508,{"$f":"AA34+(AA27*0.30098)/2*1.5+(AA26+AA28*1/2*3)*0.2941/2*0.5","v":497.93664928877439},{"$f":"AB34*0.002156057","v":1.073579798255607},{"$f":"AC34-AC34*0.999","v":1.0735797982555084E-3},0,1.0735797982555084E-3,{"$f":"AF34","v":1.0735797982555084E-3},{"$f":"AG34-AG34*0.999","v":1.0735797982555032E-6},0,1.0735797982555032E-6,{"$f":"AJ34","v":1.0735797982555032E-6},{"$f":"AK34-AK34*0.999","v":1.0735797982555574E-9},0,1.0735797982555574E-9,{"$f":"AN34","v":1.0735797982555574E-9},{"$f":"AO34-AO34*0.999","v":1.0735797982555095E-12},0,1.0735797982555095E-12,{"$f":"AR34*1","v":1.0735797982555095E-12},0,1.0735797982555095E-12,2.7555209343117697E-13,1.0735797982555095E-12,0,0,0,0,0,0,null,null,{"$error":"#DIV/0!"},null,"  S                       ",0,0,null,null,1,"  S                       ",0,0,null,0,"  S2                      ",0,0,0,null,1,"  S2                      ",0,0,null,null,null,"  S8                      ",0,0,0]
["  S6                      ",{"$f":"B38*0","v":0},0,0,0,0,0,0,0,0,0,0,1.0357146844278948E-20,0,0,0,0,0,0,0,1.0357146844278948E-20,1.0357146844278948E-22,0,0,1.0253575375836158E-20,{"$f":"Y35","v":1.0253575375836158E-20},1.0357146844278948E-20,{"$f":"AA27*0.04089/2*0.5","v":1.758068694798014},{"$f":"(AB34-AC34)*0.0698282415270602","v":34.69507442226044},{"$f":"AC35-AC35*0.999","v":3.4695074422259609E-2},0,3.4695074422259609E-2,{"$f":"AF35+0.14923*AF27/2*0.5","v":4.2051960370307198},{"$f":"AG35-AG35*0.999","v":4.205196037030845E-3},0,4.205196037030845E-3,{"$f":"AJ35+0.14923*AJ27/2*0.5","v":1.246853656265678},{"$f":"AK35-AK35*0.999","v":1.2468536562657562E-3},0,1.2468536562657562E-3,{"$f":"AN35+0.14923*AN27/2*0.5","v":0.34121061940561909},{"$f":"AO35-AO35*0.999","v":3.4121061940561859E-4},0,3.4121061940561859E-4,{"$f":"AR35*1.2091337120626E-16","v":4.1256926283709461E-20},0,4.1256926283709461E-20,1.0357146844278948E-20,4.1256926283709461E-20,0,0,0,0,0,0,null,null,{"$error":"#DIV/0!"},null,"  S2                      ",0,125.8263,null,null,1,"  S2                      ",0,0,null,0,"  S6                      ",1.2034E-20,0,0,null,1,"  S6                      ",0,0,null,null,null,"  HCL                     ",0,0,0]
["  S8                      ",{"$f":"B38*0","v":0},0,0,0,0,0,0,0,0,0,0,3.7760008160243133E-27,0,0,0,0,0,0,0,3.7760008160243133E-27,3.7760008160243135E-29,0,0,3.7382408078640703E-27,{"$f":"Y36","v":3.7382408078640703E-27},3.7760008160243133E-27,{"$f":"AA36","v":3.7760008160243133E-27},{"$f":"(AB34-AC34)*0.197628818854705","v":98.194461555934453},{"$f":"AC36+(AC34-AD34)/4+(AC35-AD35)/1.33333","v":124.45793760980118},{"$f":"0.952*AD36","v":118.48395660453072},5.9739810052704598,{"$f":"AF36++AF27*0.57719/2*0.375","v":18.071941120233824},{"$f":"AG36+(AG34-AH34)/4+(AG35-AH35)/1.33333","v":21.222960254411227},{"$f":"0.985*AH36","v":20.904615850595057},0.31834440381616957,{"$f":"AJ36++AJ27*0.57719/2*0.375","v":3.9230699855995219},{"$f":"AK36+(AK34-AL34)/4+(AK35-AL35)/1.33333","v":4.8572776912017295},{"$f":"0.985*AL36","v":4.7844185258337033},7.2859165368026169E-2,{"$f":"AN36++AN27*0.57719/2*0.375","v":1.0590399900323157},{"$f":"AO36+(AO34-AP34)/4+(AO35-AP35)/1.33333","v":1.3146926860218417},{"$f":"0.985*AP36","v":1.2949722957315142},1.9720390290327572E-2,{"$f":"AR36*7.62675771098182E-25","v":1.5040263871032682E-26},0,1.5040263871032682E-26,3.7760008160243133E-27,1.5040263871032682E-26,0,0,0,0,0,0,null,null,{"$error":"#DIV/0!"},null,"  S6                      ",0,0,null,null,1.2091337120626009E-16,"  S6                      ",9.9525799999999995E-5,1.2034E-20,null,0,"  S8                      ",4.3873000000000002E-27,0,0,null,1,"  S8                      ",0,0,null,null,null,"Mole Frac                 "," "," "," "]
["  HCL                     ",{"$f":"$B$38*VLOOKUP(A37,'Mole-Mass Frac Convert'!$A$2:$C$14,3,FALSE)","v":40.965089351862957},40.965089351862957,6.8512645100826122,0,6.8512645100826122,6.8512645100826122,6.8512645100826122,40.965089351862957,0,40.965089351862957,0,0,0,0,0,0,0,0,0,0,0,0,0,0,{"$f":"Y37","v":0},0,{"$f":"AA37","v":0},{"$f":"AB37","v":0},{"$f":"AC37","v":0},{"$f":"0*AD37","v":0},0,{"$f":"AF37","v":0},{"$f":"AG37","v":0},{"$f":"0*AH37","v":0},0,{"$f":"AJ37","v":0},{"$f":"AK37","v":0},{"$f":"0*AL37","v":0},0,{"$f":"AN37","v":0},{"$f":"AO37","v":0},{"$f":"0*AP37","v":0},0,{"$f":"AR37*1","v":0},0,0,0,0,0,0,0,40.965089351862957,0,0,null,null,{"$error":"#DIV/0!"},null,"  S8                      ",0,0,null,null,7.6267577109818156E-25,"  S8                      ",5.7525099999999997E-3,4.3873000000000002E-27,null,0,"  HCL                     ",0,0,0,null,1,"  HCL                     ",0,0,null,null,null,"  H2O                     ",1.57676E-3,1.7720399999999999E-3,1.5773600000000001E-3]
["Total Flow  lbmol/hr      ",199440.55185911857,{"$f":"SUM(C18:C37)","v":199440.54587593221},33355.71715942413,14525.891040252865,47881.608199676994,47881.608199676994,47881.608199676994,213966.43691618514,147307.52932224752,66658.907593937605,147307.52932224752,147359.99877633859,{"$f":"SUM(N18:N37)","v":8737.751858938127},{"$f":"SUM(O18:O37)","v":129385.6074387566},129385.6074387566,0,16402.030052222686,37299.628767550254,53701.658819772943,1572.3612853592967,15.723612853592968,{"$f":"SUM(W18:W37)","v":731.2541451400765},295.8472051810362,2583.7390228267964,2719.9286580047869,2735.6522708583798,2719.6204426675727,2353.8888404604509,2344.4194309480222,118.48395660453072,2225.9354743434915,2201.6017065226106,2200.5506623095757,20.904615850595057,2179.6460464589809,2172.0036176988569,2171.6922175293439,4.7844185258337033,2166.9077990035098,2164.5322961997313,2164.4470794858617,1.2949722957315142,2163.1521071901302,2077.2202206076786,1675.9333111826741,401.28690942500486,52.469454091070567,{"$f":"SUM(AW18:AW37)","v":344.60832215741743},1732.6118984502614,441.7242883607567,{"$f":"'F-T Black Box Dashboard'!$C$31*'IGCC Syngas-Ref'!$B$38","v":0},{"$f":"SUM(BA18:BA37)","v":67100.631882298359},{"$f":"SUM(BB18:BB37)","v":60375.312609072069},{"$f":"SUM(BC18:BC37)","v":9704.0539933944183},null,null,{"$error":"#DIV/0!"},null,"  HCL                     ",0,0,null,null,1,"  HCL                     ",0,0,null,null,"Mole Frac                 "," "," "," ",null,null,"Mole Frac                 "," "," ",null,null,null,"  AR                      ",9.6685499999999997E-3,5.4853100000000002E-2,9.8086200000000005E-3]
["Temperature F             ",378.72646800000001,null,{"$f":"C39","v":0},550,426,400,null,{"$f":"4666.63127974*(I18/I38)^2-4194.83809394*(I18/I38)+1256.63499507","v":402.40210595878193},95,249,{"$f":"J39","v":95},{"$f":"L39","v":95},298,{"$f":"M39","v":95},{"$f":"O39","v":95},{"$f":"P39","v":95},60,100,"N/A",119,null,450,null,null,null,null,null,null,null,365,450,null,null,340,420,null,null,320,375,null,null,280,450,550,120,120,103,103,null,120,379,271,{"$f":"BA39","v":271},298,null,null,null,null,"Mole Frac                 "," "," ",null,null,null,"Mole Frac                 "," "," ",null,null,"  H2O                     ",0.82880860000000001,0.99991249999999998,0.1381426,null,null,"  H2O                     ",0.1381426,1.95861E-3,null,null,null,"  CO2                     ",5.7785799999999998E-2,0.25097150000000001,5.8384699999999998E-2]
["Pressure    psia          ",580,560,575,800,575,575,560,560,525,530,520,{"$f":"L40","v":520},65,{"$f":"M40","v":520},{"$f":"O40","v":520},{"$f":"P40","v":520},135,265,"N/A",23.7,null,null,null,null,null,null,null,null,null,null,null,null,null,null,null,null,null,null,null,null,null,null,null,null,null,null,799.5,799.5,null,375,580,580,{"$f":"BA40","v":580},65,null,null,null,null,"  H2O                     ",0.14203789999999999,0.46134029999999998,null,null,null,"  H2O                     ",0.72223190000000004,0.82880860000000001,null,null,"  AR                      ",1.17929E-2,1.6820200000000001E-7,5.9394799999999998E-2,null,null,"  AR                      ",5.9394799999999998E-2,6.8784899999999996E-2,null,null,null,"  O2                      ",2.1959E-13,0,2.1891E-13]
[null,null,null,null,null,null,null,null,null,null,null,null,null,null,null,null,null,null,null,null,null,null,null,null,null,null,null,null,null,null,null,null,null,null,null,null,null,null,null,null,null,null,null,null,null,null,null,null,null,null,null,null,null,null,null,null,null,null,null,null,"  AR                      ",9.3480500000000001E-3,8.8769399999999998E-3,null,null,null,"  AR                      ",1.12534E-2,1.17929E-2,null,null,"  CO2                     ",4.5685099999999999E-2,2.9808599999999999E-6,0.2300825,null,null,"  CO2                     ",0.2300825,0.26645449999999998,null,null,"  N2                      ",8.2959999999999996E-3,0.22283729999999999,8.9610899999999997E-3]
[null,null,null,null,null,null,null,null,null,null,null,null,null,null,null,null,"Original CO2",{"$f":"$M$20*0.92664093","v":16402.030052222686},9765.6317500000005,null,null,null,null,null,null,null,null,null,null,null,null,null,null,null,null,null,null,null,null,null,null,null,null,null,null,null,null,null,null,null,"SWS Composition",null,null,null,null,null,null,null,null,null,"  CO2                     ",3.4323300000000003E-4,1.5912599999999999E-2,null,null,null,"  CO2                     ",2.07735E-2,4.5685099999999999E-2,null,null,"  O2                      ",1.4974999999999999E-37,0,0,null,null,"  O2                      ",0,0,null,null,"  CH4                     ",3.2318599999999999E-4,0,3.2218399999999999E-4]
[null,null,2279420.09,null,null,95,386,2279420.09,51687.896099999998,{"$f":"H43/I43","v":44.099687973177147},null,null,null,null,null,null,null,null,null,null,null,null,null,null,null,null,null,null,null,null,null,null,null,null,null,null,null,null,null,null,null,null,null,null,null,null,null,null,null,null,"  H2O                     ",4048.3344699999998,{"$f":"AZ43/$AZ$63","v":0.99935958658937474},null,null,null,null,null,null,null,"  O2                      ",0.2749779,1.3392100000000001E-8,null,null,null,"  O2                      ",1.69773E-8,1.4974999999999999E-37,null,null,"  N2                      ",4.5481000000000001E-2,4.0755999999999998E-8,0.22906650000000001,null,null,"  N2                      ",0.22906650000000001,0.26528299999999999,null,null,"  CO                      ",0.58783220000000003,4.04337E-4,0.58601110000000001]
[null,null,9696742.3100000005,null,null,85,401,9696742.3100000005,58426.720000000001,{"$f":"H44/I44","v":165.96417375474783},null,null,null,null,null,null,null,{"$f":"SUM($R$42:$S$42)*'F-T Black Box Dashboard'!$H$3","v":0},null,null,null,null,null,null,null,null,null,null,null,null,null,null,null,null,null,null,null,null,null,null,null,null,null,null,null,{"$f":"AS27*34.0809","v":3356.8859181474841},null,null,null,null,"  AR                      ",1.156049E-2,{"$f":"AZ44/$AZ$63","v":2.8537875496168184E-6},null,null,null,null,null,null,null,"  N2                      ",5.1737399999999996E-3,3.4049700000000002E-2,null,null,null,"  N2                      ",4.3400300000000003E-2,4.5481000000000001E-2,null,null,"  CH4                     ",0,0,0,null,null,"  CH4                     ",0,0,null,null,"  COS                     ",7.3332900000000001E-4,1.9909099999999999E-5,7.31118E-4]
[null,null,18361416.699999999,null,null,75,414,18361416.699999999,66302.621799999994,{"$f":"H45/I45","v":276.9334937521279},null,null,null,null,null,null,null,null,null,null,null,null,null,null,null,null,null,null,null,null,null,null,null,null,null,null,null,null,null,null,null,null,null,null,null,{"$f":"AS29*64.066","v":6.4710717177142934E-8},{"$f":"AT44/AT45","v":51875269887.028862},null,null,null,"  CO2                     ",0.24978597,6.1661408059257016E-5,null,null,null,null,null,null,null,"  CH4                     ",3.7551900000000002E-6,0,null,null,null,"  CH4                     ",0,0,null,null,"  CO                      ",2.1125099999999999E-5,1.5098E-11,1.06397E-4,null,null,"  CO                      ",1.06397E-4,1.2321700000000001E-4,null,null,"  H2                      ",0.32550499999999999,0.30123729999999999,0.32542979999999999]
[null,null,null,null,null,null,null,null,null,null,null,null,null,null,null,null,null,null,null,null,null,null,null,null,null,null,null,null,null,null,null,null,null,null,null,null,null,null,null,null,null,null,null,null,null,null,null,null,null,null,"  O2                      ",0,0,null,null,null,null,null,null,null,"  CO                      ",1.9768699999999999E-3,1.7858300000000001E-2,null,null,null,"  CO                      ",2.2631399999999999E-2,2.1125099999999999E-5,null,null,"  COS                     ",4.9272799999999997E-6,7.8762000000000002E-10,2.4813200000000002E-5,null,null,"  COS                     ",2.4813200000000002E-5,2.87355E-5,null,null,"  H2S                     ",8.2791099999999992E-3,0.16790450000000001,8.7739600000000008E-3]
[null,null,null,null,null,75,463,null,null,null,null,null,null,null,null,null,null,null,null,null,null,null,null,null,null,null,null,null,null,null,null,null,null,null,null,null,null,null,null,null,null,null,null,null,null,null,null,null,null,null,"  N2                      ",8.6944399999999995E-3,2.1462831266572998E-6,null,null,null,null,null,null,null,"  COS                     ",3.3583500000000002E-2,3.2677500000000001E-4,null,null,null,"  COS                     ",2.1483200000000001E-4,4.9272799999999997E-6,null,null,"  H2                      ",1.87201E-2,2.4391599999999999E-8,9.4284400000000004E-2,null,null,"  H2                      ",9.4284400000000004E-2,0.10918940000000001,null,null,"  NH3                     ",0,0,0]
[null,null,null,null,null,85,446,null,null,null,null,null,null,null,null,null,null,null,null,null,null,null,null,null,null,null,null,null,null,null,null,null,null,null,null,null,null,null,null,null,null,null,null,null,null,null,null,null,null,null,"  CH4                     ",4.2640000000000001E-4,1.0525981261664612E-7,null,null,null,null,null,null,null,"  H2                      ",1.6452299999999999E-3,0.14733109999999999,null,null,null,"  H2                      ",0.13254949999999999,1.87201E-2,null,null,"  H2S                     ",4.9486000000000002E-2,8.4283099999999999E-5,0.24889800000000001,null,null,"  H2S                     ",0.24889800000000001,0.28817759999999998,null,null,"  SO2                     ",0,0,0]
[null,null,null,null,null,95,360,null,null,null,null,null,null,null,null,null,null,null,null,null,null,null,null,null,null,null,null,null,null,null,null,null,null,null,null,null,null,null,null,null,null,null,null,null,null,null,null,null,null,null,"  CO                      ",0.80020261999999998,1.975355953014758E-4,null,null,null,null,null,null,null,"  H2S                     ",0.4691517,6.0696600000000003E-2,null,null,null,"  H2S                     ",1.1952E-3,4.9486000000000002E-2,null,null,"  NH3                     ",0,0,0,null,null,"  NH3                     ",0,0,null,null,"  SULFU-01                ",0,0,0]
[null,null,null,null,null,null,null,null,null,null,null,null,null,null,null,null,null,null,null,null,null,null,null,null,null,null,null,null,null,null,null,null,null,null,null,null,null,null,null,null,null,null,null,null,null,null,null,null,null,null,"  COS                     ",1.9681000000000001E-4,4.858392054662787E-8,null,null,null,null,null,null,null,"  NH3                     ",6.1758E-2,3.7208100000000002E-4,null,null,null,"  NH3                     ",0,0,null,null,"  SO2                     ",5.0591000000000001E-13,2.7091000000000002E-15,2.5371000000000002E-12,null,null,"  SO2                     ",2.5371000000000002E-12,2.9359E-12,null,null,"  SO3                     ",0,0,0]
[null,null,null,null,null,null,null,null,null,null,null,null,null,null,null,null,null,null,null,null,null,null,null,null,null,null,null,null,null,null,null,null,null,null,null,null,null,null,null,null,null,null,null,null,null,null,null,null,null,null,"  H2                      ",0.56635068,1.3980761363065224E-4,null,null,null,null,null,null,null,"  SO2                     ",3.9425000000000001E-13,9.0094599999999997E-2,null,null,null,"  SO2                     ",4.5740099999999999E-2,5.0591000000000001E-13,null,null,"  SULFU-01                ",0,0,0,null,null,"  SULFU-01                ",0,0,null,null,"  C                       ",0,0,0]
[null,null,95,null,null,75,85,95,null,null,75,85,95,null,null,null,null,null,null,null,null,null,null,null,null,null,null,null,null,null,null,null,null,null,null,null,null,null,null,null,null,null,null,null,null,null,null,null,null,null,"  H2S                     ",0.19366716,4.7808088582546958E-5,null,null,null,null,null,null,null,"  SULFU-01                ",0,0,null,null,null,"  SULFU-01                ",0,0,null,null,"  SO3                     ",0,0,0,null,null,"  SO3                     ",0,0,null,null,"  S                       ",0,0,0]
[null,null,1.3518850987432676E-2,null,null,3.4906692101190811E-3,5.9393974263170076E-3,1.3518850987432676E-2,null,null,4.1603525624485046E-4,7.4604072941405683E-4,1.1995180577875225E-3,null,null,null,null,null,null,null,null,null,null,null,null,null,null,null,null,null,null,null,null,null,null,null,null,null,null,null,null,null,null,null,null,null,null,null,null,null,"  NH3                     ",0.76338452000000001,1.8844679064176443E-4,null,null,null,null,null,null,null,"  SO3                     ",0,0,null,null,null,"  SO3                     ",0,0,null,null,"  C                       ",0,0,0,null,null,"  C                       ",0,0,null,null,"  S2                      ",0,0,0]
[null,null,2.8778317968002807E-3,null,null,null,null,2.8778317968002807E-3,null,null,null,null,null,null,null,null,null,null,null,null,null,null,null,null,null,null,null,null,null,null,null,null,null,null,null,null,null,null,null,null,null,null,null,null,null,null,null,null,null,null,"  SO2                     ",0,0,null,null,null,null,null,null,null,"  C                       ",0,0,null,null,null,"  C                       ",0,0,null,null,"  S                       ",0,0,0,null,null,"  S                       ",0,0,null,null,"  S6                      ",0,0,0]
[null,null,null,null,null,null,null,null,null,null,null,null,null,null,null,null,null,null,null,null,null,null,null,null,null,null,null,null,null,null,null,null,null,null,null,null,null,null,null,null,null,null,null,null,null,null,null,null,null,null,"  SULFU-01                ",0,0,null,null,null,null,null,null,null,"  S                       ",0,0,null,null,null,"  S                       ",0,0,null,null,"  S2                      ",0,0,0,null,null,"  S2                      ",0,0,null,null,"  S8                      ",0,0,0]
[null,null,null,null,null,null,null,null,null,null,null,null,null,null,null,null,null,null,null,null,null,null,null,null,null,null,null,null,null,null,null,null,null,null,null,null,null,null,null,null,null,null,null,null,null,null,null,null,null,null,"  SO3                     ",0,0,null,null,null,null,null,null,null,"  S2                      ",0,0.1631407,null,null,null,"  S2                      ",0,0,null,null,"  S6                      ",2.0727999999999999E-23,0,0,null,null,"  S6                      ",0,0,null,null,"  HCL                     ",0,0,0]
[null,null,null,null,null,null,null,null,null,null,null,null,null,null,null,null,null,null,null,null,null,null,null,null,null,null,null,null,null,null,null,null,null,null,null,null,null,null,null,null,null,null,null,null,null,null,null,null,null,null,"  C                       ",0,0,null,null,null,null,null,null,null,"  S6                      ",0,0,null,null,null,"  S6                      ",1.6358499999999999E-7,2.0727999999999999E-23,null,null,"  S8                      ",7.5568999999999998E-30,0,0,null,null,"  S8                      ",0,0,null,null,"Mass Flow   lb/hr         "," "," "," "]
[null,null,null,null,null,null,null,null,null,null,null,null,null,75,null,85,null,95,null,null,null,null,null,null,null,null,null,null,null,null,null,null,null,null,null,null,null,null,null,null,null,null,null,null,null,null,null,null,null,null,"  S                       ",0,0,null,null,null,null,null,null,null,"  S8                      ",0,0,null,null,null,"  S8                      ",9.4550599999999992E-6,7.5568999999999998E-30,null,null,"  HCL                     ",0,0,0,null,null,"  HCL                     ",0,0,null,null,"  H2O                     ",1073.0360000000001,3.7500659999999999,1076.7860000000001]
[null,null,null,null,null,null,null,null,null,null,null,null,"Conden",43775601.799999997,null,44051985.799999997,null,44330840.799999997,null,null,null,null,null,null,null,null,null,null,null,null,null,null,null,null,null,null,null,null,null,null,null,null,null,null,null,null,null,null,null,null,"  S2                      ",0,0,null,null,null,null,null,null,null,"  HCL                     ",0,0,null,null,null,"  HCL                     ",0,0,null,null,"Mass Flow   lb/hr         "," "," "," ",null,null,"Mass Flow   lb/hr         "," "," ",null,null,"  AR                      ",14590.33,257.4067,14847.74]
[null,null,null,null,null,null,null,null,null,null,null,null,"Reb",74131518.200000003,null,73507596.700000003,null,72885526,null,null,null,null,null,null,null,null,null,null,null,null,null,null,null,null,null,null,null,null,null,null,null,null,null,null,null,null,null,null,null,null,"  S6                      ",0,0,null,null,null,null,null,null,null,"Mass Flow   lb/hr         "," "," ",null,null,null,"Mass Flow   lb/hr         "," "," ",null,null,"  H2O                     ",8668.6389999999992,8381.7639999999992,286.87520000000001,null,null,"  H2O                     ",286.87520000000001,3.5121259999999999,null,null,"  CO2                     ",96068.28,1297.4690000000001,97365.75]
[null,null,null,null,null,null,null,null,null,null,null,null,"H2O",20598.9794,null,20500.3871,null,20401.775399999999,null,null,null,null,null,null,null,null,null,null,null,null,null,null,null,null,null,null,null,null,null,null,null,null,null,null,null,null,null,null,null,null,"  S8                      ",0,0,null,null,null,null,null,null,null,"  H2O                     ",1874.1179999999999,6410.1980000000003,null,null,null,"  H2O                     ",7916.0959999999995,8668.6389999999992,null,null,"  AR                      ",273.51,3.1265099999999999E-3,273.5068,null,null,"  AR                      ",273.5068,273.50740000000002,null,null,"  O2                      ",2.65439E-7,0,2.65439E-7]
[null,null,null,null,null,null,null,null,null,null,null,null,"NH3",56.53989,null,56.539894400000001,null,56.5398943,null,null,null,null,null,null,null,null,null,null,null,null,null,null,null,null,null,null,null,null,null,null,null,null,null,null,null,null,null,null,null,null,"  HCL                     ",0,0,null,null,null,null,null,null,null,"  AR                      ",273.50639999999999,273.50639999999999,null,null,null,"  AR                      ",273.51,273.51,null,null,"  CO2                     ",1167.2929999999999,6.1041199999999997E-2,1167.232,null,null,"  CO2                     ",1167.232,1167.221,null,null,"  N2                      ",8778.9989999999998,733.29420000000005,9512.2929999999997]
[null,null,null,null,null,null,null,null,null,null,null,null,"H2S",2.548,null,2.6468117000000002,null,2.7591204399999998,null,null,null,null,null,null,null,null,null,null,null,null,null,null,null,null,null,null,null,null,null,null,null,null,null,null,null,null,null,null,null,null,"Total Flow  lbmol/hr      ",{"$f":"SUM(AZ43:AZ62)","v":4050.9287390900004},null,null,null,null,null,null,null,null,"  CO2                     ",11.06343,540.13480000000004,null,null,null,"  CO2                     ",556.2296,1167.2929999999999,null,null,"  O2                      ",2.7820000000000001E-33,0,0,null,null,"  O2                      ",0,0,null,null,"  CH4                     ",195.85749999999999,0,195.85749999999999]
[null,null,null,null,null,null,null,null,null,null,null,null,"Total",{"$f":"N63+N61","v":20601.527399999999},null,{"$f":"P63+P61","v":20503.0339117},null,{"$f":"R63+R61","v":20404.53452044},null,null,null,null,null,null,null,null,null,null,null,null,null,null,null,null,null,null,null,null,null,null,null,null,null,null,null,null,null,null,null,null,null,1.8417595470440001E-2,"lb-mol sour water/lb-mol raw syngas",null,null,null,null,null,null,null,"  O2                      ",6444.4089999999997,3.3051599999999999E-4,null,null,null,"  O2                      ",3.3051899999999998E-4,2.7820000000000001E-33,null,null,"  N2                      ",739.69579999999996,5.31241E-4,739.6952,null,null,"  N2                      ",739.6952,739.70270000000005,null,null,"  CO                      ",621988,1.3304119999999999,621989]
[null,null,null,null,null,null,null,null,null,null,null,null,null,null,null,null,null,null,null,null,null,null,null,null,null,null,null,null,null,null,null,null,null,null,null,null,null,null,null,null,null,null,null,null,null,null,null,null,null,null,null,null,null,null,null,null,null,null,null,null,"  N2                      ",106.1507,735.68280000000004,null,null,null,"  N2                      ",739.69579999999996,739.69579999999996,null,null,"  CH4                     ",0,0,0,null,null,"  CH4                     ",0,0,null,null,"  COS                     ",1664.2249999999999,0.14050109999999999,1664.365]
[null,null,null,null,null,null,null,null,null,null,null,null,null,null,null,null,null,null,null,null,null,null,"COS","H2O","=","CO2","H2S",null,null,null,null,null,null,null,null,null,null,null,null,null,null,null,null,null,null,null,null,null,null,null,null,null,null,null,null,null,null,null,null,null,"  CH4                     ",4.4122700000000001E-2,0,null,null,null,"  CH4                     ",0,0,null,null,"  CO                      ",0.3435378,1.9677200000000001E-7,0.3435376,null,null,"  CO                      ",0.3435376,0.34353349999999999,null,null,"  H2                      ",24787.42,71.334040000000002,24858.76]
[null,null,null,null,null,null,null,null,null,null,null,null,null,null,null,null,null,null,null,null,null,null,{"$f":"Y25*-1","v":-87.727991370558513},{"$f":"$W$67*(1-$W$68)","v":-86.829080141314705},null,{"$f":"$W$67*(1-$W$68)*-1","v":86.829080141314705},{"$f":"$W$67*(1-$W$68)*-1","v":86.829080141314705},null,null,null,null,null,null,null,null,null,null,null,null,null,null,null,null,null,null,null,null,null,null,null,null,null,null,null,null,null,null,null,null,null,"  CO                      ",40.555320000000002,385.80739999999997,null,null,null,"  CO                      ",385.6789,0.3435378,null,null,"  COS                     ",0.1718568,2.2016699999999999E-5,0.17183480000000001,null,null,"  COS                     ",0.17183480000000001,0.1718316,null,null,"  H2S                     ",10658.99,672.2165,11331.21]
[null,null,null,null,null,null,null,null,null,null,null,null,null,null,null,null,null,null,null,null,null,"Extent",1.0246572561394367E-2,null,null,null,null,null,null,null,null,null,null,null,null,null,null,null,null,null,null,null,null,null,null,null,null,null,null,null,null,null,null,null,null,null,null,null,null,null,"  COS                     ",1477.6880000000001,15.14123,null,null,null,"  COS                     ",7.852303,0.1718568,null,null,"  H2                      ",21.90935,2.2879099999999999E-5,21.909320000000001,null,null,"  H2                      ",21.909320000000001,21.90916,null,null,"  NH3                     ",0,0,0]
[null,null,null,null,null,null,null,null,null,null,null,null,null,null,null,null,null,null,null,null,null,"RX",6,null,null,null,null,null,null,null,null,null,null,null,null,null,null,null,null,null,null,null,null,null,null,null,null,null,null,null,null,null,null,null,null,null,null,null,null,null,"  H2                      ",2.4290790000000002,229.06989999999999,null,null,null,"  H2                      ",162.5684,21.90935,null,null,"  H2S                     ",979.17960000000005,1.336584,977.84299999999996,null,null,"  H2S                     ",977.84299999999996,977.60709999999995,null,null,"  SO2                     ",0,0,0]
[null,null,null,null,null,null,null,null,null,null,null,null,null,null,null,null,null,null,null,null,null,null,null,null,null,null,null,null,null,null,null,null,null,null,null,null,null,null,null,null,null,null,null,null,null,null,null,null,null,null,null,null,null,null,null,null,null,null,null,null,"  H2S                     ",11710.85,1595.501,null,null,null,"  H2S                     ",24.78321,979.17960000000005,null,null,"  NH3                     ",0,0,0,null,null,"  NH3                     ",0,0,null,null,"  SULFU-01                ",0,0,0]
[null,null,null,null,null,null,null,null,null,null,null,null,null,null,null,null,null,null,null,null,null,null,"2NH3","1.5O2","=","N2","3H2O",null,null,null,null,null,null,null,null,null,null,null,null,null,null,null,null,null,null,null,null,null,null,null,null,355.82007199999998,104.02935600000001,null,null,null,null,null,null,null,"  NH3                     ",770.32479999999998,4.8873749999999996,null,null,null,"  NH3                     ",0,0,null,null,"  SO2                     ",1.8816800000000001E-8,8.0754999999999997E-11,1.8736099999999999E-8,null,null,"  SO2                     ",1.8736099999999999E-8,1.8721700000000001E-8,null,null,"  SO3                     ",0,0,0]
[null,null,null,null,null,null,null,null,null,null,null,null,null,null,null,null,null,null,null,null,null,null,{"$f":"Y28*-1","v":-162.38449732369435},{"$f":"$W$72*(1-$W$73)/2*1.5","v":-121.01567892365323},null,{"$f":"$W$72*(1-$W$73)*-1/2","v":80.677119282435484},{"$f":"$W$72*(1-$W$73)*-1/2*3","v":242.03135784730645},null,null,null,null,null,null,null,null,null,null,null,null,null,null,null,null,null,null,null,null,null,null,null,null,6.8465614099999996,6.8465614099999996,null,null,null,null,null,null,null,"  SO2                     ",1.8498699999999999E-8,4451.7190000000001,null,null,null,"  SO2                     ",1782.8330000000001,1.8816800000000001E-8,null,null,"  SULFU-01                ",0,0,0,null,null,"  SULFU-01                ",0,0,null,null,"  C                       ",0,0,0]
[null,null,null,null,null,null,null,null,null,null,null,null,null,null,null,null,null,null,null,null,null,"Extent",6.3445635254804258E-3,null,null,null,null,null,null,null,null,null,null,null,null,null,null,null,null,null,null,null,null,null,null,null,null,null,null,null,null,12.2730578,0.25138567000000001,null,null,null,null,null,null,null,"  SULFU-01                ",0,0,null,null,null,"  SULFU-01                ",0,0,null,null,"  SO3                     ",0,0,0,null,null,"  SO3                     ",0,0,null,null,"  S                       ",0,0,0]
[null,null,null,null,null,null,null,null,null,null,null,null,null,null,null,null,null,null,null,null,null,"RX",5,null,null,null,null,null,null,null,null,null,null,null,null,null,null,null,null,null,null,null,null,null,null,null,null,null,null,null,null,1.0329000000000001E-5,201.39532800000001,null,null,null,null,null,null,null,"  SO3                     ",0,0,null,null,null,"  SO3                     ",0,0,null,null,"  C                       ",0,0,0,null,null,"  C                       ",0,0,null,null,"  S2                      ",0,0,0]
[null,null,null,null,null,null,null,null,null,null,null,null,null,null,null,null,null,null,null,null,null,null,null,null,null,null,null,null,null,null,null,null,null,null,null,null,null,null,null,null,null,null,null,null,null,null,null,null,null,null,null,26.261742099999999,3.7892728899999999,null,null,null,null,null,null,null,"  C                       ",0,0,null,null,null,"  C                       ",0,0,null,null,"  S                       ",0,0,0,null,null,"  S                       ",0,0,null,null,"  S6                      ",0,0,0]
[null,null,null,null,null,null,null,null,null,null,null,null,null,null,null,null,null,null,null,null,null,null,"CO2","H2","=","CO","H2O",null,null,null,null,null,null,null,null,null,null,null,null,null,null,null,null,null,null,null,null,null,null,null,null,0,2.7503200000000001E-3,null,null,null,null,null,null,null,"  S                       ",0,0,null,null,null,"  S                       ",0,0,null,null,"  S2                      ",0,0,0,null,null,"  S2                      ",0,0,null,null,"  S8                      ",0,0,0]
[null,null,null,null,null,null,null,null,null,null,null,null,null,null,null,null,null,null,null,null,null,null,{"$f":"(Y20+Y25*-1*(1-$W$68)*-1)*-1","v":-86.829921384422406},{"$f":"$W$77*(1-$W$78)","v":-43.325524312646458},null,{"$f":"$W$77*(1-$W$78)*-1","v":43.325524312646458},{"$f":"$W$77*(1-$W$78)*-1","v":43.325524312646458},null,null,null,null,null,null,null,null,null,null,null,null,null,null,null,null,null,null,null,null,null,null,null,null,13.7737199,1.44786656,null,null,null,null,null,null,null,"  S2                      ",0,8069.4920000000002,null,null,null,"  S2                      ",0,0,null,null,"  S6                      ",2.3152999999999999E-18,0,0,null,null,"  S6                      ",0,0,null,null,"  HCL                     ",0,0,0]
[null,18158.539100000002,null,null,null,null,null,null,null,null,null,null,null,null,null,null,null,null,null,null,null,"Extent",0.50103001797236213,null,null,null,null,null,null,null,null,null,null,null,null,null,null,null,null,null,null,null,null,null,null,null,null,null,null,null,null,0.25203298000000002,24.596808200000002,null,null,null,null,null,null,null,"  S6                      ",0,0,null,null,null,"  S6                      ",1.91483E-2,2.3152999999999999E-18,null,null,"  S8                      ",1.1255E-24,0,0,null,null,"  S8                      ",0,0,null,null,"Mass Frac                 "," "," "," "]
[null,365.33542399999999,null,null,null,null,null,null,null,null,null,null,null,null,null,null,null,null,null,null,null,"RX",4,null,null,null,null,null,null,null,null,null,null,null,null,null,null,null,null,null,null,null,null,null,null,null,null,null,null,null,null,113.63273,1.2049719400000001,null,null,null,null,null,null,null,"  S8                      ",0,0,null,null,null,"  S8                      ",1.4756800000000001,1.1255E-24,null,null,"  HCL                     ",0,0,0,null,null,"  HCL                     ",0,0,null,null,"  H2O                     ",1.3760300000000001E-3,1.23482E-3,1.3754800000000001E-3]
[null,1040.87113,null,null,null,null,null,null,null,null,null,null,null,null,null,null,null,null,null,null,null,null,null,null,null,null,null,null,null,null,null,null,null,null,null,null,null,null,null,null,null,null,null,null,null,null,null,null,null,null,null,46.813758800000002,343.60932500000001,null,null,null,null,null,null,null,"  HCL                     ",0,0,null,null,null,"  HCL                     ",0,0,null,null,"Mass Frac                 "," "," "," ",null,null,"Mass Frac                 "," "," ",null,null,"  AR                      ",1.87102E-2,8.4758500000000001E-2,1.8966400000000001E-2]
[null,8.2978E-9,null,null,null,null,null,null,null,null,null,null,null,null,null,null,null,null,null,null,null,null,"2 H2S",null,"=","S2","H2",null,null,null,null,null,null,null,null,null,null,null,null,null,null,null,null,null,null,null,null,null,null,null,null,0.28697676,45.231915299999997,null,null,null,null,null,null,null,"Mass Frac                 "," "," ",null,null,null,"Mass Frac                 "," "," ",null,null,"  H2O                     ",0.73148489999999999,0.99983279999999997,8.2730700000000004E-2,null,null,"  H2O                     ",8.2730700000000004E-2,1.1030600000000001E-3,null,null,"  CO2                     ",0.12319529999999999,0.42722890000000002,0.12437479999999999]
[null,313.39847200000003,null,null,null,null,null,null,null,null,null,null,null,null,null,null,null,null,null,null,null,null,{"$f":"((Y27+Y25*-1*(1-$W$68)*-1)*-1-(Y27+Y25*-1*(1-$W$68)*-1)*-1*W94)","v":-1021.5067976150391},null,null,{"$f":"W82*W83/2*-1","v":213.39588363615212},{"$f":"W82*W83*-1","v":426.79176727230424},null,null,null,null,null,null,null,null,null,null,null,null,null,null,null,null,null,null,null,null,null,null,null,null,69.4877477,2.8875000000000001E-10,null,null,null,null,null,null,null,"  H2O                     ",8.2519700000000001E-2,0.28224909999999998,null,null,null,"  H2O                     ",0.6679832,0.73148489999999999,null,null,"  AR                      ",2.3079499999999999E-2,3.7295099999999999E-7,7.8875399999999998E-2,null,null,"  AR                      ",7.8875399999999998E-2,8.5901199999999997E-2,null,null,"  O2                      ",3.4038999999999998E-13,0,3.3906999999999999E-13]
[null,12.2109474,null,null,null,null,null,null,null,null,null,null,null,null,null,null,null,null,null,null,null,"Extent",0.41780609612070663,null,null,null,null,null,null,null,null,null,null,null,null,null,null,null,null,null,null,null,null,null,null,null,null,null,null,null,null,0,0,null,null,null,null,null,null,null,"  AR                      ",1.2042799999999999E-2,1.2042799999999999E-2,null,null,null,"  AR                      ",2.3079499999999999E-2,2.3079499999999999E-2,null,null,"  CO2                     ",9.8499500000000004E-2,7.2814000000000003E-6,0.3366131,null,null,"  CO2                     ",0.3366131,0.36659239999999998,null,null,"  N2                      ",1.12579E-2,0.24145810000000001,1.2150899999999999E-2]
[null,23346.936600000001,null,null,null,null,null,null,null,null,null,null,null,null,null,null,null,null,null,null,null,"RX",3,null,null,null,null,null,null,null,null,null,null,null,null,null,null,null,null,null,null,null,null,null,null,null,null,null,null,null,null,0,0,null,null,null,null,null,null,null,"  CO2                     ",4.8713700000000001E-4,2.37828E-2,null,null,null,"  CO2                     ",4.6936199999999997E-2,9.8499500000000004E-2,null,null,"  O2                      ",2.3474999999999999E-37,0,0,null,null,"  O2                      ",0,0,null,null,"  CH4                     ",2.5116199999999998E-4,0,2.5018799999999998E-4]
[null,29.131585399999999,null,null,null,null,null,null,null,null,null,null,null,null,null,null,null,null,null,null,null,null,null,null,null,null,null,null,null,null,null,null,null,null,null,null,null,null,null,null,null,null,null,null,null,null,null,null,null,null,null,0,0,null,null,null,null,null,null,null,"  O2                      ",0.28375539999999999,1.4553E-8,null,null,null,"  O2                      ",2.7890200000000001E-8,2.3474999999999999E-37,null,null,"  N2                      ",6.2417599999999997E-2,6.3370000000000004E-8,0.2133176,null,null,"  N2                      ",0.2133176,0.23232050000000001,null,null,"  CO                      ",0.79761959999999998,4.3807600000000003E-4,0.79452710000000004]
[null,11156.07,null,null,null,null,null,null,null,null,null,null,null,null,null,null,null,null,null,null,null,null,"2 H2S","O2","=","S2","2 H2O",null,null,null,null,null,null,null,null,null,null,null,null,null,null,null,null,null,null,null,null,null,null,null,null,0,0,null,null,null,null,null,null,null,"  N2                      ",4.6739499999999996E-3,3.2392999999999998E-2,null,null,null,"  N2                      ",6.2417599999999997E-2,6.2417599999999997E-2,null,null,"  CH4                     ",0,0,0,null,null,"  CH4                     ",0,0,null,null,"  COS                     ",2.13416E-3,4.6264000000000003E-5,2.1260599999999999E-3]
[null,313.84063900000001,null,null,null,null,null,null,null,null,null,null,null,null,null,null,null,null,null,null,null,null,{"$f":"(((Y27+Y25*-1*(1-$W$68)*-1)*-1-(Y27+Y25*-1*(1-$W$68)*-1)*-1*W94)-((Y27+Y25*-1*(1-$W$68)*-1)*-1-(Y27+Y25*-1*(1-$W$68)*-1)*-1*W94)*W83)","v":-594.71503034273485},{"$f":"$W$87*(1-$W$88)/2","v":-217.24686508010268},null,{"$f":"$W$87*(1-$W$88)/2*-1","v":217.24686508010268},{"$f":"$W$87*(1-$W$88)*-1","v":434.49373016020536},null,null,null,null,null,null,null,null,null,null,null,null,null,null,null,null,null,null,null,null,null,null,null,null,125.826297,0,null,null,null,null,null,null,null,"  CH4                     ",1.9427800000000001E-6,0,null,null,null,"  CH4                     ",0,0,null,null,"  CO                      ",2.8988699999999999E-5,2.3471999999999999E-11,9.9071400000000002E-5,null,null,"  CO                      ",9.9071400000000002E-5,1.07895E-4,null,null,"  H2                      ",3.1786700000000001E-2,2.3488700000000001E-2,3.1754499999999998E-2]
[null,55.776519700000001,null,null,null,null,null,null,null,null,null,null,null,null,null,null,null,null,null,null,null,"Extent",0.26940852678667587,null,null,null,null,null,null,null,null,null,null,null,null,null,null,null,null,null,null,null,null,null,null,null,null,null,null,null,null,null,null,null,null,null,null,null,null,null,"  CO                      ",1.7857000000000001E-3,1.6987499999999999E-2,null,null,null,"  CO                      ",3.2544700000000003E-2,2.8988699999999999E-5,null,null,"  COS                     ",1.4501800000000001E-5,2.62629E-9,4.9554700000000002E-5,null,null,"  COS                     ",4.9554700000000002E-5,5.3967600000000001E-5,null,null,"  H2S                     ",1.36688E-2,0.2213465,1.44744E-2]
[null,0,null,null,null,null,null,null,null,null,null,null,null,null,null,null,null,null,null,null,null,"RX",2,null,null,null,null,null,null,null,null,null,null,null,null,null,null,null,null,null,null,null,null,null,null,null,null,null,null,null,null,null,null,null,null,null,null,null,null,null,"  COS                     ",6.5064399999999994E-2,6.6668800000000002E-4,null,null,null,"  COS                     ",6.6259999999999995E-4,1.4501800000000001E-5,null,null,"  H2                      ",1.84877E-3,2.72917E-9,6.3183400000000004E-3,null,null,"  H2                      ",6.3183400000000004E-3,6.8810700000000004E-3,null,null,"  NH3                     ",0,0,0]
[null,0,null,null,null,null,null,null,null,null,null,null,null,null,null,null,null,null,null,null,null,null,null,null,null,null,null,null,null,null,null,null,null,null,null,null,null,null,null,null,null,null,null,null,null,null,null,null,null,null,null,null,null,null,null,null,null,null,null,null,"  H2                      ",1.0695499999999999E-4,1.00862E-2,null,null,null,"  H2                      ",1.37179E-2,1.84877E-3,null,null,"  H2S                     ",8.2626000000000005E-2,1.5943700000000001E-4,0.28199610000000003,null,null,"  H2S                     ",0.28199610000000003,0.30703979999999997,null,null,"  SO2                     ",0,0,0]
[null,0,null,null,null,null,null,null,null,null,null,null,null,null,null,null,null,null,null,null,null,null,null,null,null,null,null,null,null,null,null,null,null,null,null,null,null,null,null,null,null,null,null,null,null,null,null,null,null,null,null,null,null,null,null,null,null,null,null,null,"  H2S                     ",0.51564350000000003,7.0251900000000006E-2,null,null,null,"  H2S                     ",2.09128E-3,8.2626000000000005E-2,null,null,"  NH3                     ",0,0,0,null,null,"  NH3                     ",0,0,null,null,"  SULFU-01                ",0,0,0]
[null,0,null,null,null,null,null,null,null,null,null,null,null,null,null,null,null,null,null,null,null,null,"H2S","1.5 O2","=","SO2","H2O",null,null,null,null,null,null,null,null,null,null,null,null,null,null,null,null,null,null,null,null,null,null,null,null,null,null,null,null,null,null,null,null,null,"  NH3                     ",3.3918299999999998E-2,2.1519700000000001E-4,null,null,null,"  NH3                     ",0,0,null,null,"  SO2                     ",1.5878E-12,9.6330000000000001E-15,5.4032000000000002E-12,null,null,"  SO2                     ",5.4032000000000002E-12,5.88E-12,null,null,"  SO3                     ",0,0,0]
[null,0,null,null,null,null,null,null,null,null,null,null,null,null,null,null,null,null,null,null,null,null,{"$f":"(Y27+Y25*-1*(1-$W$68)*-1)*-1","v":-1259.3294445720092},{"$f":"$W$93*1.5*$W$94","v":-356.73397043545509},null,{"$f":"$W$93*$W$94*-1","v":237.82264695697006},{"$f":"($W$93*$W$94)*-1","v":237.82264695697006},null,null,null,null,null,null,null,null,null,null,null,null,null,null,null,null,null,null,null,null,null,null,null,null,null,null,null,null,null,null,null,null,null,"  SO2                     ",8.1452000000000005E-13,0.19601479999999999,null,null,null,"  SO2                     ",0.15044060000000001,1.5878E-12,null,null,"  SULFU-01                ",0,0,0,null,null,"  SULFU-01                ",0,0,null,null,"  C                       ",0,0,0]
[null,0,null,null,null,null,null,null,null,null,null,null,null,null,null,null,null,null,null,null,null,"Extent",0.18884863526540949,null,null,null,null,null,null,null,null,null,null,null,null,null,null,null,null,null,null,null,null,null,null,null,null,null,null,null,null,null,null,null,null,null,null,null,null,null,"  SULFU-01                ",0,0,null,null,null,"  SULFU-01                ",0,0,null,null,"  SO3                     ",0,0,0,null,null,"  SO3                     ",0,0,null,null,"  S                       ",0,0,0]
[null,0,null,null,null,null,null,null,null,null,null,null,null,null,null,null,null,null,null,null,null,"RX",1,null,null,null,null,null,null,null,null,null,null,null,null,null,null,null,null,null,null,null,null,null,null,null,null,null,null,null,null,null,null,null,null,null,null,null,null,null,"  SO3                     ",0,0,null,null,null,"  SO3                     ",0,0,null,null,"  C                       ",0,0,0,null,null,"  C                       ",0,0,null,null,"  S2                      ",0,0,0]
[null,0,null,null,null,null,null,null,null,null,null,null,null,null,null,null,null,null,null,null,null,null,null,null,null,null,null,null,null,null,null,null,null,null,null,null,null,null,null,null,null,null,null,null,null,null,null,null,null,null,null,null,null,null,null,null,null,null,null,null,"  C                       ",0,0,null,null,null,"  C                       ",0,0,null,null,"  S                       ",0,0,0,null,null,"  S                       ",0,0,null,null,"  S6                      ",0,0,0]
[null,11.256931399999999,null,null,null,null,null,null,null,null,null,null,null,null,null,null,null,null,null,null,null,null,null,null,null,null,null,null,null,null,null,null,null,null,null,null,null,null,null,null,null,null,null,null,null,null,null,null,null,null,null,null,null,null,null,null,null,null,null,null,"  S                       ",0,0,null,null,null,"  S                       ",0,0,null,null,"  S2                      ",0,0,0,null,null,"  S2                      ",0,0,null,null,"  S8                      ",0,0,0]
[null,54803.367348908294,null,null,null,null,null,null,null,null,null,null,null,null,null,null,null,null,null,null,null,null,null,null,null,null,null,null,null,null,null,null,null,null,null,null,null,null,null,null,null,null,null,null,null,null,null,null,null,null,null,null,null,null,null,null,null,null,null,null,"  S2                      ",0,0.35530990000000001,null,null,null,"  S2                      ",0,0,null,null,"  S6                      ",1.9538000000000001E-22,0,0,null,null,"  S6                      ",0,0,null,null,"  HCL                     ",0,0,0]
[null,null,null,null,null,null,null,null,null,null,null,null,null,null,null,null,null,null,null,null,null,null,null,null,null,null,null,null,null,null,null,null,null,null,null,null,null,null,null,null,null,null,null,null,null,null,null,null,null,null,null,null,null,null,null,null,null,null,null,null,"  S6                      ",0,0,null,null,null,"  S6                      ",1.6158000000000001E-6,1.9538000000000001E-22,null,null,"  S8                      ",9.4969999999999999E-29,0,0,null,null,"  S8                      ",0,0,null,null,"Total Flow  lbmol/hr      ",37775.39,117.46899999999999,37892.86]
[null,null,null,null,null,null,null,null,null,null,null,null,null,null,null,null,null,null,null,null,null,null,null,null,null,null,null,null,null,null,null,null,null,null,null,null,null,null,null,null,null,null,null,null,null,null,null,null,null,null,null,null,null,null,null,null,null,null,null,null,"  S8                      ",0,0,null,null,null,"  S8                      ",1.2452200000000001E-4,9.4969999999999999E-29,null,null,"  HCL                     ",0,0,0,null,null,"  HCL                     ",0,0,null,null,"Total Flow  lb/hr         ",779805,3036.942,782842]
[null,null,null,null,null,null,null,null,null,null,null,null,null,null,null,null,null,null,null,null,null,null,null,null,null,null,null,null,null,null,null,null,null,null,null,null,null,null,null,null,null,null,null,null,null,null,null,null,null,null,null,null,null,null,null,null,null,null,null,null,"  HCL                     ",0,0,null,null,null,"  HCL                     ",0,0,null,null,"Total Flow  lbmol/hr      ",580.57140000000004,465.29930000000002,115.27209999999999,null,null,"Total Flow  lbmol/hr      ",115.27209999999999,99.536109999999994,null,null,"Total Flow  cuft/hr       ",432397,835.6798,433677]
[null,null,null,null,null,null,null,null,null,null,null,null,null,null,null,null,null,null,null,null,null,null,null,null,null,null,null,null,null,null,null,null,null,null,null,null,null,null,null,null,null,null,null,null,null,null,null,null,null,null,null,null,null,null,null,null,null,null,null,null,"Total Flow  lbmol/hr      ",732.40549999999996,771.27470000000005,null,null,null,"Total Flow  lbmol/hr      ",608.40589999999997,580.57140000000004,null,null,"Total Flow  lb/hr         ",11850.74,8383.1650000000009,3467.5770000000002,null,null,"Total Flow  lb/hr         ",3467.5770000000002,3183.9749999999999,null,null,"Temperature F             ",94.777839999999998,103.52330000000001,94.75394]
[null,null,null,null,null,null,null,null,null,null,null,null,null,null,null,null,null,null,null,null,null,null,null,null,null,null,null,null,null,null,null,null,null,null,null,null,null,null,null,null,null,null,null,null,null,null,null,null,null,null,null,null,null,null,null,null,null,null,null,null,"Total Flow  lb/hr         ",22711.14,22711.14,null,null,null,"Total Flow  lb/hr         ",11850.74,11850.74,null,null,"Total Flow  cuft/hr       ",563474,138.41460000000001,67203.73,null,null,"Total Flow  cuft/hr       ",67203.73,658.53510000000006,null,null,"Pressure    psia          ",520,799.5,520]
[null,null,null,null,null,null,null,null,null,null,null,null,null,null,null,null,null,null,null,null,null,null,null,null,null,null,null,null,null,null,null,null,null,null,null,null,null,null,null,null,null,null,null,null,null,null,null,null,null,null,null,null,null,null,null,null,null,null,null,null,"Total Flow  cuft/hr       ",307245,1134210,null,null,null,"Total Flow  cuft/hr       ",482137,563474,null,null,"Temperature F             ",550,120,120,null,null,"Temperature F             ",120,102.9568,null,null,"Vapor Frac                ",1,1,1]
[null,null,null,0,5000,10000,15000,null,null,null,null,null,null,null,null,null,null,null,null,null,null,null,null,null,null,null,null,null,null,null,null,null,null,null,null,null,null,null,null,null,null,null,null,null,null,null,null,null,null,null,null,null,null,null,null,null,null,null,null,null,"Temperature F             ",448.85649999999998,2650,null,null,null,"Temperature F             ",450,550,null,null,"Pressure    psia          ",11.145949999999999,10.645949999999999,10.645949999999999,null,null,"Pressure    psia          ",10.645949999999999,799.5,null,null,"Liquid Frac               ",0,0,0]
[null,null,null,85,80,76.5,74,null,null,null,null,null,null,null,null,null,null,null,null,null,null,null,null,null,null,null,null,null,null,null,null,null,null,null,null,null,null,null,null,null,null,null,null,null,null,null,null,null,null,null,null,null,null,null,null,null,null,null,null,null,"Pressure    psia          ",23.19595,22.69595,null,null,null,"Pressure    psia          ",12.295949999999999,11.145949999999999,null,null,"Vapor Frac                ",1,0,1,null,null,"Vapor Frac                ",1,1,null,null,"Solid Frac                ",0,0,0]
[null,null,"H2O",{"$f":"D108*D115","v":884.29280304984809},{"$f":"E108*E115","v":1804.7538832196076},{"$f":"F108*F115","v":2815.9905742298047},{"$f":"G108*G115","v":3853.6951010288776},null,null,null,null,null,null,null,null,null,null,null,null,null,null,null,null,null,null,null,null,null,null,null,null,null,null,null,null,null,null,null,null,null,null,null,null,null,null,null,null,null,null,null,null,null,null,null,null,null,null,null,null,null,"Vapor Frac                ",1,1,null,null,null,"Vapor Frac                ",1,1,null,null,"Liquid Frac               ",0,1,0,null,null,"Liquid Frac               ",0,0,null,null,"Enthalpy    Btu/lbmol     ",-37948.879999999997,-44249.94,-37968.410000000003]
[null,null,"CO/H2*RF",2819.2904386311807,6245.0396488473671,10343.005376800709,14806.462802461499,null,null,null,null,null,null,null,null,null,null,null,null,null,null,null,null,null,null,null,null,null,null,null,null,null,null,null,null,null,null,null,null,null,null,null,null,null,null,null,null,null,null,null,null,null,null,null,null,null,null,null,null,null,"Liquid Frac               ",0,0,null,null,null,"Liquid Frac               ",0,0,null,null,"Solid Frac                ",0,0,0,null,null,"Solid Frac                ",0,0,null,null,"Enthalpy    Btu/lb        ",-1838.3240000000001,-1711.5889999999999,-1837.8330000000001]
[null,"Heat",1,50012666.299999997,81226209,112556107,143504430,{"$f":"-0.13008254*(((H140*(100-G140)/100)/(J140+(H140*(100-G140)/100)))*F38)^2+10061.40870388*(((H140*(100-G140)/100)/(J140+(H140*(100-G140)/100)))*F38)+22900436.9392837","v":151369059.82178137},null,null,null,null,null,null,null,null,null,null,null,null,null,null,null,null,null,null,null,null,null,null,null,null,null,null,null,null,null,null,null,null,null,null,null,null,null,null,null,null,null,null,null,null,null,null,null,null,null,null,null,null,"Solid Frac                ",0,0,null,null,null,"Solid Frac                ",0,0,null,null,"Enthalpy    Btu/lbmol     ",-90443.89,-122860,-55174.69,null,null,"Enthalpy    Btu/lbmol     ",-55174.69,-48150.53,null,null,"Enthalpy    Btu/hr        ",-1433500000,-5198000,-1438700000]
[null,null,2,9542952.9800000004,13095917,16793023.5,20242900.399999999,{"$f":"-0.13572483*((((B24*(100-D16)/100)/(B26+(B24*(100-D16)/100)))*F38)*(I18/I38))^2+4250.29086941*((((B24*(100-D16)/100)/(B26+(B24*(100-D16)/100)))*F38)*(I18/I38))+5884395.67765694","v":20301418.025354147},null,null,null,null,null,null,null,null,null,null,null,null,null,null,null,null,null,null,null,null,null,null,null,null,null,null,null,null,null,null,null,null,null,null,null,null,null,null,null,null,null,null,null,null,null,null,null,null,null,null,null,null,"Enthalpy    Btu/lbmol     ",-19315.13,-30109.19,null,null,null,"Enthalpy    Btu/lbmol     ",-82540.740000000005,-90443.89,null,null,"Enthalpy    Btu/lb        ",-4430.8729999999996,-6819.134,-1834.163,null,null,"Enthalpy    Btu/lb        ",-1834.163,-1505.2619999999999,null,null,"Entropy     Btu/lbmol-R   ",7.6284049999999999,-3.0762200000000002,7.6078950000000001]
[null,null,3,260457270,265237358,274706131,286846867,{"$f":"1.61259722*((((B24*(100-D16)/100)/(B26+(B24*(100-D16)/100)))*F38)*(I18/I38))^2+1316.08312711*((((B24*(100-D16)/100)/(B26+(B24*(100-D16)/100)))*F38)*(I18/I38))+257920273.417978","v":287170112.07819623},null,null,null,null,null,null,null,null,null,null,null,null,null,null,null,null,null,null,null,null,null,null,null,null,null,null,null,null,null,null,null,null,null,null,null,null,null,null,null,null,null,null,null,null,null,null,null,null,null,null,null,null,"Enthalpy    Btu/lb        ",-622.88840000000005,-1022.514,null,null,null,"Enthalpy    Btu/lb        ",-4237.5630000000001,-4430.8729999999996,null,null,"Enthalpy    Btu/hr        ",-52509000,-57166000,-6360100,null,null,"Enthalpy    Btu/hr        ",-6360100,-4792700,null,null,"Entropy     Btu/lb-R      ",0.36953609999999998,-0.11898830000000001,0.36825449999999998]
[null,null,4,138549225,164076449,189608746,215022856,{"$f":"-0.7948155*((((B24*(100-D16)/100)/(B26+(B24*(100-D16)/100)))*F38)*(I18/I38))^2+29457.31350076*((((B24*(100-D16)/100)/(B26+(B24*(100-D16)/100)))*F38)*(I18/I38))+113222754.629576","v":215326944.2670387},null,null,null,null,null,null,null,null,null,null,null,null,null,null,null,null,null,null,null,null,null,null,null,null,null,null,null,null,null,null,null,null,null,null,null,null,null,null,null,null,null,null,null,null,null,null,null,null,null,null,null,null,"Enthalpy    Btu/hr        ",-14147000,-23222000,null,null,null,"Enthalpy    Btu/hr        ",-50218000,-52509000,null,null,"Entropy     Btu/lbmol-R   ",-1.092265,-38.59693,5.8314329999999996,null,null,"Entropy     Btu/lbmol-R   ",5.8314329999999996,-2.1094270000000002,null,null,"Density     lbmol/cuft    ",8.7362800000000004E-2,0.140567,8.7375700000000001E-2]
[null,null,5,21183437.899999999,25184003.100000001,29188248.600000001,33174323.100000001,{"$f":"-0.12380712*((((B24*(100-D16)/100)/(B26+(B24*(100-D16)/100)))*F38)*(I18/I38))^2+4615.05807884*((((B24*(100-D16)/100)/(B26+(B24*(100-D16)/100)))*F38)*(I18/I38))+17214852.8341922","v":33222176.585552335},null,null,null,null,null,null,null,null,null,null,null,null,null,null,null,null,null,null,null,null,null,null,null,null,null,null,null,null,null,null,null,null,null,null,null,null,null,null,null,null,null,null,null,null,null,null,null,null,null,null,null,null,"Entropy     Btu/lbmol-R   ",8.7246889999999997,21.063210000000002,null,null,null,"Entropy     Btu/lbmol-R   ",-0.43063899999999999,-1.092265,null,null,"Entropy     Btu/lb-R      ",-5.35104E-2,-2.1422840000000001,0.19385340000000001,null,null,"Entropy     Btu/lb-R      ",0.19385340000000001,-6.5944000000000003E-2,null,null,"Density     lb/cuft       ",1.8034479999999999,3.6340979999999998,1.8051250000000001]
[null,null,null,null,null,null,null,null,null,null,null,null,null,null,null,null,null,null,null,null,null,null,null,null,null,null,null,null,null,null,null,null,null,null,null,null,null,null,null,null,null,null,null,null,null,null,null,null,null,null,null,null,null,null,null,null,null,null,null,null,"Entropy     Btu/lb-R      ",0.2813602,0.71531080000000002,null,null,null,"Entropy     Btu/lb-R      ",-2.2108599999999999E-2,-5.35104E-2,null,null,"Density     lbmol/cuft    ",1.03034E-3,3.3616350000000002,1.7152599999999999E-3,null,null,"Density     lbmol/cuft    ",1.7152599999999999E-3,0.1511478,null,null,"Average MW                ",20.643190000000001,25.85313,20.65934]
[null,null,null,0.31365792999999997,0.28898997999999998,0.27226038000000002,0.26027115000000001,null,null,null,null,null,null,null,null,null,null,null,null,null,null,null,null,null,null,null,null,null,null,null,null,null,null,null,null,null,null,null,null,null,null,null,null,null,null,null,null,null,null,null,null,null,null,null,null,null,null,null,null,null,"Density     lbmol/cuft    ",2.3837900000000002E-3,6.8001100000000001E-4,null,null,null,"Density     lbmol/cuft    ",1.2618900000000001E-3,1.03034E-3,null,null,"Density     lb/cuft       ",2.1031500000000002E-2,60.565620000000003,5.1597900000000002E-2,null,null,"Density     lb/cuft       ",5.1597900000000002E-2,4.8349359999999999,null,null,"Liq Vol 60F cuft/hr       ",32374.15,100.65989999999999,32474.81]
[null,null,null,null,null,null,null,null,null,null,null,null,null,null,null,null,null,null,null,null,null,null,null,null,null,null,null,null,null,null,null,null,null,null,null,null,null,null,null,null,null,null,null,null,null,null,null,null,null,null,null,null,null,null,null,null,null,null,null,null,"Density     lb/cuft       ",7.3918700000000004E-2,2.0023699999999998E-2,null,null,null,"Density     lb/cuft       ",2.45796E-2,2.1031500000000002E-2,null,null,"Average MW                ",20.412199999999999,18.016719999999999,30.081659999999999,null,null,"Average MW                ",30.081659999999999,31.988140000000001,null,null,"*** ALL PHASES ***        "," "," "," "]
[null,null,null,null,null,null,null,null,null,null,null,null,null,null,null,null,null,null,null,null,null,null,null,null,null,null,null,null,null,null,null,null,null,null,null,null,null,null,null,null,null,null,null,null,null,null,null,null,null,null,null,null,null,null,null,null,null,null,null,null,"Average MW                ",31.008970000000001,29.44624,null,null,null,"Average MW                ",19.478349999999999,20.412199999999999,null,null,"Liq Vol 60F cuft/hr       "," ",134.55670000000001,89.836269999999999,null,null,"Liq Vol 60F cuft/hr       ",89.836269999999999,85.282499999999999,null,null,"TDEW        F             ",93.766210000000001,103.5228,93.768929999999997]
[null,null,"Sep",null,null,null,null,null,null,null,null,null,null,null,null,null,null,null,null,null,null,null,null,null,null,null,null,null,null,null,null,null,null,null,null,null,null,null,null,null,null,null,null,null,null,null,null,null,null,null,null,null,null,null,null,null,null,null,null,null,"Liq Vol 60F cuft/hr       ",569.17089999999996," ",null,null,null,"Liq Vol 60F               "," "," ",null,null,"*** ALL PHASES ***        "," "," "," ",null,null,"*** ALL PHASES ***        "," "," ",null,null,"CPMX        Btu/lb-R      ",0.35757640000000002,0.33368569999999997,0.35741479999999998]
[null,null,"H2O",{"$f":"63.4702416/18312.3615","v":3.465977973403376E-3},{"$f":"75.5441093/19182.1504","v":3.9382502860576055E-3},{"$f":"87.6230764/20322.0143","v":4.3117318542581677E-3},{"$f":"99.6576859/21609.9194","v":4.6116639333694141E-3},{"$f":"-0.0000000000555262*((((B24*(100-D16)/100)/(B26+(B24*(100-D16)/100)))*F38)*(I18/I38))^2 + 6.4651421392828E-07*((((B24*(100-D16)/100)/(B26+(B24*(100-D16)/100)))*F38)*(I18/I38)) + 0.00294156913206361","v":4.6120455948905816E-3},null,null,null,null,null,null,null,null,null,null,null,null,null,null,null,null,null,null,null,null,null,null,null,null,null,null,null,null,null,null,null,null,null,null,null,null,null,null,null,null,null,null,null,null,null,null,null,null,null,null,null,null,"*** ALL PHASES ***        "," "," ",null,null,null,"*** ALL PHASES ***        "," "," ",null,null,"TDEW        F             ",193.273,199.893,120,null,null,"TDEW        F             ",120,102.9532,null,null,"*** VAPOR PHASE ***       "," "," "," "]
[null,null,null,null,null,null,null,null,null,null,null,null,null,null,null,null,null,null,null,null,null,null,null,null,null,null,null,null,null,null,null,null,null,null,null,null,null,null,null,null,null,null,null,null,null,null,null,null,null,null,null,null,null,null,null,null,null,null,null,null,"TDEW        F             ",150.07839999999999,751.36929999999995,null,null,null,"TDEW        F             ",271.7022,193.273,null,null,"CPMX        Btu/lb-R      ",0.42101640000000001,1.081051,0.2605304,null,null,"CPMX        Btu/lb-R      ",0.2605304,0.29971910000000002,null,null,"CPIGMX      Btu/lb-R      ",0.34158959999999999,0.29290070000000001,0.34139700000000001]
[null,null,null,null,null,null,null,null,null,null,null,null,null,null,null,null,null,null,null,null,null,null,null,null,null,null,null,null,null,null,null,null,null,null,null,null,null,null,null,null,null,null,null,null,null,null,null,null,null,null,null,null,null,null,null,null,null,null,null,null,"CPMX        Btu/lb-R      ",0.27650930000000001,0.3659212,null,null,null,"CPMX        Btu/lb-R      ",0.42629889999999998,0.42101640000000001,null,null,"*** VAPOR PHASE ***       "," "," "," ",null,null,"*** VAPOR PHASE ***       "," "," ",null,null,"Substream: $TOTAL         "," "," "," "]
[null,null,null,null,null,null,null,null,null,null,null,null,null,null,null,null,null,null,null,null,null,null,null,null,null,null,null,null,null,null,null,null,null,null,null,null,null,null,null,null,null,null,null,null,null,null,null,null,null,null,null,null,null,null,null,null,null,null,null,null,"*** VAPOR PHASE ***       "," "," ",null,null,null,"*** VAPOR PHASE ***       "," "," ",null,null,"CPIGMX      Btu/lb-R      ",0.42019659999999998," ",0.25979619999999998,null,null,"CPIGMX      Btu/lb-R      ",0.25979619999999998,0.2419327,null,null,"Total Flow  lb/hr         ",779805,3036.942,782842]
[null,null,null,null,null,null,null,null,null,null,null,null,null,null,null,null,null,null,null,null,null,null,null,null,null,null,null,null,null,null,null,null,null,null,null,null,null,null,null,null,null,null,null,null,null,null,null,null,null,null,null,null,null,null,null,null,null,null,null,null,"CPIGMX      Btu/lb-R      ",0.27574599999999999,0.36582150000000002,null,null,null,"CPIGMX      Btu/lb-R      ",0.42532429999999999,0.42019659999999998,null,null,"Substream: $TOTAL         "," "," "," ",null,null,"Substream: $TOTAL         "," "," ",null,null,"Enthalpy    Btu/hr        ",-1433500000,-5198000,-1438700000]
[null,0.31365792999999997,null,null,null,null,null,null,null,null,null,null,null,null,null,null,null,null,null,null,null,null,null,null,null,null,null,null,null,null,null,null,null,null,null,null,null,null,null,null,null,null,null,null,null,null,null,null,null,null,null,null,null,null,null,null,null,null,null,null,"Substream: $TOTAL         "," "," ",null,null,null,"Substream: $TOTAL         "," "," ",null,null,"Total Flow  lb/hr         ",11850.74,8383.1650000000009,3467.5770000000002,null,null,"Total Flow  lb/hr         ",3467.5770000000002,3183.9749999999999,null,null,"Substream: CISOLID        "," "," "," "]
[null,0.28898997999999998,null,null,null,null,null,null,null,null,null,null,null,null,null,null,null,null,null,null,null,null,null,null,null,null,null,null,null,null,null,null,null,null,null,null,null,null,null,null,null,null,null,null,null,null,null,null,null,null,null,null,null,null,null,null,null,null,null,null,"Total Flow  lb/hr         ",22711.14,22711.14,null,null,null,"Total Flow  lb/hr         ",11850.74,11850.74,null,null,"Enthalpy    Btu/hr        ",-52509000,-57166000,-6360100,null,null,"Enthalpy    Btu/hr        ",-6360100,-4792700,null,null,"Mole Flow   lbmol/hr      "," "," "," "]
[null,0.26027115000000001,null,null,null,null,null,null,null,null,null,null,null,null,null,null,null,null,null,null,null,null,null,null,null,null,null,null,null,null,null,null,null,null,null,null,null,null,null,null,null,null,null,null,null,null,null,null,null,null,null,null,null,null,null,null,null,null,null,null,"Enthalpy    Btu/hr        ",-14147000,-23222000,null,null,null,"Enthalpy    Btu/hr        ",-50218000,-52509000,null,null,"Substream: CISOLID        "," "," "," ",null,null,"Substream: CISOLID        "," "," ",null,null,"  H2O                     ",0,0,0]
[null,null,null,null,null,null,null,null,null,null,null,null,null,null,null,null,null,null,null,null,null,null,null,null,null,null,null,null,null,null,null,null,null,null,null,null,null,null,null,null,null,null,null,null,null,null,null,null,null,null,null,null,null,null,null,null,null,null,null,null,"Substream: CISOLID        "," "," ",null,null,null,"Substream: CISOLID        "," "," ",null,null,"Mole Flow   lbmol/hr      "," "," "," ",null,null,"Mole Flow   lbmol/hr      "," "," ",null,null,"  AR                      ",0,0,0]
[null,null,null,null,null,null,null,null,null,null,null,null,null,null,null,null,null,null,null,null,null,null,null,null,null,null,null,null,null,null,null,null,null,null,null,null,null,null,null,null,null,null,null,null,null,null,null,null,null,null,null,null,null,null,null,null,null,null,null,null,"Mole Flow   lbmol/hr      "," "," ",null,null,null,"Mole Flow   lbmol/hr      "," "," ",null,null,"  H2O                     ",0,0,0,null,null,"  H2O                     ",0,0,null,null,"  CO2                     ",0,0,0]
[null,null,null,null,null,null,null,null,null,null,null,null,null,null,null,null,null,null,null,null,null,null,null,null,null,null,null,null,null,null,null,null,null,null,null,null,null,null,null,null,null,null,null,null,null,null,null,null,null,null,null,null,null,null,null,null,null,null,null,null,"  H2O                     ",0,0,null,null,null,"  H2O                     ",0,0,null,null,"  AR                      ",0,0,0,null,null,"  AR                      ",0,0,null,null,"  O2                      ",0,0,0]
[null,null,null,null,null,null,null,null,null,null,null,null,null,null,null,null,null,null,null,null,null,null,null,null,null,null,null,null,null,null,null,null,null,null,null,null,null,null,null,null,null,null,null,null,null,null,null,null,null,null,null,null,null,null,null,null,null,null,null,null,"  AR                      ",0,0,null,null,null,"  AR                      ",0,0,null,null,"  CO2                     ",0,0,0,null,null,"  CO2                     ",0,0,null,null,"  N2                      ",0,0,0]
[null,null,null,null,null,null,null,null,null,null,null,null,null,null,null,null,null,null,null,null,null,null,null,null,null,null,null,null,null,null,null,null,null,null,null,null,null,null,null,null,null,null,null,null,null,null,null,null,null,null,null,null,null,null,null,null,null,null,null,null,"  CO2                     ",0,0,null,null,null,"  CO2                     ",0,0,null,null,"  O2                      ",0,0,0,null,null,"  O2                      ",0,0,null,null,"  CH4                     ",0,0,0]
[null,null,null,null,null,null,null,"CO/H2","Total Reacted Flow",null,null,null,null,null,null,null,null,null,null,null,null,null,null,null,null,null,null,null,null,null,null,null,null,null,null,null,null,null,null,null,null,null,null,null,null,null,null,null,null,null,null,null,null,null,null,null,null,null,null,null,"  O2                      ",0,0,null,null,null,"  O2                      ",0,0,null,null,"  N2                      ",0,0,0,null,null,"  N2                      ",0,0,null,null,"  CO                      ",0,0,0]
[null,null,null,null,null,null,{"$f":"(((H139*(100-G139)/100)/(J139+(H139*(100-G139)/100)))*(I133+K133))","v":2819.2904386311807},{"$f":"I139/K139","v":0.23891487215863016},8220.4990500000004,null,3579.8983600000001,null,null,null,null,null,null,null,null,null,null,null,null,null,null,null,null,null,null,null,null,null,null,null,null,null,null,null,null,null,null,null,null,null,null,null,null,null,null,null,null,null,null,null,null,null,null,null,null,null,"  N2                      ",0,0,null,null,null,"  N2                      ",0,0,null,null,"  CH4                     ",0,0,0,null,null,"  CH4                     ",0,0,null,null,"  COS                     ",0,0,0]
[null,null,null,null,null,{"$f":"(((H140*(100-G140)/100)/(J140+(H140*(100-G140)/100)))*(I134+K134))","v":6245.0396488473671},{"$f":"H134*(I134+K134)","v":6245.0396488473671},{"$f":"I140/K140","v":0.33695294806535947},11960.6654,null,6573.19722,null,null,null,null,null,null,null,null,null,null,null,null,null,null,null,null,null,null,null,null,null,null,null,null,null,null,null,null,null,null,null,null,null,null,null,null,null,null,null,null,null,null,null,null,null,null,null,null,null,"  CH4                     ",0,0,null,null,null,"  CH4                     ",0,0,null,null,"  CO                      ",0,0,0,null,null,"  CO                      ",0,0,null,null,"  H2                      ",0,0,0]
[null,null,null,null,null,null,{"$f":"H135*(I135+K135)","v":10343.005376800709},{"$f":"I141/K141","v":0.41260965835183716},15228.7821,null,9838.50648,null,null,null,null,null,null,null,null,null,null,null,null,null,null,null,null,null,null,null,null,null,null,null,null,null,null,null,null,null,null,null,null,null,null,null,null,null,null,null,null,null,null,null,null,null,null,null,null,null,"  CO                      ",0,0,null,null,null,"  CO                      ",0,0,null,null,"  COS                     ",0,0,0,null,null,"  COS                     ",0,0,null,null,"  H2S                     ",0,0,0]
[null,null,null,null,null,null,{"$f":"H136*(I136+K136)","v":14806.462802461487},{"$f":"I142/K142","v":0.47193385296988055},18148.865600000001,null,13225.1558,null,null,null,null,null,null,null,null,null,null,null,null,null,null,null,null,null,null,null,null,null,null,null,null,null,null,null,null,null,null,null,null,null,null,null,null,null,null,null,null,null,null,null,null,null,null,null,null,null,"  COS                     ",0,0,null,null,null,"  COS                     ",0,0,null,null,"  H2                      ",0,0,0,null,null,"  H2                      ",0,0,null,null,"  NH3                     ",0,0,0]
[null,null,null,null,null,null,null,null,null,null,null,null,null,null,null,null,null,null,null,null,null,null,null,null,null,null,null,null,null,null,null,null,null,null,null,null,null,null,null,null,null,null,null,null,null,null,null,null,null,null,null,null,null,null,null,null,null,null,null,null,"  H2                      ",0,0,null,null,null,"  H2                      ",0,0,null,null,"  H2S                     ",0,0,0,null,null,"  H2S                     ",0,0,null,null,"  SO2                     ",0,0,0]
[null,null,null,null,null,null,"Bypass","CO In","CO Shift","H2 In","H2 Product",null,null,null,null,null,null,null,null,null,null,null,null,null,null,null,null,null,null,null,null,null,null,null,null,null,null,null,null,null,null,null,null,null,null,null,null,null,null,null,null,null,null,null,null,null,null,null,null,null,"  H2S                     ",0,0,null,null,null,"  H2S                     ",0,0,null,null,"  NH3                     ",0,0,0,null,null,"  NH3                     ",0,0,null,null,"  SULFU-01                ",0,0,0]
[null,null,null,null,null,null,85,23346.937300000001,{"$f":"H139*(100-G139)/100","v":3502.0405950000004},11156.0699,{"$f":"J139+I139","v":14658.110495000001},null,null,null,null,null,null,null,null,null,null,null,null,null,null,null,null,null,null,null,null,null,null,null,null,null,null,null,null,null,null,null,null,null,null,null,null,null,null,null,null,null,null,null,null,null,null,null,null,null,"  NH3                     ",0,0,null,null,null,"  NH3                     ",0,0,null,null,"  SO2                     ",0,0,0,null,null,"  SO2                     ",0,0,null,null,"  SO3                     ",0,0,0]
[null,null,null,null,null,null,80,{"$f":"H139+5000","v":28346.937300000001},{"$f":"H140*(100-G140)/100","v":5669.3874600000008},11156.0699,{"$f":"J140+I140","v":16825.45736},null,null,null,null,null,null,null,null,null,null,null,null,null,null,null,null,null,null,null,null,null,null,null,null,null,null,null,null,null,null,null,null,null,null,null,null,null,null,null,null,null,null,null,null,null,null,null,null,null,"  SO2                     ",0,0,null,null,null,"  SO2                     ",0,0,null,null,"  SULFU-01                ",0,0,0,null,null,"  SULFU-01                ",0,0,null,null,"  C                       ",0,0,0]
[null,null,null,null,null,null,76.5,{"$f":"H140+5000","v":33346.937300000005},{"$f":"H141*(100-G141)/100","v":7836.5302655000005},11156.0699,{"$f":"J141+I141","v":18992.6001655},null,null,null,null,null,null,null,null,null,null,null,null,null,null,null,null,null,null,null,null,null,null,null,null,null,null,null,null,null,null,null,null,null,null,null,null,null,null,null,null,null,null,null,null,null,null,null,null,null,"  SULFU-01                ",0,0,null,null,null,"  SULFU-01                ",0,0,null,null,"  SO3                     ",0,0,0,null,null,"  SO3                     ",0,0,null,null,"  S                       ",0,0,0]
[null,null,null,null,null,null,74,{"$f":"H140+10000","v":38346.937300000005},{"$f":"H142*(100-G142)/100","v":9970.2036980000012},11156.0699,{"$f":"J142+I142","v":21126.273598},null,null,null,null,null,null,null,null,null,null,null,null,null,null,null,null,null,null,null,null,null,null,null,null,null,null,null,null,null,null,null,null,null,null,null,null,null,null,null,null,null,null,null,null,null,null,null,null,null,"  SO3                     ",0,0,null,null,null,"  SO3                     ",0,0,null,null,"  C                       ",0,0,0,null,null,"  C                       ",0,0,null,null,"  S2                      ",0,0,0]
[null,null,null,null,null,null,null,null,null,null,null,null,null,null,null,null,null,null,null,null,null,null,null,null,null,null,null,null,null,null,null,null,null,null,null,null,null,null,null,null,null,null,null,null,null,null,null,null,null,null,null,null,null,null,null,null,null,null,null,null,"  C                       ",0,0,null,null,null,"  C                       ",0,0,null,null,"  S                       ",0,0,0,null,null,"  S                       ",0,0,null,null,"  S6                      ",0,0,0]
[null,null,null,null,null,null,null,null,null,null,null,null,null,null,null,null,null,null,null,null,null,null,null,null,null,null,null,null,null,null,null,null,null,null,null,null,null,null,null,null,null,null,null,null,null,null,null,null,null,null,null,null,null,null,null,null,null,null,null,null,"  S                       ",0,0,null,null,null,"  S                       ",0,0,null,null,"  S2                      ",0,0,0,null,null,"  S2                      ",0,0,null,null,"  S8                      ",0,0,0]
[null,null,null,null,null,null,null,null,null,null,null,null,null,null,null,null,null,null,null,null,null,null,null,null,null,null,null,null,null,null,null,null,null,null,null,null,null,null,null,null,null,null,null,null,null,null,null,null,null,null,null,null,null,null,null,null,null,null,null,null,"  S2                      ",0,0,null,null,null,"  S2                      ",0,0,null,null,"  S6                      ",0,0,0,null,null,"  S6                      ",0,0,null,null,"  HCL                     ",0,0,0]
[null,null,null,null,null,null,null,null,null,null,null,null,null,null,null,null,null,null,null,null,null,null,null,null,null,null,null,null,null,null,null,null,null,null,null,null,null,null,null,null,null,null,null,null,null,null,null,null,null,null,null,null,null,null,null,null,null,null,null,null,"  S6                      ",0,0,null,null,null,"  S6                      ",0,0,null,null,"  S8                      ",0,0,0,null,null,"  S8                      ",0,0,null,null,"Mole Frac                 "," "," "," "]
[null,null,null,null,null,null,null,null,null,null,null,null,null,null,null,null,null,null,null,null,null,null,null,null,null,null,null,null,null,null,null,null,null,null,null,null,null,null,null,null,null,null,null,null,null,null,null,null,null,null,null,null,null,null,null,null,null,null,null,null,"  S8                      ",0,0,null,null,null,"  S8                      ",0,0,null,null,"  HCL                     ",0,0,0,null,null,"  HCL                     ",0,0,null,null,"  H2O                     ",0,0,0]
[null,null,null,null,null,null,null,null,null,null,null,null,null,null,null,null,null,null,null,null,null,null,null,null,null,null,null,null,null,null,null,null,null,null,null,null,null,null,null,null,null,null,null,null,null,null,null,null,null,null,null,null,null,null,null,null,null,null,null,null,"  HCL                     ",0,0,null,null,null,"  HCL                     ",0,0,null,null,"Mole Frac                 "," "," "," ",null,null,"Mole Frac                 "," "," ",null,null,"  AR                      ",0,0,0]
[null,null,null,null,null,null,null,null,null,null,null,null,null,null,null,null,null,null,null,null,null,null,null,null,null,null,null,null,null,null,null,null,null,null,null,null,null,null,null,null,null,null,null,null,null,null,null,null,null,null,null,null,null,null,null,null,null,null,null,null,"Mole Frac                 "," "," ",null,null,null,"Mole Frac                 "," "," ",null,null,"  H2O                     ",0,0,0,null,null,"  H2O                     ",0,0,null,null,"  CO2                     ",0,0,0]
[null,null,null,null,null,null,null,null,null,null,null,null,null,null,null,null,null,null,null,null,null,null,null,null,null,null,null,null,null,null,null,null,null,null,null,null,null,null,null,null,null,null,null,null,null,null,null,null,null,null,null,null,null,null,null,null,null,null,null,null,"  H2O                     ",0,0,null,null,null,"  H2O                     ",0,0,null,null,"  AR                      ",0,0,0,null,null,"  AR                      ",0,0,null,null,"  O2                      ",0,0,0]
[null,null,null,null,null,null,null,null,null,null,null,null,null,null,null,null,null,null,null,null,null,null,null,null,null,null,null,null,null,null,null,null,null,null,null,null,null,null,null,null,null,null,null,null,null,null,null,null,null,null,null,null,null,null,null,null,null,null,null,null,"  AR                      ",0,0,null,null,null,"  AR                      ",0,0,null,null,"  CO2                     ",0,0,0,null,null,"  CO2                     ",0,0,null,null,"  N2                      ",0,0,0]
[null,null,null,null,null,null,null,null,null,null,null,null,null,null,null,null,null,null,null,null,null,null,null,null,null,null,null,null,null,null,null,null,null,null,null,null,null,null,null,null,null,null,null,null,null,null,null,null,null,null,null,null,null,null,null,null,null,null,null,null,"  CO2                     ",0,0,null,null,null,"  CO2                     ",0,0,null,null,"  O2                      ",0,0,0,null,null,"  O2                      ",0,0,null,null,"  CH4                     ",0,0,0]
[null,null,null,null,null,null,null,null,null,null,null,null,null,null,null,null,null,null,null,null,null,null,null,null,null,null,null,null,null,null,null,null,null,null,null,null,null,null,null,null,null,null,null,null,null,null,null,null,null,null,null,null,null,null,null,null,null,null,null,null,"  O2                      ",0,0,null,null,null,"  O2                      ",0,0,null,null,"  N2                      ",0,0,0,null,null,"  N2                      ",0,0,null,null,"  CO                      ",0,0,0]
[null,null,null,null,null,null,null,null,null,null,null,null,null,null,null,null,null,null,null,null,null,null,null,null,null,null,null,null,null,null,null,null,null,null,null,null,null,null,null,null,null,null,null,null,null,null,null,null,null,null,null,null,null,null,null,null,null,null,null,null,"  N2                      ",0,0,null,null,null,"  N2                      ",0,0,null,null,"  CH4                     ",0,0,0,null,null,"  CH4                     ",0,0,null,null,"  COS                     ",0,0,0]
[null,null,null,null,null,null,null,null,null,null,null,null,null,null,null,null,null,null,null,null,null,null,null,null,null,null,null,null,null,null,null,null,null,null,null,null,null,null,null,null,null,null,null,null,null,null,null,null,null,null,null,null,null,null,null,null,null,null,null,null,"  CH4                     ",0,0,null,null,null,"  CH4                     ",0,0,null,null,"  CO                      ",0,0,0,null,null,"  CO                      ",0,0,null,null,"  H2                      ",0,0,0]
[null,null,null,null,null,null,null,null,null,null,null,null,null,null,null,null,null,null,null,null,null,null,null,null,null,null,null,null,null,null,null,null,null,null,null,null,null,null,null,null,null,null,null,null,null,null,null,null,null,null,null,null,null,null,null,null,null,null,null,null,"  CO                      ",0,0,null,null,null,"  CO                      ",0,0,null,null,"  COS                     ",0,0,0,null,null,"  COS                     ",0,0,null,null,"  H2S                     ",0,0,0]
[null,null,null,null,null,null,null,null,null,null,null,null,null,null,null,null,null,null,null,null,null,null,null,null,null,null,null,null,null,null,null,null,null,null,null,null,null,null,null,null,null,null,null,null,null,null,null,null,null,null,null,null,null,null,null,null,null,null,null,null,"  COS                     ",0,0,null,null,null,"  COS                     ",0,0,null,null,"  H2                      ",0,0,0,null,null,"  H2                      ",0,0,null,null,"  NH3                     ",0,0,0]
[null,null,null,null,null,null,null,null,null,null,null,null,null,null,null,null,null,null,null,null,null,null,null,null,null,null,null,null,null,null,null,null,null,null,null,null,null,null,null,null,null,null,null,null,null,null,null,null,null,null,null,null,null,null,null,null,null,null,null,null,"  H2                      ",0,0,null,null,null,"  H2                      ",0,0,null,null,"  H2S                     ",0,0,0,null,null,"  H2S                     ",0,0,null,null,"  SO2                     ",0,0,0]
[null,null,null,null,null,null,null,null,null,null,null,null,null,null,null,null,null,null,null,null,null,null,null,null,null,null,null,null,null,null,null,null,null,null,null,null,null,null,null,null,null,null,null,null,null,null,null,null,null,null,null,null,null,null,null,null,null,null,null,null,"  H2S                     ",0,0,null,null,null,"  H2S                     ",0,0,null,null,"  NH3                     ",0,0,0,null,null,"  NH3                     ",0,0,null,null,"  SULFU-01                ",0,0,0]
[null,null,null,null,null,null,null,null,null,null,null,null,null,null,null,null,null,null,null,null,null,null,null,null,null,null,null,null,null,null,null,null,null,null,null,null,null,null,null,null,null,null,null,null,null,null,null,null,null,null,null,null,null,null,null,null,null,null,null,null,"  NH3                     ",0,0,null,null,null,"  NH3                     ",0,0,null,null,"  SO2                     ",0,0,0,null,null,"  SO2                     ",0,0,null,null,"  SO3                     ",0,0,0]
[null,null,null,null,null,null,null,null,null,null,null,null,null,null,null,null,null,null,null,null,null,null,null,null,null,null,null,null,null,null,null,null,null,null,null,null,null,null,null,null,null,null,null,null,null,null,null,null,null,null,null,null,null,null,null,null,null,null,null,null,"  SO2                     ",0,0,null,null,null,"  SO2                     ",0,0,null,null,"  SULFU-01                ",0,0,0,null,null,"  SULFU-01                ",0,0,null,null,"  C                       ",0,0,0]
[null,null,null,null,null,null,null,null,null,null,null,null,null,null,null,null,null,null,null,null,null,null,null,null,null,null,null,null,null,null,null,null,null,null,null,null,null,null,null,null,null,null,null,null,null,null,null,null,null,null,null,null,null,null,null,null,null,null,null,null,"  SULFU-01                ",0,0,null,null,null,"  SULFU-01                ",0,0,null,null,"  SO3                     ",0,0,0,null,null,"  SO3                     ",0,0,null,null,"  S                       ",0,0,0]
[null,null,null,null,null,null,null,{"$f":"H164/H165","v":0.98141641092152743},{"$f":"I164/I165","v":1.0000000461823544},{"$f":"J164/J165","v":0.62598923770994852},null,null,null,null,null,null,null,null,null,null,null,null,null,null,null,null,null,null,null,null,null,null,null,null,null,null,null,null,null,null,null,null,null,null,null,null,null,null,null,null,null,null,null,null,null,null,null,null,null,null,"  SO3                     ",0,0,null,null,null,"  SO3                     ",0,0,null,null,"  C                       ",0,0,0,null,null,"  C                       ",0,0,null,null,"  S2                      ",0,0,0]
[null,null,null,null,null,null,null,83354440.063848406,50012666.309702568,16670887.993355159,null,null,null,null,null,null,null,null,null,null,null,null,null,null,null,null,null,null,null,null,null,null,null,null,null,null,null,null,null,null,null,null,null,null,null,null,null,null,null,null,null,null,null,null,null,null,null,null,null,null,"  C                       ",0,0,null,null,null,"  C                       ",0,0,null,null,"  S                       ",0,0,0,null,null,"  S                       ",0,0,null,null,"  S6                      ",0,0,0]
[null,null,null,null,null,null,null,84932796.248618364,50012664,26631269.339936476,null,null,null,null,null,null,null,null,null,null,null,null,null,null,null,null,null,null,null,null,null,null,null,null,null,null,null,null,null,null,null,null,null,null,null,null,null,null,null,null,null,null,null,null,null,null,null,null,null,null,"  S                       ",0,0,null,null,null,"  S                       ",0,0,null,null,"  S2                      ",0,0,0,null,null,"  S2                      ",0,0,null,null,"  S8                      ",0,0,0]
[null,null,null,null,null,null,null,1.0462750716263152,1.366279581964108,1.8049239817587344,null,null,null,null,null,null,null,null,null,null,null,null,null,null,null,null,null,null,null,null,null,null,null,null,null,null,null,null,null,null,null,null,null,null,null,null,null,null,null,null,null,null,null,null,null,null,null,null,null,null,"  S2                      ",0,0,null,null,null,"  S2                      ",0,0,null,null,"  S6                      ",0,0,0,null,null,"  S6                      ",0,0,null,null,"  HCL                     ",0,0,0]
[null,null,null,null,null,null,null,null,null,null,null,null,null,null,null,null,null,null,null,null,null,null,null,null,null,null,null,null,null,null,null,null,null,null,null,null,null,null,null,null,null,null,null,null,null,null,null,null,null,null,null,null,null,null,null,null,null,null,null,null,"  S6                      ",0,0,null,null,null,"  S6                      ",0,0,null,null,"  S8                      ",0,0,0,null,null,"  S8                      ",0,0,null,null,"Mass Flow   lb/hr         "," "," "," "]
[null,null,null,null,null,null,null,null,null,null,null,null,null,null,null,null,null,null,null,null,null,null,null,null,null,null,null,null,null,null,null,null,null,null,null,null,null,null,null,null,null,null,null,null,null,null,null,null,null,null,null,null,null,null,null,null,null,null,null,null,"  S8                      ",0,0,null,null,null,"  S8                      ",0,0,null,null,"  HCL                     ",0,0,0,null,null,"  HCL                     ",0,0,null,null,"  H2O                     ",0,0,0]
[null,null,null,null,null,null,null,null,null,null,null,null,null,null,null,null,null,null,null,null,null,null,null,null,null,null,null,null,null,null,null,null,null,null,null,null,null,null,null,null,null,null,null,null,null,null,null,null,null,null,null,null,null,null,null,null,null,null,null,null,"  HCL                     ",0,0,null,null,null,"  HCL                     ",0,0,null,null,"Mass Flow   lb/hr         "," "," "," ",null,null,"Mass Flow   lb/hr         "," "," ",null,null,"  AR                      ",0,0,0]
[null,null,null,null,null,null,null,null,null,null,null,null,null,null,null,null,null,null,null,null,null,null,null,null,null,null,null,null,null,null,null,null,null,null,null,null,null,null,null,null,null,null,null,null,null,null,null,null,null,null,null,null,null,null,null,null,null,null,null,null,"Mass Flow   lb/hr         "," "," ",null,null,null,"Mass Flow   lb/hr         "," "," ",null,null,"  H2O                     ",0,0,0,null,null,"  H2O                     ",0,0,null,null,"  CO2                     ",0,0,0]
[null,null,null,null,null,null,null,null,null,null,null,null,null,null,null,null,null,null,null,null,null,null,null,null,null,null,null,null,null,null,null,null,null,null,null,null,null,null,null,null,null,null,null,null,null,null,null,null,null,null,null,null,null,null,null,null,null,null,null,null,"  H2O                     ",0,0,null,null,null,"  H2O                     ",0,0,null,null,"  AR                      ",0,0,0,null,null,"  AR                      ",0,0,null,null,"  O2                      ",0,0,0]
[null,null,null,null,null,null,null,null,null,null,null,null,null,null,null,null,null,null,null,null,null,null,null,null,null,null,null,null,null,null,null,null,null,null,null,null,null,null,null,null,null,null,null,null,null,null,null,null,null,null,null,null,null,null,null,null,null,null,null,null,"  AR                      ",0,0,null,null,null,"  AR                      ",0,0,null,null,"  CO2                     ",0,0,0,null,null,"  CO2                     ",0,0,null,null,"  N2                      ",0,0,0]
[null,null,null,null,null,null,null,null,null,null,null,null,null,null,null,null,null,null,null,null,null,null,null,null,null,null,null,null,null,null,null,null,null,null,null,null,null,null,null,null,null,null,null,null,null,null,null,null,null,null,null,null,null,null,null,null,null,null,null,null,"  CO2                     ",0,0,null,null,null,"  CO2                     ",0,0,null,null,"  O2                      ",0,0,0,null,null,"  O2                      ",0,0,null,null,"  CH4                     ",0,0,0]
[null,null,null,null,null,null,null,null,null,null,null,null,null,null,null,null,null,null,null,null,null,null,null,null,null,null,null,null,null,null,null,null,null,null,null,null,null,null,null,null,null,null,null,null,null,null,null,null,null,null,null,null,null,null,null,null,null,null,null,null,"  O2                      ",0,0,null,null,null,"  O2                      ",0,0,null,null,"  N2                      ",0,0,0,null,null,"  N2                      ",0,0,null,null,"  CO                      ",0,0,0]
[null,null,null,null,null,null,null,null,null,null,null,null,null,null,null,null,null,null,null,null,null,null,null,null,null,null,null,null,null,null,null,null,null,null,null,null,null,null,null,null,null,null,null,null,null,null,null,null,null,null,null,null,null,null,null,null,null,null,null,null,"  N2                      ",0,0,null,null,null,"  N2                      ",0,0,null,null,"  CH4                     ",0,0,0,null,null,"  CH4                     ",0,0,null,null,"  COS                     ",0,0,0]
[null,null,null,null,null,null,null,null,null,null,null,null,null,null,null,null,null,null,null,null,null,null,null,null,null,null,null,null,null,null,null,null,null,null,null,null,null,null,null,null,null,null,null,null,null,null,null,null,null,null,null,null,null,null,null,null,null,null,null,null,"  CH4                     ",0,0,null,null,null,"  CH4                     ",0,0,null,null,"  CO                      ",0,0,0,null,null,"  CO                      ",0,0,null,null,"  H2                      ",0,0,0]
[null,null,null,null,null,null,null,null,null,null,null,null,null,null,null,null,null,null,null,null,null,null,null,null,null,null,null,null,null,null,null,null,null,null,null,null,null,null,null,null,null,null,null,null,null,null,null,null,null,null,null,null,null,null,null,null,null,null,null,null,"  CO                      ",0,0,null,null,null,"  CO                      ",0,0,null,null,"  COS                     ",0,0,0,null,null,"  COS                     ",0,0,null,null,"  H2S                     ",0,0,0]
[null,null,null,null,null,null,null,null,null,null,null,null,null,null,null,null,null,null,null,null,null,null,null,null,null,null,null,null,null,null,null,null,null,null,null,null,null,null,null,null,null,null,null,null,null,null,null,null,null,null,null,null,null,null,null,null,null,null,null,null,"  COS                     ",0,0,null,null,null,"  COS                     ",0,0,null,null,"  H2                      ",0,0,0,null,null,"  H2                      ",0,0,null,null,"  NH3                     ",0,0,0]
[null,null,null,null,null,null,null,null,null,null,null,null,null,null,null,null,null,null,null,null,null,null,null,null,null,null,null,null,null,null,null,null,null,null,null,null,null,null,null,null,null,null,null,null,null,null,null,null,null,null,null,null,null,null,null,null,null,null,null,null,"  H2                      ",0,0,null,null,null,"  H2                      ",0,0,null,null,"  H2S                     ",0,0,0,null,null,"  H2S                     ",0,0,null,null,"  SO2                     ",0,0,0]
[null,null,null,null,null,null,null,null,null,null,null,null,null,null,null,null,null,null,null,null,null,null,null,null,null,null,null,null,null,null,null,null,null,null,null,null,null,null,null,null,null,null,null,null,null,null,null,null,null,null,null,null,null,null,null,null,null,null,null,null,"  H2S                     ",0,0,null,null,null,"  H2S                     ",0,0,null,null,"  NH3                     ",0,0,0,null,null,"  NH3                     ",0,0,null,null,"  SULFU-01                ",0,0,0]
[null,null,null,null,null,null,null,null,null,null,null,null,null,null,null,null,null,null,null,null,null,null,null,null,null,null,null,null,null,null,null,null,null,null,null,null,null,null,null,null,null,null,null,null,null,null,null,null,null,null,null,null,null,null,null,null,null,null,null,null,"  NH3                     ",0,0,null,null,null,"  NH3                     ",0,0,null,null,"  SO2                     ",0,0,0,null,null,"  SO2                     ",0,0,null,null,"  SO3                     ",0,0,0]
[null,null,null,null,null,null,null,null,null,null,null,null,null,null,null,null,null,null,null,null,null,null,null,null,null,null,null,null,null,null,null,null,null,null,null,null,null,null,null,null,null,null,null,null,null,null,null,null,null,null,null,null,null,null,null,null,null,null,null,null,"  SO2                     ",0,0,null,null,null,"  SO2                     ",0,0,null,null,"  SULFU-01                ",0,0,0,null,null,"  SULFU-01                ",0,0,null,null,"  C                       ",0,0,0]
[null,null,null,null,null,null,null,null,null,null,null,null,null,null,null,null,null,null,null,null,null,null,null,null,null,null,null,null,null,null,null,null,null,null,null,null,null,null,null,null,null,null,null,null,null,null,null,null,null,null,null,null,null,null,null,null,null,null,null,null,"  SULFU-01                ",0,0,null,null,null,"  SULFU-01                ",0,0,null,null,"  SO3                     ",0,0,0,null,null,"  SO3                     ",0,0,null,null,"  S                       ",0,0,0]
[null,null,null,null,null,null,null,{"$f":"H185/H186","v":0.84298080350522808},{"$f":"I185/I186","v":0.99936500881100865},{"$f":"J185/J186","v":2.5928155558780337},null,null,null,null,null,null,null,null,null,null,null,null,null,null,null,null,null,null,null,null,null,null,null,null,null,null,null,null,null,null,null,null,null,null,null,null,null,null,null,null,null,null,null,null,null,null,null,null,null,null,"  SO3                     ",0,0,null,null,null,"  SO3                     ",0,0,null,null,"  C                       ",0,0,0,null,null,"  C                       ",0,0,null,null,"  S2                      ",0,0,0]
[null,null,null,null,null,null,null,14016736.565315004,9536892.729296336,6397407.4971958697,null,null,null,null,null,null,null,null,null,null,null,null,null,null,null,null,null,null,null,null,null,null,null,null,null,null,null,null,null,null,null,null,null,null,null,null,null,null,null,null,null,null,null,null,null,null,null,null,null,null,"  C                       ",0,0,null,null,null,"  C                       ",0,0,null,null,"  S                       ",0,0,0,null,null,"  S                       ",0,0,null,null,"  S6                      ",0,0,0]
[null,null,null,null,null,null,null,16627586.9,9542952.4199999999,2467359.27,null,null,null,null,null,null,null,null,null,null,null,null,null,null,null,null,null,null,null,null,null,null,null,null,null,null,null,null,null,null,null,null,null,null,null,null,null,null,null,null,null,null,null,null,null,null,null,null,null,null,"  S                       ",0,0,null,null,null,"  S                       ",0,0,null,null,"  S2                      ",0,0,0,null,null,"  S2                      ",0,0,null,null,"  S8                      ",0,0,0]
[null,null,null,null,null,null,null,1.0462750716263152,1.366279581964108,1.8049239817587344,null,null,null,null,null,null,null,null,null,null,null,null,null,null,null,null,null,null,null,null,null,null,null,null,null,null,null,null,null,null,null,null,null,null,null,null,null,null,null,null,null,null,null,null,null,null,null,null,null,null,"  S2                      ",0,0,null,null,null,"  S2                      ",0,0,null,null,"  S6                      ",0,0,0,null,null,"  S6                      ",0,0,null,null,"  HCL                     ",0,0,0]
[null,null,null,null,null,null,null,null,null,null,null,null,null,null,null,null,null,null,null,null,null,null,null,null,null,null,null,null,null,null,null,null,null,null,null,null,null,null,null,null,null,null,null,null,null,null,null,null,null,null,null,null,null,null,null,null,null,null,null,null,"  S6                      ",0,0,null,null,null,"  S6                      ",0,0,null,null,"  S8                      ",0,0,0,null,null,"  S8                      ",0,0,null,null,"Mass Frac                 "," "," "," "]
[null,null,null,null,null,null,null,null,null,null,null,null,null,null,null,null,null,null,null,null,null,null,null,null,null,null,null,null,null,null,null,null,null,null,null,null,null,null,null,null,null,null,null,null,null,null,null,null,null,null,null,null,null,null,null,null,null,null,null,null,"  S8                      ",0,0,null,null,null,"  S8                      ",0,0,null,null,"  HCL                     ",0,0,0,null,null,"  HCL                     ",0,0,null,null,"  H2O                     "," "," "," "]
[null,null,null,null,null,null,null,null,null,null,null,null,null,null,null,null,null,null,null,null,null,null,null,null,null,null,null,null,null,null,null,null,null,null,null,null,null,null,null,null,null,null,null,null,null,null,null,null,null,null,null,null,null,null,null,null,null,null,null,null,"  HCL                     ",0,0,null,null,null,"  HCL                     ",0,0,null,null,"Mass Frac                 "," "," "," ",null,null,"Mass Frac                 "," "," ",null,null,"  AR                      "," "," "," "]
[null,null,null,null,null,null,null,null,null,null,null,null,null,null,null,null,null,null,null,null,null,null,null,null,null,null,null,null,null,null,null,null,null,null,null,null,null,null,null,null,null,null,null,null,null,null,null,null,null,null,null,null,null,null,null,null,null,null,null,null,"Mass Frac                 "," "," ",null,null,null,"Mass Frac                 "," "," ",null,null,"  H2O                     "," "," "," ",null,null,"  H2O                     "," "," ",null,null,"  CO2                     "," "," "," "]
[null,null,null,null,null,null,null,null,null,null,null,null,null,null,null,null,null,null,null,null,null,null,null,null,null,null,null,null,null,null,null,null,null,null,null,null,null,null,null,null,null,null,null,null,null,null,null,null,null,null,null,null,null,null,null,null,null,null,null,null,"  H2O                     "," "," ",null,null,null,"  H2O                     "," "," ",null,null,"  AR                      "," "," "," ",null,null,"  AR                      "," "," ",null,null,"  O2                      "," "," "," "]
[null,null,null,null,null,null,null,null,null,null,null,null,null,null,null,null,null,null,null,null,null,null,null,null,null,null,null,null,null,null,null,null,null,null,null,null,null,null,null,null,null,null,null,null,null,null,null,null,null,null,null,null,null,null,null,null,null,null,null,null,"  AR                      "," "," ",null,null,null,"  AR                      "," "," ",null,null,"  CO2                     "," "," "," ",null,null,"  CO2                     "," "," ",null,null,"  N2                      "," "," "," "]
[null,null,null,null,null,null,null,null,null,null,null,null,null,null,null,null,null,null,null,null,null,null,null,null,null,null,null,null,null,null,null,null,null,null,null,null,null,null,null,null,null,null,null,null,null,null,null,null,null,null,null,null,null,null,null,null,null,null,null,null,"  CO2                     "," "," ",null,null,null,"  CO2                     "," "," ",null,null,"  O2                      "," "," "," ",null,null,"  O2                      "," "," ",null,null,"  CH4                     "," "," "," "]
[null,null,null,null,null,null,null,null,null,null,null,null,null,null,null,null,null,null,null,null,null,null,null,null,null,null,null,null,null,null,null,null,null,null,null,null,null,null,null,null,null,null,null,null,null,null,null,null,null,null,null,null,null,null,null,null,null,null,null,null,"  O2                      "," "," ",null,null,null,"  O2                      "," "," ",null,null,"  N2                      "," "," "," ",null,null,"  N2                      "," "," ",null,null,"  CO                      "," "," "," "]
[null,null,null,null,null,null,null,null,null,null,null,null,null,null,null,null,null,null,null,null,null,null,null,null,null,null,null,null,null,null,null,null,null,null,null,null,null,null,null,null,null,null,null,null,null,null,null,null,null,null,null,null,null,null,null,null,null,null,null,null,"  N2                      "," "," ",null,null,null,"  N2                      "," "," ",null,null,"  CH4                     "," "," "," ",null,null,"  CH4                     "," "," ",null,null,"  COS                     "," "," "," "]
[null,null,null,null,null,null,null,null,null,null,null,null,null,null,null,null,null,null,null,null,null,null,null,null,null,null,null,null,null,null,null,null,null,null,null,null,null,null,null,null,null,null,null,null,null,null,null,null,null,null,null,null,null,null,null,null,null,null,null,null,"  CH4                     "," "," ",null,null,null,"  CH4                     "," "," ",null,null,"  CO                      "," "," "," ",null,null,"  CO                      "," "," ",null,null,"  H2                      "," "," "," "]
[null,null,null,null,null,null,null,null,null,null,null,null,null,null,null,null,null,null,null,null,null,null,null,null,null,null,null,null,null,null,null,null,null,null,null,null,null,null,null,null,null,null,null,null,null,null,null,null,null,null,null,null,null,null,null,null,null,null,null,null,"  CO                      "," "," ",null,null,null,"  CO                      "," "," ",null,null,"  COS                     "," "," "," ",null,null,"  COS                     "," "," ",null,null,"  H2S                     "," "," "," "]
[null,null,null,null,null,null,null,null,null,null,null,null,null,null,null,null,null,null,null,null,null,null,null,null,null,null,null,null,null,null,null,null,null,null,null,null,null,null,null,null,null,null,null,null,null,null,null,null,null,null,null,null,null,null,null,null,null,null,null,null,"  COS                     "," "," ",null,null,null,"  COS                     "," "," ",null,null,"  H2                      "," "," "," ",null,null,"  H2                      "," "," ",null,null,"  NH3                     "," "," "," "]
[null,null,null,null,null,null,null,null,null,null,null,null,null,null,null,null,null,null,null,null,null,null,null,null,null,null,null,null,null,null,null,null,null,null,null,null,null,null,null,null,null,null,null,null,null,null,null,null,null,null,null,null,null,null,null,null,null,null,null,null,"  H2                      "," "," ",null,null,null,"  H2                      "," "," ",null,null,"  H2S                     "," "," "," ",null,null,"  H2S                     "," "," ",null,null,"  SO2                     "," "," "," "]
[null,null,null,null,null,null,null,null,null,null,null,null,null,null,null,null,null,null,null,null,null,null,null,null,null,null,null,null,null,null,null,null,null,null,null,null,null,null,null,null,null,null,null,null,null,null,null,null,null,null,null,null,null,null,null,null,null,null,null,null,"  H2S                     "," "," ",null,null,null,"  H2S                     "," "," ",null,null,"  NH3                     "," "," "," ",null,null,"  NH3                     "," "," ",null,null,"  SULFU-01                "," "," "," "]
[null,null,null,null,null,null,null,null,null,null,null,null,null,null,null,null,null,null,null,null,null,null,null,null,null,null,null,null,null,null,null,null,null,null,null,null,null,null,null,null,null,null,null,null,null,null,null,null,null,null,null,null,null,null,null,null,null,null,null,null,"  NH3                     "," "," ",null,null,null,"  NH3                     "," "," ",null,null,"  SO2                     "," "," "," ",null,null,"  SO2                     "," "," ",null,null,"  SO3                     "," "," "," "]
[null,null,null,null,null,null,null,null,null,null,null,null,null,null,null,null,null,null,null,null,null,null,null,null,null,null,null,null,null,null,null,null,null,null,null,null,null,null,null,null,null,null,null,null,null,null,null,null,null,null,null,null,null,null,null,null,null,null,null,null,"  SO2                     "," "," ",null,null,null,"  SO2                     "," "," ",null,null,"  SULFU-01                "," "," "," ",null,null,"  SULFU-01                "," "," ",null,null,"  C                       "," "," "," "]
[null,null,null,null,null,null,null,null,null,null,null,null,null,null,null,null,null,null,null,null,null,null,null,null,null,null,null,null,null,null,null,null,null,null,null,null,null,null,null,null,null,null,null,null,null,null,null,null,null,null,null,null,null,null,null,null,null,null,null,null,"  SULFU-01                "," "," ",null,null,null,"  SULFU-01                "," "," ",null,null,"  SO3                     "," "," "," ",null,null,"  SO3                     "," "," ",null,null,"  S                       "," "," "," "]
[null,null,null,null,null,null,null,{"$f":"H206/H207","v":1.0308916731434417},{"$f":"I206/I207","v":0.99956979015068692},{"$f":"J206/J207","v":0.98679206576192768},null,null,null,null,null,null,null,null,null,null,null,null,null,null,null,null,null,null,null,null,null,null,null,null,null,null,null,null,null,null,null,null,null,null,null,null,null,null,null,null,null,null,null,null,null,null,null,null,null,null,"  SO3                     "," "," ",null,null,null,"  SO3                     "," "," ",null,null,"  C                       "," "," "," ",null,null,"  C                       "," "," ",null,null,"  S2                      "," "," "," "]
[null,null,null,null,null,null,null,267372938.54262188,260345218.7171208,258103418.34408224,null,null,null,null,null,null,null,null,null,null,null,null,null,null,null,null,null,null,null,null,null,null,null,null,null,null,null,null,null,null,null,null,null,null,null,null,null,null,null,null,null,null,null,null,null,null,null,null,null,null,"  C                       "," "," ",null,null,null,"  C                       "," "," ",null,null,"  S                       "," "," "," ",null,null,"  S                       "," "," ",null,null,"  S6                      "," "," "," "]
[null,null,null,null,null,null,null,259360848,260457270,261558060,null,null,null,null,null,null,null,null,null,null,null,null,null,null,null,null,null,null,null,null,null,null,null,null,null,null,null,null,null,null,null,null,null,null,null,null,null,null,null,null,null,null,null,null,null,null,null,null,null,null,"  S                       "," "," ",null,null,null,"  S                       "," "," ",null,null,"  S2                      "," "," "," ",null,null,"  S2                      "," "," ",null,null,"  S8                      "," "," "," "]
[null,null,null,null,null,null,null,1.0462750716263152,1.366279581964108,1.8049239817587344,null,null,null,null,null,null,null,null,null,null,null,null,null,null,null,null,null,null,null,null,null,null,null,null,null,null,null,null,null,null,null,null,null,null,null,null,null,null,null,null,null,null,null,null,null,null,null,null,null,null,"  S2                      "," "," ",null,null,null,"  S2                      "," "," ",null,null,"  S6                      "," "," "," ",null,null,"  S6                      "," "," ",null,null,"  HCL                     "," "," "," "]
[null,null,null,null,null,null,null,null,null,null,null,null,null,null,null,null,null,null,null,null,null,null,null,null,null,null,null,null,null,null,null,null,null,null,null,null,null,null,null,null,null,null,null,null,null,null,null,null,null,null,null,null,null,null,null,null,null,null,null,null,"  S6                      "," "," ",null,null,null,"  S6                      "," "," ",null,null,"  S8                      "," "," "," ",null,null,"  S8                      "," "," ",null,null,"Total Flow  lbmol/hr      ",0,0,0]
[null,null,null,null,null,null,null,null,null,null,null,null,null,null,null,null,null,null,null,null,null,null,null,null,null,null,null,null,null,null,null,null,null,null,null,null,null,null,null,null,null,null,null,null,null,null,null,null,null,null,null,null,null,null,null,null,null,null,null,null,"  S8                      "," "," ",null,null,null,"  S8                      "," "," ",null,null,"  HCL                     "," "," "," ",null,null,"  HCL                     "," "," ",null,null,"Total Flow  lb/hr         ",0,0,0]
[null,null,null,null,null,null,null,null,null,null,null,null,null,null,null,null,null,null,null,null,null,null,null,null,null,null,null,null,null,null,null,null,null,null,null,null,null,null,null,null,null,null,null,null,null,null,null,null,null,null,null,null,null,null,null,null,null,null,null,null,"  HCL                     "," "," ",null,null,null,"  HCL                     "," "," ",null,null,"Total Flow  lbmol/hr      ",0,0,0,null,null,"Total Flow  lbmol/hr      ",0,0,null,null,"Total Flow  cuft/hr       ",0,0,0]
[null,null,null,null,null,null,null,null,null,null,null,null,null,null,null,null,null,null,null,null,null,null,null,null,null,null,null,null,null,null,null,null,null,null,null,null,null,null,null,null,null,null,null,null,null,null,null,null,null,null,null,null,null,null,null,null,null,null,null,null,"Total Flow  lbmol/hr      ",0,0,null,null,null,"Total Flow  lbmol/hr      ",0,0,null,null,"Total Flow  lb/hr         ",0,0,0,null,null,"Total Flow  lb/hr         ",0,0,null,null,"Temperature               "," "," "," "]
[null,null,null,null,null,null,null,null,null,null,null,null,null,null,null,null,null,null,null,null,null,null,null,null,null,null,null,null,null,null,null,null,null,null,null,null,null,null,null,null,null,null,null,null,null,null,null,null,null,null,null,null,null,null,null,null,null,null,null,null,"Total Flow  lb/hr         ",0,0,null,null,null,"Total Flow  lb/hr         ",0,0,null,null,"Total Flow  cuft/hr       ",0,0,0,null,null,"Total Flow  cuft/hr       ",0,0,null,null,"Pressure    psia          ",520," ",520]
[null,null,null,null,null,null,null,null,null,null,null,null,null,null,null,null,null,null,null,null,null,null,null,null,null,null,null,null,null,null,null,null,null,null,null,null,null,null,null,null,null,null,null,null,null,null,null,null,null,null,null,null,null,null,null,null,null,null,null,null,"Total Flow  cuft/hr       ",0,0,null,null,null,"Total Flow  cuft/hr       ",0,0,null,null,"Temperature               "," "," "," ",null,null,"Temperature               "," "," ",null,null,"Vapor Frac                "," "," "," "]
[null,null,null,null,null,null,null,null,null,null,null,null,null,null,null,null,null,null,null,null,null,null,null,null,null,null,null,null,null,null,null,null,null,null,null,null,null,null,null,null,null,null,null,null,null,null,null,null,null,null,null,null,null,null,null,null,null,null,null,null,"Temperature               "," "," ",null,null,null,"Temperature               "," "," ",null,null,"Pressure    psia          "," ",10.645949999999999,10.645949999999999,null,null,"Pressure    psia          ",10.645949999999999," ",null,null,"Liquid Frac               "," "," "," "]
[null,null,null,null,null,null,null,null,null,null,null,null,null,null,null,null,null,null,null,null,null,null,null,null,null,null,null,null,null,null,null,null,null,null,null,null,null,null,null,null,null,null,null,null,null,null,null,null,null,null,null,null,null,null,null,null,null,null,null,null,"Pressure    psia          ",23.19595," ",null,null,null,"Pressure    psia          ",12.295949999999999," ",null,null,"Vapor Frac                "," "," "," ",null,null,"Vapor Frac                "," "," ",null,null,"Solid Frac                "," "," "," "]
[null,null,null,null,null,null,null,null,null,null,null,null,null,null,null,null,null,null,null,null,null,null,null,null,null,null,null,null,null,null,null,null,null,null,null,null,null,null,null,null,null,null,null,null,null,null,null,null,null,null,null,null,null,null,null,null,null,null,null,null,"Vapor Frac                "," "," ",null,null,null,"Vapor Frac                "," "," ",null,null,"Liquid Frac               "," "," "," ",null,null,"Liquid Frac               "," "," ",null,null,"Enthalpy                  "," "," "," "]
[null,null,null,null,null,null,null,null,null,null,null,null,null,null,null,null,null,null,null,null,null,null,null,null,null,null,null,null,null,null,null,null,null,null,null,null,null,null,null,null,null,null,null,null,null,null,null,null,null,null,null,null,null,null,null,null,null,null,null,null,"Liquid Frac               "," "," ",null,null,null,"Liquid Frac               "," "," ",null,null,"Solid Frac                "," "," "," ",null,null,"Solid Frac                "," "," ",null,null,"Enthalpy                  "," "," "," "]
[null,null,null,null,null,null,null,null,null,null,null,null,null,null,null,null,null,null,null,null,null,null,null,null,null,null,null,null,null,null,null,null,null,null,null,null,null,null,null,null,null,null,null,null,null,null,null,null,null,null,null,null,null,null,null,null,null,null,null,null,"Solid Frac                "," "," ",null,null,null,"Solid Frac                "," "," ",null,null,"Enthalpy                  "," "," "," ",null,null,"Enthalpy                  "," "," ",null,null,"Enthalpy                  "," "," "," "]
[null,null,null,null,null,null,null,null,null,null,null,null,null,null,null,null,null,null,null,null,null,null,null,null,null,null,null,null,null,null,null,null,null,null,null,null,null,null,null,null,null,null,null,null,null,null,null,null,null,null,null,null,null,null,null,null,null,null,null,null,"Enthalpy                  "," "," ",null,null,null,"Enthalpy                  "," "," ",null,null,"Enthalpy                  "," "," "," ",null,null,"Enthalpy                  "," "," ",null,null,"Entropy                   "," "," "," "]
[null,null,null,null,null,null,null,null,null,null,null,null,null,null,null,null,null,null,null,null,null,null,null,null,null,null,null,null,null,null,null,null,null,null,null,null,null,null,null,null,null,null,null,null,null,null,null,null,null,null,null,null,null,null,null,null,null,null,null,null,"Enthalpy                  "," "," ",null,null,null,"Enthalpy                  "," "," ",null,null,"Enthalpy                  "," "," "," ",null,null,"Enthalpy                  "," "," ",null,null,"Entropy                   "," "," "," "]
[null,null,null,null,null,null,null,null,null,null,null,null,null,null,null,null,null,null,null,null,null,null,null,null,null,null,null,null,null,null,null,null,null,null,null,null,null,null,null,null,null,null,null,null,null,null,null,null,null,null,null,null,null,null,null,null,null,null,null,null,"Enthalpy                  "," "," ",null,null,null,"Enthalpy                  "," "," ",null,null,"Entropy                   "," "," "," ",null,null,"Entropy                   "," "," ",null,null,"Density                   "," "," "," "]
[null,null,null,null,null,null,null,null,null,null,null,null,null,null,null,null,null,null,null,null,null,null,null,null,null,null,null,null,null,null,null,null,null,null,null,null,null,null,null,null,null,null,null,null,null,null,null,null,null,null,null,null,null,null,null,null,null,null,null,null,"Entropy                   "," "," ",null,null,null,"Entropy                   "," "," ",null,null,"Entropy                   "," "," "," ",null,null,"Entropy                   "," "," ",null,null,"Density                   "," "," "," "]
[null,null,null,null,null,null,null,null,null,null,null,null,null,null,null,null,null,null,null,null,null,null,null,null,null,null,null,null,null,null,null,null,null,null,null,null,null,null,null,null,null,null,null,null,null,null,null,null,null,null,null,null,null,null,null,null,null,null,null,null,"Entropy                   "," "," ",null,null,null,"Entropy                   "," "," ",null,null,"Density                   "," "," "," ",null,null,"Density                   "," "," ",null,null,"Average MW                "," "," "," "]
[null,null,null,null,null,null,null,{"$f":"H226/H227","v":1.1545589013266102},{"$f":"I226/I227","v":1.0007347512180544},{"$f":"J226/J227","v":0.9004747219774385},null,null,null,null,null,null,null,null,null,null,null,null,null,null,null,null,null,null,null,null,null,null,null,null,null,null,null,null,null,null,null,null,null,null,null,null,null,null,null,null,null,null,null,null,null,null,null,null,null,null,"Density                   "," "," ",null,null,null,"Density                   "," "," ",null,null,"Density                   "," "," "," ",null,null,"Density                   "," "," ",null,null,"Liq Vol 60F               "," "," "," "]
[null,null,null,null,null,null,null,170196474.07887179,138651020.20889023,116780405.55392125,null,null,null,null,null,null,null,null,null,null,null,null,null,null,null,null,null,null,null,null,null,null,null,null,null,null,null,null,null,null,null,null,null,null,null,null,null,null,null,null,null,null,null,null,null,null,null,null,null,null,"Density                   "," "," ",null,null,null,"Density                   "," "," ",null,null,"Average MW                "," "," "," ",null,null,"Average MW                "," "," ",null,null,"Substream: NC             "," "," "," "]
[null,null,null,null,null,null,null,147412552,138549221,129687600,null,null,null,null,null,null,null,null,null,null,null,null,null,null,null,null,null,null,null,null,null,null,null,null,null,null,null,null,null,null,null,null,null,null,null,null,null,null,null,null,null,null,null,null,null,null,null,null,null,null,"Average MW                "," "," ",null,null,null,"Average MW                "," "," ",null,null,"Liq Vol 60F               "," "," "," ",null,null,"Liq Vol 60F               "," "," ",null,null,"Mass Flow   lb/hr         "," "," "," "]
[null,null,null,null,null,null,null,1.0462750716263152,1.366279581964108,1.8049239817587344,null,null,null,null,null,null,null,null,null,null,null,null,null,null,null,null,null,null,null,null,null,null,null,null,null,null,null,null,null,null,null,null,null,null,null,null,null,null,null,null,null,null,null,null,null,null,null,null,null,null,"Liq Vol 60F               "," "," ",null,null,null,"Liq Vol 60F               "," "," ",null,null,"Substream: NC             "," "," "," ",null,null,"Substream: NC             "," "," ",null,null,"  RAWCOAL                 ",0,0,0]
[null,null,null,null,null,null,null,null,null,null,null,null,null,null,null,null,null,null,null,null,null,null,null,null,null,null,null,null,null,null,null,null,null,null,null,null,null,null,null,null,null,null,null,null,null,null,null,null,null,null,null,null,null,null,null,null,null,null,null,null,"Substream: NC             "," "," ",null,null,null,"Substream: NC             "," "," ",null,null,"Mass Flow   lb/hr         "," "," "," ",null,null,"Mass Flow   lb/hr         "," "," ",null,null,"  SLAG                    ",0,0,0]
[null,null,null,null,null,null,null,null,null,null,null,null,null,null,null,null,null,null,null,null,null,null,null,null,null,null,null,null,null,null,null,null,null,null,null,null,null,null,null,null,null,null,null,null,null,null,null,null,null,null,null,null,null,null,null,null,null,null,null,null,"Mass Flow   lb/hr         "," "," ",null,null,null,"Mass Flow   lb/hr         "," "," ",null,null,"  RAWCOAL                 ",0,0,0,null,null,"  RAWCOAL                 ",0,0,null,null,"  ASH                     ",0,0,0]
[null,null,null,null,null,null,null,null,null,null,null,null,null,null,null,null,null,null,null,null,null,null,null,null,null,null,null,null,null,null,null,null,null,null,null,null,null,null,null,null,null,null,null,null,null,null,null,null,null,null,null,null,null,null,null,null,null,null,null,null,"  RAWCOAL                 ",0,0,null,null,null,"  RAWCOAL                 ",0,0,null,null,"  SLAG                    ",0,0,0,null,null,"  SLAG                    ",0,0,null,null,"  DRYCOAL                 ",0,0,0]
[null,null,null,null,null,null,null,null,null,null,null,null,null,null,null,null,null,null,null,null,null,null,null,null,null,null,null,null,null,null,null,null,null,null,null,null,null,null,null,null,null,null,null,null,null,null,null,null,null,null,null,null,null,null,null,null,null,null,null,null,"  SLAG                    ",0,0,null,null,null,"  SLAG                    ",0,0,null,null,"  ASH                     ",0,0,0,null,null,"  ASH                     ",0,0,null,null,"Mass Frac                 "," "," "," "]
[null,null,null,null,null,null,null,null,null,null,null,null,null,null,null,null,null,null,null,null,null,null,null,null,null,null,null,null,null,null,null,null,null,null,null,null,null,null,null,null,null,null,null,null,null,null,null,null,null,null,null,null,null,null,null,null,null,null,null,null,"  ASH                     ",0,0,null,null,null,"  ASH                     ",0,0,null,null,"  DRYCOAL                 ",0,0,0,null,null,"  DRYCOAL                 ",0,0,null,null,"  RAWCOAL                 ",0,0,0]
[null,null,null,null,null,null,null,null,null,null,null,null,null,null,null,null,null,null,null,null,null,null,null,null,null,null,null,null,null,null,null,null,null,null,null,null,null,null,null,null,null,null,null,null,null,null,null,null,null,null,null,null,null,null,null,null,null,null,null,null,"  DRYCOAL                 ",0,0,null,null,null,"  DRYCOAL                 ",0,0,null,null,"Mass Frac                 "," "," "," ",null,null,"Mass Frac                 "," "," ",null,null,"  SLAG                    ",0,0,0]
[null,null,null,null,null,null,null,null,null,null,null,null,null,null,null,null,null,null,null,null,null,null,null,null,null,null,null,null,null,null,null,null,null,null,null,null,null,null,null,null,null,null,null,null,null,null,null,null,null,null,null,null,null,null,null,null,null,null,null,null,"Mass Frac                 "," "," ",null,null,null,"Mass Frac                 "," "," ",null,null,"  RAWCOAL                 ",0,0,0,null,null,"  RAWCOAL                 ",0,0,null,null,"  ASH                     ",0,0,0]
[null,null,null,null,null,null,null,null,null,null,null,null,null,null,null,null,null,null,null,null,null,null,null,null,null,null,null,null,null,null,null,null,null,null,null,null,null,null,null,null,null,null,null,null,null,null,null,null,null,null,null,null,null,null,null,null,null,null,null,null,"  RAWCOAL                 ",0,0,null,null,null,"  RAWCOAL                 ",0,0,null,null,"  SLAG                    ",0,0,0,null,null,"  SLAG                    ",0,0,null,null,"  DRYCOAL                 ",0,0,0]
[null,null,null,null,null,null,null,null,null,null,null,null,null,null,null,null,null,null,null,null,null,null,null,null,null,null,null,null,null,null,null,null,null,null,null,null,null,null,null,null,null,null,null,null,null,null,null,null,null,null,null,null,null,null,null,null,null,null,null,null,"  SLAG                    ",0,0,null,null,null,"  SLAG                    ",0,0,null,null,"  ASH                     ",0,0,0,null,null,"  ASH                     ",0,0,null,null,"Total Flow  lb/hr         ",0,0,0]
[null,null,null,null,null,null,null,null,null,null,null,null,null,null,null,null,null,null,null,null,null,null,null,null,null,null,null,null,null,null,null,null,null,null,null,null,null,null,null,null,null,null,null,null,null,null,null,null,null,null,null,null,null,null,null,null,null,null,null,null,"  ASH                     ",0,0,null,null,null,"  ASH                     ",0,0,null,null,"  DRYCOAL                 ",0,0,0,null,null,"  DRYCOAL                 ",0,0,null,null,"Temperature               "," "," "," "]
[null,null,null,null,null,null,null,null,null,null,null,null,null,null,null,null,null,null,null,null,null,null,null,null,null,null,null,null,null,null,null,null,null,null,null,null,null,null,null,null,null,null,null,null,null,null,null,null,null,null,null,null,null,null,null,null,null,null,null,null,"  DRYCOAL                 ",0,0,null,null,null,"  DRYCOAL                 ",0,0,null,null,"Total Flow  lb/hr         ",0,0,0,null,null,"Total Flow  lb/hr         ",0,0,null,null,"Pressure    psia          ",520," ",520]
[null,null,null,null,null,null,null,null,null,null,null,null,null,null,null,null,null,null,null,null,null,null,null,null,null,null,null,null,null,null,null,null,null,null,null,null,null,null,null,null,null,null,null,null,null,null,null,null,null,null,null,null,null,null,null,null,null,null,null,null,"Total Flow  lb/hr         ",0,0,null,null,null,"Total Flow  lb/hr         ",0,0,null,null,"Temperature               "," "," "," ",null,null,"Temperature               "," "," ",null,null,"Vapor Frac                "," "," "," "]
[null,null,null,null,null,null,null,null,null,null,null,null,null,null,null,null,null,null,null,null,null,null,null,null,null,null,null,null,null,null,null,null,null,null,null,null,null,null,null,null,null,null,null,null,null,null,null,null,null,null,null,null,null,null,null,null,null,null,null,null,"Temperature               "," "," ",null,null,null,"Temperature               "," "," ",null,null,"Pressure    psia          "," ",10.645949999999999,10.645949999999999,null,null,"Pressure    psia          ",10.645949999999999," ",null,null,"Liquid Frac               "," "," "," "]
[null,null,null,null,null,null,null,null,null,null,null,null,null,null,null,null,null,null,null,null,null,null,null,null,null,null,null,null,null,null,null,null,null,null,null,null,null,null,null,null,null,null,null,null,null,null,null,null,null,null,null,null,null,null,null,null,null,null,null,null,"Pressure    psia          ",23.19595," ",null,null,null,"Pressure    psia          ",12.295949999999999," ",null,null,"Vapor Frac                "," "," "," ",null,null,"Vapor Frac                "," "," ",null,null,"Solid Frac                "," "," "," "]
[null,null,null,null,null,null,null,null,null,null,null,null,null,null,null,null,null,null,null,null,null,null,null,null,null,null,null,null,null,null,null,null,null,null,null,null,null,null,null,null,null,null,null,null,null,null,null,null,null,null,null,null,null,null,null,null,null,null,null,null,"Vapor Frac                "," "," ",null,null,null,"Vapor Frac                "," "," ",null,null,"Liquid Frac               "," "," "," ",null,null,"Liquid Frac               "," "," ",null,null,"Enthalpy                  "," "," "," "]
[null,null,null,null,null,null,null,null,null,null,null,null,null,null,null,null,null,null,null,null,null,null,null,null,null,null,null,null,null,null,null,null,null,null,null,null,null,null,null,null,null,null,null,null,null,null,null,null,null,null,null,null,null,null,null,null,null,null,null,null,"Liquid Frac               "," "," ",null,null,null,"Liquid Frac               "," "," ",null,null,"Solid Frac                "," "," "," ",null,null,"Solid Frac                "," "," ",null,null,"Enthalpy                  "," "," "," "]
[null,null,null,null,null,null,null,{"$f":"H246/H247","v":1.1526553180734751},{"$f":"I246/I247","v":1.0007461169409693},{"$f":"J246/J247","v":0.90271292206618126},null,null,null,null,null,null,null,null,null,null,null,null,null,null,null,null,null,null,null,null,null,null,null,null,null,null,null,null,null,null,null,null,null,null,null,null,null,null,null,null,null,null,null,null,null,null,null,null,null,null,"Solid Frac                "," "," ",null,null,null,"Solid Frac                "," "," ",null,null,"Enthalpy                  "," "," "," ",null,null,"Enthalpy                  "," "," ",null,null,"Entropy                   "," "," "," "]
[null,null,null,null,null,null,null,26143889.468761884,21199242.62143749,17772238.196217947,null,null,null,null,null,null,null,null,null,null,null,null,null,null,null,null,null,null,null,null,null,null,null,null,null,null,null,null,null,null,null,null,null,null,null,null,null,null,null,null,null,null,null,null,null,null,null,null,null,null,"Enthalpy                  "," "," ",null,null,null,"Enthalpy                  "," "," ",null,null,"Enthalpy                  "," "," "," ",null,null,"Enthalpy                  "," "," ",null,null,"Density                   "," "," "," "]
[null,null,null,null,null,null,null,22681446.100000001,21183437.300000001,19687585.899999999,null,null,null,null,null,null,null,null,null,null,null,null,null,null,null,null,null,null,null,null,null,null,null,null,null,null,null,null,null,null,null,null,null,null,null,null,null,null,null,null,null,null,null,null,null,null,null,null,null,null,"Enthalpy                  "," "," ",null,null,null,"Enthalpy                  "," "," ",null,null,"Entropy                   "," "," "," ",null,null,"Entropy                   "," "," ",null,null,"Average MW                ",1,1,1]
[null,null,null,null,null,null,null,1.0462750716263152,1.366279581964108,1.8049239817587344,null,null,null,null,null,null,null,null,null,null,null,null,null,null,null,null,null,null,null,null,null,null,null,null,null,null,null,null,null,null,null,null,null,null,null,null,null,null,null,null,null,null,null,null,null,null,null,null,null,null,"Entropy                   "," "," ",null,null,null,"Entropy                   "," "," ",null,null,"Density                   "," "," "," ",null,null,"Density                   "," "," ",null,null,"RAWCOAL PROXANAL          "," "," "," "]
[null,null,null,null,null,null,null,null,null,null,null,null,null,null,null,null,null,null,null,null,null,null,null,null,null,null,null,null,null,null,null,null,null,null,null,null,null,null,null,null,null,null,null,null,null,null,null,null,null,null,null,null,null,null,null,null,null,null,null,null,"Density                   "," "," ",null,null,null,"Density                   "," "," ",null,null,"Average MW                ",1,1,1,null,null,"Average MW                ",1,1,null,null,"  MOISTURE                "," "," "," "]
[null,null,null,null,null,null,null,null,null,null,null,null,null,null,null,null,null,null,null,null,null,null,null,null,null,null,null,null,null,null,null,null,null,null,null,null,null,null,null,null,null,null,null,null,null,null,null,null,null,null,null,null,null,null,null,null,null,null,null,null,"Average MW                ",1,1,null,null,null,"Average MW                ",1,1,null,null,"RAWCOAL PROXANAL          "," "," "," ",null,null,"RAWCOAL PROXANAL          "," "," ",null,null,"  FC                      "," "," "," "]
[null,null,null,null,null,null,null,null,null,null,null,null,null,null,null,null,null,null,null,null,null,null,null,null,null,null,null,null,null,null,null,null,null,null,null,null,null,null,null,null,null,null,null,null,null,null,null,null,null,null,null,null,null,null,null,null,null,null,null,null,"RAWCOAL PROXANAL          "," "," ",null,null,null,"RAWCOAL PROXANAL          "," "," ",null,null,"  MOISTURE                "," "," "," ",null,null,"  MOISTURE                "," "," ",null,null,"  VM                      "," "," "," "]
[null,null,null,null,null,null,null,null,null,null,null,null,null,null,null,null,null,null,null,null,null,null,null,null,null,null,null,null,null,null,null,null,null,null,null,null,null,null,null,null,null,null,null,null,null,null,null,null,null,null,null,null,null,null,null,null,null,null,null,null,"  MOISTURE                "," "," ",null,null,null,"  MOISTURE                "," "," ",null,null,"  FC                      "," "," "," ",null,null,"  FC                      "," "," ",null,null,"  ASH                     "," "," "," "]
[null,null,null,null,null,null,null,null,null,null,null,null,null,null,null,null,null,null,null,null,null,null,null,null,null,null,null,null,null,null,null,null,null,null,null,null,null,null,null,null,null,null,null,null,null,null,null,null,null,null,null,null,null,null,null,null,null,null,null,null,"  FC                      "," "," ",null,null,null,"  FC                      "," "," ",null,null,"  VM                      "," "," "," ",null,null,"  VM                      "," "," ",null,null,"RAWCOAL ULTANAL           "," "," "," "]
[null,null,null,null,null,null,null,null,null,null,null,null,null,null,null,null,null,null,null,null,null,null,null,null,null,null,null,null,null,null,null,null,null,null,null,null,null,null,null,null,null,null,null,null,null,null,null,null,null,null,null,null,null,null,null,null,null,null,null,null,"  VM                      "," "," ",null,null,null,"  VM                      "," "," ",null,null,"  ASH                     "," "," "," ",null,null,"  ASH                     "," "," ",null,null,"  ASH                     "," "," "," "]
[null,null,null,null,null,null,null,null,null,null,null,null,null,null,null,null,null,null,null,null,null,null,null,null,null,null,null,null,null,null,null,null,null,null,null,null,null,null,null,null,null,null,null,null,null,null,null,null,null,null,null,null,null,null,null,null,null,null,null,null,"  ASH                     "," "," ",null,null,null,"  ASH                     "," "," ",null,null,"RAWCOAL ULTANAL           "," "," "," ",null,null,"RAWCOAL ULTANAL           "," "," ",null,null,"  CARBON                  "," "," "," "]
[null,null,null,null,null,null,null,null,null,null,null,null,null,null,null,null,null,null,null,null,null,null,null,null,null,null,null,null,null,null,null,null,null,null,null,null,null,null,null,null,null,null,null,null,null,null,null,null,null,null,null,null,null,null,null,null,null,null,null,null,"RAWCOAL ULTANAL           "," "," ",null,null,null,"RAWCOAL ULTANAL           "," "," ",null,null,"  ASH                     "," "," "," ",null,null,"  ASH                     "," "," ",null,null,"  HYDROGEN                "," "," "," "]
[null,null,null,null,null,null,null,null,null,null,null,null,null,null,null,null,null,null,null,null,null,null,null,null,null,null,null,null,null,null,null,null,null,null,null,null,null,null,null,null,null,null,null,null,null,null,null,null,null,null,null,null,null,null,null,null,null,null,null,null,"  ASH                     "," "," ",null,null,null,"  ASH                     "," "," ",null,null,"  CARBON                  "," "," "," ",null,null,"  CARBON                  "," "," ",null,null,"  NITROGEN                "," "," "," "]
[null,null,null,null,null,null,null,null,null,null,null,null,null,null,null,null,null,null,null,null,null,null,null,null,null,null,null,null,null,null,null,null,null,null,null,null,null,null,null,null,null,null,null,null,null,null,null,null,null,null,null,null,null,null,null,null,null,null,null,null,"  CARBON                  "," "," ",null,null,null,"  CARBON                  "," "," ",null,null,"  HYDROGEN                "," "," "," ",null,null,"  HYDROGEN                "," "," ",null,null,"  CHLORINE                "," "," "," "]
[null,null,null,null,null,null,null,null,null,null,null,null,null,null,null,null,null,null,null,null,null,null,null,null,null,null,null,null,null,null,null,null,null,null,null,null,null,null,null,null,null,null,null,null,null,null,null,null,null,null,null,null,null,null,null,null,null,null,null,null,"  HYDROGEN                "," "," ",null,null,null,"  HYDROGEN                "," "," ",null,null,"  NITROGEN                "," "," "," ",null,null,"  NITROGEN                "," "," ",null,null,"  SULFUR                  "," "," "," "]
[null,null,null,null,null,null,null,null,null,null,null,null,null,null,null,null,null,null,null,null,null,null,null,null,null,null,null,null,null,null,null,null,null,null,null,null,null,null,null,null,null,null,null,null,null,null,null,null,null,null,null,null,null,null,null,null,null,null,null,null,"  NITROGEN                "," "," ",null,null,null,"  NITROGEN                "," "," ",null,null,"  CHLORINE                "," "," "," ",null,null,"  CHLORINE                "," "," ",null,null,"  OXYGEN                  "," "," "," "]
[null,null,null,null,null,null,null,null,null,null,null,null,null,null,null,null,null,null,null,null,null,null,null,null,null,null,null,null,null,null,null,null,null,null,null,null,null,null,null,null,null,null,null,null,null,null,null,null,null,null,null,null,null,null,null,null,null,null,null,null,"  CHLORINE                "," "," ",null,null,null,"  CHLORINE                "," "," ",null,null,"  SULFUR                  "," "," "," ",null,null,"  SULFUR                  "," "," ",null,null,"RAWCOAL SULFANAL          "," "," "," "]
[null,null,null,null,null,null,null,null,null,null,null,null,null,null,null,null,null,null,null,null,null,null,null,null,null,null,null,null,null,null,null,null,null,null,null,null,null,null,null,null,null,null,null,null,null,null,null,null,null,null,null,null,null,null,null,null,null,null,null,null,"  SULFUR                  "," "," ",null,null,null,"  SULFUR                  "," "," ",null,null,"  OXYGEN                  "," "," "," ",null,null,"  OXYGEN                  "," "," ",null,null,"  PYRITIC                 "," "," "," "]
[null,null,null,null,null,null,null,null,null,null,null,null,null,null,null,null,null,null,null,null,null,null,null,null,null,null,null,null,null,null,null,null,null,null,null,null,null,null,null,null,null,null,null,null,null,null,null,null,null,null,null,null,null,null,null,null,null,null,null,null,"  OXYGEN                  "," "," ",null,null,null,"  OXYGEN                  "," "," ",null,null,"RAWCOAL SULFANAL          "," "," "," ",null,null,"RAWCOAL SULFANAL          "," "," ",null,null,"  SULFATE                 "," "," "," "]
[null,null,null,null,null,null,null,null,null,null,null,null,null,null,null,null,null,null,null,null,null,null,null,null,null,null,null,null,null,null,null,null,null,null,null,null,null,null,null,null,null,null,null,null,null,null,null,null,null,null,null,null,null,null,null,null,null,null,null,null,"RAWCOAL SULFANAL          "," "," ",null,null,null,"RAWCOAL SULFANAL          "," "," ",null,null,"  PYRITIC                 "," "," "," ",null,null,"  PYRITIC                 "," "," ",null,null,"  ORGANIC                 "," "," "," "]
[null,null,null,null,null,null,null,null,null,null,null,null,null,null,null,null,null,null,null,null,null,null,null,null,null,null,null,null,null,null,null,null,null,null,null,null,null,null,null,null,null,null,null,null,null,null,null,null,null,null,null,null,null,null,null,null,null,null,null,null,"  PYRITIC                 "," "," ",null,null,null,"  PYRITIC                 "," "," ",null,null,"  SULFATE                 "," "," "," ",null,null,"  SULFATE                 "," "," ",null,null,"SLAG PROXANAL             "," "," "," "]
[null,null,null,null,null,null,null,null,null,null,null,null,null,null,null,null,null,null,null,null,null,null,null,null,null,null,null,null,null,null,null,null,null,null,null,null,null,null,null,null,null,null,null,null,null,null,null,null,null,null,null,null,null,null,null,null,null,null,null,null,"  SULFATE                 "," "," ",null,null,null,"  SULFATE                 "," "," ",null,null,"  ORGANIC                 "," "," "," ",null,null,"  ORGANIC                 "," "," ",null,null,"  MOISTURE                "," "," "," "]
[null,null,null,null,null,null,null,null,null,null,null,null,null,null,null,null,null,null,null,null,null,null,null,null,null,null,null,null,null,null,null,null,null,null,null,null,null,null,null,null,null,null,null,null,null,null,null,null,null,null,null,null,null,null,null,null,null,null,null,null,"  ORGANIC                 "," "," ",null,null,null,"  ORGANIC                 "," "," ",null,null,"SLAG PROXANAL             "," "," "," ",null,null,"SLAG PROXANAL             "," "," ",null,null,"  FC                      "," "," "," "]
[null,null,null,null,null,null,null,null,null,null,null,null,null,null,null,null,null,null,null,null,null,null,null,null,null,null,null,null,null,null,null,null,null,null,null,null,null,null,null,null,null,null,null,null,null,null,null,null,null,null,null,null,null,null,null,null,null,null,null,null,"SLAG PROXANAL             "," "," ",null,null,null,"SLAG PROXANAL             "," "," ",null,null,"  MOISTURE                "," "," "," ",null,null,"  MOISTURE                "," "," ",null,null,"  VM                      "," "," "," "]
[null,null,null,null,null,null,null,null,null,null,null,null,null,null,null,null,null,null,null,null,null,null,null,null,null,null,null,null,null,null,null,null,null,null,null,null,null,null,null,null,null,null,null,null,null,null,null,null,null,null,null,null,null,null,null,null,null,null,null,null,"  MOISTURE                "," "," ",null,null,null,"  MOISTURE                "," "," ",null,null,"  FC                      "," "," "," ",null,null,"  FC                      "," "," ",null,null,"  ASH                     "," "," "," "]
[null,null,null,null,null,null,null,null,null,null,null,null,null,null,null,null,null,null,null,null,null,null,null,null,null,null,null,null,null,null,null,null,null,null,null,null,null,null,null,null,null,null,null,null,null,null,null,null,null,null,null,null,null,null,null,null,null,null,null,null,"  FC                      "," "," ",null,null,null,"  FC                      "," "," ",null,null,"  VM                      "," "," "," ",null,null,"  VM                      "," "," ",null,null,"SLAG ULTANAL              "," "," "," "]
[null,null,null,null,null,null,null,null,null,null,null,null,null,null,null,null,null,null,null,null,null,null,null,null,null,null,null,null,null,null,null,null,null,null,null,null,null,null,null,null,null,null,null,null,null,null,null,null,null,null,null,null,null,null,null,null,null,null,null,null,"  VM                      "," "," ",null,null,null,"  VM                      "," "," ",null,null,"  ASH                     "," "," "," ",null,null,"  ASH                     "," "," ",null,null,"  ASH                     "," "," "," "]
[null,null,null,null,null,null,null,null,null,null,null,null,null,null,null,null,null,null,null,null,null,null,null,null,null,null,null,null,null,null,null,null,null,null,null,null,null,null,null,null,null,null,null,null,null,null,null,null,null,null,null,null,null,null,null,null,null,null,null,null,"  ASH                     "," "," ",null,null,null,"  ASH                     "," "," ",null,null,"SLAG ULTANAL              "," "," "," ",null,null,"SLAG ULTANAL              "," "," ",null,null,"  CARBON                  "," "," "," "]
[null,null,null,null,null,null,null,null,null,null,null,null,null,null,null,null,null,null,null,null,null,null,null,null,null,null,null,null,null,null,null,null,null,null,null,null,null,null,null,null,null,null,null,null,null,null,null,null,null,null,null,null,null,null,null,null,null,null,null,null,"SLAG ULTANAL              "," "," ",null,null,null,"SLAG ULTANAL              "," "," ",null,null,"  ASH                     "," "," "," ",null,null,"  ASH                     "," "," ",null,null,"  HYDROGEN                "," "," "," "]
[null,null,null,null,null,null,null,null,null,null,null,null,null,null,null,null,null,null,null,null,null,null,null,null,null,null,null,null,null,null,null,null,null,null,null,null,null,null,null,null,null,null,null,null,null,null,null,null,null,null,null,null,null,null,null,null,null,null,null,null,"  ASH                     "," "," ",null,null,null,"  ASH                     "," "," ",null,null,"  CARBON                  "," "," "," ",null,null,"  CARBON                  "," "," ",null,null,"  NITROGEN                "," "," "," "]
[null,null,null,null,null,null,null,null,null,null,null,null,null,null,null,null,null,null,null,null,null,null,null,null,null,null,null,null,null,null,null,null,null,null,null,null,null,null,null,null,null,null,null,null,null,null,null,null,null,null,null,null,null,null,null,null,null,null,null,null,"  CARBON                  "," "," ",null,null,null,"  CARBON                  "," "," ",null,null,"  HYDROGEN                "," "," "," ",null,null,"  HYDROGEN                "," "," ",null,null,"  CHLORINE                "," "," "," "]
[null,null,null,null,null,null,null,null,null,null,null,null,null,null,null,null,null,null,null,null,null,null,null,null,null,null,null,null,null,null,null,null,null,null,null,null,null,null,null,null,null,null,null,null,null,null,null,null,null,null,null,null,null,null,null,null,null,null,null,null,"  HYDROGEN                "," "," ",null,null,null,"  HYDROGEN                "," "," ",null,null,"  NITROGEN                "," "," "," ",null,null,"  NITROGEN                "," "," ",null,null,"  SULFUR                  "," "," "," "]
[null,null,null,null,null,null,null,null,null,null,null,null,null,null,null,null,null,null,null,null,null,null,null,null,null,null,null,null,null,null,null,null,null,null,null,null,null,null,null,null,null,null,null,null,null,null,null,null,null,null,null,null,null,null,null,null,null,null,null,null,"  NITROGEN                "," "," ",null,null,null,"  NITROGEN                "," "," ",null,null,"  CHLORINE                "," "," "," ",null,null,"  CHLORINE                "," "," ",null,null,"  OXYGEN                  "," "," "," "]
[null,null,null,null,null,null,null,null,null,null,null,null,null,null,null,null,null,null,null,null,null,null,null,null,null,null,null,null,null,null,null,null,null,null,null,null,null,null,null,null,null,null,null,null,null,null,null,null,null,null,null,null,null,null,null,null,null,null,null,null,"  CHLORINE                "," "," ",null,null,null,"  CHLORINE                "," "," ",null,null,"  SULFUR                  "," "," "," ",null,null,"  SULFUR                  "," "," ",null,null,"SLAG SULFANAL             "," "," "," "]
[null,null,null,null,null,null,null,null,null,null,null,null,null,null,null,null,null,null,null,null,null,null,null,null,null,null,null,null,null,null,null,null,null,null,null,null,null,null,null,null,null,null,null,null,null,null,null,null,null,null,null,null,null,null,null,null,null,null,null,null,"  SULFUR                  "," "," ",null,null,null,"  SULFUR                  "," "," ",null,null,"  OXYGEN                  "," "," "," ",null,null,"  OXYGEN                  "," "," ",null,null,"  PYRITIC                 "," "," "," "]
[null,null,null,null,null,null,null,null,null,null,null,null,null,null,null,null,null,null,null,null,null,null,null,null,null,null,null,null,null,null,null,null,null,null,null,null,null,null,null,null,null,null,null,null,null,null,null,null,null,null,null,null,null,null,null,null,null,null,null,null,"  OXYGEN                  "," "," ",null,null,null,"  OXYGEN                  "," "," ",null,null,"SLAG SULFANAL             "," "," "," ",null,null,"SLAG SULFANAL             "," "," ",null,null,"  SULFATE                 "," "," "," "]
[null,null,null,null,null,null,null,null,null,null,null,null,null,null,null,null,null,null,null,null,null,null,null,null,null,null,null,null,null,null,null,null,null,null,null,null,null,null,null,null,null,null,null,null,null,null,null,null,null,null,null,null,null,null,null,null,null,null,null,null,"SLAG SULFANAL             "," "," ",null,null,null,"SLAG SULFANAL             "," "," ",null,null,"  PYRITIC                 "," "," "," ",null,null,"  PYRITIC                 "," "," ",null,null,"  ORGANIC                 "," "," "," "]
[null,null,null,null,null,null,null,null,null,null,null,null,null,null,null,null,null,null,null,null,null,null,null,null,null,null,null,null,null,null,null,null,null,null,null,null,null,null,null,null,null,null,null,null,null,null,null,null,null,null,null,null,null,null,null,null,null,null,null,null,"  PYRITIC                 "," "," ",null,null,null,"  PYRITIC                 "," "," ",null,null,"  SULFATE                 "," "," "," ",null,null,"  SULFATE                 "," "," ",null,null,"ASH GENANAL               "," "," "," "]
[null,null,null,null,null,null,null,null,null,null,null,null,null,null,null,null,null,null,null,null,null,null,null,null,null,null,null,null,null,null,null,null,null,null,null,null,null,null,null,null,null,null,null,null,null,null,null,null,null,null,null,null,null,null,null,null,null,null,null,null,"  SULFATE                 "," "," ",null,null,null,"  SULFATE                 "," "," ",null,null,"  ORGANIC                 "," "," "," ",null,null,"  ORGANIC                 "," "," ",null,null,"  ELEM1                   "," "," "," "]
[null,null,null,null,null,null,null,null,null,null,null,null,null,null,null,null,null,null,null,null,null,null,null,null,null,null,null,null,null,null,null,null,null,null,null,null,null,null,null,null,null,null,null,null,null,null,null,null,null,null,null,null,null,null,null,null,null,null,null,null,"  ORGANIC                 "," "," ",null,null,null,"  ORGANIC                 "," "," ",null,null,"ASH GENANAL               "," "," "," ",null,null,"ASH GENANAL               "," "," ",null,null,"  ELEM2                   "," "," "," "]
[null,null,null,null,null,null,null,null,null,null,null,null,null,null,null,null,null,null,null,null,null,null,null,null,null,null,null,null,null,null,null,null,null,null,null,null,null,null,null,null,null,null,null,null,null,null,null,null,null,null,null,null,null,null,null,null,null,null,null,null,"ASH GENANAL               "," "," ",null,null,null,"ASH GENANAL               "," "," ",null,null,"  ELEM1                   "," "," "," ",null,null,"  ELEM1                   "," "," ",null,null,"  ELEM3                   "," "," "," "]
[null,null,null,null,null,null,null,null,null,null,null,null,null,null,null,null,null,null,null,null,null,null,null,null,null,null,null,null,null,null,null,null,null,null,null,null,null,null,null,null,null,null,null,null,null,null,null,null,null,null,null,null,null,null,null,null,null,null,null,null,"  ELEM1                   "," "," ",null,null,null,"  ELEM1                   "," "," ",null,null,"  ELEM2                   "," "," "," ",null,null,"  ELEM2                   "," "," ",null,null,"  ELEM4                   "," "," "," "]
[null,null,null,null,null,null,null,null,null,null,null,null,null,null,null,null,null,null,null,null,null,null,null,null,null,null,null,null,null,null,null,null,null,null,null,null,null,null,null,null,null,null,null,null,null,null,null,null,null,null,null,null,null,null,null,null,null,null,null,null,"  ELEM2                   "," "," ",null,null,null,"  ELEM2                   "," "," ",null,null,"  ELEM3                   "," "," "," ",null,null,"  ELEM3                   "," "," ",null,null,"  ELEM5                   "," "," "," "]
[null,null,null,null,null,null,null,null,null,null,null,null,null,null,null,null,null,null,null,null,null,null,null,null,null,null,null,null,null,null,null,null,null,null,null,null,null,null,null,null,null,null,null,null,null,null,null,null,null,null,null,null,null,null,null,null,null,null,null,null,"  ELEM3                   "," "," ",null,null,null,"  ELEM3                   "," "," ",null,null,"  ELEM4                   "," "," "," ",null,null,"  ELEM4                   "," "," ",null,null,"  ELEM6                   "," "," "," "]
[null,null,null,null,null,null,null,null,null,null,null,null,null,null,null,null,null,null,null,null,null,null,null,null,null,null,null,null,null,null,null,null,null,null,null,null,null,null,null,null,null,null,null,null,null,null,null,null,null,null,null,null,null,null,null,null,null,null,null,null,"  ELEM4                   "," "," ",null,null,null,"  ELEM4                   "," "," ",null,null,"  ELEM5                   "," "," "," ",null,null,"  ELEM5                   "," "," ",null,null,"  ELEM7                   "," "," "," "]
[null,null,null,null,null,null,null,null,null,null,null,null,null,null,null,null,null,null,null,null,null,null,null,null,null,null,null,null,null,null,null,null,null,null,null,null,null,null,null,null,null,null,null,null,null,null,null,null,null,null,null,null,null,null,null,null,null,null,null,null,"  ELEM5                   "," "," ",null,null,null,"  ELEM5                   "," "," ",null,null,"  ELEM6                   "," "," "," ",null,null,"  ELEM6                   "," "," ",null,null,"  ELEM8                   "," "," "," "]
[null,null,null,null,null,null,null,null,null,null,null,null,null,null,null,null,null,null,null,null,null,null,null,null,null,null,null,null,null,null,null,null,null,null,null,null,null,null,null,null,null,null,null,null,null,null,null,null,null,null,null,null,null,null,null,null,null,null,null,null,"  ELEM6                   "," "," ",null,null,null,"  ELEM6                   "," "," ",null,null,"  ELEM7                   "," "," "," ",null,null,"  ELEM7                   "," "," ",null,null,"  ELEM9                   "," "," "," "]
[null,null,null,null,null,null,null,null,null,null,null,null,null,null,null,null,null,null,null,null,null,null,null,null,null,null,null,null,null,null,null,null,null,null,null,null,null,null,null,null,null,null,null,null,null,null,null,null,null,null,null,null,null,null,null,null,null,null,null,null,"  ELEM7                   "," "," ",null,null,null,"  ELEM7                   "," "," ",null,null,"  ELEM8                   "," "," "," ",null,null,"  ELEM8                   "," "," ",null,null,"  ELEM10                  "," "," "," "]
[null,null,null,null,null,null,null,null,null,null,null,null,null,null,null,null,null,null,null,null,null,null,null,null,null,null,null,null,null,null,null,null,null,null,null,null,null,null,null,null,null,null,null,null,null,null,null,null,null,null,null,null,null,null,null,null,null,null,null,null,"  ELEM8                   "," "," ",null,null,null,"  ELEM8                   "," "," ",null,null,"  ELEM9                   "," "," "," ",null,null,"  ELEM9                   "," "," ",null,null,"  ELEM11                  "," "," "," "]
[null,null,null,null,null,null,null,null,null,null,null,null,null,null,null,null,null,null,null,null,null,null,null,null,null,null,null,null,null,null,null,null,null,null,null,null,null,null,null,null,null,null,null,null,null,null,null,null,null,null,null,null,null,null,null,null,null,null,null,null,"  ELEM9                   "," "," ",null,null,null,"  ELEM9                   "," "," ",null,null,"  ELEM10                  "," "," "," ",null,null,"  ELEM10                  "," "," ",null,null,"  ELEM12                  "," "," "," "]
[null,null,null,null,null,null,null,null,null,null,null,null,null,null,null,null,null,null,null,null,null,null,null,null,null,null,null,null,null,null,null,null,null,null,null,null,null,null,null,null,null,null,null,null,null,null,null,null,null,null,null,null,null,null,null,null,null,null,null,null,"  ELEM10                  "," "," ",null,null,null,"  ELEM10                  "," "," ",null,null,"  ELEM11                  "," "," "," ",null,null,"  ELEM11                  "," "," ",null,null,"  ELEM13                  "," "," "," "]
[null,null,null,null,null,null,null,null,null,null,null,null,null,null,null,null,null,null,null,null,null,null,null,null,null,null,null,null,null,null,null,null,null,null,null,null,null,null,null,null,null,null,null,null,null,null,null,null,null,null,null,null,null,null,null,null,null,null,null,null,"  ELEM11                  "," "," ",null,null,null,"  ELEM11                  "," "," ",null,null,"  ELEM12                  "," "," "," ",null,null,"  ELEM12                  "," "," ",null,null,"  ELEM14                  "," "," "," "]
[null,null,null,null,null,null,null,null,null,null,null,null,null,null,null,null,null,null,null,null,null,null,null,null,null,null,null,null,null,null,null,null,null,null,null,null,null,null,null,null,null,null,null,null,null,null,null,null,null,null,null,null,null,null,null,null,null,null,null,null,"  ELEM12                  "," "," ",null,null,null,"  ELEM12                  "," "," ",null,null,"  ELEM13                  "," "," "," ",null,null,"  ELEM13                  "," "," ",null,null,"  ELEM15                  "," "," "," "]
[null,null,null,null,null,null,null,null,null,null,null,null,null,null,null,null,null,null,null,null,null,null,null,null,null,null,null,null,null,null,null,null,null,null,null,null,null,null,null,null,null,null,null,null,null,null,null,null,null,null,null,null,null,null,null,null,null,null,null,null,"  ELEM13                  "," "," ",null,null,null,"  ELEM13                  "," "," ",null,null,"  ELEM14                  "," "," "," ",null,null,"  ELEM14                  "," "," ",null,null,"  ELEM16                  "," "," "," "]
[null,null,null,null,null,null,null,null,null,null,null,null,null,null,null,null,null,null,null,null,null,null,null,null,null,null,null,null,null,null,null,null,null,null,null,null,null,null,null,null,null,null,null,null,null,null,null,null,null,null,null,null,null,null,null,null,null,null,null,null,"  ELEM14                  "," "," ",null,null,null,"  ELEM14                  "," "," ",null,null,"  ELEM15                  "," "," "," ",null,null,"  ELEM15                  "," "," ",null,null,"  ELEM17                  "," "," "," "]
[null,null,null,null,null,null,null,null,null,null,null,null,null,null,null,null,null,null,null,null,null,null,null,null,null,null,null,null,null,null,null,null,null,null,null,null,null,null,null,null,null,null,null,null,null,null,null,null,null,null,null,null,null,null,null,null,null,null,null,null,"  ELEM15                  "," "," ",null,null,null,"  ELEM15                  "," "," ",null,null,"  ELEM16                  "," "," "," ",null,null,"  ELEM16                  "," "," ",null,null,"  ELEM18                  "," "," "," "]
[null,null,null,null,null,null,null,null,null,null,null,null,null,null,null,null,null,null,null,null,null,null,null,null,null,null,null,null,null,null,null,null,null,null,null,null,null,null,null,null,null,null,null,null,null,null,null,null,null,null,null,null,null,null,null,null,null,null,null,null,"  ELEM16                  "," "," ",null,null,null,"  ELEM16                  "," "," ",null,null,"  ELEM17                  "," "," "," ",null,null,"  ELEM17                  "," "," ",null,null,"  ELEM19                  "," "," "," "]
[null,null,null,null,null,null,null,null,null,null,null,null,null,null,null,null,null,null,null,null,null,null,null,null,null,null,null,null,null,null,null,null,null,null,null,null,null,null,null,null,null,null,null,null,null,null,null,null,null,null,null,null,null,null,null,null,null,null,null,null,"  ELEM17                  "," "," ",null,null,null,"  ELEM17                  "," "," ",null,null,"  ELEM18                  "," "," "," ",null,null,"  ELEM18                  "," "," ",null,null,"  ELEM20                  "," "," "," "]
[null,null,null,null,null,null,null,null,null,null,null,null,null,null,null,null,null,null,null,null,null,null,null,null,null,null,null,null,null,null,null,null,null,null,null,null,null,null,null,null,null,null,null,null,null,null,null,null,null,null,null,null,null,null,null,null,null,null,null,null,"  ELEM18                  "," "," ",null,null,null,"  ELEM18                  "," "," ",null,null,"  ELEM19                  "," "," "," ",null,null,"  ELEM19                  "," "," ",null,null,"DRYCOAL PROXANAL          "," "," "," "]
[null,null,null,null,null,null,null,null,null,null,null,null,null,null,null,null,null,null,null,null,null,null,null,null,null,null,null,null,null,null,null,null,null,null,null,null,null,null,null,null,null,null,null,null,null,null,null,null,null,null,null,null,null,null,null,null,null,null,null,null,"  ELEM19                  "," "," ",null,null,null,"  ELEM19                  "," "," ",null,null,"  ELEM20                  "," "," "," ",null,null,"  ELEM20                  "," "," ",null,null,"  MOISTURE                "," "," "," "]
[null,null,null,null,null,null,null,null,null,null,null,null,null,null,null,null,null,null,null,null,null,null,null,null,null,null,null,null,null,null,null,null,null,null,null,null,null,null,null,null,null,null,null,null,null,null,null,null,null,null,null,null,null,null,null,null,null,null,null,null,"  ELEM20                  "," "," ",null,null,null,"  ELEM20                  "," "," ",null,null,"DRYCOAL PROXANAL          "," "," "," ",null,null,"DRYCOAL PROXANAL          "," "," ",null,null,"  FC                      "," "," "," "]
[null,null,null,null,null,null,null,null,null,null,null,null,null,null,null,null,null,null,null,null,null,null,null,null,null,null,null,null,null,null,null,null,null,null,null,null,null,null,null,null,null,null,null,null,null,null,null,null,null,null,null,null,null,null,null,null,null,null,null,null,"DRYCOAL PROXANAL          "," "," ",null,null,null,"DRYCOAL PROXANAL          "," "," ",null,null,"  MOISTURE                "," "," "," ",null,null,"  MOISTURE                "," "," ",null,null,"  VM                      "," "," "," "]
[null,null,null,null,null,null,null,null,null,null,null,null,null,null,null,null,null,null,null,null,null,null,null,null,null,null,null,null,null,null,null,null,null,null,null,null,null,null,null,null,null,null,null,null,null,null,null,null,null,null,null,null,null,null,null,null,null,null,null,null,"  MOISTURE                "," "," ",null,null,null,"  MOISTURE                "," "," ",null,null,"  FC                      "," "," "," ",null,null,"  FC                      "," "," ",null,null,"  ASH                     "," "," "," "]
[null,null,null,null,null,null,null,null,null,null,null,null,null,null,null,null,null,null,null,null,null,null,null,null,null,null,null,null,null,null,null,null,null,null,null,null,null,null,null,null,null,null,null,null,null,null,null,null,null,null,null,null,null,null,null,null,null,null,null,null,"  FC                      "," "," ",null,null,null,"  FC                      "," "," ",null,null,"  VM                      "," "," "," ",null,null,"  VM                      "," "," ",null,null,"DRYCOAL ULTANAL           "," "," "," "]
[null,null,null,null,null,null,null,null,null,null,null,null,null,null,null,null,null,null,null,null,null,null,null,null,null,null,null,null,null,null,null,null,null,null,null,null,null,null,null,null,null,null,null,null,null,null,null,null,null,null,null,null,null,null,null,null,null,null,null,null,"  VM                      "," "," ",null,null,null,"  VM                      "," "," ",null,null,"  ASH                     "," "," "," ",null,null,"  ASH                     "," "," ",null,null,"  ASH                     "," "," "," "]
[null,null,null,null,null,null,null,null,null,null,null,null,null,null,null,null,null,null,null,null,null,null,null,null,null,null,null,null,null,null,null,null,null,null,null,null,null,null,null,null,null,null,null,null,null,null,null,null,null,null,null,null,null,null,null,null,null,null,null,null,"  ASH                     "," "," ",null,null,null,"  ASH                     "," "," ",null,null,"DRYCOAL ULTANAL           "," "," "," ",null,null,"DRYCOAL ULTANAL           "," "," ",null,null,"  CARBON                  "," "," "," "]
[null,null,null,null,null,null,null,null,null,null,null,null,null,null,null,null,null,null,null,null,null,null,null,null,null,null,null,null,null,null,null,null,null,null,null,null,null,null,null,null,null,null,null,null,null,null,null,null,null,null,null,null,null,null,null,null,null,null,null,null,"DRYCOAL ULTANAL           "," "," ",null,null,null,"DRYCOAL ULTANAL           "," "," ",null,null,"  ASH                     "," "," "," ",null,null,"  ASH                     "," "," ",null,null,"  HYDROGEN                "," "," "," "]
[null,null,null,null,null,null,null,null,null,null,null,null,null,null,null,null,null,null,null,null,null,null,null,null,null,null,null,null,null,null,null,null,null,null,null,null,null,null,null,null,null,null,null,null,null,null,null,null,null,null,null,null,null,null,null,null,null,null,null,null,"  ASH                     "," "," ",null,null,null,"  ASH                     "," "," ",null,null,"  CARBON                  "," "," "," ",null,null,"  CARBON                  "," "," ",null,null,"  NITROGEN                "," "," "," "]
[null,null,null,null,null,null,null,null,null,null,null,null,null,null,null,null,null,null,null,null,null,null,null,null,null,null,null,null,null,null,null,null,null,null,null,null,null,null,null,null,null,null,null,null,null,null,null,null,null,null,null,null,null,null,null,null,null,null,null,null,"  CARBON                  "," "," ",null,null,null,"  CARBON                  "," "," ",null,null,"  HYDROGEN                "," "," "," ",null,null,"  HYDROGEN                "," "," ",null,null,"  CHLORINE                "," "," "," "]
[null,null,null,null,null,null,null,null,null,null,null,null,null,null,null,null,null,null,null,null,null,null,null,null,null,null,null,null,null,null,null,null,null,null,null,null,null,null,null,null,null,null,null,null,null,null,null,null,null,null,null,null,null,null,null,null,null,null,null,null,"  HYDROGEN                "," "," ",null,null,null,"  HYDROGEN                "," "," ",null,null,"  NITROGEN                "," "," "," ",null,null,"  NITROGEN                "," "," ",null,null,"  SULFUR                  "," "," "," "]
[null,null,null,null,null,null,null,null,null,null,null,null,null,null,null,null,null,null,null,null,null,null,null,null,null,null,null,null,null,null,null,null,null,null,null,null,null,null,null,null,null,null,null,null,null,null,null,null,null,null,null,null,null,null,null,null,null,null,null,null,"  NITROGEN                "," "," ",null,null,null,"  NITROGEN                "," "," ",null,null,"  CHLORINE                "," "," "," ",null,null,"  CHLORINE                "," "," ",null,null,"  OXYGEN                  "," "," "," "]
[null,null,null,null,null,null,null,null,null,null,null,null,null,null,null,null,null,null,null,null,null,null,null,null,null,null,null,null,null,null,null,null,null,null,null,null,null,null,null,null,null,null,null,null,null,null,null,null,null,null,null,null,null,null,null,null,null,null,null,null,"  CHLORINE                "," "," ",null,null,null,"  CHLORINE                "," "," ",null,null,"  SULFUR                  "," "," "," ",null,null,"  SULFUR                  "," "," ",null,null,"DRYCOAL SULFANAL          "," "," "," "]
[null,null,null,null,null,null,null,null,null,null,null,null,null,null,null,null,null,null,null,null,null,null,null,null,null,null,null,null,null,null,null,null,null,null,null,null,null,null,null,null,null,null,null,null,null,null,null,null,null,null,null,null,null,null,null,null,null,null,null,null,"  SULFUR                  "," "," ",null,null,null,"  SULFUR                  "," "," ",null,null,"  OXYGEN                  "," "," "," ",null,null,"  OXYGEN                  "," "," ",null,null,"  PYRITIC                 "," "," "," "]
[null,null,null,null,null,null,null,null,null,null,null,null,null,null,null,null,null,null,null,null,null,null,null,null,null,null,null,null,null,null,null,null,null,null,null,null,null,null,null,null,null,null,null,null,null,null,null,null,null,null,null,null,null,null,null,null,null,null,null,null,"  OXYGEN                  "," "," ",null,null,null,"  OXYGEN                  "," "," ",null,null,"DRYCOAL SULFANAL          "," "," "," ",null,null,"DRYCOAL SULFANAL          "," "," ",null,null,"  SULFATE                 "," "," "," "]
[null,null,null,null,null,null,null,null,null,null,null,null,null,null,null,null,null,null,null,null,null,null,null,null,null,null,null,null,null,null,null,null,null,null,null,null,null,null,null,null,null,null,null,null,null,null,null,null,null,null,null,null,null,null,null,null,null,null,null,null,"DRYCOAL SULFANAL          "," "," ",null,null,null,"DRYCOAL SULFANAL          "," "," ",null,null,"  PYRITIC                 "," "," "," ",null,null,"  PYRITIC                 "," "," ",null,null,"  ORGANIC                 "," "," "," "]
[null,null,null,null,null,null,null,null,null,null,null,null,null,null,null,null,null,null,null,null,null,null,null,null,null,null,null,null,null,null,null,null,null,null,null,null,null,null,null,null,null,null,null,null,null,null,null,null,null,null,null,null,null,null,null,null,null,null,null,null,"  PYRITIC                 "," "," ",null,null,null,"  PYRITIC                 "," "," ",null,null,"  SULFATE                 "," "," "," ",null,null,"  SULFATE                 "," "," "]
[null,null,null,null,null,null,null,null,null,null,null,null,null,null,null,null,null,null,null,null,null,null,null,null,null,null,null,null,null,null,null,null,null,null,null,null,null,null,null,null,null,null,null,null,null,null,null,null,null,null,null,null,null,null,null,null,null,null,null,null,"  SULFATE                 "," "," ",null,null,null,"  SULFATE                 "," "," ",null,null,"  ORGANIC                 "," "," "," ",null,null,"  ORGANIC                 "," "," "]
[null,null,null,null,null,null,null,null,null,null,null,null,null,null,null,null,null,null,null,null,null,null,null,null,null,null,null,null,null,null,null,null,null,null,null,null,null,null,null,null,null,null,null,null,null,null,null,null,null,null,null,null,null,null,null,null,null,null,null,null,"  ORGANIC                 "," "," ",null,null,null,"  ORGANIC                 "," "," "]