{"text_format":"1","workbook":"xlsx","n_sheets":43,"sheets":["Disclaimer","Inputs","Dashboard","Dashboard - Petro Baseline","Macro Enabling","Unit Reference","Petro Baseline","Calculations","Data","U RMT","Petro Transport","Parameters","Version","Cover","Petro Ref","Sheet1","I6 RMA","PRB RMA","Dom Petro","For Petro","Uranium","Stover RMA","SRWC RMA","Corn RMA","SG RMA","Coal TrainRMT","NG Pipeline RMT","Bale Truck RMT","Cont Truck RMT","Adv Ethanol","FT Diesel 2","onshore RMA","assoc RMA","offshore RMA","barnett RMA","cbm RMA","Marc RMA","LNG RMA","tight RMA","mix RMA","Sheet3","NG pull","Sheet2"],"not_rendered":{"charts":2,"images":38,"macros":1,"external_links":0,"defined_names":33,"comments":2,"pivot_tables":0},"unopened":[],"bounds":{"document_bytes":16777216,"sheet_cells":100000,"rows_first":2000,"rows_last":500,"rows_between":2000,"halvings":0,"cell_chars":16384,"cell_head_chars":4096},"cells_cut":0,"cells_raw":0,"read":"whole","date_system":"1900"}

{"sheet":"Disclaimer","index":0,"n_rows":10,"n_cols":3,"rows_kept":10,"cut":false,"hidden":false,"merged":[[3,1,3,2],[17,1,17,2],[11,1,11,2],[1,1,1,2],[9,1,9,2]]}
[]
[]
[]
[null,"Disclaimer"]
[null,1,"Neither the U.S. Department of Energy (DOE) National Energy Technology Laboratory (NETL) nor any person acting on behalf of these organizations:"]
[null,null,"A.       Makes any warranty or representation, express or implied, with respect to the accuracy, completeness, or usefulness of the information contained in this document, or that the use of any information, apparatus, method, or process disclosed in this document may not infringe on privately owned rights; or"]
[null,null,"B.        Assumes any liability with this report as to its use, or damages resulting from the use of any information, apparatus, method, or process disclosed in this document."]
[null,2,"Reference herein to any specific commercial product, process, or service by trade name, trademark, manufacturer, or otherwise, does not necessarily constitute or imply its endorsement, recommendation, or favoring by NETL. The views and opinions of the authors expressed herein do not necessarily state or reflect those of NETL."]
[]
[null,"Contact Information"]

{"sheet":"Inputs","index":1,"n_rows":0,"n_cols":0,"rows_kept":0,"cut":false,"hidden":false,"merged":[]}

{"sheet":"Dashboard","index":2,"n_rows":49,"n_cols":13,"rows_kept":49,"cut":false,"hidden":false,"merged":[[45,6,48,6],[37,6,38,6],[11,7,11,8],[0,11,0,12],[28,6,29,6],[30,6,36,6],[15,6,27,6],[14,6,14,7],[44,6,44,7]]}
[]
[null,"Include RMA","On",null,"Include RMA 2*","Off",null,"Include RMT","On",null,null,"Include ECF","Off"]
[null,"RMA Process List","Illinois No. 6 Coal",null,"RMA Process List","Not Set",null,"Num of Transp. Mode",1,null,null,"ECF Process List","Not Set"]
[null,null,null,null,null,null,null,"RMA Suggested RMT","Coal Train"]
[]
[null,"Parameters","Value",null,"Parameters","Value",null,"Transportation Mode**","Unit","Value",null,"Parameters","Option"]
[null,{"$f":"IF($C$3<>\"\",HLOOKUP($C$3,Parameters!B17:S21,2, FALSE),\"\")","v":"Coal Mine Methane (scf/ton)"},422,null,"Not Set","Not Set",null,"Coal Train",{"$f":"IF($H7<>\"\",VLOOKUP(H7,Parameters!$A$71:$C$81, 2, FALSE),\"\")","v":"mi, round trip"},{"$f":"IF($H7<>\"\",VLOOKUP(H7,Parameters!$A$71:$C$81, 3, FALSE),\"\")","v":400},null,"Not Set","Not Set"]
[null,{"$f":"IF($C$3<>\"\",HLOOKUP($C$3,Parameters!B17:S21,3, FALSE),\"\")","v":"Methane Capture (%)"},0,null,"Not Set","Not Set",null,null,null,null,null,"Not Set","Not Set"]
[null,{"$f":"IF($C$3<>\"\",HLOOKUP($C$3,Parameters!B17:S21,4, FALSE),\"\")","v":" "},"Not Set",null,"Not Set","Not Set",null,null,null,null,null,"Not Set","Not Set"]
[null,{"$f":"IF($C$3<>\"\",HLOOKUP($C$3,Parameters!B17:S21,5, FALSE),\"\")","v":" "},"Not Set",null,"Not Set","Not Set"]
[]
[]
[]
[null,"Units","SI"]
[null,null,null,null,null,null,"Life Cycle Inventory",null,"Total","RMA","RMT","ECF"]
[null,null,null,null,null,null,"Air Emissions",{"$f":"SUBSTITUTE(Data!D37,\"(kg)\",\"\")","v":"Carbon Dioxide "},{"$f":"Data!E37","v":3.8156353835264792E-2},{"$f":"Data!F37","v":2.5512335102820489E-2},{"$f":"Data!G37","v":1.26440187324443E-2},{"$f":"Data!H37","v":0}]
[null,null,null,null,null,null,null,{"$f":"SUBSTITUTE(Data!D38,\"(kg)\",\"\")","v":"Methane "},{"$f":"Data!E38","v":8.9671935106824547E-3},{"$f":"Data!F38","v":8.9603090579866568E-3},{"$f":"Data!G38","v":6.88445269579842E-6},{"$f":"Data!H38","v":0}]
[null,null,null,null,null,null,null,{"$f":"SUBSTITUTE(Data!D39,\"(kg)\",\"\")","v":"Nitrous Oxide "},{"$f":"Data!E39","v":7.549728398322803E-7},{"$f":"Data!F39","v":4.4906307081004132E-7},{"$f":"Data!G39","v":3.0590976902223898E-7},{"$f":"Data!H39","v":0}]
[null,null,null,null,null,null,null,{"$f":"SUBSTITUTE(Data!D40,\"(kg)\",\"\")","v":"Total GWP "},{"$f":"Data!E40","v":0.2625611735085962},{"$f":"Data!F40","v":0.24965388234758831},{"$f":"Data!G40","v":1.2907291161007887E-2},{"$f":"Data!H40","v":0}]
[null,null,null,null,null,null,null,{"$f":"SUBSTITUTE(Data!D41,\"(kg)\",\"\")","v":"Nitrogen Oxides "},{"$f":"Data!E41","v":7.3775390223479849E-5},{"$f":"Data!F41","v":4.2439530918255741E-5},{"$f":"Data!G41","v":3.1335859305224101E-5},{"$f":"Data!H41","v":0}]
[null,null,null,null,null,null,null,{"$f":"SUBSTITUTE(Data!D42,\"(kg)\",\"\")","v":"Sulfur Dioxide "},{"$f":"Data!E42","v":8.4491764550705285E-5},{"$f":"Data!F42","v":7.668560887586447E-5},{"$f":"Data!G42","v":7.8061556748408105E-6},{"$f":"Data!H42","v":0}]
[null,null,null,null,null,null,null,{"$f":"SUBSTITUTE(Data!D43,\"(kg)\",\"\")","v":"Carbon Monoxide "},{"$f":"Data!E43","v":6.1067766262818229E-5},{"$f":"Data!F43","v":2.339405595115763E-5},{"$f":"Data!G43","v":3.7673710311660601E-5},{"$f":"Data!H43","v":0}]
[null,null,null,null,null,null,null,{"$f":"SUBSTITUTE(Data!D44,\"(kg)\",\"\")","v":"Particulate Matter "},{"$f":"Data!E44","v":4.3889387341120258E-5},{"$f":"Data!F44","v":2.7434048159864551E-6},{"$f":"Data!G44","v":4.1145982525133803E-5},{"$f":"Data!H44","v":0}]
[null,null,null,null,null,null,null,{"$f":"SUBSTITUTE(Data!D45,\"(kg)\",\"\")","v":"Lead "},{"$f":"Data!E45","v":3.5838255459970181E-9},{"$f":"Data!F45","v":3.4554936130612012E-9},{"$f":"Data!G45","v":1.28331932935817E-10},{"$f":"Data!H45","v":0}]
[null,null,null,null,null,null,null,{"$f":"SUBSTITUTE(Data!D46,\"(kg)\",\"\")","v":"Mercury "},{"$f":"Data!E46","v":6.2587620838425631E-10},{"$f":"Data!F46","v":6.1494913973442625E-10},{"$f":"Data!G46","v":1.0927068649830101E-11},{"$f":"Data!H46","v":0}]
[null,null,null,null,null,null,null,{"$f":"SUBSTITUTE(Data!D47,\"(kg)\",\"\")","v":"Ammonia "},{"$f":"Data!E47","v":4.9819697401611457E-7},{"$f":"Data!F47","v":5.3130562934909618E-8},{"$f":"Data!G47","v":4.45066411081205E-7},{"$f":"Data!H47","v":0}]
[null,null,null,null,null,null,null,{"$f":"SUBSTITUTE(Data!D48,\"(kg)\",\"\")","v":"Radiation "},{"$f":"Data!E48","v":4.4825684753647053E-11},{"$f":"Data!F48","v":6.3005197784620568E-12},{"$f":"Data!G48","v":3.8525164975184997E-11},{"$f":"Data!H48","v":0}]
[null,null,null,null,null,null,null,{"$f":"SUBSTITUTE(Data!D49,\"(kg)\",\"\")","v":"Non Methane VOC "},{"$f":"Data!E49","v":8.858268554813086E-6},{"$f":"Data!F49","v":6.3491669848313364E-6},{"$f":"Data!G49","v":2.5091015699817501E-6},{"$f":"Data!H49","v":0}]
[null,null,null,null,null,null,"Solid Waste",{"$f":"SUBSTITUTE(Data!D50,\"(kg)\",\"\")","v":"Heavy Metals to Soil "},{"$f":"Data!E50","v":1.4864375340473493E-4},{"$f":"Data!F50","v":1.4862923743224534E-4},{"$f":"Data!G50","v":1.4515972489588299E-8},{"$f":"Data!H50","v":0}]
[null,null,null,null,null,null,null,{"$f":"SUBSTITUTE(Data!D51,\"(kg)\",\"\")","v":"Solid Waste "},{"$f":"Data!E51","v":1.8225387105474788E-6},{"$f":"Data!F51","v":9.1771960425166681E-7},{"$f":"Data!G51","v":9.0481910629581203E-7},{"$f":"Data!H51","v":0}]
[null,null,null,null,null,null,"Water Emissions",{"$f":"SUBSTITUTE(Data!D52,\"(kg)\",\"\")","v":"Aluminum "},{"$f":"Data!E52","v":1.4381220001712666E-8},{"$f":"Data!F52","v":1.1344180334068757E-8},{"$f":"Data!G52","v":3.0370396676439101E-9},{"$f":"Data!H52","v":0}]
[null,null,null,null,null,null,null,{"$f":"SUBSTITUTE(Data!D53,\"(kg)\",\"\")","v":"Ammonium/ammonia "},{"$f":"Data!E53","v":3.7390837520415392E-6},{"$f":"Data!F53","v":3.7347368366546855E-6},{"$f":"Data!G53","v":4.3469153868538281E-9},{"$f":"Data!H53","v":0}]
[null,null,null,null,null,null,null,{"$f":"SUBSTITUTE(Data!D54,\"(kg)\",\"\")","v":"Heavy Metals "},{"$f":"Data!E54","v":1.0644369985398677E-5},{"$f":"Data!F54","v":3.5633670341290481E-6},{"$f":"Data!G54","v":7.0810029512696299E-6},{"$f":"Data!H54","v":0}]
[null,null,null,null,null,null,null,{"$f":"SUBSTITUTE(Data!D55,\"(kg)\",\"\")","v":"Nitrate "},{"$f":"Data!E55","v":4.0865273056396499E-8},{"$f":"Data!F55","v":2.8883226927824502E-8},{"$f":"Data!G55","v":1.1982046128572E-8},{"$f":"Data!H55","v":0}]
[null,null,null,null,null,null,null,{"$f":"SUBSTITUTE(Data!D56,\"(kg)\",\"\")","v":"Nitrogen "},{"$f":"Data!E56","v":1.141735662884268E-7},{"$f":"Data!F56","v":1.1409412264001264E-7},{"$f":"Data!G56","v":7.9443648414168103E-11},{"$f":"Data!H56","v":0}]
[null,null,null,null,null,null,null,{"$f":"SUBSTITUTE(Data!D57,\"(kg)\",\"\")","v":"Phosphate "},{"$f":"Data!E57","v":4.2064344589666342E-10},{"$f":"Data!F57","v":2.857985403699604E-10},{"$f":"Data!G57","v":1.3484490552670299E-10},{"$f":"Data!H57","v":0}]
[null,null,null,null,null,null,null,{"$f":"SUBSTITUTE(Data!D58,\"(kg)\",\"\")","v":"Phosphorus "},{"$f":"Data!E58","v":1.6185954358189586E-6},{"$f":"Data!F58","v":1.4593949083723854E-7},{"$f":"Data!G58","v":1.47265594498172E-6},{"$f":"Data!H58","v":0}]
[null,null,null,null,null,null,"Water",{"$f":"IF($C$14=\"SI\",\"Water Withdrawal (L)\",\"Water Withdrawal (Gal.)\")","v":"Water Withdrawal (L)"},{"$f":"Data!E59","v":1.1559664678490349},{"$f":"Data!F59","v":1.1446223496503032},{"$f":"Data!G59","v":1.13441181987318E-2},{"$f":"Data!H59","v":0}]
[null,null,null,null,null,null,null,{"$f":"IF($C$14=\"SI\",\"Water Consumption (L)\",\"Water Consumption (Gal.)\")","v":"Water Consumption (L)"},{"$f":"Data!E60","v":-0.57437770535847754},{"$f":"Data!F60","v":-0.57919541960911181},{"$f":"Data!G60","v":4.8177142506343152E-3},{"$f":"Data!H60","v":0}]
[null,null,null,null,null,null,"Land Use",{"$f":"IF($C$14=\"SI\",\"Area Changes (Km^2)\",\"Area Changes (Acres)\")","v":"Area Changes (Km^2)"},{"$f":"IF($C$14=\"SI\",Data!E61*0.0040468564224,Data!E61)","v":5.6380468057749948E-8},{"$f":"IF($C$14=\"SI\",Data!F61*0.0040468564224,Data!F61)","v":5.6380468057749948E-8},{"$f":"IF($C$14=\"SI\",Data!G61*0.0040468564224,Data!G61)","v":0},{"$f":"IF($C$14=\"SI\",Data!H61*0.0040468564224,Data!H61)","v":0}]
[null,null,null,null,null,null,"EROI",{"$f":"IF($C$14=\"SI\",Data!D62,SUBSTITUTE(Data!D62,\"(MJ)\",\"(MMBtu)\"))","v":"Energy Input (MJ)"},{"$f":"IF($C$14=\"SI\",Data!E62,Data!E62*0.00094708628903179)","v":0.22762359200745824},{"$f":"IF($C$14=\"SI\",Data!F62,Data!F62*0.00094708628903179)","v":0.16717655212119975},{"$f":"IF($C$14=\"SI\",Data!G62,Data!G62*0.00094708628903179)","v":6.0447039886258498E-2},{"$f":"IF($C$14=\"SI\",Data!H62,Data!H62*0.00094708628903179)","v":0}]
[]
[]
[]
[null,null,null,null,null,null,"GHG Inventory",null,"Total","RMA","RMT","ECF"]
[null,null,null,null,null,null,"Air Emissions","Carbon Dioxide",{"$f":"SUM(J46:L46)","v":3.8156353835264792E-2},{"$f":"J16","v":2.5512335102820489E-2},{"$f":"K16","v":1.26440187324443E-2},{"$f":"L16","v":0}]
[null,null,null,null,null,null,null,"Methane",{"$f":"SUM(J47:L47)","v":0.22417983776706141},{"$f":"J17*Calculations!$C$38","v":0.22400772644966643},{"$f":"K17*Calculations!$C$38","v":1.7211131739496049E-4},{"$f":"L17*Calculations!$C$38","v":0}]
[null,null,null,null,null,null,null,"Nitrous Oxide",{"$f":"SUM(J48:L48)","v":2.2498190627001955E-4},{"$f":"J18*Calculations!$C$39","v":1.3382079510139232E-4},{"$f":"K18*Calculations!$C$39","v":9.1161111168627218E-5},{"$f":"L18*Calculations!$C$39","v":0}]
[null,null,null,null,null,null,null,"Total",0.2625611735085962,{"$f":"SUM(J46:J48)","v":0.24965388234758831},{"$f":"SUM(K46:K48)","v":1.2907291161007887E-2},{"$f":"SUM(L46:L48)","v":0}]

{"sheet":"Dashboard - Petro Baseline","index":3,"n_rows":49,"n_cols":13,"rows_kept":49,"cut":false,"hidden":false,"merged":[[37,6,38,6],[44,6,44,7],[45,6,48,6],[0,11,0,12],[11,7,11,8],[14,6,14,7],[15,6,27,6],[28,6,29,6],[30,6,36,6]]}
[]
[null,"Include RMA","On",null,"Include RMA 2*","Off",null,"Include RMT","On",null,null,"Include ECF","On"]
[null,"RMA Process List","Not Set",null,"RMA Process List","Not Set",null,"Num of Transp. Mode",0,null,null,"ECF Process List","Petroleum"]
[null,null,null,null,null,null,null,"RMA Suggested RMT"]
[]
[null,"Parameters","Value",null,"Parameters","Value",null,"Transportation Mode**","Unit","Value",null,"Parameters","Option"]
[null,"Not Set","Not Set",null,"Not Set","Not Set",null,null,{"$f":"IF($H7<>\"\",VLOOKUP(H7,Parameters!$A$71:$C$81, 2, FALSE),\"\")","v":""},null,null,{"$f":"IF($M$3<>\"\",INDIRECT(SUBSTITUTE($M$3,\" \",\"_\")),\"\")","v":"Refinery Product"},"Gasoline"]
[null,"Not Set","Not Set",null,"Not Set","Not Set"]
[null,"Not Set","Not Set",null,"Not Set","Not Set"]
[null,"Not Set","Not Set",null,"Not Set","Not Set"]
[]
[]
[]
[null,"Units","SI"]
[null,null,null,null,null,null,"Life Cycle Inventory",null,"Total","RMA","RMT","ECF"]
[null,null,null,null,null,null,"Air Emissions",{"$f":"SUBSTITUTE(Data!D37,\"(kg)\",\"\")","v":"Carbon Dioxide "},{"$f":"SUM(J16:L16)","v":0.63298357223392121},{"$f":"'Petro Baseline'!F3","v":0.18649754396494964},{"$f":"'Petro Baseline'!G3","v":5.3403019281723682E-2},{"$f":"'Petro Baseline'!H3","v":0.39308300898724791}]
[null,null,null,null,null,null,null,{"$f":"SUBSTITUTE(Data!D38,\"(kg)\",\"\")","v":"Methane "},{"$f":"SUM(J17:L17)","v":4.136629015062494E-3},{"$f":"'Petro Baseline'!F4","v":3.629076647083979E-3},{"$f":"'Petro Baseline'!G4","v":2.9028158957353442E-5},{"$f":"'Petro Baseline'!H4","v":4.7852420902116201E-4}]
[null,null,null,null,null,null,null,{"$f":"SUBSTITUTE(Data!D39,\"(kg)\",\"\")","v":"Nitrous Oxide "},1.2430520653495379E-5,{"$f":"'Petro Baseline'!F5","v":5.0085990514303239E-6},{"$f":"'Petro Baseline'!G5","v":1.0781483411104459E-6},{"$f":"'Petro Baseline'!H5","v":6.3437732609546097E-6}]
[null,null,null,null,null,null,null,{"$f":"SUBSTITUTE(Data!D40,\"(kg)\",\"\")","v":"Total GWP "},0.74010359276522519,{"$f":"'Petro Baseline'!F6","v":0.27871702265937531},{"$f":"'Petro Baseline'!G6","v":5.4450011461308435E-2},{"$f":"'Petro Baseline'!H6","v":0.40693655864454142}]
[null,null,null,null,null,null,null,{"$f":"SUBSTITUTE(Data!D41,\"(kg)\",\"\")","v":"Nitrogen Oxides "},8.0679875924109681E-4,{"$f":"'Petro Baseline'!F7","v":5.8140167170816527E-4},{"$f":"'Petro Baseline'!G7","v":1.113408820405065E-4},{"$f":"'Petro Baseline'!H7","v":1.14056205492425E-4}]
[null,null,null,null,null,null,null,{"$f":"SUBSTITUTE(Data!D42,\"(kg)\",\"\")","v":"Sulfur Dioxide "},1.6203529535284899E-3,{"$f":"'Petro Baseline'!F8","v":9.3100260779592709E-4},{"$f":"'Petro Baseline'!G8","v":1.444365418348748E-4},{"$f":"'Petro Baseline'!H8","v":5.4491380389768795E-4}]
[null,null,null,null,null,null,null,{"$f":"SUBSTITUTE(Data!D43,\"(kg)\",\"\")","v":"Carbon Monoxide "},5.9370601671185591E-4,{"$f":"'Petro Baseline'!F9","v":4.0335508294071733E-4},{"$f":"'Petro Baseline'!G9","v":2.7988719901111614E-5},{"$f":"'Petro Baseline'!H9","v":1.6236221387002701E-4}]
[null,null,null,null,null,null,null,{"$f":"SUBSTITUTE(Data!D44,\"(kg)\",\"\")","v":"Particulate Matter "},1.4247087391084347E-5,{"$f":"'Petro Baseline'!F10","v":6.6722602781303598E-6},{"$f":"'Petro Baseline'!G10","v":2.532340900431748E-6},{"$f":"'Petro Baseline'!H10","v":5.0424862125222398E-6}]
[null,null,null,null,null,null,null,{"$f":"SUBSTITUTE(Data!D45,\"(kg)\",\"\")","v":"Lead "},1.3646588411678218E-8,{"$f":"'Petro Baseline'!F11","v":7.6524273700909823E-9},{"$f":"'Petro Baseline'!G11","v":1.2578572063195159E-9},{"$f":"'Petro Baseline'!H11","v":4.73630383526772E-9}]
[null,null,null,null,null,null,null,{"$f":"SUBSTITUTE(Data!D46,\"(kg)\",\"\")","v":"Mercury "},1.1680625131025254E-9,{"$f":"'Petro Baseline'!F12","v":2.7931513592708652E-10},{"$f":"'Petro Baseline'!G12","v":2.1654604004389791E-10},{"$f":"'Petro Baseline'!H12","v":6.7220133713154101E-10}]
[null,null,null,null,null,null,null,{"$f":"SUBSTITUTE(Data!D47,\"(kg)\",\"\")","v":"Ammonia "},6.95793626196257E-6,{"$f":"'Petro Baseline'!F13","v":2.0132718300036007E-6},{"$f":"'Petro Baseline'!G13","v":1.0096189998604193E-6},{"$f":"'Petro Baseline'!H13","v":3.9350454320985498E-6}]
[null,null,null,null,null,null,null,{"$f":"SUBSTITUTE(Data!D48,\"(kg)\",\"\")","v":"Radiation "},4.6116961351821373E-9,{"$f":"'Petro Baseline'!F14","v":3.2958808167408398E-10},{"$f":"'Petro Baseline'!G14","v":1.4264484054780635E-9},{"$f":"'Petro Baseline'!H14","v":2.8556596480299899E-9}]
[null,null,null,null,null,null,null,{"$f":"SUBSTITUTE(Data!D49,\"(kg)\",\"\")","v":"Non Methane VOC "},1.7232098037549329E-3,{"$f":"'Petro Baseline'!F15","v":7.839778518828345E-4},{"$f":"'Petro Baseline'!G15","v":7.628478526069104E-4},{"$f":"'Petro Baseline'!H15","v":1.76384099265188E-4}]
[null,null,null,null,null,null,"Solid Waste",{"$f":"SUBSTITUTE(Data!D50,\"(kg)\",\"\")","v":"Heavy Metals to Soil "},1.2183305930726256E-5,{"$f":"'Petro Baseline'!F16","v":1.104296167549457E-5},{"$f":"'Petro Baseline'!G16","v":8.4819156265237056E-7},{"$f":"'Petro Baseline'!H16","v":2.9215269257931501E-7}]
[null,null,null,null,null,null,null,{"$f":"SUBSTITUTE(Data!D51,\"(kg)\",\"\")","v":"Solid Waste "},1.19134456148636E-4,{"$f":"'Petro Baseline'!F17","v":1.19134456148636E-4},{"$f":"'Petro Baseline'!G17","v":0},{"$f":"'Petro Baseline'!H17","v":0}]
[null,null,null,null,null,null,"Water Emissions",{"$f":"SUBSTITUTE(Data!D52,\"(kg)\",\"\")","v":"Aluminum "},3.7238242336160949E-7,{"$f":"'Petro Baseline'!F18","v":2.7170648584757099E-8},{"$f":"'Petro Baseline'!G18","v":1.1484270550384136E-7},{"$f":"'Petro Baseline'!H18","v":2.30369069273011E-7}]
[null,null,null,null,null,null,null,{"$f":"SUBSTITUTE(Data!D53,\"(kg)\",\"\")","v":"Ammonium/ammonia "},1.3574771299136126E-6,{"$f":"'Petro Baseline'!F19","v":1.0083406042639499E-6},{"$f":"'Petro Baseline'!G19","v":1.478002826785195E-7},{"$f":"'Petro Baseline'!H19","v":2.01336242971143E-7}]
[null,null,null,null,null,null,null,{"$f":"SUBSTITUTE(Data!D54,\"(kg)\",\"\")","v":"Heavy Metals "},2.3843398060766135E-3,{"$f":"'Petro Baseline'!F20","v":3.4436377409426279E-6},{"$f":"'Petro Baseline'!G20","v":4.7727365763110845E-6},{"$f":"'Petro Baseline'!H20","v":2.37612343175936E-3}]
[null,null,null,null,null,null,null,{"$f":"SUBSTITUTE(Data!D55,\"(kg)\",\"\")","v":"Nitrate "},2.1054224236718766E-6,{"$f":"'Petro Baseline'!F21","v":1.250964047667648E-7},{"$f":"'Petro Baseline'!G21","v":6.3911053794415168E-7},{"$f":"'Petro Baseline'!H21","v":1.3412154809609599E-6}]
[null,null,null,null,null,null,null,{"$f":"SUBSTITUTE(Data!D56,\"(kg)\",\"\")","v":"Nitrogen "},1.8809919608952631E-9,{"$f":"'Petro Baseline'!F22","v":1.6992562532262515E-9},{"$f":"'Petro Baseline'!G22","v":2.5310520612398602E-11},{"$f":"'Petro Baseline'!H22","v":1.5642518705661301E-10}]
[null,null,null,null,null,null,null,{"$f":"SUBSTITUTE(Data!D57,\"(kg)\",\"\")","v":"Phosphate "},1.4199278148145911E-8,{"$f":"'Petro Baseline'!F23","v":8.5401773118095295E-9},{"$f":"'Petro Baseline'!G23","v":1.6727289920848809E-9},{"$f":"'Petro Baseline'!H23","v":3.9863718442515004E-9}]
[null,null,null,null,null,null,null,{"$f":"SUBSTITUTE(Data!D58,\"(kg)\",\"\")","v":"Phosphorus "},5.130683213810575E-4,{"$f":"'Petro Baseline'!F24","v":1.090151634120376E-7},{"$f":"'Petro Baseline'!G24","v":6.6794930313899456E-9},{"$f":"'Petro Baseline'!H24","v":5.1295262672461405E-4}]
[null,null,null,null,null,null,"Water",{"$f":"IF($C$14=\"SI\",\"Water Withdrawal (L)\",\"Water Withdrawal (Gal.)\")","v":"Water Withdrawal (L)"},0.58033278431276603,{"$f":"'Petro Baseline'!F25","v":0.12347468392982079},{"$f":"'Petro Baseline'!G25","v":0.15217522627593222},{"$f":"'Petro Baseline'!H25","v":0.304682874107013}]
[null,null,null,null,null,null,null,{"$f":"IF($C$14=\"SI\",\"Water Consumption (L)\",\"Water Consumption (Gal.)\")","v":"Water Consumption (L)"},2.5416142412473643,{"$f":"'Petro Baseline'!F26","v":0.23407297121010381},{"$f":"'Petro Baseline'!G26","v":0.20359627373017081},{"$f":"'Petro Baseline'!H26","v":2.10394499630709}]
[null,null,null,null,null,null,"Land Use",{"$f":"IF($C$14=\"SI\",\"Area Changes (Km^2)\",\"Area Changes (Acres)\")","v":"Area Changes (Km^2)"},1.0992998610789959,{"$f":"'Petro Baseline'!F27","v":1.008696646328703},{"$f":"'Petro Baseline'!G27","v":3.7973742018243578E-2},{"$f":"'Petro Baseline'!H27","v":5.26294727320493E-2}]
[null,null,null,null,null,null,"EROI",{"$f":"IF($C$14=\"SI\",Data!D62,SUBSTITUTE(Data!D62,\"(MJ)\",\"(MMBtu)\"))","v":"Energy Input (MJ)"},46.285515746804037,{"$f":"'Petro Baseline'!F28","v":42.561841027357737},{"$f":"'Petro Baseline'!G28","v":1.60324281350732},{"$f":"'Petro Baseline'!H28","v":2.1204319059389798}]
[]
[]
[]
[null,null,null,null,null,null,"GHG Inventory",null,"Total","RMA","RMT","ECF"]
[null,null,null,null,null,null,"Air Emissions","Carbon Dioxide",{"$f":"SUM(J46:L46)","v":0.63298357223392121},{"$f":"J16","v":0.18649754396494964},{"$f":"K16","v":5.3403019281723682E-2},{"$f":"L16","v":0.39308300898724791}]
[null,null,null,null,null,null,null,"Methane",{"$f":"SUM(J47:L47)","v":0.10341572537656236},{"$f":"J17*Calculations!$C$38","v":9.0726916177099479E-2},{"$f":"K17*Calculations!$C$38","v":7.2570397393383599E-4},{"$f":"L17*Calculations!$C$38","v":1.196310522552905E-2}]
[null,null,null,null,null,null,null,"Nitrous Oxide",{"$f":"SUM(J48:L48)","v":3.704295154741623E-3},{"$f":"J18*Calculations!$C$39","v":1.4925625173262365E-3},{"$f":"K18*Calculations!$C$39","v":3.2128820565091289E-4},{"$f":"L18*Calculations!$C$39","v":1.8904444317644736E-3}]
[null,null,null,null,null,null,null,"Total",0.74010359276522519,{"$f":"SUM(J46:J48)","v":0.27871702265937531},{"$f":"SUM(K46:K48)","v":5.4450011461308435E-2},{"$f":"SUM(L46:L48)","v":0.40693655864454142}]

{"sheet":"Macro Enabling","index":4,"n_rows":0,"n_cols":0,"rows_kept":0,"cut":false,"hidden":false,"merged":[]}

{"sheet":"Unit Reference","index":5,"n_rows":26,"n_cols":12,"rows_kept":26,"cut":false,"hidden":false,"merged":[[1,10,1,11],[9,10,9,11],[1,8,1,9],[1,2,1,3],[1,4,1,5]]}
[]
[null,"Feedstock","Energy Density\n(SI Units)",null,"Energy Density\n(English Units)",null,null,"Volume Conversion Factors","Density\n(SI Units)",null,"Density\n(English Units)"]
[null,"Illinois 6",{"$f":"E3/$K$14*$I$11","v":27.135116000000057},"MJ/kg",11666,"Btu/lb",null,"Natural Gas",{"$f":"K3/I11/K11","v":0.67277546170632463},"kg/m3",4.2000000000000003E-2,"lb/scf"]
[null,"Powder River Basin",{"$f":"E4/$K$14*$I$11","v":19.91986400000004},"MJ/kg",8564,"Btu/lb",null,"Gasoline",117,"kg/barrel",{"$f":"I4*$I$11","v":257.94084675630728},"lb/barrel"]
[null,"Petroleum Domestic",42.082561632653139,"MJ/kg",18092.244897959183,"Btu/lb",null,"Diesel",135,"kg/barrel",{"$f":"I5*$I$11","v":297.62405394958529},"lb/barrel"]
[null,"Petroleum Foreign",42.082561632653139,"MJ/kg",18092.244897959183,"Btu/lb",null,"Jet Fuel",128,"kg/barrel",{"$f":"I6*$I$11","v":282.19169559664385},"lb/barrel"]
[null,"Gasoline",44.088377231234439,"MJ/kg",18954.590383161802,"Btu/lb",null,"Ethanol",0.78900000000000003,"kg/L",{"$f":"I7*$I$11*$K$13","v":6.5845241126432654},"lb/gal"]
[null,"Natural Gas",56.878457738374081,"MJ/kg",24453.335227159918,"Btu/lb",null,"Petroleum",139.12075681691709,"kg/barrel",{"$f":"I8*$I$11","v":306.70876764729832},"lb/barrel"]
[null,"Corn Grain",15.223670000000032,"MJ/kg",6545,"Btu/lb"]
[null,"Corn Stover",17.054232000000034,"MJ/kg",7332,"Btu/lb",null,"Mass Conversions Factors","1 kg = *",null,"Other Conversions"]
[null,"Switchgrass",17.595027000000034,"MJ/kg",7564.5,"Btu/lb",null,"Pounds (lb)",2.2046226218487801,null,{"$f":"CONVERT(CONVERT(CONVERT(1,\"ft\",\"m\"),\"ft\",\"m\"),\"ft\",\"m\")","v":2.8316846592000001E-2},"scf/m3"]
[null,"Short Rotation Woody Crops",18.463788000000037,"MJ/kg",7938,"Btu/lb",null,"Short ton",1.10231131E-3,null,42,"gal/barrel"]
[null,"Ethanol",{"$f":"E13/$K$14*$I$11","v":26.222011216141389},"MJ/kg",11273.435604531958,"Btu/lb",null,"Tonne",1E-3,null,{"$f":"CONVERT(1,\"gal\",\"l\")","v":3.7854117839999999},"L/gal"]
[null,"Uranium Fuel Assemblies",{"$f":"E14/$K$14*$I$11","v":86385200.87066099},"MJ/kg 235U",37138951363.138779,"Btu/lb 235U",null,null,null,null,{"$f":"CONVERT(1,\"MJ\",\"BTU\")","v":947.8171203133171},"Btu/MJ"]
[null,"Diesel",43.054539346602915,"MJ/kg",18510.120097421681,"Btu/lb"]
[null,"Jet Fuel",{"$f":"E16/$K$14*$I$11","v":43.101544784580582},"MJ/kg",18530.328798185939,"Btu/lb"]
[]
[null,"IPCC 2007 Factor","20 Year","100 Year","500 Year"]
[null,"CO2",1,1,1]
[null,"CH4",72,25,7.6]
[null,"N2O",289,298,153]
[]
[null,"IPCC 2001 Factor","20 Year","100 Year","500 Year"]
[null,"CO₂",1,1,1]
[null,"CH₄",62,23,7]
[null,"N₂O",275,296,156]

{"sheet":"Petro Baseline","index":6,"n_rows":215,"n_cols":14,"rows_kept":215,"cut":false,"hidden":true,"merged":[[0,5,0,7],[0,8,0,10],[0,11,0,13],[36,5,36,7],[36,8,36,10],[36,11,36,13]]}
[null,null,null,"Units: kg/kg fuel refined",null,"Gasoline",null,null,"Diesel",null,null,"Kero/Jet"]
[null,null,null,null,null,"RMA","RMT","ECF","RMA","RMT","ECF","RMA","RMT","ECF"]
[null,null,null,"Carbon dioxide","Emission to air",{"$f":"SUM(F115:F117)","v":0.18649754396494964},{"$f":"SUM(G115:G117)","v":5.3403019281723682E-2},0.39308300898724791,0.19237076422736951,5.5436294025947533E-2,0.37872547910665699,0.18600855519004672,5.3662324436273903E-2,0.2385651690701496]
[null,null,null,"Methane","Emission to air",{"$f":"F154","v":3.629076647083979E-3},{"$f":"G154","v":2.9028158957353442E-5},4.7852420902116201E-4,3.689825798007871E-3,2.9863567558741821E-5,4.6533834726725698E-4,3.5549776090292849E-3,2.8828230342681201E-5,2.9300507942167398E-4]
[null,null,null,"Nitrous oxide (laughing gas)","Emission to air",{"$f":"F140","v":5.0085990514303239E-6},{"$f":"G140","v":1.0781483411104459E-6},6.3437732609546097E-6,5.2059360925022089E-6,1.1157354558493775E-6,5.8280403517931001E-6,5.0028358286022274E-6,1.0830896726464753E-6,3.6816740052296199E-6]
[null,null,null,"GWP",null,{"$f":"F3+F4*25+F5*298","v":0.27871702265937531},{"$f":"G3+G4*25+G5*298","v":5.4450011461308435E-2},0.40693655864454142,0.28616777813313193,5.6515372380759196E-2,0.39209569381317277,0.27637384049270236,5.4705790917289582E-2,0.24698743490924988]
[null,null,null,"Nitrogen oxides","Emission to air",{"$f":"F139","v":5.8140167170816527E-4},{"$f":"G139","v":1.113408820405065E-4},1.14056205492425E-4,5.8930617029802465E-4,1.0941812110897982E-4,1.08427986483254E-4,5.7046894550868141E-4,1.0674549810146911E-4,6.8385670196776903E-5]
[null,null,null,"Sulphur dioxide","Emission to air",{"$f":"F145","v":9.3100260779592709E-4},{"$f":"G145","v":1.444365418348748E-4},5.4491380389768795E-4,9.4379460692899098E-4,1.3848560491993629E-4,5.0576423895897296E-4,9.011665056389939E-4,1.3459312962245021E-4,3.1945061556488502E-4]
[null,null,null,"Carbon monoxide","Emission to air",{"$f":"F119","v":4.0335508294071733E-4},{"$f":"G119","v":2.7988719901111614E-5},1.6236221387002701E-4,4.1757693892656271E-4,2.548627038173441E-5,1.5254187197451699E-4,4.0230041825955386E-4,2.508875144464288E-5,9.6276713522539404E-5]
[null,null,null,"Dust (unspecified)","Emission to air",{"$f":"F162","v":6.6722602781303598E-6},{"$f":"G162","v":2.532340900431748E-6},5.0424862125222398E-6,6.5327062809848393E-6,2.5206301948439211E-6,5.2186514326908398E-6,6.3808212700909191E-6,2.4349798189709351E-6,3.28506384114194E-6]
[null,null,null,"Lead (+II)","Emission to air",{"$f":"F92","v":7.6524273700909823E-9},{"$f":"G92","v":1.2578572063195159E-9},4.73630383526772E-9,7.8570899823658157E-9,1.228236446254557E-9,4.4801570607910499E-9,7.5563757965473041E-9,1.205870542202838E-9,2.82649237357125E-9]
[null,null,null,"Mercury (+II)","Emission to air",{"$f":"F94","v":2.7931513592708652E-10},{"$f":"G94","v":2.1654604004389791E-10},6.7220133713154101E-10,2.81664574407966E-10,2.277253169455641E-10,6.2898747459973799E-10,2.6963959879931378E-10,2.1785563738655742E-10,3.9708459636911402E-10]
[null,null,null,"Ammonia","Emission to air",{"$f":"F108","v":2.0132718300036007E-6},{"$f":"G108","v":1.0096189998604193E-6},3.9350454320985498E-6,2.1787608376225412E-6,1.0949873898903521E-6,3.5729966094848101E-6,2.0389441296530814E-6,1.0537025205534613E-6,2.25984776169329E-6]
[null,null,null,"Radioactive emissions to air","Emission to air",{"$f":"F165","v":3.2958808167408398E-10},{"$f":"G165","v":1.4264484054780635E-9},2.8556596480299899E-9,2.357152789560245E-10,1.5036809166159746E-9,2.6825665393801002E-9,2.5470191341062421E-10,1.4365966799547473E-9,1.6931195404419201E-9]
[null,null,null,"Group NMVOC to air","Emission to air",{"$f":"F153","v":7.839778518828345E-4},{"$f":"G153","v":7.628478526069104E-4},1.76384099265188E-4,8.0661540349687838E-4,8.1838446806467525E-4,1.63627550950473E-4,7.6761257347796334E-4,7.6763925971257607E-4,1.0335349691303899E-4]
[null,null,null,"Heavy metals to industrial soil","Solid Waste",{"$f":"F213","v":1.104296167549457E-5},{"$f":"G213","v":8.4819156265237056E-7},2.9215269257931501E-7,1.0343393583476998E-5,3.7959003960749977E-7,3.1789762106292301E-7,1.0820683639977461E-5,4.3396344022615133E-7,1.98978456641673E-7]
[null,null,null,"Waste (solid)","Solid Waste",{"$f":"F77","v":1.19134456148636E-4},{"$f":"G77","v":0},0,1.2946726816794301E-4,0,0,1.21086361193234E-4,0,0]
[null,null,null,"Aluminum (+III)","Emission to water",{"$f":"F171","v":2.7170648584757099E-8},{"$f":"G171","v":1.1484270550384136E-7},2.30369069273011E-7,2.0002221230661882E-8,1.2117555089446489E-7,4.6800062047715402E-4,2.1396325661349081E-8,1.1574553782000023E-7,4.9171262578812395E-4]
[null,null,null,"Ammonium / ammonia","Emission to water",{"$f":"F174","v":1.0083406042639499E-6},{"$f":"G174","v":1.478002826785195E-7},2.01336242971143E-7,9.7071770474358368E-7,1.195336218886631E-7,1.9149349972988701E-7,9.9762598518961988E-7,1.1918708207620851E-7,1.2077189552306199E-7]
[null,null,null,"Heavy metals to fresh water","Emission to water",{"$f":"F168","v":3.4436377409426279E-6},{"$f":"G168","v":4.7727365763110845E-6},2.37612343175936E-3,3.4576976753605431E-6,5.0818249939203916E-6,2.0722534313200799E-3,3.315932511846098E-6,4.8439030201427266E-6,2.1720329665790199E-3]
[null,null,null,"Nitrate","Emission to water",{"$f":"F192","v":1.250964047667648E-7},{"$f":"G192","v":6.3911053794415168E-7},1.3412154809609599E-6,1.207931963770395E-7,6.872226165822056E-7,1.2582277980060401E-6,1.18991370905868E-7,6.536827134784463E-7,7.9420354676697298E-7]
[null,null,null,"Nitrogen","Emission to water",{"$f":"F193","v":1.6992562532262515E-9},2.5310520612398602E-11,1.5642518705661301E-10,1.8064632041375692E-9,1.9413270445644839E-11,1.69088890002787E-10,1.6890263195529503E-9,1.96731933925571E-11,1.05873162169477E-10]
[null,null,null,"Phosphate","Emission to water",{"$f":"F195","v":8.5401773118095295E-9},{"$f":"G195","v":1.6727289920848809E-9},3.9863718442515004E-9,8.6685400995587988E-9,1.6427044619604321E-9,3.8052059540508799E-9,8.3299651070105025E-9,1.5905646672932912E-9,2.3993642589254099E-9]
[null,null,null,"Phosphorus","Emission to water",{"$f":"F196","v":1.090151634120376E-7},6.6794930313899456E-9,5.1295262672461405E-4,1.0536192999456084E-7,2.9937499388660269E-9,4.4701350337456502E-4,1.082828989215653E-7,3.4233438440392181E-9,4.6974784846028501E-4]
[null,null,null,"Water Out","Emission to water",{"$f":"F68","v":0.12347468392982079},{"$f":"G68","v":0.15217522627593222},0.304682874107013,0.11624693074742483,0.15908535155944564,0.28746369050075699,0.11941794999937549,0.15251128253773177,0.18138675666939999]
[null,null,null,"Water In",null,{"$f":"F48","v":0.23407297121010381},{"$f":"G48","v":0.20359627373017081},2.10394499630709,0.22936258526619596,0.21245759981758566,1.8662039685573999,0.22817487091456121,0.2036034065718722,1.7931882897871601]
[null,null,null,"Energy resources (kg)",null,{"$f":"F41","v":1.008696646328703},{"$f":"G41","v":3.7973742018243578E-2},5.26294727320493E-2,1.0231772086252975,2.1898036302219488E-2,5.5391574220133799E-2,1.0200710873828509,2.3652963351904911E-2,3.4732726457667402E-2]
[null,null,null,"Energy resources (MJ)",null,{"$f":"F42","v":42.561841027357737},1.60324281350732,2.1204319059389798,43.142897500535881,0.91640712793583201,2.22976868305703,43.036825819672003,0.99203390492491694,1.39822050570039]
[]
[]
[]
[]
[]
[]
[]
[]
[null,null,null,null,null,"Gasoline",null,null,"Diesel",null,null,"Kero/Jet"]
[null,null,null,null,null,"RMA","RMT","ECF","RMA","RMT","ECF","RMA","RMT","ECF"]
["Flows","Flows","Flows","Flows","Flows",1.5500314658474119,0.52420278497056794,2.51184414004108,1.5688376686791914,0.44928945220796468,2.2388773114940101,1.5497842077489739,0.49630088586082899,2.0288050033354899]
[null,"Resources","Resources","Resources","Resources",1.5500314658474119,0.52420278497056794,2.51184414004108,1.5688376686791914,0.44928945220796468,2.2388773114940101,1.5497842077489739,0.49630088586082899,2.0288050033354899]
[null,null,"Energy resources","Energy resources","Energy resources",1.008696646328703,3.7973742018243578E-2,5.26294727320493E-2,1.0231772086252975,2.1898036302219488E-2,5.5391574220133799E-2,1.0200710873828509,2.3652963351904911E-2,3.4732726457667402E-2]
[null,null,null,null,null,42.561841027357737,1.60324281350732,2.1204319059389798,43.142897500535881,0.91640712793583201,2.22976868305703,43.036825819672003,0.99203390492491694,1.39822050570039]
[null,null,"Land use","Land use","Land use",0,0,0,0,0,0,0,0,0]
[null,null,"Material resources","Material resources","Material resources",0.54133481951870688,0.3590290429523243,2.45921466730903,0.54566046005389091,0.37589141590574587,2.1834857372738798,0.52971312036612128,0.35974792250892429,1.9940722768778201]
[null,null,null,"Non renewable elements","Non renewable elements",1.906968414294578E-11,2.096636964013451E-12,4.38949780795581E-12,1.8013565839754641E-11,1.3998613219063851E-12,4.5480887399312199E-12,1.719023270938532E-11,1.3984906302508541E-12,2.8542868696158698E-12]
[null,null,null,"Non renewable resources","Non renewable resources",0.196236079240177,3.721049890796399E-2,8.7845232260393799E-2,0.20657433830435706,3.8658674295109982E-2,8.5212275610216007E-2,0.19398190345128388,3.7049232912618121E-2,5.3679168713769501E-2]
[null,null,null,"Renewable resources","Renewable resources",0.34509874025946008,0.32181854404226307,2.37136943504425,0.33908612173152031,0.33723274160923544,2.0982734616591099,0.33573121689764751,0.32269868959490794,1.9403931081612]
[null,null,null,null,"Water",0.23407297121010381,0.20359627373017081,2.10394499630709,0.22936258526619596,0.21245759981758566,1.8662039685573999,0.22817487091456121,0.2036034065718722,1.7931882897871601]
[null,null,null,null,"Air",0.1108629705666667,0.11817619950238958,0.26719986436158299,0.10959165119324679,0.12474027097016935,0.23182713221074899,0.1074194324788158,0.11905904211699744,0.147053053602961]
[null,null,null,null,"Carbon dioxide",1.6279844160609809E-4,4.5856977952165398E-5,2.2418965132426901E-4,1.3188522945874759E-4,3.4639274580505697E-5,2.4201062644229501E-4,1.3691346381260151E-4,3.6021016244081898E-5,1.51543272533934E-4]
[null,null,null,null,"Nitrogen",4.0973490456011611E-11,1.0540341431810729E-12,2.6399065118970401E-12,4.2590498100501645E-11,5.8288526447615099E-13,2.8563699777730001E-12,4.0421939637087938E-11,6.24125716706519E-13,1.78839353913634E-12]
[null,null,null,null,"Oxygen",1.0960911428353328E-13,2.1383069701864589E-7,3.8472161244470198E-7,2.8284956522555664E-14,2.3154631685835784E-7,3.5026166865631001E-7,3.5206990419283012E-14,2.1988916922456913E-7,2.21496752831149E-7]
[null,null,"Crude Oil Virgin Islands","Crude Oil Virgin Islands","Crude Oil Virgin Islands",0,0,0,0,0,0,0,0,0]
[null,null,"Finished Fuels Average Crude Oil","Finished Fuels Average Crude Oil","Finished Fuels Average Crude Oil",0,0,0,0,0,0,0,0,0]
[null,null,"Finished Fuels Average Crude Oil to RMT - Gasoline","Finished Fuels Average Crude Oil to RMT - Gasoline","Finished Fuels Average Crude Oil to RMT - Gasoline",0,0.12720000000000001,0,0,5.1499999999999997E-2,0,0,0.1129,0]
[null,null,"Finished Fuels Canadian Crude Oil","Finished Fuels Canadian Crude Oil","Finished Fuels Canadian Crude Oil",0,0,0,0,0,0,0,0,0]
[null,null,"Finished Fuels South Korean Crude Oil","Finished Fuels South Korean Crude Oil","Finished Fuels South Korean Crude Oil",0,0,0,0,0,0,0,0,0]
[null,null,"Finished Fuels Virgin Islands Crude Oil","Finished Fuels Virgin Islands Crude Oil","Finished Fuels Virgin Islands Crude Oil",0,0,0,0,0,0,0,0,0]
[]
["&Outputs"]
[]
[null,null,null,null,null,"RMA","RMT","ECF","RMA","RMT","ECF","RMA","RMT","ECF"]
["Flows","Flows","Flows","Flows","Flows",0.52389704068018905,0.48771196161048902,1.04180550647226,0.44069125389702857,0.42945297427564733,0.971187695429227,0.49873931146846495,0.47507127509382102,0.61651636168567503]
[null,"Resources","Resources","Resources","Resources",0.25067468392982095,0.27937522627593203,0.304682874107013,0.16774693074742481,0.21058535155944569,0.28746369050075699,0.232317949999375,0.265411282537732,0.18138675666939999]
[null,null,"Energy resources","Energy resources","Energy resources",0,0,0,0,0,0,0,0,0]
[null,null,"Material resources","Material resources","Material resources",0.12347468392982079,0.15217522627593222,0.304682874107013,0.11624693074742483,0.15908535155944564,0.28746369050075699,0.11941794999937549,0.15251128253773177,0.18138675666939999]
[null,null,null,"Renewable resources","Renewable resources",0.12347468392982079,0.15217522627593222,0.304682874107013,0.11624693074742483,0.15908535155944564,0.28746369050075699,0.11941794999937549,0.15251128253773177,0.18138675666939999]
[null,null,null,null,"Water",0.12347468392982079,0.15217522627593222,0.304682874107013,0.11624693074742483,0.15908535155944564,0.28746369050075699,0.11941794999937549,0.15251128253773177,0.18138675666939999]
[null,null,"Crude Oil Virgin Islands","Crude Oil Virgin Islands","Crude Oil Virgin Islands",0,0,0,0,0,0,0,0,0]
[null,null,"Finished Fuels Average Crude Oil","Finished Fuels Average Crude Oil","Finished Fuels Average Crude Oil",0,0.12720000000000001,0,0,5.1499999999999997E-2,0,0,0.1129,0]
[null,null,"Finished Fuels Average Crude Oil to RMT - Gasoline","Finished Fuels Average Crude Oil to RMT - Gasoline","Finished Fuels Average Crude Oil to RMT - Gasoline",0.12720000000000001,0,0,5.1499999999999997E-2,0,0,0.1129,0,0]
[null,null,"Finished Fuels Canadian Crude Oil","Finished Fuels Canadian Crude Oil","Finished Fuels Canadian Crude Oil",0,0,0,0,0,0,0,0,0]
[null,null,"Finished Fuels South Korean Crude Oil","Finished Fuels South Korean Crude Oil","Finished Fuels South Korean Crude Oil",0,0,0,0,0,0,0,0,0]
[null,null,"Finished Fuels Virgin Islands Crude Oil","Finished Fuels Virgin Islands Crude Oil","Finished Fuels Virgin Islands Crude Oil",0,0,0,0,0,0,0,0,0]
[null,"Production residues in life cycle","Production residues in life cycle","Production residues in life cycle","Production residues in life cycle",1.19134456148636E-4,0,0,1.2946726816794301E-4,0,0,1.21086361193234E-4,0,0]
[null,null,"Waste for disposal","Waste for disposal","Waste for disposal",1.19134456148636E-4,0,0,1.2946726816794301E-4,0,0,1.21086361193234E-4,0,0]
[null,null,null,"Waste (solid)","Waste (solid)",1.19134456148636E-4,0,0,1.2946726816794301E-4,0,0,1.21086361193234E-4,0,0]
[null,"Emissions to air","Emissions to air","Emissions to air","Emissions to air",0.24756947678303781,0.20661278974926517,0.72675748755672998,0.2483394751691789,0.21803804039406757,0.67449150554942505,0.24175429354664829,0.20872066138273568,0.425916790538448]
[null,null,"Heavy metals to air","Heavy metals to air","Heavy metals to air",1.124738978858218E-7,2.6499984164580349E-8,6.1834347988604404E-8,1.0853693274709619E-7,2.435386646489546E-8,5.80590377389465E-8,1.1323182348078261E-7,2.4071093904687321E-8,3.6645382975638897E-8]
[null,null,null,"Antimony","Antimony",1.2669418315227469E-10,2.2344245656998791E-10,3.84398665805085E-10,8.7424812852586902E-11,2.242755474129678E-10,3.6229133301252301E-10,1.2666877102272491E-10,2.2278136165559661E-10,2.2861687118307799E-10]
[null,null,null,"Arsenic (+V)","Arsenic (+V)",9.1908090555789403E-10,2.2208598004192024E-9,4.8017949820511598E-9,8.2128677233062103E-10,2.3459921242862944E-9,4.5004927151717602E-9,8.6573815831176503E-10,2.2429859453968655E-9,2.8409080729617299E-9]
[null,null,null,"Arsenic trioxide","Arsenic trioxide",4.6346307027695398E-13,5.0641391965313199E-15,3.9531243239556401E-14,4.9284533731463692E-13,3.3499279199236698E-15,4.3364649520191498E-14,4.6074754005967186E-13,3.5087180337590199E-15,2.7131227751198701E-14]
[null,null,null,"Cadmium (+II)","Cadmium (+II)",1.657801933423662E-10,1.2436114314469391E-10,2.5355151200865899E-10,1.6417177820564671E-10,1.2950597478498263E-10,2.40674441690766E-10,1.6174789280981109E-10,1.2491047461049291E-10,1.51807800103738E-10]
[null,null,null,"Chromium (+III)","Chromium (+III)",9.6148748404317831E-11,1.4198834696329349E-12,8.9191838171400908E-12,1.0220719055023211E-10,1.082504828607076E-12,9.64868201622319E-12,9.556376736581052E-11,1.098465382889807E-12,6.0411695503028296E-12]
[null,null,null,"Chromium (unspecified)","Chromium (unspecified)",5.2332744830837802E-10,2.3822887248277707E-10,4.7764052702437202E-10,4.82073193214948E-10,2.2987385863650839E-10,4.5794190778939699E-10,4.9757358944558378E-10,2.2704455757121119E-10,2.8867854481561199E-10]
[null,null,null,"Cobalt","Cobalt",3.2180019796514782E-10,1.3637118483704389E-10,2.7905997442902897E-10,2.867733557669619E-10,1.269263080117003E-10,2.6333191614509498E-10,3.1327871675637471E-10,1.2814819125565231E-10,1.6615818897073301E-10]
[null,null,null,"Copper (+II)","Copper (+II)",1.6058267156608999E-9,2.6414124509658538E-10,5.7888885632289302E-10,1.6776337402634405E-9,2.653988670151667E-10,5.5984037156551096E-10,1.5977668685272445E-9,2.5863864212527581E-10,3.5273239145628102E-10]
[null,null,null,"Heavy metals to air (unspecified)","Heavy metals to air (unspecified)",4.2257858433894471E-12,1.2279293927620548E-12,2.5937975664382601E-12,4.3732410262639871E-12,1.2686630778246773E-12,2.4748084868015102E-12,4.1183454902319711E-12,1.2131701330139375E-12,1.56052700299757E-12]
[null,null,null,"Hydrogen arsenic (arsine)","Hydrogen arsenic (arsine)",3.8468119603475009E-11,4.2032355336033203E-13,3.2809983361811802E-12,4.0906907159332947E-11,2.7804401739659902E-13,3.5994123033773999E-12,3.8242741814744987E-11,2.9122359684534297E-13,2.2519752882547999E-12]
[null,null,null,"Iron","Iron",1.0486003220459899E-9,8.5999031738357496E-11,3.2194294964620398E-10,1.0733524759889192E-9,7.5034486824441691E-11,3.1432517296748799E-10,1.0240419207526074E-9,7.44116419179793E-11,1.9793261579048199E-10]
[null,null,null,"Lanthanides","Lanthanides",1.3745609378256639E-13,1.364360394711238E-14,2.77497961110453E-14,1.3331502826241804E-13,9.6400822756914404E-15,2.8535490800630699E-14,1.2679688085109618E-13,9.9445331278550897E-15,1.7915819726246399E-14]
[null,null,null,"Lead (+II)","Lead (+II)",7.6524273700909823E-9,1.2578572063195159E-9,4.73630383526772E-9,7.8570899823658157E-9,1.228236446254557E-9,4.4801570607910499E-9,7.5563757965473041E-9,1.205870542202838E-9,2.82649237357125E-9]
[null,null,null,"Manganese (+II)","Manganese (+II)",2.945901322275451E-9,5.8737319114529603E-10,1.26307317834502E-9,2.9748165472154309E-9,5.6742385939430105E-10,1.21625544719265E-9,2.855755820432319E-9,5.5593233027953618E-10,7.6650799733969601E-10]
[null,null,null,"Mercury (+II)","Mercury (+II)",2.7931513592708652E-10,2.1654604004389791E-10,6.7220133713154101E-10,2.81664574407966E-10,2.277253169455641E-10,6.2898747459973799E-10,2.6963959879931378E-10,2.1785563738655742E-10,3.9708459636911402E-10]
[null,null,null,"Molybdenum","Molybdenum",6.9925185335643323E-11,4.9002566785280296E-12,2.1403909021929702E-11,7.1963963853072706E-11,4.2510395583754393E-12,2.0877515675402799E-11,6.8746138948144276E-11,4.2301125098359698E-12,1.31474429862771E-11]
[null,null,null,"Nickel (+II)","Nickel (+II)",1.3337989791166459E-8,1.298218293406497E-9,2.86818682260498E-9,1.3123767450185843E-8,9.6769929207119389E-10,2.6883933099204899E-9,1.348992396043916E-8,1.0075606084525399E-9,1.6970244424484401E-9]
[null,null,null,"Palladium","Palladium",1.80457282475119E-18,3.7890291282266199E-19,4.45402977267795E-18,1.7465284542781942E-18,3.3728401894987871E-19,4.86423780893366E-18,1.752457252965955E-18,3.4050792275023337E-19,3.0440376194190499E-18]
[null,null,null,"Rhodium","Rhodium",1.7420144791476521E-18,3.6576756227863299E-19,4.2996493907434398E-18,1.685982357109309E-18,3.2559146217114772E-19,4.69556926078584E-18,1.691705594135393E-18,3.2870360355135409E-19,2.9384872296957401E-18]
[null,null,null,"Selenium","Selenium",1.1152580389341411E-9,5.492759110403229E-9,1.10834292704758E-8,8.8715651915296082E-10,5.8370352306316967E-9,1.04194646011109E-8,9.9702852682047105E-10,5.5794550664770864E-9,6.5760131007861397E-9]
[null,null,null,"Silver","Silver",3.9268563961208603E-19,4.6699182530595285E-19,8.8299902422827704E-19,3.3071904018788068E-19,4.7549398159620002E-19,8.31993917612412E-19,3.3510271871169862E-19,4.5753664255636282E-19,5.2502201299153796E-19]
[null,null,null,"Tellurium","Tellurium",1.2820519330603094E-11,1.8931635494482952E-13,1.18922117505874E-12,1.3628371784663284E-11,1.4433263838997809E-13,1.2864591694797901E-12,1.2742533349659494E-11,1.464607183603821E-13,8.0547031992031101E-13]
[null,null,null,"Thallium","Thallium",9.4324149379133311E-11,1.355092016673626E-12,8.7102052961693593E-12,1.0026960665312675E-10,1.0215311848153549E-12,9.4331767313359508E-12,9.3750379282449459E-11,1.038977004334824E-12,5.9058872636426604E-12]
[null,null,null,"Tin (+IV)","Tin (+IV)",4.76965932249183E-10,2.0754374998241187E-9,4.1881547697153004E-9,3.7537761132594137E-10,2.1992588865509359E-9,3.9365620086040996E-9,3.888232963459535E-10,2.0960828765007225E-9,2.4845001466496401E-9]
[null,null,null,"Titanium","Titanium",7.9797689570858895E-12,9.9114754525606494E-13,2.11461469118742E-12,7.821679306931672E-12,8.0409486935348899E-13,2.1270828282612301E-12,7.4217817176920585E-12,8.0445000324005704E-13,1.33713400335933E-12]
[null,null,null,"Vanadium (+III)","Vanadium (+III)",7.6241550597003708E-8,9.3123665366990295E-9,2.38445308740686E-8,7.2872503107667421E-8,6.9248898351018398E-9,2.22112415227693E-8,7.7516586411572196E-8,7.1937180823434601E-9,1.40259698768222E-8]
[null,null,null,"Zinc (+II)","Zinc (+II)",5.3888865321847867E-9,2.9554998944841152E-9,6.03291121312786E-9,5.230043701689754E-9,2.9957272296499899E-9,5.7295594078727196E-9,5.249700916030836E-9,2.9268616327850691E-9,3.61386129640097E-9]
[null,null,"Inorganic emissions to air","Inorganic emissions to air","Inorganic emissions to air",0.20222014055286619,0.10901468912241465,0.50691536471292198,0.20567425868468642,0.11441403590132125,0.48367747104169301,0.1998183184207151,0.10993156264373904,0.304882448867977]
[null,null,null,"Ammonia","Ammonia",2.0132718300036007E-6,1.0096189998604193E-6,3.9350454320985498E-6,2.1787608376225412E-6,1.0949873898903521E-6,3.5729966094848101E-6,2.0389441296530814E-6,1.0537025205534613E-6,2.25984776169329E-6]
[null,null,null,"Ammonium","Ammonium",3.3105502148462195E-14,7.334184333365408E-14,1.3957937112810499E-13,2.6803034295087081E-14,7.6364578385908784E-14,1.30400140249886E-13,2.772820793658148E-14,7.2922234933522794E-14,8.23304425305265E-14]
[null,null,null,"Ammonium nitrate","Ammonium nitrate",5.34754425512569E-14,6.1284660853761201E-15,1.25053306694037E-14,5.0174739723923871E-14,4.0781883510359002E-15,1.29371575592098E-14,4.793585874817174E-14,4.0742019150312399E-15,8.11978788259601E-15]
[null,null,null,"Barium","Barium",5.2621717696613902E-6,6.0896477884811002E-8,4.5414570982029299E-7,5.5954663321174982E-6,4.1603770331249399E-8,4.9713645120319405E-7,5.231303667876996E-6,4.3280504174936401E-8,3.1106936314013298E-7]
[null,null,null,"Beryllium","Beryllium",4.7148503283075354E-11,2.8527410572253288E-11,6.4346964663548294E-11,4.5485571859581017E-11,2.9044153931830208E-11,6.0517544025382004E-11,4.657541537200347E-11,2.8176812415891388E-11,3.81933276665657E-11]
[null,null,null,"Boron compounds (unspecified)","Boron compounds (unspecified)",8.9911728488389997E-9,3.7878958880750375E-8,7.7381036744102795E-8,7.4342476564156361E-9,4.0233220275822102E-8,7.2899624811628304E-8,7.80002423209496E-9,3.840511016301173E-8,4.6003072773530798E-8]
[null,null,null,"Bromine","Bromine",3.7839011350409797E-9,1.6344337693704528E-8,3.2960838073601698E-8,3.1042029567246829E-9,1.735360897202838E-8,3.1016245947788899E-8,3.482863267652906E-9,1.6610842581401276E-8,1.9574066087864E-8]
[null,null,null,"Carbon dioxide","Carbon dioxide",0.1864622236735026,5.3377314613147042E-2,0.39300617714113401,0.19235870630631655,5.5417435726786167E-2,0.378642231748894,0.18598966918090939,5.3642938144911584E-2,0.23851305106634099]
[null,null,null,"Carbon dioxide (biotic)","Carbon dioxide (biotic)",2.8771223556505901E-5,3.1690657335880798E-7,0,4.9408370770818004E-6,2.4543216571195302E-7,0,1.22296409823258E-5,3.0322704539232297E-7,0]
[null,null,null,"Carbon dioxide (biotic)","Carbon dioxide (biotic)",6.5490678905202501E-6,2.5387762003280501E-5,7.6831846113893206E-5,7.1170839758919096E-6,1.861286699565698E-5,8.3247357762998694E-5,6.6563681549960098E-6,1.9083064316928651E-5,5.2118003808607602E-5]
[null,null,null,"Carbon disulphide","Carbon disulphide",4.7582880733220965E-13,1.3290080686437899E-13,1.96838839990899E-13,4.599928938348472E-13,1.2470608464052111E-13,1.9012413698232599E-13,4.842434314386795E-13,1.2985960683730459E-13,1.1979825521333199E-13]
[null,null,null,"Carbon monoxide","Carbon monoxide",4.0335508294071733E-4,2.7988719901111614E-5,1.6236221387002701E-4,4.1757693892656271E-4,2.548627038173441E-5,1.5254187197451699E-4,4.0230041825955386E-4,2.508875144464288E-5,9.6276713522539404E-5]
[null,null,null,"Chloride (unspecified)","Chloride (unspecified)",1.3775282330997831E-8,7.3013621744779599E-10,2.0242613465465298E-9,1.4022308824200155E-8,5.3874477809015405E-10,1.99886640558042E-9,1.3515289466761109E-8,5.5589706640994804E-10,1.2578698163697301E-9]
[null,null,null,"Chlorine","Chlorine",2.1909478350504912E-12,1.2534027857206578E-13,4.8931213956186005E-13,2.3125162869334578E-12,1.1885452607616029E-13,5.0323527296155897E-13,2.1249561441110488E-12,1.14733672378419E-13,3.1595048765522598E-13]
[null,null,null,"Cyanide (unspecified)","Cyanide (unspecified)",3.9758533484368662E-10,3.1157115915941752E-11,1.4081552314160701E-10,4.1211911606042441E-10,2.8624655007090992E-11,1.3407199862444101E-10,3.9128204403041898E-10,2.8084824164595281E-11,8.4551762701419294E-11]
[null,null,null,"Fluoride","Fluoride",1.423735253616475E-9,4.5291232791921732E-9,9.0130837544092304E-9,8.1572938963344805E-10,4.6573507314998964E-9,8.5269061274051098E-9,9.7517835846057105E-10,4.4704312204570035E-9,5.3795093616006199E-9]
[null,null,null,"Fluorides","Fluorides",5.8236594444404806E-9,0,4.4106766794572301E-12,6.228295523625564E-9,0,-6.8072545700999997E-12,5.9250453059534386E-9,0,-3.8773797893999996E-12]
[null,null,null,"Fluorine","Fluorine",4.123879215128771E-12,3.7976521891485489E-13,1.0482322100546501E-12,4.349150289807645E-12,3.7985730004232714E-13,1.0464151337798199E-12,4.0766081662850526E-12,3.6605766743625511E-13,6.5808726792021104E-13]
[null,null,null,"Helium","Helium",1.836873755620818E-9,8.3266807548242798E-11,2.0737658412170999E-10,1.8664282860951253E-9,5.2661145564714799E-11,2.2127268289379901E-10,1.7903117894202631E-9,5.6256037719105499E-11,1.3864377835446899E-10]
[null,null,null,"Hydrogen","Hydrogen",4.8345539778163459E-7,2.188409910843125E-8,2.6581922598675199E-8,4.8212679702240542E-7,1.033852888282551E-8,2.9094911018006999E-8,4.7702098943779709E-7,1.1632009626090429E-8,1.8205444202059401E-8]
[null,null,null,"Hydrogen bromine (hydrobromic acid)","Hydrogen bromine (hydrobromic acid)",1.011912488436806E-10,2.7857421823486098E-12,2.1091637425477599E-11,1.0617532464600679E-10,2.0091180419920898E-12,2.2996101799921301E-11,9.7309836871016099E-11,2.0210812712807831E-12,1.43922025368358E-11]
[null,null,null,"Hydrogen chloride","Hydrogen chloride",3.0503142200042971E-7,1.6388635527880289E-7,3.24483062673295E-7,2.602325484840153E-7,1.5369311732847829E-7,3.1844656495265698E-7,2.7296213935085651E-7,1.5288686043267089E-7,2.0046741054059101E-7]
[null,null,null,"Hydrogen cyanide (prussic acid)","Hydrogen cyanide (prussic acid)",3.897792913060737E-11,1.291075644083033E-12,5.9629165322177799E-12,4.130559992419979E-11,1.168147758120448E-12,6.1879561487139002E-12,3.8606720245535876E-11,1.1449077152168672E-12,3.8830974834257603E-12]
[null,null,null,"Hydrogen fluoride","Hydrogen fluoride",4.7550831418072999E-8,2.8308529203589038E-8,5.41220937485394E-8,4.1054638938894693E-8,2.7080590881146899E-8,5.2657433537303103E-8,4.4050656696143528E-8,2.7056160251316329E-8,3.3165518128136298E-8]
[null,null,null,"Hydrogen iodide","Hydrogen iodide",7.313921661604379E-15,2.2604956007496998E-15,1.38527683142495E-14,5.5505376558166273E-15,1.641119843016652E-15,1.5035478443001699E-14,5.75921346825551E-15,1.667096233930656E-15,9.41226296921019E-15]
[null,null,null,"Hydrogen phosphorous","Hydrogen phosphorous",1.942088942146095E-14,4.1440164195887255E-15,8.8970400594341799E-15,1.982959122012217E-14,4.1287772271971446E-15,8.6158359830260806E-15,1.878260945417945E-14,3.9881370726384122E-15,5.4280544389763697E-15]
[null,null,null,"Hydrogen sulphide","Hydrogen sulphide",4.5304334072179488E-6,1.773617759527897E-7,3.45915981608672E-7,4.5851870941334167E-6,1.057186199504867E-7,3.7648820617252199E-7,4.4156540261073629E-6,1.223138837282142E-7,2.3564851049743499E-7]
[null,null,null,"Lead dioxide","Lead dioxide",4.1013119420119298E-15,4.8762153596684136E-15,9.2200000520102597E-15,3.4543570651566131E-15,4.9649928132472612E-15,8.6875736861191296E-15,3.500061167889488E-15,4.7774866349807487E-15,5.48220662504358E-15]
[null,null,null,"Nitrogen (atmospheric nitrogen)","Nitrogen (atmospheric nitrogen)",5.4551814012133171E-5,5.5591481499921E-6,1.5266306601211798E-5,5.6194494306289549E-5,5.3417914853958301E-6,1.5365549293219799E-5,5.2079716084453047E-5,5.1944020625294361E-6,9.6588150537960103E-6]
[null,null,null,"Nitrogen dioxide","Nitrogen dioxide",4.9325966996959643E-16,5.2493144527950573E-15,2.0462529787836699E-4,5.2458498107748108E-16,5.6819625459001874E-15,2.0056295752859501E-4,4.9041228139423296E-16,5.3962507321621415E-15,1.26621822485435E-4]
[null,null,null,"Nitrogen monoxide","Nitrogen monoxide",1.6531964318808358E-11,3.51915206836757E-13,1.5619915050313301E-12,1.7468240034630764E-11,2.6611849775298868E-13,1.67194622212201E-12,1.6422419068251151E-11,2.697841089530529E-13,1.0474201752948399E-12]
[null,null,null,"Nitrogen oxides","Nitrogen oxides",5.8140167170816527E-4,1.113408820405065E-4,1.14056205492425E-4,5.8930617029802465E-4,1.0941812110897982E-4,1.08427986483254E-4,5.7046894550868141E-4,1.0674549810146911E-4,6.8385670196776903E-5]
[null,null,null,"Nitrous oxide (laughing gas)","Nitrous oxide (laughing gas)",5.0085990514303239E-6,1.0781483411104459E-6,6.3437732609546097E-6,5.2059360925022089E-6,1.1157354558493775E-6,5.8280403517931001E-6,5.0028358286022274E-6,1.0830896726464753E-6,3.6816740052296199E-6]
[null,null,null,"Oxygen","Oxygen",1.090881575984812E-4,2.243512033377198E-5,1.56761867789113E-4,9.6505081889578355E-5,1.7004082319298508E-5,1.7111156995069799E-4,9.8198635194232306E-5,1.8107193930013861E-5,1.07084428731381E-4]
[null,null,null,"Scandium","Scandium",6.9203460195825095E-14,5.8112080905723E-15,1.1842931708138899E-14,6.7195125165112444E-14,3.7352629293831401E-15,1.23736505279558E-14,6.3883294547758837E-14,3.93794586864656E-15,7.7618759882673599E-15]
[null,null,null,"Steam","Steam",1.3625507049849429E-2,5.4587778696956211E-2,0.112622763837993,1.1181730634223364E-2,5.7907419926578246E-2,0.103787427690595,1.1768028726112968E-2,5.523074594854431E-2,6.5582988957560595E-2]
[null,null,null,"Strontium","Strontium",2.6421183019480797E-12,2.4882780137895179E-13,4.9837750141440303E-13,2.555141950642867E-12,1.681565778752963E-13,5.1598348093743496E-13,2.4316025701558309E-12,1.75309584431924E-13,3.23834502056089E-13]
[null,null,null,"Sulphur dioxide","Sulphur dioxide",9.3100260779592709E-4,1.444365418348748E-4,5.4491380389768795E-4,9.4379460692899098E-4,1.3848560491993629E-4,5.0576423895897296E-4,9.011665056389939E-4,1.3459312962245021E-4,3.1945061556488502E-4]
[null,null,null,"Sulphur hexafluoride","Sulphur hexafluoride",2.8409010052967202E-13,3.3323950528298201E-13,6.37412836862308E-13,2.3992363540366001E-13,3.3920899582466399E-13,6.0189895922511602E-13,2.4298685652560751E-13,3.2643005418292244E-13,3.79772876656343E-13]
[null,null,null,"sulphur oxide","sulphur oxide",0,7.0953095682667344E-4,0,0,7.7197399706191373E-4,0,0,7.4620913546142068E-4,0]
[null,null,null,"Sulphuric acid","Sulphuric acid",2.4750518608422548E-9,2.82491786392939E-11,2.1439078623967201E-10,2.6317941644306929E-9,1.9135258884168359E-11,2.34676277567621E-10,2.4603749704832065E-9,1.992987575996627E-11,1.4684248239539901E-10]
[null,null,null,"Tin oxide","Tin oxide",3.56711328489045E-16,4.2429793591019022E-16,8.0227485212219098E-16,3.0040351929341499E-16,4.3202279782265339E-16,7.5592661868606998E-16,3.0439161475411517E-16,4.1570717627178239E-16,4.7702068277411396E-16]
[null,null,null,"Zinc oxide","Zinc oxide",7.1363016311692501E-16,8.4859587182038339E-16,1.60454970424439E-15,6.0103254222189602E-16,8.6404559564530884E-16,1.51185323737214E-15,6.0899413543829497E-16,8.3141435254356784E-16,9.5404136554823108E-16]
[null,null,null,"Zinc sulphate","Zinc sulphate",9.6928638777847651E-10,1.056142600632359E-11,8.2443521722397701E-11,1.0307514214991506E-9,6.9794386453147606E-12,9.0444318391311397E-11,9.6361858699206705E-10,7.3119181653885603E-12,5.6586568221373602E-11]
[null,null,"Organic emissions to air (group VOC)","Organic emissions to air (group VOC)","Organic emissions to air (group VOC)",4.466228166679926E-3,7.9406299069154063E-4,6.5501567388918599E-4,4.5541973380217827E-3,8.5061884180502524E-4,6.2908367835552096E-4,4.3766069688184325E-3,7.9868584527577411E-4,3.9643226574163698E-4]
[null,null,null,"Group NMVOC to air","Group NMVOC to air",7.839778518828345E-4,7.628478526069104E-4,1.76384099265188E-4,8.0661540349687838E-4,8.1838446806467525E-4,1.63627550950473E-4,7.6761257347796334E-4,7.6763925971257607E-4,1.0335349691303899E-4]
[null,null,null,"Methane","Methane",3.629076647083979E-3,2.9028158957353442E-5,4.7852420902116201E-4,3.689825798007871E-3,2.9863567558741821E-5,4.6533834726725698E-4,3.5549776090292849E-3,2.8828230342681201E-5,2.9300507942167398E-4]
[null,null,null,"Organic chlorine compounds","Organic chlorine compounds",2.6759713237694919E-14,3.0682485355577901E-15,6.2934101480520001E-15,2.5109266265823112E-14,2.0427658198750099E-15,6.5129330682490098E-15,2.398958682772538E-14,2.0407740145373531E-15,4.0876555492091802E-15]
[null,null,null,"VOC (unspecified)","VOC (unspecified)",5.3173667686355505E-5,2.1869791242089694E-6,1.07365596543073E-7,5.775613649192511E-5,2.3708061795649455E-6,1.177801312782E-7,5.401678628719313E-5,2.2183552184758709E-6,7.3689402836625594E-8]
[null,null,"Other emissions to air","Other emissions to air","Other emissions to air",4.0862179435527127E-2,9.6754924589024738E-2,0.219178388304614,3.808988387863934E-2,0.10272042656569422,0.190176217134679,3.7538883376813527E-2,9.7939197230917874E-2,0.12063240815599401]
[null,null,"Particles to air","Particles to air","Particles to air",2.0815824477833902E-5,4.9085120700697032E-5,8.6541752962760796E-6,2.1026495182882381E-5,5.2933227698808494E-5,8.6729530937915597E-6,2.0371293776321532E-5,5.1190155112355641E-5,5.4629102327403996E-6]
[null,null,null,"Dust (PM10)","Dust (PM10)",4.3961080837115296E-6,2.5614997403709399E-7,5.8520338992150402E-7,4.5298284940080439E-6,2.176791673817335E-7,5.69117362313945E-7,4.3686863927132864E-6,2.1939678448025429E-7,3.5845947865314198E-7]
[null,null,null,"Dust (PM2,5 - PM10)","Dust (PM2,5 - PM10)",0,4.4904717976783118E-5,0,0,4.8856429917133944E-5,0,0,4.7221112656637465E-5,0]
[null,null,null,"Dust (PM2.5)","Dust (PM2.5)",9.7474558664243907E-6,1.391911673983093E-6,3.0264853491209401E-6,9.9639601971545218E-6,1.338488248459864E-6,2.8851839670780298E-6,9.6217859001928169E-6,1.3146656861214481E-6,1.81938670388749E-6]
[null,null,null,"Dust (unspecified)","Dust (unspecified)",6.6722602781303598E-6,2.532340900431748E-6,5.0424862125222398E-6,6.5327062809848393E-6,2.5206301948439211E-6,5.2186514326908398E-6,6.3808212700909191E-6,2.4349798189709351E-6,3.28506384114194E-6]
[null,null,null,"Metals (unspecified)","Metals (unspecified)",1.1788857737435621E-13,1.8860816381188172E-14,4.86063746752661E-14,9.9836217738983805E-14,1.153671496551241E-14,5.2707337911742403E-14,1.0095540117247551E-13,1.271502733191613E-14,3.2996602239314099E-14]
[null,null,null,"Wood (dust)","Wood (dust)",1.3167904787969941E-13,1.5660120326535769E-13,2.9610502178674602E-13,1.108987742594093E-13,1.5945231935187708E-13,2.7900141467238099E-13,1.123691005578985E-13,1.5343049895011688E-13,1.7606122699345E-13]
[null,null,"Radioactive emissions to air","Radioactive emissions to air","Radioactive emissions to air",3.2958808167408398E-10,1.4264484054780635E-9,2.8556596480299899E-9,2.357152789560245E-10,1.5036809166159746E-9,2.6825665393801002E-9,2.5470191341062421E-10,1.4365966799547473E-9,1.6931195404419201E-9]
[null,"Emissions to fresh water","Emissions to fresh water","Emissions to fresh water","Emissions to fresh water",5.7054616134524904E-3,3.4436609848615502E-4,1.0233964787668E-2,5.758769330090137E-3,2.621718235795372E-4,9.0926235549536501E-3,5.5508781027162838E-3,2.7260193072164301E-4,9.1251686906341709E-3]
[null,null,"Analytical measures to fresh water","Analytical measures to fresh water","Analytical measures to fresh water",4.3075791644573337E-5,8.7720074108314395E-6,2.4700763720655799E-5,4.3372054136375447E-5,8.7304211732227823E-6,2.4749167776853001E-5,4.0683852552546494E-5,8.4297137223423592E-6,1.5561387108566199E-5]
[null,null,"Heavy metals to fresh water","Heavy metals to fresh water","Heavy metals to fresh water",3.4436377409426279E-6,4.7727365763110845E-6,2.37612343175936E-3,3.4576976753605431E-6,5.0818249939203916E-6,2.0722534313200799E-3,3.315932511846098E-6,4.8439030201427266E-6,2.1720329665790199E-3]
[null,null,"Inorganic emissions to fresh water","Inorganic emissions to fresh water","Inorganic emissions to fresh water",3.3109809145034723E-3,2.5328161080093398E-4,7.19685378156543E-3,3.3262774857514971E-3,1.9555777723114431E-4,6.2983094977121E-3,3.3024115329550671E-3,2.0495911457338171E-4,6.5012770425703099E-3]
[null,null,null,"Acid (calculated as H+)","Acid (calculated as H+)",1.3615590209249519E-9,4.3568028569005202E-10,6.0660247972521302E-10,1.2598854019662251E-9,3.9993621029175062E-10,5.5717623544442896E-10,1.335286767841208E-9,3.8959959750598216E-10,3.5215036879264998E-10]
[null,null,null,"Aluminum (+III)","Aluminum (+III)",2.7170648584757099E-8,1.1484270550384136E-7,2.30369069273011E-7,2.0002221230661882E-8,1.2117555089446489E-7,4.6800062047715402E-4,2.1396325661349081E-8,1.1574553782000023E-7,4.9171262578812395E-4]
[null,null,null,"Aluminum ion (+III)","Aluminum ion (+III)",0,0,5.36787823476676E-4,0,0,0,0,0,0]
[null,null,null,"Ammonia","Ammonia",4.0068039597367681E-9,2.562933879836798E-10,5.8142726817263799E-3,4.2461007765273641E-9,2.5185300006398567E-10,5.0668531206246002E-3,3.9575054142192142E-9,2.4266409501562659E-10,5.3245560528360197E-3]
[null,null,null,"Ammonium / ammonia","Ammonium / ammonia",1.0083406042639499E-6,1.478002826785195E-7,2.01336242971143E-7,9.7071770474358368E-7,1.195336218886631E-7,1.9149349972988701E-7,9.9762598518961988E-7,1.1918708207620851E-7,1.2077189552306199E-7]
[null,null,null,"Barium","Barium",6.1583428576500041E-7,2.6590799560669705E-8,2.0683762993090799E-9,6.1857766856332104E-7,1.393206914172519E-8,1.9995441694311798E-9,6.1639833598265524E-7,1.6918172740311757E-8,1.2598592714177599E-9]
[null,null,null,"Beryllium","Beryllium",9.8138042203316108E-13,4.2744167761164754E-12,8.5565672962740003E-12,6.9979509195293467E-13,4.505912937152424E-12,8.0378616537259304E-12,7.5712997342145506E-13,4.3048859165236794E-12,5.0731515268648198E-12]
[null,null,null,"Boron","Boron",5.1838826287492306E-9,3.9837901546253712E-8,8.4688712877314599E-8,5.1004981802485261E-9,4.2965491391896445E-8,7.9475780305661394E-8,4.8903547573649432E-9,4.0839827211020009E-8,5.01647116366658E-8]
[null,null,null,"Bromine","Bromine",7.2555475328578303E-11,4.8019416222522976E-12,1.08327997053968E-12,6.9436583517168034E-11,2.1386306297992156E-12,1.1689659590238299E-12,7.2197108026442267E-11,2.4516378917831427E-12,7.3200235497170703E-13]
[null,null,null,"Calcium (+II)","Calcium (+II)",9.3596642677914896E-7,6.205112419407834E-6,1.3154725799633E-5,9.1853282014176824E-7,6.6874357173205727E-6,1.2345685206744999E-5,8.8200489142429378E-7,6.3575722961823656E-6,7.7925079174114202E-6]
[null,null,null,"Carbonate","Carbonate",3.8735910198188237E-5,1.6589292805788376E-6,1.0249796251801501E-7,3.8909365808676607E-5,8.6187955246773932E-7,9.9836279591866801E-8,3.8772120756324401E-5,1.0503704594740825E-6,6.2876273098290204E-8]
[null,null,null,"Chloride","Chloride",3.1724469574333281E-3,1.9779559397855581E-4,1.6631312928588499E-4,3.187140109839965E-3,1.3843073422520401E-4,1.6053331404339001E-4,3.1684816794261771E-3,1.5008791084664E-4,1.01156881079949E-4]
[null,null,null,"Chlorine (dissolved)","Chlorine (dissolved)",7.2321002923945296E-8,1.530652554337103E-7,3.0877284715524799E-7,6.4627099453960084E-8,1.6119509227597675E-7,2.90553811610296E-7,6.4093490565409707E-8,1.5402832162996305E-7,1.83365914075012E-7]
[null,null,null,"Cyanide","Cyanide",7.7938914468070681E-11,3.9166589780221001E-12,4.3202319900705098E-5,7.9000922395925542E-11,2.7171708017344797E-12,3.7648699906066497E-5,7.6403785508324998E-11,2.8479307753117199E-12,3.9563535230037097E-5]
[null,null,null,"Fluoride","Fluoride",1.8954272874097499E-6,1.8085559741286714E-5,3.8180008838169302E-5,1.8223177942650125E-6,1.9506049028495605E-5,3.5813771546356803E-5,1.767632710293633E-6,1.8541096291960937E-5,2.2606089499706999E-5]
[null,null,null,"Fluorine","Fluorine",5.0577498009411249E-9,6.5044762774903093E-11,4.5178493443187899E-10,5.3766675176589675E-9,4.6547461601994505E-11,4.9265391792303503E-10,5.026855998117809E-9,4.7860355522204195E-11,3.0832694987912298E-10]
[null,null,null,"Hydrogen chloride","Hydrogen chloride",9.6829655415816137E-11,1.4574702607528819E-12,9.0350322876894702E-12,1.0292800190675062E-10,1.118977496860526E-12,9.7660347981446299E-12,9.6238417394022799E-11,1.1337322398810179E-12,6.1149108720925796E-12]
[null,null,null,"Hydrogen fluoride (hydrofluoric acid)","Hydrogen fluoride (hydrofluoric acid)",7.1771669391966799E-11,5.9544273071178796E-12,1.51976141768574E-12,6.6395281679491128E-11,2.6601880589856798E-12,1.6449216998262301E-12,7.0404883524658592E-11,3.0449778812223262E-12,1.02987910701639E-12]
[null,null,null,"Hydroxide","Hydroxide",2.6560223976731819E-9,5.21362691111661E-11,2.6544169600499101E-10,2.8246934400037932E-9,4.4327875012478095E-11,2.8279441927033101E-10,2.6406861830186069E-9,4.3955660534516801E-11,1.7720635832503799E-10]
[null,null,null,"Magnesium (+III)","Magnesium (+III)",6.6917393207978995E-7,1.2424757907043952E-6,2.7399427614635898E-6,6.73191141705019E-7,1.3328273585855082E-6,2.59308373138395E-6,6.278811109280502E-7,1.2678969133785656E-6,1.63590554025428E-6]
[null,null,null,"Magnesium chloride","Magnesium chloride",4.9088464387344972E-13,1.0307010152500759E-13,1.2115834842518099E-12,4.7509529661953354E-13,9.1748827543307896E-14,1.32320139958841E-12,4.7670804069427423E-13,9.2625801769015106E-14,8.2805768719286496E-13]
[null,null,null,"Neutral salts","Neutral salts",0,1.0599251653128693E-17,1.8980340750506999E-17,0,1.1477388625215832E-17,1.72805579991603E-17,0,1.0899562094472104E-17,1.0927782180661701E-17]
[null,null,null,"Nitrate","Nitrate",1.250964047667648E-7,6.3911053794415168E-7,1.3412154809609599E-6,1.207931963770395E-7,6.872226165822056E-7,1.2582277980060401E-6,1.18991370905868E-7,6.536827134784463E-7,7.9420354676697298E-7]
[null,null,null,"Nitrogen","Nitrogen",1.6992562532262515E-9,2.5310520612398602E-11,1.5642518705661301E-10,1.8064632041375692E-9,1.9413270445644839E-11,1.69088890002787E-10,1.6890263195529503E-9,1.96731933925571E-11,1.05873162169477E-10]
[null,null,null,"Nitrogen organic bounded","Nitrogen organic bounded",9.4031392562535196E-8,5.3768734979006306E-9,1.71255605002713E-8,9.6007890386932849E-8,4.1882253168575197E-9,1.6708154246247399E-8,9.2294526327884305E-8,4.2629850774017103E-9,1.05216831275513E-8]
[null,null,null,"Phosphate","Phosphate",8.5401773118095295E-9,1.6727289920848809E-9,3.9863718442515004E-9,8.6685400995587988E-9,1.6427044619604321E-9,3.8052059540508799E-9,8.3299651070105025E-9,1.5905646672932912E-9,2.3993642589254099E-9]
[null,null,null,"Phosphorus","Phosphorus",1.090151634120376E-7,6.6794930313899456E-9,5.1295262672461405E-4,1.0536192999456084E-7,2.9937499388660269E-9,4.4701350337456502E-4,1.082828989215653E-7,3.4233438440392181E-9,4.6974784846028501E-4]
[null,null,null,"Potassium","Potassium",3.0982736944766655E-8,2.392193248053819E-9,1.1582467327229801E-9,2.9598850801879763E-8,1.2661044027419941E-9,1.1585573523372201E-9,3.0812022648147333E-8,1.385774944888486E-9,7.2852957109280797E-10]
[null,null,null,"Silicate particles","Silicate particles",2.1088556609565092E-11,2.369347297688558E-13,1.7869198119220901E-12,2.2426718438038278E-11,1.5990353425244638E-13,1.95757621831403E-12,2.0966054669765421E-11,1.6666600944408741E-13,1.2248497373542599E-12]
[null,null,null,"Sodium (+I)","Sodium (+I)",6.10726491692719E-5,4.3533336427717598E-6,2.10293512993308E-5,6.1927792308164096E-5,3.843447030580243E-6,2.2305850059474899E-5,5.7321109442981474E-5,3.77583388224586E-6,1.3980747744630799E-5]
[null,null,null,"Sodium chloride (rock salt)","Sodium chloride (rock salt)",0,2.0227414762879513E-12,3.6221729350860501E-12,0,2.1903235031547533E-12,3.29778955554691E-12,0,2.0800521624898798E-12,2.08543763126334E-12]
[null,null,null,"Sodium hypochlorite","Sodium hypochlorite",6.4429728443889802E-13,1.3275452300558919E-13,3.18060135254129E-13,6.6361666991687553E-13,1.3347566475530115E-13,3.09879386521572E-13,6.1572002029474044E-13,1.2844677228766852E-13,1.9515719478632399E-13]
[null,null,null,"Sulphate","Sulphate",2.6019868940743872E-5,2.2487464640430477E-5,4.5882297444247799E-5,2.57060312623144E-5,2.3568765354336618E-5,4.3214711980210198E-5,2.538139128753605E-5,2.2563032393660637E-5,2.7270900655957802E-5]
[null,null,null,"Sulphide","Sulphide",7.0790294108117228E-6,3.0262500167178228E-7,1.7121499860567801E-8,7.1097636655560152E-6,1.5654991919707194E-7,1.68122629723023E-8,7.0854875888297133E-6,1.9102493309328652E-7,1.05832575652741E-8]
[null,null,null,"Sulphite","Sulphite",1.2550970126113431E-9,1.2042734351987397E-8,2.54236914854166E-8,1.2064623557234026E-9,1.2988802190047357E-8,2.3848158877366398E-8,1.1702725038315915E-9,1.2346213254306743E-8,1.5053244161084101E-8]
[null,null,null,"Sulphur","Sulphur",5.522071758883522E-10,5.9543340272675162E-11,4.3811069269470201E-10,5.9249611287630511E-10,6.2968586028327163E-11,4.2947979428867701E-10,5.4455671858368357E-10,5.9860291153359926E-11,2.7038225884459302E-10]
[null,null,null,"Sulphuric acid","Sulphuric acid",1.2484409238016251E-8,1.8789074445859769E-10,1.16474746054989E-9,1.3270716056096546E-8,1.4425372549897059E-10,1.2590098394832E-9,1.2408214792683442E-8,1.4615584297269709E-10,7.8831632650364601E-10]
[null,null,"Organic emissions to fresh water","Organic emissions to fresh water","Organic emissions to fresh water",1.2569537156469522E-5,2.245015752967216E-7,9.7397599474404503E-7,1.3239191584252479E-5,1.439060847656635E-7,1.05995368876668E-6,1.2492324770099233E-5,1.558461539353684E-7,6.6344117131529597E-7]
[null,null,"Other emissions to fresh water","Other emissions to fresh water","Other emissions to fresh water",0,0,0,0,0,0,0,0,0]
[null,null,"Particles to fresh water","Particles to fresh water","Particles to fresh water",2.3353917324070361E-3,7.7315242122781596E-5,6.3531283462785204E-4,2.3724229009426528E-3,5.2657894096483205E-5,6.9625150445585399E-4,2.1919744599267371E-3,5.4213353251840801E-5,4.3563385320495498E-4]
[null,null,"Radioactive emissions to fresh water","Radioactive emissions to fresh water","Radioactive emissions to fresh water",0,0,0,0,0,0,0,0,0]
[null,"Emissions to sea water","Emissions to sea water","Emissions to sea water","Emissions to sea water",1.9785560269138087E-2,1.3761544731581581E-3,1.3014367963676599E-4,1.8676852702195264E-2,5.6587567942144963E-4,1.3875229003454699E-4,1.8953229818714629E-2,6.6497465826182225E-4,8.6942408203161101E-5]
[null,"Emissions to industrial soil","Emissions to industrial soil","Emissions to industrial soil","Emissions to industrial soil",4.2723628590756741E-5,3.4250136474924123E-6,1.03634120827794E-6,3.9758679971377078E-5,1.5348191324871986E-6,1.12353405681885E-6,4.1873639817087011E-5,1.7545843710344535E-6,7.0337898898075396E-7]
[null,null,"Heavy metals to industrial soil","Heavy metals to industrial soil","Heavy metals to industrial soil",1.104296167549457E-5,8.4819156265237056E-7,2.9215269257931501E-7,1.0343393583476998E-5,3.7959003960749977E-7,3.1789762106292301E-7,1.0820683639977461E-5,4.3396344022615133E-7,1.98978456641673E-7]
[null,null,"Inorganic emissions to industrial soil","Inorganic emissions to industrial soil","Inorganic emissions to industrial soil",3.1671909929393432E-5,2.5750942505847287E-6,7.3205976683612497E-7,2.9407466113298551E-5,1.1539177375365475E-6,7.9239724352955397E-7,3.1045040662984493E-5,1.3192248223172545E-6,4.9611523513850905E-7]
[null,null,"Organic emissions to industrial soil","Organic emissions to industrial soil","Organic emissions to industrial soil",8.7569858687305602E-9,1.7278342553168261E-9,1.21287488624994E-8,7.820274601508572E-9,1.3113553431469129E-9,1.32391922263774E-8,7.9155141251013898E-9,1.396108491041081E-9,8.2852972005719092E-9]

{"sheet":"Calculations","index":7,"n_rows":40,"n_cols":74,"rows_kept":40,"cut":false,"hidden":true,"merged":[[7,0,19,0],[20,0,21,0],[22,0,28,0],[29,0,30,0]]}
[null,null,null,null,null,"Illinois No. 6 Coal",null,"Powder River Basin",null,"Coal Train",null,"CMB RMA",null,"Natural Gas Pipeline",null,"Switchgrass",null,"Bale Truck",null,"Container Truck",null,"Short Rotation Woody Crops",null,"Corn Stover",null,"Corn Grain",null,"FT Diesel",null,"Ethanol",null,"Uranium Fuel Assemblies",null,"Train enclosed",null,"Ocean freighter",null,"Truck 8B enclosed",null,"Petroleum Pipeline",null,"Petroleum Tanker Truck",null,"Petroleum Water carrier",null,"Petroleum Rail",null,"Petroleum Domestic",null,"Petroleum National Average",null,"Diesel",null,"Gasoline",null,"Kerosene",null,"Natural Gas. Conv Onshore",null,"Natural Gas. Associated",null,"Natural Gas. Conv Offshore",null,"Natural Gas. Barnett",null,"Natural Gas. Coal Bed Methane",null,"Natural Gas. Marecellus",null,"Natural Gas. Imported LNG",null,"Natural Gas. Tight Gas",null,"Natural Gas. 2010 Avg"]
[null,null,null,null,null,"RMA",null,"RMA",null,"RMT",null,"RMA",null,"RMT",null,"RMA",null,"RMT",null,"RMT",null,"RMA",null,"RMA",null,"RMA",null,"ECF",null,"ECF",null,"RMA",null,"RMT",null,"RMT",null,"RMT",null,"RMT",null,"RMT",null,"RMT",null,"RMT",null,"RMA",null,"RMA",null,"ECF",null,"ECF",null,"ECF",null,"RMA",null,"RMA",null,"RMA",null,"RMA",null,"RMA",null,"RMA",null,"RMA",null,"RMA",null,"RMA"]
[null,null,null,null,null,null,null,null,null,null,null,null,null,null,null,null,null,null,null,null,null,null,null,null,null,null,null,null,null,null,null,null,null,null,null,null,null,null,null,null,null,null,null,null,null,null,null,null,"North",{"$f":"IF(Dashboard!$C$3=Calculations!AX$1,Dashboard!$C7,IF(Dashboard!$F$3=Calculations!AX$1,Dashboard!$F7,0))","v":0},null,"Diesel",null,"Gasoline",null,"Kerosene","production",{"$f":"IF(Dashboard!$C$3=Calculations!BF$1,Dashboard!$C7,IF(Dashboard!$F$3=Calculations!BF$1,Dashboard!$F7,0))","v":0},"production",{"$f":"IF(Dashboard!$C$3=Calculations!BH$1,Dashboard!$C7,IF(Dashboard!$F$3=Calculations!BH$1,Dashboard!$F7,0))","v":0},"production",{"$f":"IF(Dashboard!$C$3=Calculations!BJ$1,Dashboard!$C7,IF(Dashboard!$F$3=Calculations!BJ$1,Dashboard!$F7,0))","v":0},"production",{"$f":"IF(Dashboard!$C$3=Calculations!BL$1,Dashboard!$C7,IF(Dashboard!$F$3=Calculations!BL$1,Dashboard!$F7,0))","v":0},"production",{"$f":"IF(Dashboard!$C$3=Calculations!BN$1,Dashboard!$C7,IF(Dashboard!$F$3=Calculations!BN$1,Dashboard!$F7,0))","v":0},"production",{"$f":"IF(Dashboard!$C$3=Calculations!BP$1,Dashboard!$C7,IF(Dashboard!$F$3=Calculations!BP$1,Dashboard!$F7,0))","v":0},"production",{"$f":"IF(Dashboard!$C$3=Calculations!BR$1,Dashboard!$C7,IF(Dashboard!$F$3=Calculations!BR$1,Dashboard!$F7,0))","v":0},"production",{"$f":"IF(Dashboard!$C$3=Calculations!BT$1,Dashboard!$C7,IF(Dashboard!$F$3=Calculations!BT$1,Dashboard!$F7,0))","v":0},"production",1]
[null,null,null,null,"CBM (scf/ton)",{"$f":"IF(Dashboard!$C$3=Calculations!F$1,Dashboard!$C$7,IF(Dashboard!$F$3=Calculations!F$1,Dashboard!$F$7,0))","v":422},"CBM (scf/ton)",{"$f":"IF(Dashboard!$C$3=Calculations!H$1,Dashboard!$C$7,IF(Dashboard!$F$3=Calculations!H$1,Dashboard!$F$7,0))","v":0},"Round Trip Distance (mi)",{"$f":"IF(ISERROR(VLOOKUP(J$1,Dashboard!H$7:J$10,3,FALSE)),0,VLOOKUP(J$1,Dashboard!H$7:J$10,3,FALSE))","v":400},"H2S content",3,"distance (mi)",{"$f":"IF(ISERROR(VLOOKUP(N$1,Dashboard!H$7:J$10,3,FALSE)),0,VLOOKUP(N$1,Dashboard!H$7:J$10,3,FALSE))","v":0},"biomass yield",{"$f":"IF(Dashboard!$C$3=Calculations!P$1,Dashboard!$C$7,IF(Dashboard!$F$3=Calculations!P$1,Dashboard!$F$7,0))","v":0},"distance",{"$f":"IF(ISERROR(VLOOKUP(R$1,Dashboard!H$7:J$10,3,FALSE)),0,VLOOKUP(R$1,Dashboard!H$7:J$10,3,FALSE))","v":0},"distance",{"$f":"IF(ISERROR(VLOOKUP(T$1,Dashboard!H$7:J$10,3,FALSE)),0,VLOOKUP(T$1,Dashboard!H$7:J$10,3,FALSE))","v":0},"Biomass Yield (kg/acre-yr)",{"$f":"IF(Dashboard!$C$3=Calculations!V$1,Dashboard!$C$7,IF(Dashboard!$F$3=Calculations!V$1,Dashboard!$F$7,0))","v":0},"Biomass Yield (kg/acre-yr)",{"$f":"IF(Dashboard!$C$3=Calculations!X$1,Dashboard!$C7,IF(Dashboard!$F$3=Calculations!X$1,Dashboard!$F7,0))","v":0},"Biomass Yield (kg/acre-yr)",{"$f":"IF(Dashboard!$C$3=Calculations!Z$1,Dashboard!$C7,IF(Dashboard!$F$3=Calculations!Z$1,Dashboard!$F7,0))","v":0},null,null,null,null,"Europe",{"$f":"IF(Dashboard!$C$3=Calculations!AF$1,Dashboard!$C7,IF(Dashboard!$F$3=Calculations!AF$1,Dashboard!$F7,0))","v":0},"dist",{"$f":"IF(ISERROR(VLOOKUP(AH$1,Dashboard!H$7:J$10,3,FALSE)),0,VLOOKUP(AH$1,Dashboard!H$7:J$10,3,FALSE))","v":0},"dist",{"$f":"IF(ISERROR(VLOOKUP(AJ$1,Dashboard!H$7:J$10,3,FALSE)),0,VLOOKUP(AJ$1,Dashboard!H$7:J$10,3,FALSE))","v":0},"dist",{"$f":"IF(ISERROR(VLOOKUP(AL$1,Dashboard!H$7:J$10,3,FALSE)),0,VLOOKUP(AL$1,Dashboard!H$7:J$10,3,FALSE))","v":0},"dist",{"$f":"IF(ISERROR(VLOOKUP(AN$1,Dashboard!H$7:J$10,3,FALSE)),0,VLOOKUP(AN$1,Dashboard!H$7:J$10,3,FALSE))","v":0},"dist",{"$f":"IF(ISERROR(VLOOKUP(AP$1,Dashboard!H$7:J$10,3,FALSE)),0,VLOOKUP(AP$1,Dashboard!H$7:J$10,3,FALSE))","v":0},"dist",{"$f":"IF(ISERROR(VLOOKUP(AR$1,Dashboard!H$7:J$10,3,FALSE)),0,VLOOKUP(AR$1,Dashboard!H$7:J$10,3,FALSE))","v":0},"dist",{"$f":"IF(ISERROR(VLOOKUP(AT$1,Dashboard!H$7:J$10,3,FALSE)),0,VLOOKUP(AT$1,Dashboard!H$7:J$10,3,FALSE))","v":0},"US Avg Mix",0.25,"South",{"$f":"IF(Dashboard!$C$3=Calculations!AX$1,Dashboard!$C8,IF(Dashboard!$F$3=Calculations!AX$1,Dashboard!$F8,0))","v":0},null,null,null,null,null,null,"ext flaring",{"$f":"IF(Dashboard!$C$3=Calculations!BF$1,Dashboard!$C8,IF(Dashboard!$F$3=Calculations!BF$1,Dashboard!$F8,0))","v":0},"ext flaring",{"$f":"IF(Dashboard!$C$3=Calculations!BH$1,Dashboard!$C8,IF(Dashboard!$F$3=Calculations!BH$1,Dashboard!$F8,0))","v":0},"ext flaring",{"$f":"IF(Dashboard!$C$3=Calculations!BJ$1,Dashboard!$C8,IF(Dashboard!$F$3=Calculations!BJ$1,Dashboard!$F8,0))","v":0},"ext flaring",{"$f":"IF(Dashboard!$C$3=Calculations!BL$1,Dashboard!$C8,IF(Dashboard!$F$3=Calculations!BL$1,Dashboard!$F8,0))","v":0},"ext flaring",{"$f":"IF(Dashboard!$C$3=Calculations!BN$1,Dashboard!$C8,IF(Dashboard!$F$3=Calculations!BN$1,Dashboard!$F8,0))","v":0},"ext flaring",{"$f":"IF(Dashboard!$C$3=Calculations!BP$1,Dashboard!$C8,IF(Dashboard!$F$3=Calculations!BP$1,Dashboard!$F8,0))","v":0},"ext flaring",{"$f":"IF(Dashboard!$C$3=Calculations!BR$1,Dashboard!$C8,IF(Dashboard!$F$3=Calculations!BR$1,Dashboard!$F8,0))","v":0},"ext flaring",{"$f":"IF(Dashboard!$C$3=Calculations!BT$1,Dashboard!$C8,IF(Dashboard!$F$3=Calculations!BT$1,Dashboard!$F8,0))","v":0},"ext flaring",1]
[null,null,null,null,"capture",{"$f":"IF(Dashboard!$C$3=Calculations!$F$1,Dashboard!$C$8,IF(Dashboard!$F$3=Calculations!$F$1,Dashboard!$F$8,0))","v":0},null,null,null,null,"NG Flaring",3.0000000000000001E-3,null,null,null,null,null,null,null,null,null,null,"Corn Allocation (%)",{"$f":"IF(Dashboard!$C$3=Calculations!X$1,Dashboard!$C8,IF(Dashboard!$F$3=Calculations!X$1,Dashboard!$F8,0))","v":0},null,null,"biomass",{"$f":"HLOOKUP(1,'FT Diesel 2'!$H$11:$U$77,'FT Diesel 2'!V24,FALSE)","v":{"$error":"#N/A"}},"biomass",{"$f":"HLOOKUP(1,'Adv Ethanol'!$G$10:$O$79,2,FALSE)","v":{"$error":"#N/A"}},null,{"$f":"IF(Dashboard!$C$3=Calculations!AF$1,Dashboard!$C8,IF(Dashboard!$F$3=Calculations!AF$1,Dashboard!$F8,0))","v":0},null,null,null,null,null,null,null,null,null,null,null,null,null,null,"US Avg Mix",0.25,"Middle",{"$f":"IF(Dashboard!$C$3=Calculations!AX$1,Dashboard!$C9,IF(Dashboard!$F$3=Calculations!AX$1,Dashboard!$F9,0))","v":0},"scaler",{"$f":"IF(AND(Dashboard!$M$3=\"Petroleum\",Dashboard!$M$7=Calculations!AZ$1),1,0)","v":0},"scaler",{"$f":"IF(AND(Dashboard!$M$3=\"Petroleum\",Dashboard!$M$7=Calculations!BB$1),1,0)","v":0},"scaler",{"$f":"IF(AND(Dashboard!$M$3=\"Petroleum\",Dashboard!$M$7=Calculations!BD$1),1,0)","v":0},"process flare",{"$f":"IF(Dashboard!$C$3=Calculations!BF$1,Dashboard!$C9,IF(Dashboard!$F$3=Calculations!BF$1,Dashboard!$F9,0))","v":0},"process flare",{"$f":"IF(Dashboard!$C$3=Calculations!BH$1,Dashboard!$C9,IF(Dashboard!$F$3=Calculations!BH$1,Dashboard!$F9,0))","v":0},"process flare",{"$f":"IF(Dashboard!$C$3=Calculations!BJ$1,Dashboard!$C9,IF(Dashboard!$F$3=Calculations!BJ$1,Dashboard!$F9,0))","v":0},"process flare",{"$f":"IF(Dashboard!$C$3=Calculations!BL$1,Dashboard!$C9,IF(Dashboard!$F$3=Calculations!BL$1,Dashboard!$F9,0))","v":0},"process flare",{"$f":"IF(Dashboard!$C$3=Calculations!BN$1,Dashboard!$C9,IF(Dashboard!$F$3=Calculations!BN$1,Dashboard!$F9,0))","v":0},"process flare",{"$f":"IF(Dashboard!$C$3=Calculations!BP$1,Dashboard!$C9,IF(Dashboard!$F$3=Calculations!BP$1,Dashboard!$F9,0))","v":0},"process flare",{"$f":"IF(Dashboard!$C$3=Calculations!BR$1,Dashboard!$C9,IF(Dashboard!$F$3=Calculations!BR$1,Dashboard!$F9,0))","v":0},"process flare",{"$f":"IF(Dashboard!$C$3=Calculations!BT$1,Dashboard!$C9,IF(Dashboard!$F$3=Calculations!BT$1,Dashboard!$F9,0))","v":0},"process flare",1]
[null,null,null,null,null,null,null,null,"scaler",{"$f":"0.00000012227*J4/2","v":2.4454E-5},"Drill Depth",15000,"scaler",{"$f":"IF(N4<>0,0.00291364297521,0)","v":0},null,null,"scaler",0,"scaler",0,null,null,"Yield of corn (kg/kg)",{"$f":"IF(Dashboard!$C$3=Calculations!X$1,Dashboard!$C9,IF(Dashboard!$F$3=Calculations!X$1,Dashboard!$F9,0))","v":0},null,null,"coal",{"$f":"HLOOKUP(1,'FT Diesel 2'!$H$11:$U$77,'FT Diesel 2'!V25,FALSE)","v":{"$error":"#N/A"}},"gasoline",{"$f":"HLOOKUP(1,'Adv Ethanol'!$G$10:$O$79,10,FALSE)","v":{"$error":"#N/A"}},null,null,"scaler",0,"scaler",0,"scaler",0,"scaler",0,"scaler",1E-4,null,{"$f":"1.004-1.0009","v":3.1000000000001027E-3},null,{"$f":"1.0009-1.0001","v":7.9999999999991189E-4},"US Avg Mix",0.5,"Africa",{"$f":"IF(Dashboard!$C$3=Calculations!AX$1,Dashboard!$C10,IF(Dashboard!$F$3=Calculations!AX$1,Dashboard!$F10,0))","v":0}]
[]
["Air Emissions",1,"Carbon Dioxide (kg)","Carbon dioxide",null,{"$f":"IF($F$4=0,0,VLOOKUP($D8,'I6 RMA'!$F$10:$O$82,4,FALSE)+(VLOOKUP($D8,'I6 RMA'!$F$10:$O$82,5,FALSE)-VLOOKUP($D8,'I6 RMA'!$F$10:$O$82,4,FALSE))/'I6 RMA'!$L$4*(Calculations!$F$4-'I6 RMA'!$J$4))+(F9/(1-F5)-F9)*44/16","v":2.5511711239433837E-2},null,{"$f":"IF($H$4=0,0,VLOOKUP($D8,'PRB RMA'!$F$10:$O$82,4,FALSE)+(VLOOKUP($D8,'PRB RMA'!$F$10:$O$82,5,FALSE)-VLOOKUP($D8,'PRB RMA'!$F$10:$O$82,4,FALSE))/'PRB RMA'!$L$4*(Calculations!$H$4-'PRB RMA'!$J$4))","v":0},null,{"$f":"IF($J$4=0,0,VLOOKUP($D8,'Coal TrainRMT'!$F$10:$O$82,4,FALSE)+(VLOOKUP($D8,'Coal TrainRMT'!$F$10:$O$82,5,FALSE)-VLOOKUP($D8,'Coal TrainRMT'!$F$10:$O$82,4,FALSE))/'Coal TrainRMT'!$L$4*(Calculations!$J$4-'Coal TrainRMT'!$J$4))","v":1.26440187324443E-2},null,{"$f":"IF($L$4+$L$5+$L$6=0,0,VLOOKUP($D8,#REF!,6,FALSE)+(VLOOKUP($D8,#REF!,10,FALSE))/#REF!*(#REF!-#REF!)+(VLOOKUP($D8,#REF!,11,FALSE))/#REF!*(#REF!-#REF!)+(VLOOKUP($D8,#REF!,10,FALSE))/#REF!*($L$4-#REF!))","v":{"$error":"#REF!"}},null,{"$f":"IF($N$4=0,0,VLOOKUP($D8,'NG Pipeline RMT'!$F$10:$O$82,4,FALSE)+(VLOOKUP($D8,'NG Pipeline RMT'!$F$10:$O$82,5,FALSE)-VLOOKUP($D8,'NG Pipeline RMT'!$F$10:$O$82,4,FALSE))/'NG Pipeline RMT'!$L$4*(Calculations!$N$4-'NG Pipeline RMT'!$J$4))","v":0},null,{"$f":"IF($P$4=0,0,VLOOKUP($D8,'SG RMA'!$F$10:$O$82,4,FALSE)+(VLOOKUP($D8,'SG RMA'!$F$10:$O$82,5,FALSE)-VLOOKUP($D8,'SG RMA'!$F$10:$O$82,4,FALSE))/'SG RMA'!$L$4*(Calculations!$P$4-'SG RMA'!$J$4))","v":0},null,{"$f":"IF($R$4=0,0,VLOOKUP($D8,'Bale Truck RMT'!$F$10:$O$82,4,FALSE)+(VLOOKUP($D8,'Bale Truck RMT'!$F$10:$O$82,5,FALSE)-VLOOKUP($D8,'Bale Truck RMT'!$F$10:$O$82,4,FALSE))/'Bale Truck RMT'!$L$4*(Calculations!$R$4-'Bale Truck RMT'!$J$4))","v":0},null,{"$f":"IF($T$4=0,0,VLOOKUP($D8,'Cont Truck RMT'!$F$10:$O$82,4,FALSE)+(VLOOKUP($D8,'Cont Truck RMT'!$F$10:$O$82,5,FALSE)-VLOOKUP($D8,'Cont Truck RMT'!$F$10:$O$82,4,FALSE))/'Cont Truck RMT'!$L$4*(Calculations!$T$4-'Cont Truck RMT'!$J$4))","v":0},null,{"$f":"IF($V$4=0,0,VLOOKUP($D8,'SRWC RMA'!$F$10:$O$82,4,FALSE)+(VLOOKUP($D8,'SRWC RMA'!$F$10:$O$82,5,FALSE)-VLOOKUP($D8,'SRWC RMA'!$F$10:$O$82,4,FALSE))/'SRWC RMA'!$L$4*(Calculations!$V$4-'SRWC RMA'!$J$4))","v":0},null,{"$f":"IF($X$4+$X$5+$X$6=0,0,VLOOKUP($D8,'Stover RMA'!$F$9:$Q$70,6,FALSE)+(VLOOKUP($D8,'Stover RMA'!$F$9:$Q$70,10,FALSE))/'Stover RMA'!$N$4*($X$4-'Stover RMA'!$L$4)+(VLOOKUP($D8,'Stover RMA'!$F$9:$Q$70,11,FALSE))/'Stover RMA'!$N$5*($X$5-'Stover RMA'!$L$5)+(VLOOKUP($D8,'Stover RMA'!$F$9:$Q$70,12,FALSE))/'Stover RMA'!$N$6*($X$6-'Stover RMA'!$L$6))","v":0},null,{"$f":"IF($Z$4=0,0,VLOOKUP($D8,'Corn RMA'!$F$10:$O$82,4,FALSE)+(VLOOKUP($D8,'Corn RMA'!$F$10:$O$82,5,FALSE)-VLOOKUP($D8,'Corn RMA'!$F$10:$O$82,4,FALSE))/'Corn RMA'!$L$4*(Calculations!$Z$4-'Corn RMA'!$J$4))","v":0},null,{"$f":"HLOOKUP(1,'FT Diesel 2'!$H$11:$U$77,'FT Diesel 2'!V51,FALSE)+HLOOKUP(1,'FT Diesel 2'!$H$11:$U$77,'FT Diesel 2'!V52,FALSE)","v":{"$error":"#N/A"}},null,{"$f":"HLOOKUP(1,'Adv Ethanol'!$G$10:$O$79,'Adv Ethanol'!Q41,FALSE)+HLOOKUP(1,'Adv Ethanol'!$G$10:$O$79,'Adv Ethanol'!Q42,FALSE)","v":{"$error":"#N/A"}},null,{"$f":"IF($AF$4+$AF$5>0,VLOOKUP($D$8,Uranium!$F$10:$K$77,5,FALSE)*Calculations!$AF$4+VLOOKUP($D$8,Uranium!$F$10:$K$77,6,FALSE)*$AF$5,0)","v":0},null,{"$f":"IF($AH$4=0,0,VLOOKUP($D8,'U RMT'!$F$9:$U$64,2,FALSE)+(VLOOKUP($D8,'U RMT'!$F$10:$U$64,3,FALSE)-VLOOKUP($D8,'U RMT'!$F$10:$U$642,2,FALSE))/'U RMT'!$U$2*(Calculations!$AH$4-'U RMT'!$O$2))","v":0},null,{"$f":"IF($AJ$4=0,0,VLOOKUP($D8,'U RMT'!$F$9:$U$64,4,FALSE)+(VLOOKUP($D8,'U RMT'!$F$10:$U$64,5,FALSE)-VLOOKUP($D8,'U RMT'!$F$10:$U$64,4,FALSE))/'U RMT'!$U$3*(Calculations!$AJ$4-'U RMT'!$Q$3))","v":0},null,{"$f":"IF($AL$4=0,0,VLOOKUP($D8,'U RMT'!$F$9:$U$64,6,FALSE)+(VLOOKUP($D8,'U RMT'!$F$10:$U$64,7,FALSE)-VLOOKUP($D8,'U RMT'!$F$10:$U$64,6,FALSE))/'U RMT'!$U$4*(Calculations!$AL$4-'U RMT'!$S$4))","v":0},null,{"$f":"IF($AN$4=0,0,VLOOKUP($D8,'Petro Transport'!$F$10:$Z$77,2,FALSE)+(VLOOKUP($D8,'Petro Transport'!$F$10:$Z$77,3,FALSE)-VLOOKUP($D8,'Petro Transport'!$F$10:$Z$77,2,FALSE))/'Petro Transport'!$V$3*(Calculations!$AN$4-'Petro Transport'!$N$3))","v":0},null,{"$f":"IF($AP$4=0,0,VLOOKUP($D8,'Petro Transport'!$F$10:$Z$77,12,FALSE)+(VLOOKUP($D8,'Petro Transport'!$F$10:$Z$77,13,FALSE)-VLOOKUP($D8,'Petro Transport'!$F$10:$Z$77,12,FALSE))/'Petro Transport'!$V$4*(Calculations!$AP$4-'Petro Transport'!$P$4))","v":0},null,{"$f":"IF($AR$4=0,0,VLOOKUP($D8,'Petro Transport'!$F$10:$Z$77,14,FALSE)+(VLOOKUP($D8,'Petro Transport'!$F$10:$Z$77,15,FALSE)-VLOOKUP($D8,'Petro Transport'!$F$10:$Z$77,14,FALSE))/'Petro Transport'!$V$5*(Calculations!$AR$4-'Petro Transport'!$R$5))","v":0},null,{"$f":"IF($AT$4=0,0,VLOOKUP($D8,'Petro Transport'!$F$10:$Z$77,16,FALSE)+(VLOOKUP($D8,'Petro Transport'!$F$10:$Z$77,17,FALSE)-VLOOKUP($D8,'Petro Transport'!$F$10:$Z$77,16,FALSE))/'Petro Transport'!$V$6*(Calculations!$AT$4-'Petro Transport'!$T$6))","v":0},null,{"$f":"VLOOKUP($D8,'Dom Petro'!$F$11:$J$65,3,FALSE)*Calculations!$AV$4+VLOOKUP($D8,'Dom Petro'!$F$11:$J$65,4,FALSE)*Calculations!$AV$5+VLOOKUP($D8,'Dom Petro'!$F$11:$J$65,5,FALSE)*Calculations!$AV$6","v":0.157138575306975},null,{"$f":"VLOOKUP($D8,'For Petro'!$F$9:$K$77,3,FALSE)*Calculations!$AX$3+VLOOKUP($D8,'For Petro'!$F$9:$K$77,4,FALSE)*Calculations!$AX$4+VLOOKUP($D8,'For Petro'!$F$9:$K$77,5,FALSE)*Calculations!$AX$5+VLOOKUP($D8,'For Petro'!$F$9:$K$77,6,FALSE)*$AX$6","v":0},null,{"$f":"IF($AZ$5=1,VLOOKUP($D8,'Petro Ref'!$F$10:$J$77,3,FALSE),0)","v":0},null,{"$f":"IF($BB$5,VLOOKUP($D8,'Petro Ref'!$F$10:$J$77,4,FALSE),0)","v":0},null,{"$f":"IF($BD$5=1,VLOOKUP($D8,'Petro Ref'!$F$10:$J$77,5,FALSE),0)","v":0},null,{"$f":"IF($BF$3+$BF$4+$BF$5=0,0,VLOOKUP($D8,'onshore RMA'!$F$9:$Q$70,6,FALSE)+(VLOOKUP($D8,'onshore RMA'!$F$9:$Q$70,10,FALSE))/'onshore RMA'!$N$4*(Calculations!$BF$3-'onshore RMA'!$L$4)+(VLOOKUP($D8,'onshore RMA'!$F$9:$Q$70,11,FALSE))/'onshore RMA'!$N$5*(Calculations!$BF$4-'onshore RMA'!$L$5)+(VLOOKUP($D8,'onshore RMA'!$F$9:$Q$70,12,FALSE))/'onshore RMA'!$N$6*($BF$5-'onshore RMA'!$L$6))","v":0},null,{"$f":"IF($BH$3+$BH$4+$BH$5=0,0,VLOOKUP($D8,'assoc RMA'!$F$9:$Q$70,6,FALSE)+(VLOOKUP($D8,'assoc RMA'!$F$9:$Q$70,10,FALSE))/'assoc RMA'!$N$4*(Calculations!$BH$3-'assoc RMA'!$L$4)+(VLOOKUP($D8,'assoc RMA'!$F$9:$Q$70,11,FALSE))/'assoc RMA'!$N$5*(Calculations!$BH$4-'assoc RMA'!$L$5)+(VLOOKUP($D8,'assoc RMA'!$F$9:$Q$70,12,FALSE))/'assoc RMA'!$N$6*($BH$5-'assoc RMA'!$L$6))","v":0},null,{"$f":"IF($BJ$3+$BJ$4+$BJ$5=0,0,VLOOKUP($D8,'offshore RMA'!$F$9:$Q$70,6,FALSE)+(VLOOKUP($D8,'offshore RMA'!$F$9:$Q$70,10,FALSE))/'offshore RMA'!$N$4*(Calculations!$BJ$3-'offshore RMA'!$L$4)+(VLOOKUP($D8,'offshore RMA'!$F$9:$Q$70,11,FALSE))/'offshore RMA'!$N$5*(Calculations!$BJ$4-'offshore RMA'!$L$5)+(VLOOKUP($D8,'offshore RMA'!$F$9:$Q$70,12,FALSE))/'offshore RMA'!$N$6*($BJ$5-'offshore RMA'!$L$6))","v":0},null,{"$f":"IF($BL$3+$BL$4+$BL$5=0,0,VLOOKUP($D8,'barnett RMA'!$F$9:$Q$70,6,FALSE)+(VLOOKUP($D8,'barnett RMA'!$F$9:$Q$70,10,FALSE))/'barnett RMA'!$N$4*(Calculations!$BL$3-'barnett RMA'!$L$4)+(VLOOKUP($D8,'barnett RMA'!$F$9:$Q$70,11,FALSE))/'barnett RMA'!$N$5*(Calculations!$BL$4-'barnett RMA'!$L$5)+(VLOOKUP($D8,'barnett RMA'!$F$9:$Q$70,12,FALSE))/'barnett RMA'!$N$6*($BL$5-'barnett RMA'!$L$6))","v":0},null,{"$f":"IF($BN$3+$BN$4+$BN$5=0,0,VLOOKUP($D8,'cbm RMA'!$F$9:$Q$70,6,FALSE)+(VLOOKUP($D8,'cbm RMA'!$F$9:$Q$70,10,FALSE))/'cbm RMA'!$N$4*(Calculations!$BN$3-'cbm RMA'!$L$4)+(VLOOKUP($D8,'cbm RMA'!$F$9:$Q$70,11,FALSE))/'cbm RMA'!$N$5*(Calculations!$BN$4-'cbm RMA'!$L$5)+(VLOOKUP($D8,'cbm RMA'!$F$9:$Q$70,12,FALSE))/'cbm RMA'!$N$6*($BN$5-'cbm RMA'!$L$6))","v":0},null,{"$f":"IF($BP$3+$BP$4+$BP$5=0,0,VLOOKUP($D8,'Marc RMA'!$F$9:$Q$70,6,FALSE)+(VLOOKUP($D8,'Marc RMA'!$F$9:$Q$70,10,FALSE))/'Marc RMA'!$N$4*(Calculations!$BP$3-'Marc RMA'!$L$4)+(VLOOKUP($D8,'Marc RMA'!$F$9:$Q$70,11,FALSE))/'Marc RMA'!$N$5*(Calculations!$BP$4-'Marc RMA'!$L$5)+(VLOOKUP($D8,'Marc RMA'!$F$9:$Q$70,12,FALSE))/'Marc RMA'!$N$6*($BP$5-'Marc RMA'!$L$6))","v":0},null,{"$f":"IF($BR$3+$BR$4+$BR$5=0,0,VLOOKUP($D8,'LNG RMA'!$F$9:$Q$70,6,FALSE)+(VLOOKUP($D8,'LNG RMA'!$F$9:$Q$70,10,FALSE))/'LNG RMA'!$N$4*(Calculations!$BR$3-'LNG RMA'!$L$4)+(VLOOKUP($D8,'LNG RMA'!$F$9:$Q$70,11,FALSE))/'LNG RMA'!$N$5*(Calculations!$BR$4-'LNG RMA'!$L$5)+(VLOOKUP($D8,'LNG RMA'!$F$9:$Q$70,12,FALSE))/'LNG RMA'!$N$6*($BR$5-'LNG RMA'!$L$6))","v":0},null,{"$f":"IF($BT$3+$BT$4+$BT$5=0,0,VLOOKUP($D8,'tight RMA'!$F$9:$Q$70,6,FALSE)+(VLOOKUP($D8,'tight RMA'!$F$9:$Q$70,10,FALSE))/'tight RMA'!$N$4*(Calculations!$BT$3-'tight RMA'!$L$4)+(VLOOKUP($D8,'tight RMA'!$F$9:$Q$70,11,FALSE))/'tight RMA'!$N$5*(Calculations!$BT$4-'tight RMA'!$L$5)+(VLOOKUP($D8,'tight RMA'!$F$9:$Q$70,12,FALSE))/'tight RMA'!$N$6*($BT$5-'tight RMA'!$L$6))","v":0},null,{"$f":"IF($BV$3+$BV$4+$BV$5=0,0,VLOOKUP($D8,'mix RMA'!$F$9:$Q$70,6,FALSE)+(VLOOKUP($D8,'mix RMA'!$F$9:$Q$70,10,FALSE))/'mix RMA'!$N$4*(Calculations!$BV$3-'mix RMA'!$L$4)+(VLOOKUP($D8,'mix RMA'!$F$9:$Q$70,11,FALSE))/'mix RMA'!$N$5*(Calculations!$BV$4-'mix RMA'!$L$5)+(VLOOKUP($D8,'mix RMA'!$F$9:$Q$70,12,FALSE))/'mix RMA'!$N$6*($BV$5-'mix RMA'!$L$6))","v":0.14132929803498165}]
[null,2,"Methane (kg)","Methane",null,{"$f":"IF($F$4=0,0,VLOOKUP($D9,'I6 RMA'!$F$10:$O$82,2,FALSE)+(VLOOKUP($D9,'I6 RMA'!$F$10:$O$82,3,FALSE)-VLOOKUP($D9,'I6 RMA'!$F$10:$O$82,2,FALSE))/'I6 RMA'!$L$4*(Calculations!$F$4-'I6 RMA'!$J$4))*(1-F5/100)","v":8.960089947947069E-3},null,{"$f":"IF($H$4=0,0,VLOOKUP($D9,'PRB RMA'!$F$10:$O$82,2,FALSE)+(VLOOKUP($D9,'PRB RMA'!$F$10:$O$82,3,FALSE)-VLOOKUP($D9,'PRB RMA'!$F$10:$O$82,2,FALSE))/'PRB RMA'!$L$4*(Calculations!$H$4-'PRB RMA'!$J$4))","v":0},null,{"$f":"IF($J$4=0,0,VLOOKUP($D9,'Coal TrainRMT'!$F$10:$O$82,2,FALSE)+(VLOOKUP($D9,'Coal TrainRMT'!$F$10:$O$82,3,FALSE)-VLOOKUP($D9,'Coal TrainRMT'!$F$10:$O$82,2,FALSE))/'Coal TrainRMT'!$L$4*(Calculations!$J$4-'Coal TrainRMT'!$J$4))","v":6.88445269579842E-6},null,{"$f":"IF($L$4+$L$5+$L$6=0,0,VLOOKUP($D9,#REF!,2,FALSE)+(VLOOKUP($D9,#REF!,6,FALSE)/#REF!*(#REF!-#REF!)+(VLOOKUP($D9,#REF!,8,FALSE))/#REF!*(#REF!-#REF!)+(VLOOKUP($D9,#REF!,10,FALSE))/#REF!*($L$6-#REF!)))","v":{"$error":"#REF!"}},null,{"$f":"IF($N$4=0,0,VLOOKUP($D9,'NG Pipeline RMT'!$F$10:$O$82,2,FALSE)+(VLOOKUP($D9,'NG Pipeline RMT'!$F$10:$O$82,3,FALSE)-VLOOKUP($D9,'NG Pipeline RMT'!$F$10:$O$82,2,FALSE))/'NG Pipeline RMT'!$L$4*(Calculations!$N$4-'NG Pipeline RMT'!$J$4))","v":0},null,{"$f":"IF($P$4=0,0,VLOOKUP($D9,'SG RMA'!$F$10:$O$82,2,FALSE)+(VLOOKUP($D9,'SG RMA'!$F$10:$O$82,3,FALSE)-VLOOKUP($D9,'SG RMA'!$F$10:$O$82,2,FALSE))/'SG RMA'!$L$4*(Calculations!$P$4-'SG RMA'!$J$4))","v":0},null,{"$f":"IF($R$4=0,0,VLOOKUP($D9,'Bale Truck RMT'!$F$10:$O$82,2,FALSE)+(VLOOKUP($D9,'Bale Truck RMT'!$F$10:$O$82,3,FALSE)-VLOOKUP($D9,'Bale Truck RMT'!$F$10:$O$82,2,FALSE))/'Bale Truck RMT'!$L$4*(Calculations!$R$4-'Bale Truck RMT'!$J$4))","v":0},null,{"$f":"IF($T$4=0,0,VLOOKUP($D9,'Cont Truck RMT'!$F$10:$O$82,2,FALSE)+(VLOOKUP($D9,'Cont Truck RMT'!$F$10:$O$82,3,FALSE)-VLOOKUP($D9,'Cont Truck RMT'!$F$10:$O$82,2,FALSE))/'Cont Truck RMT'!$L$4*(Calculations!$T$4-'Cont Truck RMT'!$J$4))","v":0},null,{"$f":"IF($V$4=0,0,VLOOKUP($D9,'SRWC RMA'!$F$10:$O$82,2,FALSE)+(VLOOKUP($D9,'SRWC RMA'!$F$10:$O$82,3,FALSE)-VLOOKUP($D9,'SRWC RMA'!$F$10:$O$82,2,FALSE))/'SRWC RMA'!$L$4*(Calculations!$V$4-'SRWC RMA'!$J$4))","v":0},null,{"$f":"IF($X$4+$X$5+$X$6=0,0,VLOOKUP($D9,'Stover RMA'!$F$9:$Q$70,2,FALSE)+(VLOOKUP($D9,'Stover RMA'!$F$9:$Q$70,10,FALSE))/'Stover RMA'!$N$4*(Calculations!$X$4-'Stover RMA'!$L$4)+(VLOOKUP($D9,'Stover RMA'!$F$9:$Q$70,11,FALSE))/'Stover RMA'!$N$5*(Calculations!$X$5-'Stover RMA'!$L$5)+(VLOOKUP($D9,'Stover RMA'!$F$9:$Q$70,12,FALSE))/'Stover RMA'!$N$6*($X$6-'Stover RMA'!$L$6))","v":0},null,{"$f":"IF($Z$4=0,0,VLOOKUP($D9,'Corn RMA'!$F$10:$O$82,2,FALSE)+(VLOOKUP($D9,'Corn RMA'!$F$10:$O$82,3,FALSE)-VLOOKUP($D9,'Corn RMA'!$F$10:$O$82,2,FALSE))/'Corn RMA'!$L$4*(Calculations!$Z$4-'Corn RMA'!$J$4))","v":0},null,{"$f":"HLOOKUP(1,'FT Diesel 2'!$H$11:$U$77,'FT Diesel 2'!V60,FALSE)","v":{"$error":"#N/A"}},null,{"$f":"HLOOKUP(1,'Adv Ethanol'!$G$10:$O$79,'Adv Ethanol'!Q50,FALSE)","v":{"$error":"#N/A"}},null,{"$f":"IF($AF$4+$AF$5>0,VLOOKUP(D9,Uranium!$F$10:$K$77,3,FALSE)*Calculations!$AF$4+VLOOKUP(D9,Uranium!$F$10:$K$77,4,FALSE)*$AF$5,0)","v":0},null,{"$f":"IF($AH$4=0,0,VLOOKUP($D9,'U RMT'!$F$9:$U$64,2,FALSE)+(VLOOKUP($D9,'U RMT'!$F$10:$U$64,3,FALSE)-VLOOKUP($D9,'U RMT'!$F$10:$U$64,2,FALSE))/'U RMT'!$U$2*(Calculations!$AH$4-'U RMT'!$O$2))","v":0},null,{"$f":"IF($AJ$4=0,0,VLOOKUP($D9,'U RMT'!$F$9:$U$64,4,FALSE)+(VLOOKUP($D9,'U RMT'!$F$10:$U$64,5,FALSE)-VLOOKUP($D9,'U RMT'!$F$10:$U$64,4,FALSE))/'U RMT'!$U$3*(Calculations!$AJ$4-'U RMT'!$Q$3))","v":0},null,{"$f":"IF($AL$4=0,0,VLOOKUP($D9,'U RMT'!$F$9:$U$64,6,FALSE)+(VLOOKUP($D9,'U RMT'!$F$10:$U$64,7,FALSE)-VLOOKUP($D9,'U RMT'!$F$10:$U$64,6,FALSE))/'U RMT'!$U$4*(Calculations!$AL$4-'U RMT'!$S$4))","v":0},null,{"$f":"IF($AN$4=0,0,VLOOKUP($D9,'Petro Transport'!$F$10:$Z$77,2,FALSE)+(VLOOKUP($D9,'Petro Transport'!$F$10:$Z$77,3,FALSE)-VLOOKUP($D9,'Petro Transport'!$F$10:$Z$77,2,FALSE))/'Petro Transport'!$V$3*(Calculations!$AN$4-'Petro Transport'!$N$3))","v":0},null,{"$f":"IF($AP$4=0,0,VLOOKUP($D9,'Petro Transport'!$F$10:$Z$77,4,FALSE)+(VLOOKUP($D9,'Petro Transport'!$F$10:$Z$77,5,FALSE)-VLOOKUP($D9,'Petro Transport'!$F$10:$Z$77,4,FALSE))/'Petro Transport'!$V$4*(Calculations!$AP$4-'Petro Transport'!$P$4))","v":0},null,{"$f":"IF($AR$4=0,0,VLOOKUP($D9,'Petro Transport'!$F$10:$Z$77,6,FALSE)+(VLOOKUP($D9,'Petro Transport'!$F$10:$Z$77,7,FALSE)-VLOOKUP($D9,'Petro Transport'!$F$10:$Z$77,6,FALSE))/'Petro Transport'!$V$5*(Calculations!$AR$4-'Petro Transport'!$R$5))","v":0},null,{"$f":"IF($AT$4=0,0,VLOOKUP($D9,'Petro Transport'!$F$10:$Z$77,8,FALSE)+(VLOOKUP($D9,'Petro Transport'!$F$10:$Z$77,9,FALSE)-VLOOKUP($D9,'Petro Transport'!$F$10:$Z$77,8,FALSE))/'Petro Transport'!$V$6*(Calculations!$AT$4-'Petro Transport'!$T$6))","v":0},null,{"$f":"VLOOKUP($D9,'Dom Petro'!$F$11:$J$65,3,FALSE)*Calculations!$AV$4+VLOOKUP($D9,'Dom Petro'!$F$11:$J$65,4,FALSE)*Calculations!$AV$5+VLOOKUP($D9,'Dom Petro'!$F$11:$J$65,5,FALSE)*Calculations!$AV$6","v":8.42126780256448E-4},null,{"$f":"VLOOKUP($D9,'For Petro'!$F$9:$K$77,3,FALSE)*Calculations!$AX$3+VLOOKUP($D9,'For Petro'!$F$9:$K$77,4,FALSE)*Calculations!$AX$4+VLOOKUP($D9,'For Petro'!$F$9:$K$77,5,FALSE)*Calculations!$AX$5+VLOOKUP($D9,'For Petro'!$F$9:$K$77,6,FALSE)*$AX$6","v":0},null,{"$f":"IF($AZ$5=1,VLOOKUP($D9,'Petro Ref'!$F$10:$J$77,3,FALSE),0)","v":0},null,{"$f":"IF($BB$5,VLOOKUP($D9,'Petro Ref'!$F$10:$J$77,4,FALSE),0)","v":0},null,{"$f":"IF($BD$5=1,VLOOKUP($D9,'Petro Ref'!$F$10:$J$77,5,FALSE),0)","v":0},null,{"$f":"IF($BF$3+$BF$4+$BF$5=0,0,VLOOKUP($D9,'onshore RMA'!$F$9:$Q$70,2,FALSE)+(VLOOKUP($D9,'onshore RMA'!$F$9:$Q$70,10,FALSE))/'onshore RMA'!$N$4*(Calculations!$BF$3-'onshore RMA'!$L$4)+(VLOOKUP($D9,'onshore RMA'!$F$9:$Q$70,11,FALSE))/'onshore RMA'!$N$5*(Calculations!$BF$4-'onshore RMA'!$L$5)+(VLOOKUP($D9,'onshore RMA'!$F$9:$Q$70,12,FALSE))/'onshore RMA'!$N$6*($BF$5-'onshore RMA'!$L$6))","v":0},null,{"$f":"IF($BH$3+$BH$4+$BH$5=0,0,VLOOKUP($D9,'assoc RMA'!$F$9:$Q$70,2,FALSE)+(VLOOKUP($D9,'assoc RMA'!$F$9:$Q$70,10,FALSE))/'assoc RMA'!$N$4*(Calculations!$BH$3-'assoc RMA'!$L$4)+(VLOOKUP($D9,'assoc RMA'!$F$9:$Q$70,11,FALSE))/'assoc RMA'!$N$5*(Calculations!$BH$4-'assoc RMA'!$L$5)+(VLOOKUP($D9,'assoc RMA'!$F$9:$Q$70,12,FALSE))/'assoc RMA'!$N$6*($BH$5-'assoc RMA'!$L$6))","v":0},null,{"$f":"IF($BJ$3+$BJ$4+$BJ$5=0,0,VLOOKUP($D9,'offshore RMA'!$F$9:$Q$70,2,FALSE)+(VLOOKUP($D9,'offshore RMA'!$F$9:$Q$70,10,FALSE))/'offshore RMA'!$N$4*(Calculations!$BJ$3-'offshore RMA'!$L$4)+(VLOOKUP($D9,'offshore RMA'!$F$9:$Q$70,11,FALSE))/'offshore RMA'!$N$5*(Calculations!$BJ$4-'offshore RMA'!$L$5)+(VLOOKUP($D9,'offshore RMA'!$F$9:$Q$70,12,FALSE))/'offshore RMA'!$N$6*($BJ$5-'offshore RMA'!$L$6))","v":0},null,{"$f":"IF($BL$3+$BL$4+$BL$5=0,0,VLOOKUP($D9,'barnett RMA'!$F$9:$Q$70,2,FALSE)+(VLOOKUP($D9,'barnett RMA'!$F$9:$Q$70,10,FALSE))/'barnett RMA'!$N$4*(Calculations!$BL$3-'barnett RMA'!$L$4)+(VLOOKUP($D9,'barnett RMA'!$F$9:$Q$70,11,FALSE))/'barnett RMA'!$N$5*(Calculations!$BL$4-'barnett RMA'!$L$5)+(VLOOKUP($D9,'barnett RMA'!$F$9:$Q$70,12,FALSE))/'barnett RMA'!$N$6*($BL$5-'barnett RMA'!$L$6))","v":0},null,{"$f":"IF($BN$3+$BN$4+$BN$5=0,0,VLOOKUP($D9,'cbm RMA'!$F$9:$Q$70,2,FALSE)+(VLOOKUP($D9,'cbm RMA'!$F$9:$Q$70,10,FALSE))/'cbm RMA'!$N$4*(Calculations!$BN$3-'cbm RMA'!$L$4)+(VLOOKUP($D9,'cbm RMA'!$F$9:$Q$70,11,FALSE))/'cbm RMA'!$N$5*(Calculations!$BN$4-'cbm RMA'!$L$5)+(VLOOKUP($D9,'cbm RMA'!$F$9:$Q$70,12,FALSE))/'cbm RMA'!$N$6*($BN$5-'cbm RMA'!$L$6))","v":0},null,{"$f":"IF($BP$3+$BP$4+$BP$5=0,0,VLOOKUP($D9,'Marc RMA'!$F$9:$Q$70,2,FALSE)+(VLOOKUP($D9,'Marc RMA'!$F$9:$Q$70,10,FALSE))/'Marc RMA'!$N$4*(Calculations!$BP$3-'Marc RMA'!$L$4)+(VLOOKUP($D9,'Marc RMA'!$F$9:$Q$70,11,FALSE))/'Marc RMA'!$N$5*(Calculations!$BP$4-'Marc RMA'!$L$5)+(VLOOKUP($D9,'Marc RMA'!$F$9:$Q$70,12,FALSE))/'Marc RMA'!$N$6*($BP$5-'Marc RMA'!$L$6))","v":0},null,{"$f":"IF($BR$3+$BR$4+$BR$5=0,0,VLOOKUP($D9,'LNG RMA'!$F$9:$Q$70,2,FALSE)+(VLOOKUP($D9,'LNG RMA'!$F$9:$Q$70,10,FALSE))/'LNG RMA'!$N$4*(Calculations!$BR$3-'LNG RMA'!$L$4)+(VLOOKUP($D9,'LNG RMA'!$F$9:$Q$70,11,FALSE))/'LNG RMA'!$N$5*(Calculations!$BR$4-'LNG RMA'!$L$5)+(VLOOKUP($D9,'LNG RMA'!$F$9:$Q$70,12,FALSE))/'LNG RMA'!$N$6*($BR$5-'LNG RMA'!$L$6))","v":0},null,{"$f":"IF($BT$3+$BT$4+$BT$5=0,0,VLOOKUP($D9,'tight RMA'!$F$9:$Q$70,2,FALSE)+(VLOOKUP($D9,'tight RMA'!$F$9:$Q$70,10,FALSE))/'tight RMA'!$N$4*(Calculations!$BT$3-'tight RMA'!$L$4)+(VLOOKUP($D9,'tight RMA'!$F$9:$Q$70,11,FALSE))/'tight RMA'!$N$5*(Calculations!$BT$4-'tight RMA'!$L$5)+(VLOOKUP($D9,'tight RMA'!$F$9:$Q$70,12,FALSE))/'tight RMA'!$N$6*($BT$5-'tight RMA'!$L$6))","v":0},null,{"$f":"IF($BV$3+$BV$4+$BV$5=0,0,VLOOKUP($D9,'mix RMA'!$F$9:$Q$70,2,FALSE)+(VLOOKUP($D9,'mix RMA'!$F$9:$Q$70,10,FALSE))/'mix RMA'!$N$4*(Calculations!$BV$3-'mix RMA'!$L$4)+(VLOOKUP($D9,'mix RMA'!$F$9:$Q$70,11,FALSE))/'mix RMA'!$N$5*(Calculations!$BV$4-'mix RMA'!$L$5)+(VLOOKUP($D9,'mix RMA'!$F$9:$Q$70,12,FALSE))/'mix RMA'!$N$6*($BV$5-'mix RMA'!$L$6))","v":1.2874383161510624E-2}]
[null,3,"Nitrous Oxide (kg)","Nitrous oxide (laughing gas)",null,{"$f":"IF($F$4=0,0,VLOOKUP($D10,'I6 RMA'!$F$10:$O$82,2,FALSE)+(VLOOKUP($D10,'I6 RMA'!$F$10:$O$82,3,FALSE)-VLOOKUP($D10,'I6 RMA'!$F$10:$O$82,2,FALSE))/'I6 RMA'!$L$4*(Calculations!$F$4-'I6 RMA'!$J$4))","v":4.4905208969024002E-7},null,{"$f":"IF($H$4=0,0,VLOOKUP($D10,'PRB RMA'!$F$10:$O$82,2,FALSE)+(VLOOKUP($D10,'PRB RMA'!$F$10:$O$82,3,FALSE)-VLOOKUP($D10,'PRB RMA'!$F$10:$O$82,2,FALSE))/'PRB RMA'!$L$4*(Calculations!$H$4-'PRB RMA'!$J$4))","v":0},null,{"$f":"IF($J$4=0,0,VLOOKUP($D10,'Coal TrainRMT'!$F$10:$O$82,2,FALSE)+(VLOOKUP($D10,'Coal TrainRMT'!$F$10:$O$82,3,FALSE)-VLOOKUP($D10,'Coal TrainRMT'!$F$10:$O$82,2,FALSE))/'Coal TrainRMT'!$L$4*(Calculations!$J$4-'Coal TrainRMT'!$J$4))","v":3.0590976902223898E-7},null,{"$f":"IF($L$4+$L$5+$L$6=0,0,VLOOKUP($D10,#REF!,2,FALSE)+(VLOOKUP($D10,#REF!,6,FALSE)/#REF!*(#REF!-#REF!)+(VLOOKUP($D10,#REF!,8,FALSE))/#REF!*(#REF!-#REF!)+(VLOOKUP($D10,#REF!,10,FALSE))/#REF!*($L$6-#REF!)))","v":{"$error":"#REF!"}},null,{"$f":"IF($N$4=0,0,VLOOKUP($D10,'NG Pipeline RMT'!$F$10:$O$82,2,FALSE)+(VLOOKUP($D10,'NG Pipeline RMT'!$F$10:$O$82,3,FALSE)-VLOOKUP($D10,'NG Pipeline RMT'!$F$10:$O$82,2,FALSE))/'NG Pipeline RMT'!$L$4*(Calculations!$N$4-'NG Pipeline RMT'!$J$4))","v":0},null,{"$f":"IF($P$4=0,0,VLOOKUP($D10,'SG RMA'!$F$10:$O$82,2,FALSE)+(VLOOKUP($D10,'SG RMA'!$F$10:$O$82,3,FALSE)-VLOOKUP($D10,'SG RMA'!$F$10:$O$82,2,FALSE))/'SG RMA'!$L$4*(Calculations!$P$4-'SG RMA'!$J$4))","v":0},null,{"$f":"IF($R$4=0,0,VLOOKUP($D10,'Bale Truck RMT'!$F$10:$O$82,2,FALSE)+(VLOOKUP($D10,'Bale Truck RMT'!$F$10:$O$82,3,FALSE)-VLOOKUP($D10,'Bale Truck RMT'!$F$10:$O$82,2,FALSE))/'Bale Truck RMT'!$L$4*(Calculations!$R$4-'Bale Truck RMT'!$J$4))","v":0},null,{"$f":"IF($T$4=0,0,VLOOKUP($D10,'Cont Truck RMT'!$F$10:$O$82,2,FALSE)+(VLOOKUP($D10,'Cont Truck RMT'!$F$10:$O$82,3,FALSE)-VLOOKUP($D10,'Cont Truck RMT'!$F$10:$O$82,2,FALSE))/'Cont Truck RMT'!$L$4*(Calculations!$T$4-'Cont Truck RMT'!$J$4))","v":0},null,{"$f":"IF($V$4=0,0,VLOOKUP($D10,'SRWC RMA'!$F$10:$O$82,2,FALSE)+(VLOOKUP($D10,'SRWC RMA'!$F$10:$O$82,3,FALSE)-VLOOKUP($D10,'SRWC RMA'!$F$10:$O$82,2,FALSE))/'SRWC RMA'!$L$4*(Calculations!$V$4-'SRWC RMA'!$J$4))","v":0},null,{"$f":"IF($X$4+$X$5+$X$6=0,0,VLOOKUP($D10,'Stover RMA'!$F$9:$Q$70,2,FALSE)+(VLOOKUP($D10,'Stover RMA'!$F$9:$Q$70,10,FALSE))/'Stover RMA'!$N$4*(Calculations!$X$4-'Stover RMA'!$L$4)+(VLOOKUP($D10,'Stover RMA'!$F$9:$Q$70,11,FALSE))/'Stover RMA'!$N$5*(Calculations!$X$5-'Stover RMA'!$L$5)+(VLOOKUP($D10,'Stover RMA'!$F$9:$Q$70,12,FALSE))/'Stover RMA'!$N$6*($X$6-'Stover RMA'!$L$6))","v":0},null,{"$f":"IF($Z$4=0,0,VLOOKUP($D10,'Corn RMA'!$F$10:$O$82,2,FALSE)+(VLOOKUP($D10,'Corn RMA'!$F$10:$O$82,3,FALSE)-VLOOKUP($D10,'Corn RMA'!$F$10:$O$82,2,FALSE))/'Corn RMA'!$L$4*(Calculations!$Z$4-'Corn RMA'!$J$4))","v":0},null,{"$f":"HLOOKUP(1,'FT Diesel 2'!$H$11:$U$76,'FT Diesel 2'!V55,FALSE)","v":{"$error":"#N/A"}},null,{"$f":"HLOOKUP(1,'Adv Ethanol'!$G$10:$O$79,'Adv Ethanol'!Q45,FALSE)","v":{"$error":"#N/A"}},null,{"$f":"IF($AF$4+$AF$5>0,VLOOKUP(D10,Uranium!$F$10:$K$77,3,FALSE)*Calculations!$AF$4+VLOOKUP(D10,Uranium!$F$10:$K$77,4,FALSE)*$AF$5,0)","v":0},null,{"$f":"IF($AH$4=0,0,VLOOKUP($D10,'U RMT'!$F$9:$U$64,2,FALSE)+(VLOOKUP($D10,'U RMT'!$F$10:$U$64,3,FALSE)-VLOOKUP($D10,'U RMT'!$F$10:$U$64,2,FALSE))/'U RMT'!$U$2*(Calculations!$AH$4-'U RMT'!$O$2))","v":0},null,{"$f":"IF($AJ$4=0,0,VLOOKUP($D10,'U RMT'!$F$9:$U$64,4,FALSE)+(VLOOKUP($D10,'U RMT'!$F$10:$U$64,5,FALSE)-VLOOKUP($D10,'U RMT'!$F$10:$U$64,4,FALSE))/'U RMT'!$U$3*(Calculations!$AJ$4-'U RMT'!$Q$3))","v":0},null,{"$f":"IF($AL$4=0,0,VLOOKUP($D10,'U RMT'!$F$9:$U$64,6,FALSE)+(VLOOKUP($D10,'U RMT'!$F$10:$U$64,7,FALSE)-VLOOKUP($D10,'U RMT'!$F$10:$U$64,6,FALSE))/'U RMT'!$U$4*(Calculations!$AL$4-'U RMT'!$S$4))","v":0},null,{"$f":"IF($AN$4=0,0,VLOOKUP($D10,'Petro Transport'!$F$10:$Z$77,2,FALSE)+(VLOOKUP($D10,'Petro Transport'!$F$10:$Z$77,3,FALSE)-VLOOKUP($D10,'Petro Transport'!$F$10:$Z$77,2,FALSE))/'Petro Transport'!$V$3*(Calculations!$AN$4-'Petro Transport'!$N$3))","v":0},null,{"$f":"IF($AP$4=0,0,VLOOKUP($D10,'Petro Transport'!$F$10:$Z$77,4,FALSE)+(VLOOKUP($D10,'Petro Transport'!$F$10:$Z$77,5,FALSE)-VLOOKUP($D10,'Petro Transport'!$F$10:$Z$77,4,FALSE))/'Petro Transport'!$V$4*(Calculations!$AP$4-'Petro Transport'!$P$4))","v":0},null,{"$f":"IF($AR$4=0,0,VLOOKUP($D10,'Petro Transport'!$F$10:$Z$77,6,FALSE)+(VLOOKUP($D10,'Petro Transport'!$F$10:$Z$77,7,FALSE)-VLOOKUP($D10,'Petro Transport'!$F$10:$Z$77,6,FALSE))/'Petro Transport'!$V$5*(Calculations!$AR$4-'Petro Transport'!$R$5))","v":0},null,{"$f":"IF($AT$4=0,0,VLOOKUP($D10,'Petro Transport'!$F$10:$Z$77,8,FALSE)+(VLOOKUP($D10,'Petro Transport'!$F$10:$Z$77,9,FALSE)-VLOOKUP($D10,'Petro Transport'!$F$10:$Z$77,8,FALSE))/'Petro Transport'!$V$6*(Calculations!$AT$4-'Petro Transport'!$T$6))","v":0},null,{"$f":"VLOOKUP($D10,'Dom Petro'!$F$11:$J$65,3,FALSE)*Calculations!$AV$4+VLOOKUP($D10,'Dom Petro'!$F$11:$J$65,4,FALSE)*Calculations!$AV$5+VLOOKUP($D10,'Dom Petro'!$F$11:$J$65,5,FALSE)*Calculations!$AV$6","v":4.7413747353639196E-6},null,{"$f":"VLOOKUP($D10,'For Petro'!$F$9:$K$77,3,FALSE)*Calculations!$AX$3+VLOOKUP($D10,'For Petro'!$F$9:$K$77,4,FALSE)*Calculations!$AX$4+VLOOKUP($D10,'For Petro'!$F$9:$K$77,5,FALSE)*Calculations!$AX$5+VLOOKUP($D10,'For Petro'!$F$9:$K$77,6,FALSE)*$AX$6","v":0},null,{"$f":"IF($AZ$5=1,VLOOKUP($D10,'Petro Ref'!$F$10:$J$77,3,FALSE),0)","v":0},null,{"$f":"IF($BB$5,VLOOKUP($D10,'Petro Ref'!$F$10:$J$77,4,FALSE),0)","v":0},null,{"$f":"IF($BD$5=1,VLOOKUP($D10,'Petro Ref'!$F$10:$J$77,5,FALSE),0)","v":0},null,{"$f":"IF($BF$3+$BF$4+$BF$5=0,0,VLOOKUP($D10,'onshore RMA'!$F$9:$Q$70,2,FALSE)+(VLOOKUP($D10,'onshore RMA'!$F$9:$Q$70,10,FALSE))/'onshore RMA'!$N$4*(Calculations!$BF$3-'onshore RMA'!$L$4)+(VLOOKUP($D10,'onshore RMA'!$F$9:$Q$70,11,FALSE))/'onshore RMA'!$N$5*(Calculations!$BF$4-'onshore RMA'!$L$5)+(VLOOKUP($D10,'onshore RMA'!$F$9:$Q$70,12,FALSE))/'onshore RMA'!$N$6*($BF$5-'onshore RMA'!$L$6))","v":0},null,{"$f":"IF($BH$3+$BH$4+$BH$5=0,0,VLOOKUP($D10,'assoc RMA'!$F$9:$Q$70,2,FALSE)+(VLOOKUP($D10,'assoc RMA'!$F$9:$Q$70,10,FALSE))/'assoc RMA'!$N$4*(Calculations!$BH$3-'assoc RMA'!$L$4)+(VLOOKUP($D10,'assoc RMA'!$F$9:$Q$70,11,FALSE))/'assoc RMA'!$N$5*(Calculations!$BH$4-'assoc RMA'!$L$5)+(VLOOKUP($D10,'assoc RMA'!$F$9:$Q$70,12,FALSE))/'assoc RMA'!$N$6*($BH$5-'assoc RMA'!$L$6))","v":0},null,{"$f":"IF($BJ$3+$BJ$4+$BJ$5=0,0,VLOOKUP($D10,'offshore RMA'!$F$9:$Q$70,2,FALSE)+(VLOOKUP($D10,'offshore RMA'!$F$9:$Q$70,10,FALSE))/'offshore RMA'!$N$4*(Calculations!$BJ$3-'offshore RMA'!$L$4)+(VLOOKUP($D10,'offshore RMA'!$F$9:$Q$70,11,FALSE))/'offshore RMA'!$N$5*(Calculations!$BJ$4-'offshore RMA'!$L$5)+(VLOOKUP($D10,'offshore RMA'!$F$9:$Q$70,12,FALSE))/'offshore RMA'!$N$6*($BJ$5-'offshore RMA'!$L$6))","v":0},null,{"$f":"IF($BL$3+$BL$4+$BL$5=0,0,VLOOKUP($D10,'barnett RMA'!$F$9:$Q$70,2,FALSE)+(VLOOKUP($D10,'barnett RMA'!$F$9:$Q$70,10,FALSE))/'barnett RMA'!$N$4*(Calculations!$BL$3-'barnett RMA'!$L$4)+(VLOOKUP($D10,'barnett RMA'!$F$9:$Q$70,11,FALSE))/'barnett RMA'!$N$5*(Calculations!$BL$4-'barnett RMA'!$L$5)+(VLOOKUP($D10,'barnett RMA'!$F$9:$Q$70,12,FALSE))/'barnett RMA'!$N$6*($BL$5-'barnett RMA'!$L$6))","v":0},null,{"$f":"IF($BN$3+$BN$4+$BN$5=0,0,VLOOKUP($D10,'cbm RMA'!$F$9:$Q$70,2,FALSE)+(VLOOKUP($D10,'cbm RMA'!$F$9:$Q$70,10,FALSE))/'cbm RMA'!$N$4*(Calculations!$BN$3-'cbm RMA'!$L$4)+(VLOOKUP($D10,'cbm RMA'!$F$9:$Q$70,11,FALSE))/'cbm RMA'!$N$5*(Calculations!$BN$4-'cbm RMA'!$L$5)+(VLOOKUP($D10,'cbm RMA'!$F$9:$Q$70,12,FALSE))/'cbm RMA'!$N$6*($BN$5-'cbm RMA'!$L$6))","v":0},null,{"$f":"IF($BP$3+$BP$4+$BP$5=0,0,VLOOKUP($D10,'Marc RMA'!$F$9:$Q$70,2,FALSE)+(VLOOKUP($D10,'Marc RMA'!$F$9:$Q$70,10,FALSE))/'Marc RMA'!$N$4*(Calculations!$BP$3-'Marc RMA'!$L$4)+(VLOOKUP($D10,'Marc RMA'!$F$9:$Q$70,11,FALSE))/'Marc RMA'!$N$5*(Calculations!$BP$4-'Marc RMA'!$L$5)+(VLOOKUP($D10,'Marc RMA'!$F$9:$Q$70,12,FALSE))/'Marc RMA'!$N$6*($BP$5-'Marc RMA'!$L$6))","v":0},null,{"$f":"IF($BR$3+$BR$4+$BR$5=0,0,VLOOKUP($D10,'LNG RMA'!$F$9:$Q$70,2,FALSE)+(VLOOKUP($D10,'LNG RMA'!$F$9:$Q$70,10,FALSE))/'LNG RMA'!$N$4*(Calculations!$BR$3-'LNG RMA'!$L$4)+(VLOOKUP($D10,'LNG RMA'!$F$9:$Q$70,11,FALSE))/'LNG RMA'!$N$5*(Calculations!$BR$4-'LNG RMA'!$L$5)+(VLOOKUP($D10,'LNG RMA'!$F$9:$Q$70,12,FALSE))/'LNG RMA'!$N$6*($BR$5-'LNG RMA'!$L$6))","v":0},null,{"$f":"IF($BT$3+$BT$4+$BT$5=0,0,VLOOKUP($D10,'tight RMA'!$F$9:$Q$70,2,FALSE)+(VLOOKUP($D10,'tight RMA'!$F$9:$Q$70,10,FALSE))/'tight RMA'!$N$4*(Calculations!$BT$3-'tight RMA'!$L$4)+(VLOOKUP($D10,'tight RMA'!$F$9:$Q$70,11,FALSE))/'tight RMA'!$N$5*(Calculations!$BT$4-'tight RMA'!$L$5)+(VLOOKUP($D10,'tight RMA'!$F$9:$Q$70,12,FALSE))/'tight RMA'!$N$6*($BT$5-'tight RMA'!$L$6))","v":0},null,{"$f":"IF($BV$3+$BV$4+$BV$5=0,0,VLOOKUP($D10,'mix RMA'!$F$9:$Q$70,2,FALSE)+(VLOOKUP($D10,'mix RMA'!$F$9:$Q$70,10,FALSE))/'mix RMA'!$N$4*(Calculations!$BV$3-'mix RMA'!$L$4)+(VLOOKUP($D10,'mix RMA'!$F$9:$Q$70,11,FALSE))/'mix RMA'!$N$5*(Calculations!$BV$4-'mix RMA'!$L$5)+(VLOOKUP($D10,'mix RMA'!$F$9:$Q$70,12,FALSE))/'mix RMA'!$N$6*($BV$5-'mix RMA'!$L$6))","v":4.5624939364972363E-6}]
[null,4,"Total GWP (kg)",null,null,{"$f":"F8+F9*$C$38+F10*$C$39","v":0.24964777746083824},null,{"$f":"H8+H9*$C$38+H10*$C$39","v":0},null,{"$f":"J8+J9*$C$38+J10*$C$39","v":1.2907291161007887E-2},null,{"$f":"L8+L9*$C$38+L10*$C$39","v":{"$error":"#REF!"}},null,{"$f":"N8+N9*$C$38+N10*$C$39","v":0},null,{"$f":"P8+P9*$C$38+P10*$C$39","v":0},null,{"$f":"R8+R9*$C$38+R10*$C$39","v":0},null,{"$f":"T8+T9*$C$38+T10*$C$39","v":0},null,{"$f":"V8+V9*$C$38+V10*$C$39","v":0},null,{"$f":"X8+X9*$C$38+X10*$C$39","v":0},null,{"$f":"Z8+Z9*$C$38+Z10*$C$39","v":0},null,{"$f":"AB8+AB9*$C$38+AB10*$C$39","v":{"$error":"#N/A"}},null,{"$f":"AD8+AD9*$C$38+AD10*$C$39","v":{"$error":"#N/A"}},null,{"$f":"AF8+AF9*$C$38+AF10*$C$39","v":0},null,{"$f":"AH8+AH9*$C$38+AH10*$C$39","v":0},null,{"$f":"AJ8+AJ9*$C$38+AJ10*$C$39","v":0},null,{"$f":"AL8+AL9*$C$38+AL10*$C$39","v":0},null,{"$f":"AN8+AN9*$C$38+AN10*$C$39","v":0},null,{"$f":"AP8+AP9*$C$38+AP10*$C$39","v":0},null,{"$f":"AR8+AR9*$C$38+AR10*$C$39","v":0},null,{"$f":"AT8+AT9*$C$38+AT10*$C$39","v":0},null,{"$f":"AV8+AV9*$C$38+AV10*$C$39","v":0.17960467448452466},null,{"$f":"AX8+AX9*$C$38+AX10*$C$39","v":0},null,{"$f":"AZ8+AZ9*$C$38+AZ10*$C$39","v":0},null,{"$f":"BB8+BB9*$C$38+BB10*$C$39","v":0},null,{"$f":"BD8+BD9*$C$38+BD10*$C$39","v":0},null,{"$f":"BF8+BF9*$C$38+BF10*$C$39","v":0},null,{"$f":"BH8+BH9*$C$38+BH10*$C$39","v":0},null,{"$f":"BJ8+BJ9*$C$38+BJ10*$C$39","v":0},null,{"$f":"BL8+BL9*$C$38+BL10*$C$39","v":0},null,{"$f":"BN8+BN9*$C$38+BN10*$C$39","v":0},null,{"$f":"BP8+BP9*$C$38+BP10*$C$39","v":0},null,{"$f":"BR8+BR9*$C$38+BR10*$C$39","v":0},null,{"$f":"BT8+BT9*$C$38+BT10*$C$39","v":0},null,{"$f":"BV8+BV9*$C$38+BV10*$C$39","v":0.46454850026582345}]
[null,5,"Nitrogen Oxides (kg)","Nitrogen oxides",null,{"$f":"IF($F$4=0,0,VLOOKUP($D12,'I6 RMA'!$F$10:$O$82,2,FALSE)+(VLOOKUP($D12,'I6 RMA'!$F$10:$O$82,3,FALSE)-VLOOKUP($D12,'I6 RMA'!$F$10:$O$82,2,FALSE))/'I6 RMA'!$L$4*(Calculations!$F$4-'I6 RMA'!$J$4))","v":4.2438493127344801E-5},null,{"$f":"IF($H$4=0,0,VLOOKUP($D12,'PRB RMA'!$F$10:$O$82,2,FALSE)+(VLOOKUP($D12,'PRB RMA'!$F$10:$O$82,3,FALSE)-VLOOKUP($D12,'PRB RMA'!$F$10:$O$82,2,FALSE))/'PRB RMA'!$L$4*(Calculations!$H$4-'PRB RMA'!$J$4))","v":0},null,{"$f":"IF($J$4=0,0,VLOOKUP($D12,'Coal TrainRMT'!$F$10:$O$82,2,FALSE)+(VLOOKUP($D12,'Coal TrainRMT'!$F$10:$O$82,3,FALSE)-VLOOKUP($D12,'Coal TrainRMT'!$F$10:$O$82,2,FALSE))/'Coal TrainRMT'!$L$4*(Calculations!$J$4-'Coal TrainRMT'!$J$4))","v":3.1335859305224101E-5},null,{"$f":"IF($L$4+$L$5+$L$6=0,0,VLOOKUP($D12,#REF!,2,FALSE)+(VLOOKUP($D12,#REF!,6,FALSE)/#REF!*(#REF!-#REF!)+(VLOOKUP($D12,#REF!,8,FALSE))/#REF!*(#REF!-#REF!)+(VLOOKUP($D12,#REF!,10,FALSE))/#REF!*($L$6-#REF!)))","v":{"$error":"#REF!"}},null,{"$f":"IF($N$4=0,0,VLOOKUP($D12,'NG Pipeline RMT'!$F$10:$O$82,2,FALSE)+(VLOOKUP($D12,'NG Pipeline RMT'!$F$10:$O$82,3,FALSE)-VLOOKUP($D12,'NG Pipeline RMT'!$F$10:$O$82,2,FALSE))/'NG Pipeline RMT'!$L$4*(Calculations!$N$4-'NG Pipeline RMT'!$J$4))","v":0},null,{"$f":"IF($P$4=0,0,VLOOKUP($D12,'SG RMA'!$F$10:$O$82,2,FALSE)+(VLOOKUP($D12,'SG RMA'!$F$10:$O$82,3,FALSE)-VLOOKUP($D12,'SG RMA'!$F$10:$O$82,2,FALSE))/'SG RMA'!$L$4*(Calculations!$P$4-'SG RMA'!$J$4))","v":0},null,{"$f":"IF($R$4=0,0,VLOOKUP($D12,'Bale Truck RMT'!$F$10:$O$82,2,FALSE)+(VLOOKUP($D12,'Bale Truck RMT'!$F$10:$O$82,3,FALSE)-VLOOKUP($D12,'Bale Truck RMT'!$F$10:$O$82,2,FALSE))/'Bale Truck RMT'!$L$4*(Calculations!$R$4-'Bale Truck RMT'!$J$4))","v":0},null,{"$f":"IF($T$4=0,0,VLOOKUP($D12,'Cont Truck RMT'!$F$10:$O$82,2,FALSE)+(VLOOKUP($D12,'Cont Truck RMT'!$F$10:$O$82,3,FALSE)-VLOOKUP($D12,'Cont Truck RMT'!$F$10:$O$82,2,FALSE))/'Cont Truck RMT'!$L$4*(Calculations!$T$4-'Cont Truck RMT'!$J$4))","v":0},null,{"$f":"IF($V$4=0,0,VLOOKUP($D12,'SRWC RMA'!$F$10:$O$82,2,FALSE)+(VLOOKUP($D12,'SRWC RMA'!$F$10:$O$82,3,FALSE)-VLOOKUP($D12,'SRWC RMA'!$F$10:$O$82,2,FALSE))/'SRWC RMA'!$L$4*(Calculations!$V$4-'SRWC RMA'!$J$4))","v":0},null,{"$f":"IF($X$4+$X$5+$X$6=0,0,VLOOKUP($D12,'Stover RMA'!$F$9:$Q$70,2,FALSE)+(VLOOKUP($D12,'Stover RMA'!$F$9:$Q$70,10,FALSE))/'Stover RMA'!$N$4*(Calculations!$X$4-'Stover RMA'!$L$4)+(VLOOKUP($D12,'Stover RMA'!$F$9:$Q$70,11,FALSE))/'Stover RMA'!$N$5*(Calculations!$X$5-'Stover RMA'!$L$5)+(VLOOKUP($D12,'Stover RMA'!$F$9:$Q$70,12,FALSE))/'Stover RMA'!$N$6*($X$6-'Stover RMA'!$L$6))","v":0},null,{"$f":"IF($Z$4=0,0,VLOOKUP($D12,'Corn RMA'!$F$10:$O$82,2,FALSE)+(VLOOKUP($D12,'Corn RMA'!$F$10:$O$82,3,FALSE)-VLOOKUP($D12,'Corn RMA'!$F$10:$O$82,2,FALSE))/'Corn RMA'!$L$4*(Calculations!$Z$4-'Corn RMA'!$J$4))","v":0},null,{"$f":"HLOOKUP(1,'FT Diesel 2'!$H$11:$U$76,'FT Diesel 2'!V54,FALSE)","v":{"$error":"#N/A"}},null,{"$f":"HLOOKUP(1,'Adv Ethanol'!$G$10:$O$79,'Adv Ethanol'!Q44,FALSE)","v":{"$error":"#N/A"}},null,{"$f":"IF($AF$4+$AF$5>0,VLOOKUP(D12,Uranium!$F$10:$K$77,3,FALSE)*Calculations!$AF$4+VLOOKUP(D12,Uranium!$F$10:$K$77,4,FALSE)*$AF$5,0)","v":0},null,{"$f":"IF($AH$4=0,0,VLOOKUP($D12,'U RMT'!$F$9:$U$64,2,FALSE)+(VLOOKUP($D12,'U RMT'!$F$10:$U$64,3,FALSE)-VLOOKUP($D12,'U RMT'!$F$10:$U$64,2,FALSE))/'U RMT'!$U$2*(Calculations!$AH$4-'U RMT'!$O$2))","v":0},null,{"$f":"IF($AJ$4=0,0,VLOOKUP($D12,'U RMT'!$F$9:$U$64,4,FALSE)+(VLOOKUP($D12,'U RMT'!$F$10:$U$64,5,FALSE)-VLOOKUP($D12,'U RMT'!$F$10:$U$64,4,FALSE))/'U RMT'!$U$3*(Calculations!$AJ$4-'U RMT'!$Q$3))","v":0},null,{"$f":"IF($AL$4=0,0,VLOOKUP($D12,'U RMT'!$F$9:$U$64,6,FALSE)+(VLOOKUP($D12,'U RMT'!$F$10:$U$64,7,FALSE)-VLOOKUP($D12,'U RMT'!$F$10:$U$64,6,FALSE))/'U RMT'!$U$4*(Calculations!$AL$4-'U RMT'!$S$4))","v":0},null,{"$f":"IF($AN$4=0,0,VLOOKUP($D12,'Petro Transport'!$F$10:$Z$77,2,FALSE)+(VLOOKUP($D12,'Petro Transport'!$F$10:$Z$77,3,FALSE)-VLOOKUP($D12,'Petro Transport'!$F$10:$Z$77,2,FALSE))/'Petro Transport'!$V$3*(Calculations!$AN$4-'Petro Transport'!$N$3))","v":0},null,{"$f":"IF($AP$4=0,0,VLOOKUP($D12,'Petro Transport'!$F$10:$Z$77,4,FALSE)+(VLOOKUP($D12,'Petro Transport'!$F$10:$Z$77,5,FALSE)-VLOOKUP($D12,'Petro Transport'!$F$10:$Z$77,4,FALSE))/'Petro Transport'!$V$4*(Calculations!$AP$4-'Petro Transport'!$P$4))","v":0},null,{"$f":"IF($AR$4=0,0,VLOOKUP($D12,'Petro Transport'!$F$10:$Z$77,6,FALSE)+(VLOOKUP($D12,'Petro Transport'!$F$10:$Z$77,7,FALSE)-VLOOKUP($D12,'Petro Transport'!$F$10:$Z$77,6,FALSE))/'Petro Transport'!$V$5*(Calculations!$AR$4-'Petro Transport'!$R$5))","v":0},null,{"$f":"IF($AT$4=0,0,VLOOKUP($D12,'Petro Transport'!$F$10:$Z$77,8,FALSE)+(VLOOKUP($D12,'Petro Transport'!$F$10:$Z$77,9,FALSE)-VLOOKUP($D12,'Petro Transport'!$F$10:$Z$77,8,FALSE))/'Petro Transport'!$V$6*(Calculations!$AT$4-'Petro Transport'!$T$6))","v":0},null,{"$f":"VLOOKUP($D12,'Dom Petro'!$F$11:$J$65,3,FALSE)*Calculations!$AV$4+VLOOKUP($D12,'Dom Petro'!$F$11:$J$65,4,FALSE)*Calculations!$AV$5+VLOOKUP($D12,'Dom Petro'!$F$11:$J$65,5,FALSE)*Calculations!$AV$6","v":6.9798052470982795E-4},null,{"$f":"VLOOKUP($D12,'For Petro'!$F$9:$K$77,3,FALSE)*Calculations!$AX$3+VLOOKUP($D12,'For Petro'!$F$9:$K$77,4,FALSE)*Calculations!$AX$4+VLOOKUP($D12,'For Petro'!$F$9:$K$77,5,FALSE)*Calculations!$AX$5+VLOOKUP($D12,'For Petro'!$F$9:$K$77,6,FALSE)*$AX$6","v":0},null,{"$f":"IF($AZ$5=1,VLOOKUP($D12,'Petro Ref'!$F$10:$J$77,3,FALSE),0)","v":0},null,{"$f":"IF($BB$5,VLOOKUP($D12,'Petro Ref'!$F$10:$J$77,4,FALSE),0)","v":0},null,{"$f":"IF($BD$5=1,VLOOKUP($D12,'Petro Ref'!$F$10:$J$77,5,FALSE),0)","v":0},null,{"$f":"IF($BF$3+$BF$4+$BF$5=0,0,VLOOKUP($D12,'onshore RMA'!$F$9:$Q$70,2,FALSE)+(VLOOKUP($D12,'onshore RMA'!$F$9:$Q$70,10,FALSE))/'onshore RMA'!$N$4*(Calculations!$BF$3-'onshore RMA'!$L$4)+(VLOOKUP($D12,'onshore RMA'!$F$9:$Q$70,11,FALSE))/'onshore RMA'!$N$5*(Calculations!$BF$4-'onshore RMA'!$L$5)+(VLOOKUP($D12,'onshore RMA'!$F$9:$Q$70,12,FALSE))/'onshore RMA'!$N$6*($BF$5-'onshore RMA'!$L$6))","v":0},null,{"$f":"IF($BH$3+$BH$4+$BH$5=0,0,VLOOKUP($D12,'assoc RMA'!$F$9:$Q$70,2,FALSE)+(VLOOKUP($D12,'assoc RMA'!$F$9:$Q$70,10,FALSE))/'assoc RMA'!$N$4*(Calculations!$BH$3-'assoc RMA'!$L$4)+(VLOOKUP($D12,'assoc RMA'!$F$9:$Q$70,11,FALSE))/'assoc RMA'!$N$5*(Calculations!$BH$4-'assoc RMA'!$L$5)+(VLOOKUP($D12,'assoc RMA'!$F$9:$Q$70,12,FALSE))/'assoc RMA'!$N$6*($BH$5-'assoc RMA'!$L$6))","v":0},null,{"$f":"IF($BJ$3+$BJ$4+$BJ$5=0,0,VLOOKUP($D12,'offshore RMA'!$F$9:$Q$70,2,FALSE)+(VLOOKUP($D12,'offshore RMA'!$F$9:$Q$70,10,FALSE))/'offshore RMA'!$N$4*(Calculations!$BJ$3-'offshore RMA'!$L$4)+(VLOOKUP($D12,'offshore RMA'!$F$9:$Q$70,11,FALSE))/'offshore RMA'!$N$5*(Calculations!$BJ$4-'offshore RMA'!$L$5)+(VLOOKUP($D12,'offshore RMA'!$F$9:$Q$70,12,FALSE))/'offshore RMA'!$N$6*($BJ$5-'offshore RMA'!$L$6))","v":0},null,{"$f":"IF($BL$3+$BL$4+$BL$5=0,0,VLOOKUP($D12,'barnett RMA'!$F$9:$Q$70,2,FALSE)+(VLOOKUP($D12,'barnett RMA'!$F$9:$Q$70,10,FALSE))/'barnett RMA'!$N$4*(Calculations!$BL$3-'barnett RMA'!$L$4)+(VLOOKUP($D12,'barnett RMA'!$F$9:$Q$70,11,FALSE))/'barnett RMA'!$N$5*(Calculations!$BL$4-'barnett RMA'!$L$5)+(VLOOKUP($D12,'barnett RMA'!$F$9:$Q$70,12,FALSE))/'barnett RMA'!$N$6*($BL$5-'barnett RMA'!$L$6))","v":0},null,{"$f":"IF($BN$3+$BN$4+$BN$5=0,0,VLOOKUP($D12,'cbm RMA'!$F$9:$Q$70,2,FALSE)+(VLOOKUP($D12,'cbm RMA'!$F$9:$Q$70,10,FALSE))/'cbm RMA'!$N$4*(Calculations!$BN$3-'cbm RMA'!$L$4)+(VLOOKUP($D12,'cbm RMA'!$F$9:$Q$70,11,FALSE))/'cbm RMA'!$N$5*(Calculations!$BN$4-'cbm RMA'!$L$5)+(VLOOKUP($D12,'cbm RMA'!$F$9:$Q$70,12,FALSE))/'cbm RMA'!$N$6*($BN$5-'cbm RMA'!$L$6))","v":0},null,{"$f":"IF($BP$3+$BP$4+$BP$5=0,0,VLOOKUP($D12,'Marc RMA'!$F$9:$Q$70,2,FALSE)+(VLOOKUP($D12,'Marc RMA'!$F$9:$Q$70,10,FALSE))/'Marc RMA'!$N$4*(Calculations!$BP$3-'Marc RMA'!$L$4)+(VLOOKUP($D12,'Marc RMA'!$F$9:$Q$70,11,FALSE))/'Marc RMA'!$N$5*(Calculations!$BP$4-'Marc RMA'!$L$5)+(VLOOKUP($D12,'Marc RMA'!$F$9:$Q$70,12,FALSE))/'Marc RMA'!$N$6*($BP$5-'Marc RMA'!$L$6))","v":0},null,{"$f":"IF($BR$3+$BR$4+$BR$5=0,0,VLOOKUP($D12,'LNG RMA'!$F$9:$Q$70,2,FALSE)+(VLOOKUP($D12,'LNG RMA'!$F$9:$Q$70,10,FALSE))/'LNG RMA'!$N$4*(Calculations!$BR$3-'LNG RMA'!$L$4)+(VLOOKUP($D12,'LNG RMA'!$F$9:$Q$70,11,FALSE))/'LNG RMA'!$N$5*(Calculations!$BR$4-'LNG RMA'!$L$5)+(VLOOKUP($D12,'LNG RMA'!$F$9:$Q$70,12,FALSE))/'LNG RMA'!$N$6*($BR$5-'LNG RMA'!$L$6))","v":0},null,{"$f":"IF($BT$3+$BT$4+$BT$5=0,0,VLOOKUP($D12,'tight RMA'!$F$9:$Q$70,2,FALSE)+(VLOOKUP($D12,'tight RMA'!$F$9:$Q$70,10,FALSE))/'tight RMA'!$N$4*(Calculations!$BT$3-'tight RMA'!$L$4)+(VLOOKUP($D12,'tight RMA'!$F$9:$Q$70,11,FALSE))/'tight RMA'!$N$5*(Calculations!$BT$4-'tight RMA'!$L$5)+(VLOOKUP($D12,'tight RMA'!$F$9:$Q$70,12,FALSE))/'tight RMA'!$N$6*($BT$5-'tight RMA'!$L$6))","v":0},null,{"$f":"IF($BV$3+$BV$4+$BV$5=0,0,VLOOKUP($D12,'mix RMA'!$F$9:$Q$70,2,FALSE)+(VLOOKUP($D12,'mix RMA'!$F$9:$Q$70,10,FALSE))/'mix RMA'!$N$4*(Calculations!$BV$3-'mix RMA'!$L$4)+(VLOOKUP($D12,'mix RMA'!$F$9:$Q$70,11,FALSE))/'mix RMA'!$N$5*(Calculations!$BV$4-'mix RMA'!$L$5)+(VLOOKUP($D12,'mix RMA'!$F$9:$Q$70,12,FALSE))/'mix RMA'!$N$6*($BV$5-'mix RMA'!$L$6))","v":3.2740732494644384E-3}]
[null,6,"Sulfur Dioxide (kg)","Sulphur dioxide",null,{"$f":"IF($F$4=0,0,VLOOKUP($D13,'I6 RMA'!$F$10:$O$82,2,FALSE)+(VLOOKUP($D13,'I6 RMA'!$F$10:$O$82,3,FALSE)-VLOOKUP($D13,'I6 RMA'!$F$10:$O$82,2,FALSE))/'I6 RMA'!$L$4*(Calculations!$F$4-'I6 RMA'!$J$4))","v":7.6683733651841749E-5},null,{"$f":"IF($H$4=0,0,VLOOKUP($D13,'PRB RMA'!$F$10:$O$82,2,FALSE)+(VLOOKUP($D13,'PRB RMA'!$F$10:$O$82,3,FALSE)-VLOOKUP($D13,'PRB RMA'!$F$10:$O$82,2,FALSE))/'PRB RMA'!$L$4*(Calculations!$H$4-'PRB RMA'!$J$4))","v":0},null,{"$f":"IF($J$4=0,0,VLOOKUP($D13,'Coal TrainRMT'!$F$10:$O$82,2,FALSE)+(VLOOKUP($D13,'Coal TrainRMT'!$F$10:$O$82,3,FALSE)-VLOOKUP($D13,'Coal TrainRMT'!$F$10:$O$82,2,FALSE))/'Coal TrainRMT'!$L$4*(Calculations!$J$4-'Coal TrainRMT'!$J$4))","v":7.8061556748408105E-6},null,{"$f":"IF($L$4+$L$5+$L$6=0,0,VLOOKUP($D13,#REF!,2,FALSE)+(VLOOKUP($D13,#REF!,6,FALSE)/#REF!*(#REF!-#REF!)+(VLOOKUP($D13,#REF!,8,FALSE))/#REF!*(#REF!-#REF!)+(VLOOKUP($D13,#REF!,10,FALSE))/#REF!*($L$6-#REF!)))","v":{"$error":"#REF!"}},null,{"$f":"IF($N$4=0,0,VLOOKUP($D13,'NG Pipeline RMT'!$F$10:$O$82,2,FALSE)+(VLOOKUP($D13,'NG Pipeline RMT'!$F$10:$O$82,3,FALSE)-VLOOKUP($D13,'NG Pipeline RMT'!$F$10:$O$82,2,FALSE))/'NG Pipeline RMT'!$L$4*(Calculations!$N$4-'NG Pipeline RMT'!$J$4))","v":0},null,{"$f":"IF($P$4=0,0,VLOOKUP($D13,'SG RMA'!$F$10:$O$82,2,FALSE)+(VLOOKUP($D13,'SG RMA'!$F$10:$O$82,3,FALSE)-VLOOKUP($D13,'SG RMA'!$F$10:$O$82,2,FALSE))/'SG RMA'!$L$4*(Calculations!$P$4-'SG RMA'!$J$4))","v":0},null,{"$f":"IF($R$4=0,0,VLOOKUP($D13,'Bale Truck RMT'!$F$10:$O$82,2,FALSE)+(VLOOKUP($D13,'Bale Truck RMT'!$F$10:$O$82,3,FALSE)-VLOOKUP($D13,'Bale Truck RMT'!$F$10:$O$82,2,FALSE))/'Bale Truck RMT'!$L$4*(Calculations!$R$4-'Bale Truck RMT'!$J$4))","v":0},null,{"$f":"IF($T$4=0,0,VLOOKUP($D13,'Cont Truck RMT'!$F$10:$O$82,2,FALSE)+(VLOOKUP($D13,'Cont Truck RMT'!$F$10:$O$82,3,FALSE)-VLOOKUP($D13,'Cont Truck RMT'!$F$10:$O$82,2,FALSE))/'Cont Truck RMT'!$L$4*(Calculations!$T$4-'Cont Truck RMT'!$J$4))","v":0},null,{"$f":"IF($V$4=0,0,VLOOKUP($D13,'SRWC RMA'!$F$10:$O$82,2,FALSE)+(VLOOKUP($D13,'SRWC RMA'!$F$10:$O$82,3,FALSE)-VLOOKUP($D13,'SRWC RMA'!$F$10:$O$82,2,FALSE))/'SRWC RMA'!$L$4*(Calculations!$V$4-'SRWC RMA'!$J$4))","v":0},null,{"$f":"IF($X$4+$X$5+$X$6=0,0,VLOOKUP($D13,'Stover RMA'!$F$9:$Q$70,2,FALSE)+(VLOOKUP($D13,'Stover RMA'!$F$9:$Q$70,10,FALSE))/'Stover RMA'!$N$4*(Calculations!$X$4-'Stover RMA'!$L$4)+(VLOOKUP($D13,'Stover RMA'!$F$9:$Q$70,11,FALSE))/'Stover RMA'!$N$5*(Calculations!$X$5-'Stover RMA'!$L$5)+(VLOOKUP($D13,'Stover RMA'!$F$9:$Q$70,12,FALSE))/'Stover RMA'!$N$6*($X$6-'Stover RMA'!$L$6))","v":0},null,{"$f":"IF($Z$4=0,0,VLOOKUP($D13,'Corn RMA'!$F$10:$O$82,2,FALSE)+(VLOOKUP($D13,'Corn RMA'!$F$10:$O$82,3,FALSE)-VLOOKUP($D13,'Corn RMA'!$F$10:$O$82,2,FALSE))/'Corn RMA'!$L$4*(Calculations!$Z$4-'Corn RMA'!$J$4))","v":0},null,{"$f":"HLOOKUP(1,'FT Diesel 2'!$H$11:$U$76,'FT Diesel 2'!V56,FALSE)","v":{"$error":"#N/A"}},null,{"$f":"HLOOKUP(1,'Adv Ethanol'!$G$10:$O$79,'Adv Ethanol'!Q46,FALSE)","v":{"$error":"#N/A"}},null,{"$f":"IF($AF$4+$AF$5>0,VLOOKUP(D13,Uranium!$F$10:$K$77,3,FALSE)*Calculations!$AF$4+VLOOKUP(D13,Uranium!$F$10:$K$77,4,FALSE)*$AF$5,0)","v":0},null,{"$f":"IF($AH$4=0,0,VLOOKUP($D13,'U RMT'!$F$9:$U$64,2,FALSE)+(VLOOKUP($D13,'U RMT'!$F$10:$U$64,3,FALSE)-VLOOKUP($D13,'U RMT'!$F$10:$U$64,2,FALSE))/'U RMT'!$U$2*(Calculations!$AH$4-'U RMT'!$O$2))","v":0},null,{"$f":"IF($AJ$4=0,0,VLOOKUP($D13,'U RMT'!$F$9:$U$64,4,FALSE)+(VLOOKUP($D13,'U RMT'!$F$10:$U$64,5,FALSE)-VLOOKUP($D13,'U RMT'!$F$10:$U$64,4,FALSE))/'U RMT'!$U$3*(Calculations!$AJ$4-'U RMT'!$Q$3))","v":0},null,{"$f":"IF($AL$4=0,0,VLOOKUP($D13,'U RMT'!$F$9:$U$64,6,FALSE)+(VLOOKUP($D13,'U RMT'!$F$10:$U$64,7,FALSE)-VLOOKUP($D13,'U RMT'!$F$10:$U$64,6,FALSE))/'U RMT'!$U$4*(Calculations!$AL$4-'U RMT'!$S$4))","v":0},null,{"$f":"IF($AN$4=0,0,VLOOKUP($D13,'Petro Transport'!$F$10:$Z$77,2,FALSE)+(VLOOKUP($D13,'Petro Transport'!$F$10:$Z$77,3,FALSE)-VLOOKUP($D13,'Petro Transport'!$F$10:$Z$77,2,FALSE))/'Petro Transport'!$V$3*(Calculations!$AN$4-'Petro Transport'!$N$3))","v":0},null,{"$f":"IF($AP$4=0,0,VLOOKUP($D13,'Petro Transport'!$F$10:$Z$77,4,FALSE)+(VLOOKUP($D13,'Petro Transport'!$F$10:$Z$77,5,FALSE)-VLOOKUP($D13,'Petro Transport'!$F$10:$Z$77,4,FALSE))/'Petro Transport'!$V$4*(Calculations!$AP$4-'Petro Transport'!$P$4))","v":0},null,{"$f":"IF($AR$4=0,0,VLOOKUP($D13,'Petro Transport'!$F$10:$Z$77,6,FALSE)+(VLOOKUP($D13,'Petro Transport'!$F$10:$Z$77,7,FALSE)-VLOOKUP($D13,'Petro Transport'!$F$10:$Z$77,6,FALSE))/'Petro Transport'!$V$5*(Calculations!$AR$4-'Petro Transport'!$R$5))","v":0},null,{"$f":"IF($AT$4=0,0,VLOOKUP($D13,'Petro Transport'!$F$10:$Z$77,8,FALSE)+(VLOOKUP($D13,'Petro Transport'!$F$10:$Z$77,9,FALSE)-VLOOKUP($D13,'Petro Transport'!$F$10:$Z$77,8,FALSE))/'Petro Transport'!$V$6*(Calculations!$AT$4-'Petro Transport'!$T$6))","v":0},null,{"$f":"VLOOKUP($D13,'Dom Petro'!$F$11:$J$65,3,FALSE)*Calculations!$AV$4+VLOOKUP($D13,'Dom Petro'!$F$11:$J$65,4,FALSE)*Calculations!$AV$5+VLOOKUP($D13,'Dom Petro'!$F$11:$J$65,5,FALSE)*Calculations!$AV$6","v":2.6366850473700702E-4},null,{"$f":"VLOOKUP($D13,'For Petro'!$F$9:$K$77,3,FALSE)*Calculations!$AX$3+VLOOKUP($D13,'For Petro'!$F$9:$K$77,4,FALSE)*Calculations!$AX$4+VLOOKUP($D13,'For Petro'!$F$9:$K$77,5,FALSE)*Calculations!$AX$5+VLOOKUP($D13,'For Petro'!$F$9:$K$77,6,FALSE)*$AX$6","v":0},null,{"$f":"IF($AZ$5=1,VLOOKUP($D13,'Petro Ref'!$F$10:$J$77,3,FALSE),0)","v":0},null,{"$f":"IF($BB$5,VLOOKUP($D13,'Petro Ref'!$F$10:$J$77,4,FALSE),0)","v":0},null,{"$f":"IF($BD$5=1,VLOOKUP($D13,'Petro Ref'!$F$10:$J$77,5,FALSE),0)","v":0},null,{"$f":"IF($BF$3+$BF$4+$BF$5=0,0,VLOOKUP($D13,'onshore RMA'!$F$9:$Q$70,2,FALSE)+(VLOOKUP($D13,'onshore RMA'!$F$9:$Q$70,10,FALSE))/'onshore RMA'!$N$4*(Calculations!$BF$3-'onshore RMA'!$L$4)+(VLOOKUP($D13,'onshore RMA'!$F$9:$Q$70,11,FALSE))/'onshore RMA'!$N$5*(Calculations!$BF$4-'onshore RMA'!$L$5)+(VLOOKUP($D13,'onshore RMA'!$F$9:$Q$70,12,FALSE))/'onshore RMA'!$N$6*($BF$5-'onshore RMA'!$L$6))","v":0},null,{"$f":"IF($BH$3+$BH$4+$BH$5=0,0,VLOOKUP($D13,'assoc RMA'!$F$9:$Q$70,2,FALSE)+(VLOOKUP($D13,'assoc RMA'!$F$9:$Q$70,10,FALSE))/'assoc RMA'!$N$4*(Calculations!$BH$3-'assoc RMA'!$L$4)+(VLOOKUP($D13,'assoc RMA'!$F$9:$Q$70,11,FALSE))/'assoc RMA'!$N$5*(Calculations!$BH$4-'assoc RMA'!$L$5)+(VLOOKUP($D13,'assoc RMA'!$F$9:$Q$70,12,FALSE))/'assoc RMA'!$N$6*($BH$5-'assoc RMA'!$L$6))","v":0},null,{"$f":"IF($BJ$3+$BJ$4+$BJ$5=0,0,VLOOKUP($D13,'offshore RMA'!$F$9:$Q$70,2,FALSE)+(VLOOKUP($D13,'offshore RMA'!$F$9:$Q$70,10,FALSE))/'offshore RMA'!$N$4*(Calculations!$BJ$3-'offshore RMA'!$L$4)+(VLOOKUP($D13,'offshore RMA'!$F$9:$Q$70,11,FALSE))/'offshore RMA'!$N$5*(Calculations!$BJ$4-'offshore RMA'!$L$5)+(VLOOKUP($D13,'offshore RMA'!$F$9:$Q$70,12,FALSE))/'offshore RMA'!$N$6*($BJ$5-'offshore RMA'!$L$6))","v":0},null,{"$f":"IF($BL$3+$BL$4+$BL$5=0,0,VLOOKUP($D13,'barnett RMA'!$F$9:$Q$70,2,FALSE)+(VLOOKUP($D13,'barnett RMA'!$F$9:$Q$70,10,FALSE))/'barnett RMA'!$N$4*(Calculations!$BL$3-'barnett RMA'!$L$4)+(VLOOKUP($D13,'barnett RMA'!$F$9:$Q$70,11,FALSE))/'barnett RMA'!$N$5*(Calculations!$BL$4-'barnett RMA'!$L$5)+(VLOOKUP($D13,'barnett RMA'!$F$9:$Q$70,12,FALSE))/'barnett RMA'!$N$6*($BL$5-'barnett RMA'!$L$6))","v":0},null,{"$f":"IF($BN$3+$BN$4+$BN$5=0,0,VLOOKUP($D13,'cbm RMA'!$F$9:$Q$70,2,FALSE)+(VLOOKUP($D13,'cbm RMA'!$F$9:$Q$70,10,FALSE))/'cbm RMA'!$N$4*(Calculations!$BN$3-'cbm RMA'!$L$4)+(VLOOKUP($D13,'cbm RMA'!$F$9:$Q$70,11,FALSE))/'cbm RMA'!$N$5*(Calculations!$BN$4-'cbm RMA'!$L$5)+(VLOOKUP($D13,'cbm RMA'!$F$9:$Q$70,12,FALSE))/'cbm RMA'!$N$6*($BN$5-'cbm RMA'!$L$6))","v":0},null,{"$f":"IF($BP$3+$BP$4+$BP$5=0,0,VLOOKUP($D13,'Marc RMA'!$F$9:$Q$70,2,FALSE)+(VLOOKUP($D13,'Marc RMA'!$F$9:$Q$70,10,FALSE))/'Marc RMA'!$N$4*(Calculations!$BP$3-'Marc RMA'!$L$4)+(VLOOKUP($D13,'Marc RMA'!$F$9:$Q$70,11,FALSE))/'Marc RMA'!$N$5*(Calculations!$BP$4-'Marc RMA'!$L$5)+(VLOOKUP($D13,'Marc RMA'!$F$9:$Q$70,12,FALSE))/'Marc RMA'!$N$6*($BP$5-'Marc RMA'!$L$6))","v":0},null,{"$f":"IF($BR$3+$BR$4+$BR$5=0,0,VLOOKUP($D13,'LNG RMA'!$F$9:$Q$70,2,FALSE)+(VLOOKUP($D13,'LNG RMA'!$F$9:$Q$70,10,FALSE))/'LNG RMA'!$N$4*(Calculations!$BR$3-'LNG RMA'!$L$4)+(VLOOKUP($D13,'LNG RMA'!$F$9:$Q$70,11,FALSE))/'LNG RMA'!$N$5*(Calculations!$BR$4-'LNG RMA'!$L$5)+(VLOOKUP($D13,'LNG RMA'!$F$9:$Q$70,12,FALSE))/'LNG RMA'!$N$6*($BR$5-'LNG RMA'!$L$6))","v":0},null,{"$f":"IF($BT$3+$BT$4+$BT$5=0,0,VLOOKUP($D13,'tight RMA'!$F$9:$Q$70,2,FALSE)+(VLOOKUP($D13,'tight RMA'!$F$9:$Q$70,10,FALSE))/'tight RMA'!$N$4*(Calculations!$BT$3-'tight RMA'!$L$4)+(VLOOKUP($D13,'tight RMA'!$F$9:$Q$70,11,FALSE))/'tight RMA'!$N$5*(Calculations!$BT$4-'tight RMA'!$L$5)+(VLOOKUP($D13,'tight RMA'!$F$9:$Q$70,12,FALSE))/'tight RMA'!$N$6*($BT$5-'tight RMA'!$L$6))","v":0},null,{"$f":"IF($BV$3+$BV$4+$BV$5=0,0,VLOOKUP($D13,'mix RMA'!$F$9:$Q$70,2,FALSE)+(VLOOKUP($D13,'mix RMA'!$F$9:$Q$70,10,FALSE))/'mix RMA'!$N$4*(Calculations!$BV$3-'mix RMA'!$L$4)+(VLOOKUP($D13,'mix RMA'!$F$9:$Q$70,11,FALSE))/'mix RMA'!$N$5*(Calculations!$BV$4-'mix RMA'!$L$5)+(VLOOKUP($D13,'mix RMA'!$F$9:$Q$70,12,FALSE))/'mix RMA'!$N$6*($BV$5-'mix RMA'!$L$6))","v":3.9891748509536147E-5}]
[null,7,"Carbon Monoxide (kg)","Carbon monoxide",null,{"$f":"IF($F$4=0,0,VLOOKUP($D14,'I6 RMA'!$F$10:$O$82,2,FALSE)+(VLOOKUP($D14,'I6 RMA'!$F$10:$O$82,3,FALSE)-VLOOKUP($D14,'I6 RMA'!$F$10:$O$82,2,FALSE))/'I6 RMA'!$L$4*(Calculations!$F$4-'I6 RMA'!$J$4))","v":2.3393483886902658E-5},null,{"$f":"IF($H$4=0,0,VLOOKUP($D14,'PRB RMA'!$F$10:$O$82,2,FALSE)+(VLOOKUP($D14,'PRB RMA'!$F$10:$O$82,3,FALSE)-VLOOKUP($D14,'PRB RMA'!$F$10:$O$82,2,FALSE))/'PRB RMA'!$L$4*(Calculations!$H$4-'PRB RMA'!$J$4))","v":0},null,{"$f":"IF($J$4=0,0,VLOOKUP($D14,'Coal TrainRMT'!$F$10:$O$82,2,FALSE)+(VLOOKUP($D14,'Coal TrainRMT'!$F$10:$O$82,3,FALSE)-VLOOKUP($D14,'Coal TrainRMT'!$F$10:$O$82,2,FALSE))/'Coal TrainRMT'!$L$4*(Calculations!$J$4-'Coal TrainRMT'!$J$4))","v":3.7673710311660601E-5},null,{"$f":"IF($L$4+$L$5+$L$6=0,0,VLOOKUP($D14,#REF!,2,FALSE)+(VLOOKUP($D14,#REF!,6,FALSE)/#REF!*(#REF!-#REF!)+(VLOOKUP($D14,#REF!,8,FALSE))/#REF!*(#REF!-#REF!)+(VLOOKUP($D14,#REF!,10,FALSE))/#REF!*($L$6-#REF!)))","v":{"$error":"#REF!"}},null,{"$f":"IF($N$4=0,0,VLOOKUP($D14,'NG Pipeline RMT'!$F$10:$O$82,2,FALSE)+(VLOOKUP($D14,'NG Pipeline RMT'!$F$10:$O$82,3,FALSE)-VLOOKUP($D14,'NG Pipeline RMT'!$F$10:$O$82,2,FALSE))/'NG Pipeline RMT'!$L$4*(Calculations!$N$4-'NG Pipeline RMT'!$J$4))","v":0},null,{"$f":"IF($P$4=0,0,VLOOKUP($D14,'SG RMA'!$F$10:$O$82,2,FALSE)+(VLOOKUP($D14,'SG RMA'!$F$10:$O$82,3,FALSE)-VLOOKUP($D14,'SG RMA'!$F$10:$O$82,2,FALSE))/'SG RMA'!$L$4*(Calculations!$P$4-'SG RMA'!$J$4))","v":0},null,{"$f":"IF($R$4=0,0,VLOOKUP($D14,'Bale Truck RMT'!$F$10:$O$82,2,FALSE)+(VLOOKUP($D14,'Bale Truck RMT'!$F$10:$O$82,3,FALSE)-VLOOKUP($D14,'Bale Truck RMT'!$F$10:$O$82,2,FALSE))/'Bale Truck RMT'!$L$4*(Calculations!$R$4-'Bale Truck RMT'!$J$4))","v":0},null,{"$f":"IF($T$4=0,0,VLOOKUP($D14,'Cont Truck RMT'!$F$10:$O$82,2,FALSE)+(VLOOKUP($D14,'Cont Truck RMT'!$F$10:$O$82,3,FALSE)-VLOOKUP($D14,'Cont Truck RMT'!$F$10:$O$82,2,FALSE))/'Cont Truck RMT'!$L$4*(Calculations!$T$4-'Cont Truck RMT'!$J$4))","v":0},null,{"$f":"IF($V$4=0,0,VLOOKUP($D14,'SRWC RMA'!$F$10:$O$82,2,FALSE)+(VLOOKUP($D14,'SRWC RMA'!$F$10:$O$82,3,FALSE)-VLOOKUP($D14,'SRWC RMA'!$F$10:$O$82,2,FALSE))/'SRWC RMA'!$L$4*(Calculations!$V$4-'SRWC RMA'!$J$4))","v":0},null,{"$f":"IF($X$4+$X$5+$X$6=0,0,VLOOKUP($D14,'Stover RMA'!$F$9:$Q$70,2,FALSE)+(VLOOKUP($D14,'Stover RMA'!$F$9:$Q$70,10,FALSE))/'Stover RMA'!$N$4*(Calculations!$X$4-'Stover RMA'!$L$4)+(VLOOKUP($D14,'Stover RMA'!$F$9:$Q$70,11,FALSE))/'Stover RMA'!$N$5*(Calculations!$X$5-'Stover RMA'!$L$5)+(VLOOKUP($D14,'Stover RMA'!$F$9:$Q$70,12,FALSE))/'Stover RMA'!$N$6*($X$6-'Stover RMA'!$L$6))","v":0},null,{"$f":"IF($Z$4=0,0,VLOOKUP($D14,'Corn RMA'!$F$10:$O$82,2,FALSE)+(VLOOKUP($D14,'Corn RMA'!$F$10:$O$82,3,FALSE)-VLOOKUP($D14,'Corn RMA'!$F$10:$O$82,2,FALSE))/'Corn RMA'!$L$4*(Calculations!$Z$4-'Corn RMA'!$J$4))","v":0},null,{"$f":"HLOOKUP(1,'FT Diesel 2'!$H$11:$U$76,'FT Diesel 2'!V53,FALSE)","v":{"$error":"#N/A"}},null,{"$f":"HLOOKUP(1,'Adv Ethanol'!$G$10:$O$79,'Adv Ethanol'!Q43,FALSE)","v":{"$error":"#N/A"}},null,{"$f":"IF($AF$4+$AF$5>0,VLOOKUP(D14,Uranium!$F$10:$K$77,3,FALSE)*Calculations!$AF$4+VLOOKUP(D14,Uranium!$F$10:$K$77,4,FALSE)*$AF$5,0)","v":0},null,{"$f":"IF($AH$4=0,0,VLOOKUP($D14,'U RMT'!$F$9:$U$64,2,FALSE)+(VLOOKUP($D14,'U RMT'!$F$10:$U$64,3,FALSE)-VLOOKUP($D14,'U RMT'!$F$10:$U$64,2,FALSE))/'U RMT'!$U$2*(Calculations!$AH$4-'U RMT'!$O$2))","v":0},null,{"$f":"IF($AJ$4=0,0,VLOOKUP($D14,'U RMT'!$F$9:$U$64,4,FALSE)+(VLOOKUP($D14,'U RMT'!$F$10:$U$64,5,FALSE)-VLOOKUP($D14,'U RMT'!$F$10:$U$64,4,FALSE))/'U RMT'!$U$3*(Calculations!$AJ$4-'U RMT'!$Q$3))","v":0},null,{"$f":"IF($AL$4=0,0,VLOOKUP($D14,'U RMT'!$F$9:$U$64,6,FALSE)+(VLOOKUP($D14,'U RMT'!$F$10:$U$64,7,FALSE)-VLOOKUP($D14,'U RMT'!$F$10:$U$64,6,FALSE))/'U RMT'!$U$4*(Calculations!$AL$4-'U RMT'!$S$4))","v":0},null,{"$f":"IF($AN$4=0,0,VLOOKUP($D14,'Petro Transport'!$F$10:$Z$77,2,FALSE)+(VLOOKUP($D14,'Petro Transport'!$F$10:$Z$77,3,FALSE)-VLOOKUP($D14,'Petro Transport'!$F$10:$Z$77,2,FALSE))/'Petro Transport'!$V$3*(Calculations!$AN$4-'Petro Transport'!$N$3))","v":0},null,{"$f":"IF($AP$4=0,0,VLOOKUP($D14,'Petro Transport'!$F$10:$Z$77,4,FALSE)+(VLOOKUP($D14,'Petro Transport'!$F$10:$Z$77,5,FALSE)-VLOOKUP($D14,'Petro Transport'!$F$10:$Z$77,4,FALSE))/'Petro Transport'!$V$4*(Calculations!$AP$4-'Petro Transport'!$P$4))","v":0},null,{"$f":"IF($AR$4=0,0,VLOOKUP($D14,'Petro Transport'!$F$10:$Z$77,6,FALSE)+(VLOOKUP($D14,'Petro Transport'!$F$10:$Z$77,7,FALSE)-VLOOKUP($D14,'Petro Transport'!$F$10:$Z$77,6,FALSE))/'Petro Transport'!$V$5*(Calculations!$AR$4-'Petro Transport'!$R$5))","v":0},null,{"$f":"IF($AT$4=0,0,VLOOKUP($D14,'Petro Transport'!$F$10:$Z$77,8,FALSE)+(VLOOKUP($D14,'Petro Transport'!$F$10:$Z$77,9,FALSE)-VLOOKUP($D14,'Petro Transport'!$F$10:$Z$77,8,FALSE))/'Petro Transport'!$V$6*(Calculations!$AT$4-'Petro Transport'!$T$6))","v":0},null,{"$f":"VLOOKUP($D14,'Dom Petro'!$F$11:$J$65,3,FALSE)*Calculations!$AV$4+VLOOKUP($D14,'Dom Petro'!$F$11:$J$65,4,FALSE)*Calculations!$AV$5+VLOOKUP($D14,'Dom Petro'!$F$11:$J$65,5,FALSE)*Calculations!$AV$6","v":4.20961136518459E-4},null,{"$f":"VLOOKUP($D14,'For Petro'!$F$9:$K$77,3,FALSE)*Calculations!$AX$3+VLOOKUP($D14,'For Petro'!$F$9:$K$77,4,FALSE)*Calculations!$AX$4+VLOOKUP($D14,'For Petro'!$F$9:$K$77,5,FALSE)*Calculations!$AX$5+VLOOKUP($D14,'For Petro'!$F$9:$K$77,6,FALSE)*$AX$6","v":0},null,{"$f":"IF($AZ$5=1,VLOOKUP($D14,'Petro Ref'!$F$10:$J$77,3,FALSE),0)","v":0},null,{"$f":"IF($BB$5,VLOOKUP($D14,'Petro Ref'!$F$10:$J$77,4,FALSE),0)","v":0},null,{"$f":"IF($BD$5=1,VLOOKUP($D14,'Petro Ref'!$F$10:$J$77,5,FALSE),0)","v":0},null,{"$f":"IF($BF$3+$BF$4+$BF$5=0,0,VLOOKUP($D14,'onshore RMA'!$F$9:$Q$70,2,FALSE)+(VLOOKUP($D14,'onshore RMA'!$F$9:$Q$70,10,FALSE))/'onshore RMA'!$N$4*(Calculations!$BF$3-'onshore RMA'!$L$4)+(VLOOKUP($D14,'onshore RMA'!$F$9:$Q$70,11,FALSE))/'onshore RMA'!$N$5*(Calculations!$BF$4-'onshore RMA'!$L$5)+(VLOOKUP($D14,'onshore RMA'!$F$9:$Q$70,12,FALSE))/'onshore RMA'!$N$6*($BF$5-'onshore RMA'!$L$6))","v":0},null,{"$f":"IF($BH$3+$BH$4+$BH$5=0,0,VLOOKUP($D14,'assoc RMA'!$F$9:$Q$70,2,FALSE)+(VLOOKUP($D14,'assoc RMA'!$F$9:$Q$70,10,FALSE))/'assoc RMA'!$N$4*(Calculations!$BH$3-'assoc RMA'!$L$4)+(VLOOKUP($D14,'assoc RMA'!$F$9:$Q$70,11,FALSE))/'assoc RMA'!$N$5*(Calculations!$BH$4-'assoc RMA'!$L$5)+(VLOOKUP($D14,'assoc RMA'!$F$9:$Q$70,12,FALSE))/'assoc RMA'!$N$6*($BH$5-'assoc RMA'!$L$6))","v":0},null,{"$f":"IF($BJ$3+$BJ$4+$BJ$5=0,0,VLOOKUP($D14,'offshore RMA'!$F$9:$Q$70,2,FALSE)+(VLOOKUP($D14,'offshore RMA'!$F$9:$Q$70,10,FALSE))/'offshore RMA'!$N$4*(Calculations!$BJ$3-'offshore RMA'!$L$4)+(VLOOKUP($D14,'offshore RMA'!$F$9:$Q$70,11,FALSE))/'offshore RMA'!$N$5*(Calculations!$BJ$4-'offshore RMA'!$L$5)+(VLOOKUP($D14,'offshore RMA'!$F$9:$Q$70,12,FALSE))/'offshore RMA'!$N$6*($BJ$5-'offshore RMA'!$L$6))","v":0},null,{"$f":"IF($BL$3+$BL$4+$BL$5=0,0,VLOOKUP($D14,'barnett RMA'!$F$9:$Q$70,2,FALSE)+(VLOOKUP($D14,'barnett RMA'!$F$9:$Q$70,10,FALSE))/'barnett RMA'!$N$4*(Calculations!$BL$3-'barnett RMA'!$L$4)+(VLOOKUP($D14,'barnett RMA'!$F$9:$Q$70,11,FALSE))/'barnett RMA'!$N$5*(Calculations!$BL$4-'barnett RMA'!$L$5)+(VLOOKUP($D14,'barnett RMA'!$F$9:$Q$70,12,FALSE))/'barnett RMA'!$N$6*($BL$5-'barnett RMA'!$L$6))","v":0},null,{"$f":"IF($BN$3+$BN$4+$BN$5=0,0,VLOOKUP($D14,'cbm RMA'!$F$9:$Q$70,2,FALSE)+(VLOOKUP($D14,'cbm RMA'!$F$9:$Q$70,10,FALSE))/'cbm RMA'!$N$4*(Calculations!$BN$3-'cbm RMA'!$L$4)+(VLOOKUP($D14,'cbm RMA'!$F$9:$Q$70,11,FALSE))/'cbm RMA'!$N$5*(Calculations!$BN$4-'cbm RMA'!$L$5)+(VLOOKUP($D14,'cbm RMA'!$F$9:$Q$70,12,FALSE))/'cbm RMA'!$N$6*($BN$5-'cbm RMA'!$L$6))","v":0},null,{"$f":"IF($BP$3+$BP$4+$BP$5=0,0,VLOOKUP($D14,'Marc RMA'!$F$9:$Q$70,2,FALSE)+(VLOOKUP($D14,'Marc RMA'!$F$9:$Q$70,10,FALSE))/'Marc RMA'!$N$4*(Calculations!$BP$3-'Marc RMA'!$L$4)+(VLOOKUP($D14,'Marc RMA'!$F$9:$Q$70,11,FALSE))/'Marc RMA'!$N$5*(Calculations!$BP$4-'Marc RMA'!$L$5)+(VLOOKUP($D14,'Marc RMA'!$F$9:$Q$70,12,FALSE))/'Marc RMA'!$N$6*($BP$5-'Marc RMA'!$L$6))","v":0},null,{"$f":"IF($BR$3+$BR$4+$BR$5=0,0,VLOOKUP($D14,'LNG RMA'!$F$9:$Q$70,2,FALSE)+(VLOOKUP($D14,'LNG RMA'!$F$9:$Q$70,10,FALSE))/'LNG RMA'!$N$4*(Calculations!$BR$3-'LNG RMA'!$L$4)+(VLOOKUP($D14,'LNG RMA'!$F$9:$Q$70,11,FALSE))/'LNG RMA'!$N$5*(Calculations!$BR$4-'LNG RMA'!$L$5)+(VLOOKUP($D14,'LNG RMA'!$F$9:$Q$70,12,FALSE))/'LNG RMA'!$N$6*($BR$5-'LNG RMA'!$L$6))","v":0},null,{"$f":"IF($BT$3+$BT$4+$BT$5=0,0,VLOOKUP($D14,'tight RMA'!$F$9:$Q$70,2,FALSE)+(VLOOKUP($D14,'tight RMA'!$F$9:$Q$70,10,FALSE))/'tight RMA'!$N$4*(Calculations!$BT$3-'tight RMA'!$L$4)+(VLOOKUP($D14,'tight RMA'!$F$9:$Q$70,11,FALSE))/'tight RMA'!$N$5*(Calculations!$BT$4-'tight RMA'!$L$5)+(VLOOKUP($D14,'tight RMA'!$F$9:$Q$70,12,FALSE))/'tight RMA'!$N$6*($BT$5-'tight RMA'!$L$6))","v":0},null,{"$f":"IF($BV$3+$BV$4+$BV$5=0,0,VLOOKUP($D14,'mix RMA'!$F$9:$Q$70,2,FALSE)+(VLOOKUP($D14,'mix RMA'!$F$9:$Q$70,10,FALSE))/'mix RMA'!$N$4*(Calculations!$BV$3-'mix RMA'!$L$4)+(VLOOKUP($D14,'mix RMA'!$F$9:$Q$70,11,FALSE))/'mix RMA'!$N$5*(Calculations!$BV$4-'mix RMA'!$L$5)+(VLOOKUP($D14,'mix RMA'!$F$9:$Q$70,12,FALSE))/'mix RMA'!$N$6*($BV$5-'mix RMA'!$L$6))","v":2.9548897309195527E-4}]
[null,8,"Particulate Matter (kg)","Dust (unspecified)",null,{"$f":"IF($F$4=0,0,VLOOKUP($D15,'I6 RMA'!$F$10:$O$82,2,FALSE)+(VLOOKUP($D15,'I6 RMA'!$F$10:$O$82,3,FALSE)-VLOOKUP($D15,'I6 RMA'!$F$10:$O$82,2,FALSE))/'I6 RMA'!$L$4*(Calculations!$F$4-'I6 RMA'!$J$4))","v":2.7433377304055957E-6},null,{"$f":"IF($H$4=0,0,VLOOKUP($D15,'PRB RMA'!$F$10:$O$82,2,FALSE)+(VLOOKUP($D15,'PRB RMA'!$F$10:$O$82,3,FALSE)-VLOOKUP($D15,'PRB RMA'!$F$10:$O$82,2,FALSE))/'PRB RMA'!$L$4*(Calculations!$H$4-'PRB RMA'!$J$4))","v":0},null,{"$f":"IF($J$4=0,0,VLOOKUP($D15,'Coal TrainRMT'!$F$10:$O$82,2,FALSE)+(VLOOKUP($D15,'Coal TrainRMT'!$F$10:$O$82,3,FALSE)-VLOOKUP($D15,'Coal TrainRMT'!$F$10:$O$82,2,FALSE))/'Coal TrainRMT'!$L$4*(Calculations!$J$4-'Coal TrainRMT'!$J$4))","v":4.1145982525133803E-5},null,{"$f":"IF($L$4+$L$5+$L$6=0,0,VLOOKUP($D15,#REF!,2,FALSE)+(VLOOKUP($D15,#REF!,6,FALSE)/#REF!*(#REF!-#REF!)+(VLOOKUP($D15,#REF!,8,FALSE))/#REF!*(#REF!-#REF!)+(VLOOKUP($D15,#REF!,10,FALSE))/#REF!*($L$6-#REF!)))","v":{"$error":"#REF!"}},null,{"$f":"IF($N$4=0,0,VLOOKUP($D15,'NG Pipeline RMT'!$F$10:$O$82,2,FALSE)+(VLOOKUP($D15,'NG Pipeline RMT'!$F$10:$O$82,3,FALSE)-VLOOKUP($D15,'NG Pipeline RMT'!$F$10:$O$82,2,FALSE))/'NG Pipeline RMT'!$L$4*(Calculations!$N$4-'NG Pipeline RMT'!$J$4))","v":0},null,{"$f":"IF($P$4=0,0,VLOOKUP($D15,'SG RMA'!$F$10:$O$82,2,FALSE)+(VLOOKUP($D15,'SG RMA'!$F$10:$O$82,3,FALSE)-VLOOKUP($D15,'SG RMA'!$F$10:$O$82,2,FALSE))/'SG RMA'!$L$4*(Calculations!$P$4-'SG RMA'!$J$4))","v":0},null,{"$f":"IF($R$4=0,0,VLOOKUP($D15,'Bale Truck RMT'!$F$10:$O$82,2,FALSE)+(VLOOKUP($D15,'Bale Truck RMT'!$F$10:$O$82,3,FALSE)-VLOOKUP($D15,'Bale Truck RMT'!$F$10:$O$82,2,FALSE))/'Bale Truck RMT'!$L$4*(Calculations!$R$4-'Bale Truck RMT'!$J$4))","v":0},null,{"$f":"IF($T$4=0,0,VLOOKUP($D15,'Cont Truck RMT'!$F$10:$O$82,2,FALSE)+(VLOOKUP($D15,'Cont Truck RMT'!$F$10:$O$82,3,FALSE)-VLOOKUP($D15,'Cont Truck RMT'!$F$10:$O$82,2,FALSE))/'Cont Truck RMT'!$L$4*(Calculations!$T$4-'Cont Truck RMT'!$J$4))","v":0},null,{"$f":"IF($V$4=0,0,VLOOKUP($D15,'SRWC RMA'!$F$10:$O$82,2,FALSE)+(VLOOKUP($D15,'SRWC RMA'!$F$10:$O$82,3,FALSE)-VLOOKUP($D15,'SRWC RMA'!$F$10:$O$82,2,FALSE))/'SRWC RMA'!$L$4*(Calculations!$V$4-'SRWC RMA'!$J$4))","v":0},null,{"$f":"IF($X$4+$X$5+$X$6=0,0,VLOOKUP($D15,'Stover RMA'!$F$9:$Q$70,2,FALSE)+(VLOOKUP($D15,'Stover RMA'!$F$9:$Q$70,10,FALSE))/'Stover RMA'!$N$4*(Calculations!$X$4-'Stover RMA'!$L$4)+(VLOOKUP($D15,'Stover RMA'!$F$9:$Q$70,11,FALSE))/'Stover RMA'!$N$5*(Calculations!$X$5-'Stover RMA'!$L$5)+(VLOOKUP($D15,'Stover RMA'!$F$9:$Q$70,12,FALSE))/'Stover RMA'!$N$6*($X$6-'Stover RMA'!$L$6))","v":0},null,{"$f":"IF($Z$4=0,0,VLOOKUP($D15,'Corn RMA'!$F$10:$O$82,2,FALSE)+(VLOOKUP($D15,'Corn RMA'!$F$10:$O$82,3,FALSE)-VLOOKUP($D15,'Corn RMA'!$F$10:$O$82,2,FALSE))/'Corn RMA'!$L$4*(Calculations!$Z$4-'Corn RMA'!$J$4))","v":0},null,{"$f":"HLOOKUP(1,'FT Diesel 2'!$H$11:$U$76,'FT Diesel 2'!V62,FALSE)","v":{"$error":"#N/A"}},null,{"$f":"HLOOKUP(1,'Adv Ethanol'!$G$10:$O$79,'Adv Ethanol'!Q51,FALSE)","v":{"$error":"#N/A"}},null,{"$f":"IF($AF$4+$AF$5>0,VLOOKUP(D15,Uranium!$F$10:$K$77,3,FALSE)*Calculations!$AF$4+VLOOKUP(D15,Uranium!$F$10:$K$77,4,FALSE)*$AF$5,0)","v":0},null,{"$f":"IF($AH$4=0,0,VLOOKUP($D15,'U RMT'!$F$9:$U$64,2,FALSE)+(VLOOKUP($D15,'U RMT'!$F$10:$U$64,3,FALSE)-VLOOKUP($D15,'U RMT'!$F$10:$U$64,2,FALSE))/'U RMT'!$U$2*(Calculations!$AH$4-'U RMT'!$O$2))","v":0},null,{"$f":"IF($AJ$4=0,0,VLOOKUP($D15,'U RMT'!$F$9:$U$64,4,FALSE)+(VLOOKUP($D15,'U RMT'!$F$10:$U$64,5,FALSE)-VLOOKUP($D15,'U RMT'!$F$10:$U$64,4,FALSE))/'U RMT'!$U$3*(Calculations!$AJ$4-'U RMT'!$Q$3))","v":0},null,{"$f":"IF($AL$4=0,0,VLOOKUP($D15,'U RMT'!$F$9:$U$64,6,FALSE)+(VLOOKUP($D15,'U RMT'!$F$10:$U$64,7,FALSE)-VLOOKUP($D15,'U RMT'!$F$10:$U$64,6,FALSE))/'U RMT'!$U$4*(Calculations!$AL$4-'U RMT'!$S$4))","v":0},null,{"$f":"IF($AN$4=0,0,VLOOKUP($D15,'Petro Transport'!$F$10:$Z$77,2,FALSE)+(VLOOKUP($D15,'Petro Transport'!$F$10:$Z$77,3,FALSE)-VLOOKUP($D15,'Petro Transport'!$F$10:$Z$77,2,FALSE))/'Petro Transport'!$V$3*(Calculations!$AN$4-'Petro Transport'!$N$3))","v":0},null,{"$f":"IF($AP$4=0,0,VLOOKUP($D15,'Petro Transport'!$F$10:$Z$77,4,FALSE)+(VLOOKUP($D15,'Petro Transport'!$F$10:$Z$77,5,FALSE)-VLOOKUP($D15,'Petro Transport'!$F$10:$Z$77,4,FALSE))/'Petro Transport'!$V$4*(Calculations!$AP$4-'Petro Transport'!$P$4))","v":0},null,{"$f":"IF($AR$4=0,0,VLOOKUP($D15,'Petro Transport'!$F$10:$Z$77,6,FALSE)+(VLOOKUP($D15,'Petro Transport'!$F$10:$Z$77,7,FALSE)-VLOOKUP($D15,'Petro Transport'!$F$10:$Z$77,6,FALSE))/'Petro Transport'!$V$5*(Calculations!$AR$4-'Petro Transport'!$R$5))","v":0},null,{"$f":"IF($AT$4=0,0,VLOOKUP($D15,'Petro Transport'!$F$10:$Z$77,8,FALSE)+(VLOOKUP($D15,'Petro Transport'!$F$10:$Z$77,9,FALSE)-VLOOKUP($D15,'Petro Transport'!$F$10:$Z$77,8,FALSE))/'Petro Transport'!$V$6*(Calculations!$AT$4-'Petro Transport'!$T$6))","v":0},null,{"$f":"VLOOKUP($D15,'Dom Petro'!$F$11:$J$65,3,FALSE)*Calculations!$AV$4+VLOOKUP($D15,'Dom Petro'!$F$11:$J$65,4,FALSE)*Calculations!$AV$5+VLOOKUP($D15,'Dom Petro'!$F$11:$J$65,5,FALSE)*Calculations!$AV$6","v":1.1257246435303E-5},null,{"$f":"VLOOKUP($D15,'For Petro'!$F$9:$K$77,3,FALSE)*Calculations!$AX$3+VLOOKUP($D15,'For Petro'!$F$9:$K$77,4,FALSE)*Calculations!$AX$4+VLOOKUP($D15,'For Petro'!$F$9:$K$77,5,FALSE)*Calculations!$AX$5+VLOOKUP($D15,'For Petro'!$F$9:$K$77,6,FALSE)*$AX$6","v":0},null,{"$f":"IF($AZ$5=1,VLOOKUP($D15,'Petro Ref'!$F$10:$J$77,3,FALSE),0)","v":0},null,{"$f":"IF($BB$5,VLOOKUP($D15,'Petro Ref'!$F$10:$J$77,4,FALSE),0)","v":0},null,{"$f":"IF($BD$5=1,VLOOKUP($D15,'Petro Ref'!$F$10:$J$77,5,FALSE),0)","v":0},null,{"$f":"IF($BF$3+$BF$4+$BF$5=0,0,VLOOKUP($D15,'onshore RMA'!$F$9:$Q$70,2,FALSE)+(VLOOKUP($D15,'onshore RMA'!$F$9:$Q$70,10,FALSE))/'onshore RMA'!$N$4*(Calculations!$BF$3-'onshore RMA'!$L$4)+(VLOOKUP($D15,'onshore RMA'!$F$9:$Q$70,11,FALSE))/'onshore RMA'!$N$5*(Calculations!$BF$4-'onshore RMA'!$L$5)+(VLOOKUP($D15,'onshore RMA'!$F$9:$Q$70,12,FALSE))/'onshore RMA'!$N$6*($BF$5-'onshore RMA'!$L$6))","v":0},null,{"$f":"IF($BH$3+$BH$4+$BH$5=0,0,VLOOKUP($D15,'assoc RMA'!$F$9:$Q$70,2,FALSE)+(VLOOKUP($D15,'assoc RMA'!$F$9:$Q$70,10,FALSE))/'assoc RMA'!$N$4*(Calculations!$BH$3-'assoc RMA'!$L$4)+(VLOOKUP($D15,'assoc RMA'!$F$9:$Q$70,11,FALSE))/'assoc RMA'!$N$5*(Calculations!$BH$4-'assoc RMA'!$L$5)+(VLOOKUP($D15,'assoc RMA'!$F$9:$Q$70,12,FALSE))/'assoc RMA'!$N$6*($BH$5-'assoc RMA'!$L$6))","v":0},null,{"$f":"IF($BJ$3+$BJ$4+$BJ$5=0,0,VLOOKUP($D15,'offshore RMA'!$F$9:$Q$70,2,FALSE)+(VLOOKUP($D15,'offshore RMA'!$F$9:$Q$70,10,FALSE))/'offshore RMA'!$N$4*(Calculations!$BJ$3-'offshore RMA'!$L$4)+(VLOOKUP($D15,'offshore RMA'!$F$9:$Q$70,11,FALSE))/'offshore RMA'!$N$5*(Calculations!$BJ$4-'offshore RMA'!$L$5)+(VLOOKUP($D15,'offshore RMA'!$F$9:$Q$70,12,FALSE))/'offshore RMA'!$N$6*($BJ$5-'offshore RMA'!$L$6))","v":0},null,{"$f":"IF($BL$3+$BL$4+$BL$5=0,0,VLOOKUP($D15,'barnett RMA'!$F$9:$Q$70,2,FALSE)+(VLOOKUP($D15,'barnett RMA'!$F$9:$Q$70,10,FALSE))/'barnett RMA'!$N$4*(Calculations!$BL$3-'barnett RMA'!$L$4)+(VLOOKUP($D15,'barnett RMA'!$F$9:$Q$70,11,FALSE))/'barnett RMA'!$N$5*(Calculations!$BL$4-'barnett RMA'!$L$5)+(VLOOKUP($D15,'barnett RMA'!$F$9:$Q$70,12,FALSE))/'barnett RMA'!$N$6*($BL$5-'barnett RMA'!$L$6))","v":0},null,{"$f":"IF($BN$3+$BN$4+$BN$5=0,0,VLOOKUP($D15,'cbm RMA'!$F$9:$Q$70,2,FALSE)+(VLOOKUP($D15,'cbm RMA'!$F$9:$Q$70,10,FALSE))/'cbm RMA'!$N$4*(Calculations!$BN$3-'cbm RMA'!$L$4)+(VLOOKUP($D15,'cbm RMA'!$F$9:$Q$70,11,FALSE))/'cbm RMA'!$N$5*(Calculations!$BN$4-'cbm RMA'!$L$5)+(VLOOKUP($D15,'cbm RMA'!$F$9:$Q$70,12,FALSE))/'cbm RMA'!$N$6*($BN$5-'cbm RMA'!$L$6))","v":0},null,{"$f":"IF($BP$3+$BP$4+$BP$5=0,0,VLOOKUP($D15,'Marc RMA'!$F$9:$Q$70,2,FALSE)+(VLOOKUP($D15,'Marc RMA'!$F$9:$Q$70,10,FALSE))/'Marc RMA'!$N$4*(Calculations!$BP$3-'Marc RMA'!$L$4)+(VLOOKUP($D15,'Marc RMA'!$F$9:$Q$70,11,FALSE))/'Marc RMA'!$N$5*(Calculations!$BP$4-'Marc RMA'!$L$5)+(VLOOKUP($D15,'Marc RMA'!$F$9:$Q$70,12,FALSE))/'Marc RMA'!$N$6*($BP$5-'Marc RMA'!$L$6))","v":0},null,{"$f":"IF($BR$3+$BR$4+$BR$5=0,0,VLOOKUP($D15,'LNG RMA'!$F$9:$Q$70,2,FALSE)+(VLOOKUP($D15,'LNG RMA'!$F$9:$Q$70,10,FALSE))/'LNG RMA'!$N$4*(Calculations!$BR$3-'LNG RMA'!$L$4)+(VLOOKUP($D15,'LNG RMA'!$F$9:$Q$70,11,FALSE))/'LNG RMA'!$N$5*(Calculations!$BR$4-'LNG RMA'!$L$5)+(VLOOKUP($D15,'LNG RMA'!$F$9:$Q$70,12,FALSE))/'LNG RMA'!$N$6*($BR$5-'LNG RMA'!$L$6))","v":0},null,{"$f":"IF($BT$3+$BT$4+$BT$5=0,0,VLOOKUP($D15,'tight RMA'!$F$9:$Q$70,2,FALSE)+(VLOOKUP($D15,'tight RMA'!$F$9:$Q$70,10,FALSE))/'tight RMA'!$N$4*(Calculations!$BT$3-'tight RMA'!$L$4)+(VLOOKUP($D15,'tight RMA'!$F$9:$Q$70,11,FALSE))/'tight RMA'!$N$5*(Calculations!$BT$4-'tight RMA'!$L$5)+(VLOOKUP($D15,'tight RMA'!$F$9:$Q$70,12,FALSE))/'tight RMA'!$N$6*($BT$5-'tight RMA'!$L$6))","v":0},null,{"$f":"IF($BV$3+$BV$4+$BV$5=0,0,VLOOKUP($D15,'mix RMA'!$F$9:$Q$70,2,FALSE)+(VLOOKUP($D15,'mix RMA'!$F$9:$Q$70,10,FALSE))/'mix RMA'!$N$4*(Calculations!$BV$3-'mix RMA'!$L$4)+(VLOOKUP($D15,'mix RMA'!$F$9:$Q$70,11,FALSE))/'mix RMA'!$N$5*(Calculations!$BV$4-'mix RMA'!$L$5)+(VLOOKUP($D15,'mix RMA'!$F$9:$Q$70,12,FALSE))/'mix RMA'!$N$6*($BV$5-'mix RMA'!$L$6))","v":6.9145582422432719E-6}]
[null,9,"Lead (kg)","Lead (+II)",null,{"$f":"IF($F$4=0,0,VLOOKUP($D16,'I6 RMA'!$F$10:$O$82,2,FALSE)+(VLOOKUP($D16,'I6 RMA'!$F$10:$O$82,3,FALSE)-VLOOKUP($D16,'I6 RMA'!$F$10:$O$82,2,FALSE))/'I6 RMA'!$L$4*(Calculations!$F$4-'I6 RMA'!$J$4))","v":3.4554091144867155E-9},null,{"$f":"IF($H$4=0,0,VLOOKUP($D16,'PRB RMA'!$F$10:$O$82,2,FALSE)+(VLOOKUP($D16,'PRB RMA'!$F$10:$O$82,3,FALSE)-VLOOKUP($D16,'PRB RMA'!$F$10:$O$82,2,FALSE))/'PRB RMA'!$L$4*(Calculations!$H$4-'PRB RMA'!$J$4))","v":0},null,{"$f":"IF($J$4=0,0,VLOOKUP($D16,'Coal TrainRMT'!$F$10:$O$82,2,FALSE)+(VLOOKUP($D16,'Coal TrainRMT'!$F$10:$O$82,3,FALSE)-VLOOKUP($D16,'Coal TrainRMT'!$F$10:$O$82,2,FALSE))/'Coal TrainRMT'!$L$4*(Calculations!$J$4-'Coal TrainRMT'!$J$4))","v":1.28331932935817E-10},null,{"$f":"IF($L$4+$L$5+$L$6=0,0,VLOOKUP($D16,#REF!,2,FALSE)+(VLOOKUP($D16,#REF!,6,FALSE)/#REF!*(#REF!-#REF!)+(VLOOKUP($D16,#REF!,8,FALSE))/#REF!*(#REF!-#REF!)+(VLOOKUP($D16,#REF!,10,FALSE))/#REF!*($L$6-#REF!)))","v":{"$error":"#REF!"}},null,{"$f":"IF($N$4=0,0,VLOOKUP($D16,'NG Pipeline RMT'!$F$10:$O$82,2,FALSE)+(VLOOKUP($D16,'NG Pipeline RMT'!$F$10:$O$82,3,FALSE)-VLOOKUP($D16,'NG Pipeline RMT'!$F$10:$O$82,2,FALSE))/'NG Pipeline RMT'!$L$4*(Calculations!$N$4-'NG Pipeline RMT'!$J$4))","v":0},null,{"$f":"IF($P$4=0,0,VLOOKUP($D16,'SG RMA'!$F$10:$O$82,2,FALSE)+(VLOOKUP($D16,'SG RMA'!$F$10:$O$82,3,FALSE)-VLOOKUP($D16,'SG RMA'!$F$10:$O$82,2,FALSE))/'SG RMA'!$L$4*(Calculations!$P$4-'SG RMA'!$J$4))","v":0},null,{"$f":"IF($R$4=0,0,VLOOKUP($D16,'Bale Truck RMT'!$F$10:$O$82,2,FALSE)+(VLOOKUP($D16,'Bale Truck RMT'!$F$10:$O$82,3,FALSE)-VLOOKUP($D16,'Bale Truck RMT'!$F$10:$O$82,2,FALSE))/'Bale Truck RMT'!$L$4*(Calculations!$R$4-'Bale Truck RMT'!$J$4))","v":0},null,{"$f":"IF($T$4=0,0,VLOOKUP($D16,'Cont Truck RMT'!$F$10:$O$82,2,FALSE)+(VLOOKUP($D16,'Cont Truck RMT'!$F$10:$O$82,3,FALSE)-VLOOKUP($D16,'Cont Truck RMT'!$F$10:$O$82,2,FALSE))/'Cont Truck RMT'!$L$4*(Calculations!$T$4-'Cont Truck RMT'!$J$4))","v":0},null,{"$f":"IF($V$4=0,0,VLOOKUP($D16,'SRWC RMA'!$F$10:$O$82,2,FALSE)+(VLOOKUP($D16,'SRWC RMA'!$F$10:$O$82,3,FALSE)-VLOOKUP($D16,'SRWC RMA'!$F$10:$O$82,2,FALSE))/'SRWC RMA'!$L$4*(Calculations!$V$4-'SRWC RMA'!$J$4))","v":0},null,{"$f":"IF($X$4+$X$5+$X$6=0,0,VLOOKUP($D16,'Stover RMA'!$F$9:$Q$70,2,FALSE)+(VLOOKUP($D16,'Stover RMA'!$F$9:$Q$70,10,FALSE))/'Stover RMA'!$N$4*(Calculations!$X$4-'Stover RMA'!$L$4)+(VLOOKUP($D16,'Stover RMA'!$F$9:$Q$70,11,FALSE))/'Stover RMA'!$N$5*(Calculations!$X$5-'Stover RMA'!$L$5)+(VLOOKUP($D16,'Stover RMA'!$F$9:$Q$70,12,FALSE))/'Stover RMA'!$N$6*($X$6-'Stover RMA'!$L$6))","v":0},null,{"$f":"IF($Z$4=0,0,VLOOKUP($D16,'Corn RMA'!$F$10:$O$82,2,FALSE)+(VLOOKUP($D16,'Corn RMA'!$F$10:$O$82,3,FALSE)-VLOOKUP($D16,'Corn RMA'!$F$10:$O$82,2,FALSE))/'Corn RMA'!$L$4*(Calculations!$Z$4-'Corn RMA'!$J$4))","v":0},null,{"$f":"HLOOKUP(1,'FT Diesel 2'!$H$11:$U$76,'FT Diesel 2'!V47,FALSE)","v":{"$error":"#N/A"}},null,{"$f":"HLOOKUP(1,'Adv Ethanol'!$G$10:$O$79,'Adv Ethanol'!Q37,FALSE)","v":{"$error":"#N/A"}},null,{"$f":"IF($AF$4+$AF$5>0,VLOOKUP(D16,Uranium!$F$10:$K$77,3,FALSE)*Calculations!$AF$4+VLOOKUP(D16,Uranium!$F$10:$K$77,4,FALSE)*$AF$5,0)","v":0},null,{"$f":"IF($AH$4=0,0,VLOOKUP($D16,'U RMT'!$F$9:$U$64,2,FALSE)+(VLOOKUP($D16,'U RMT'!$F$10:$U$64,3,FALSE)-VLOOKUP($D16,'U RMT'!$F$10:$U$64,2,FALSE))/'U RMT'!$U$2*(Calculations!$AH$4-'U RMT'!$O$2))","v":0},null,{"$f":"IF($AJ$4=0,0,VLOOKUP($D16,'U RMT'!$F$9:$U$64,4,FALSE)+(VLOOKUP($D16,'U RMT'!$F$10:$U$64,5,FALSE)-VLOOKUP($D16,'U RMT'!$F$10:$U$64,4,FALSE))/'U RMT'!$U$3*(Calculations!$AJ$4-'U RMT'!$Q$3))","v":0},null,{"$f":"IF($AL$4=0,0,VLOOKUP($D16,'U RMT'!$F$9:$U$64,6,FALSE)+(VLOOKUP($D16,'U RMT'!$F$10:$U$64,7,FALSE)-VLOOKUP($D16,'U RMT'!$F$10:$U$64,6,FALSE))/'U RMT'!$U$4*(Calculations!$AL$4-'U RMT'!$S$4))","v":0},null,{"$f":"IF($AN$4=0,0,VLOOKUP($D16,'Petro Transport'!$F$10:$Z$77,2,FALSE)+(VLOOKUP($D16,'Petro Transport'!$F$10:$Z$77,3,FALSE)-VLOOKUP($D16,'Petro Transport'!$F$10:$Z$77,2,FALSE))/'Petro Transport'!$V$3*(Calculations!$AN$4-'Petro Transport'!$N$3))","v":0},null,{"$f":"IF($AP$4=0,0,VLOOKUP($D16,'Petro Transport'!$F$10:$Z$77,4,FALSE)+(VLOOKUP($D16,'Petro Transport'!$F$10:$Z$77,5,FALSE)-VLOOKUP($D16,'Petro Transport'!$F$10:$Z$77,4,FALSE))/'Petro Transport'!$V$4*(Calculations!$AP$4-'Petro Transport'!$P$4))","v":0},null,{"$f":"IF($AR$4=0,0,VLOOKUP($D16,'Petro Transport'!$F$10:$Z$77,6,FALSE)+(VLOOKUP($D16,'Petro Transport'!$F$10:$Z$77,7,FALSE)-VLOOKUP($D16,'Petro Transport'!$F$10:$Z$77,6,FALSE))/'Petro Transport'!$V$5*(Calculations!$AR$4-'Petro Transport'!$R$5))","v":0},null,{"$f":"IF($AT$4=0,0,VLOOKUP($D16,'Petro Transport'!$F$10:$Z$77,8,FALSE)+(VLOOKUP($D16,'Petro Transport'!$F$10:$Z$77,9,FALSE)-VLOOKUP($D16,'Petro Transport'!$F$10:$Z$77,8,FALSE))/'Petro Transport'!$V$6*(Calculations!$AT$4-'Petro Transport'!$T$6))","v":0},null,{"$f":"VLOOKUP($D16,'Dom Petro'!$F$11:$J$65,3,FALSE)*Calculations!$AV$4+VLOOKUP($D16,'Dom Petro'!$F$11:$J$65,4,FALSE)*Calculations!$AV$5+VLOOKUP($D16,'Dom Petro'!$F$11:$J$65,5,FALSE)*Calculations!$AV$6","v":1.6360193630356699E-8},null,{"$f":"VLOOKUP($D16,'For Petro'!$F$9:$K$77,3,FALSE)*Calculations!$AX$3+VLOOKUP($D16,'For Petro'!$F$9:$K$77,4,FALSE)*Calculations!$AX$4+VLOOKUP($D16,'For Petro'!$F$9:$K$77,5,FALSE)*Calculations!$AX$5+VLOOKUP($D16,'For Petro'!$F$9:$K$77,6,FALSE)*$AX$6","v":0},null,{"$f":"IF($AZ$5=1,VLOOKUP($D16,'Petro Ref'!$F$10:$J$77,3,FALSE),0)","v":0},null,{"$f":"IF($BB$5,VLOOKUP($D16,'Petro Ref'!$F$10:$J$77,4,FALSE),0)","v":0},null,{"$f":"IF($BD$5=1,VLOOKUP($D16,'Petro Ref'!$F$10:$J$77,5,FALSE),0)","v":0},null,{"$f":"IF($BF$3+$BF$4+$BF$5=0,0,VLOOKUP($D16,'onshore RMA'!$F$9:$Q$70,2,FALSE)+(VLOOKUP($D16,'onshore RMA'!$F$9:$Q$70,10,FALSE))/'onshore RMA'!$N$4*(Calculations!$BF$3-'onshore RMA'!$L$4)+(VLOOKUP($D16,'onshore RMA'!$F$9:$Q$70,11,FALSE))/'onshore RMA'!$N$5*(Calculations!$BF$4-'onshore RMA'!$L$5)+(VLOOKUP($D16,'onshore RMA'!$F$9:$Q$70,12,FALSE))/'onshore RMA'!$N$6*($BF$5-'onshore RMA'!$L$6))","v":0},null,{"$f":"IF($BH$3+$BH$4+$BH$5=0,0,VLOOKUP($D16,'assoc RMA'!$F$9:$Q$70,2,FALSE)+(VLOOKUP($D16,'assoc RMA'!$F$9:$Q$70,10,FALSE))/'assoc RMA'!$N$4*(Calculations!$BH$3-'assoc RMA'!$L$4)+(VLOOKUP($D16,'assoc RMA'!$F$9:$Q$70,11,FALSE))/'assoc RMA'!$N$5*(Calculations!$BH$4-'assoc RMA'!$L$5)+(VLOOKUP($D16,'assoc RMA'!$F$9:$Q$70,12,FALSE))/'assoc RMA'!$N$6*($BH$5-'assoc RMA'!$L$6))","v":0},null,{"$f":"IF($BJ$3+$BJ$4+$BJ$5=0,0,VLOOKUP($D16,'offshore RMA'!$F$9:$Q$70,2,FALSE)+(VLOOKUP($D16,'offshore RMA'!$F$9:$Q$70,10,FALSE))/'offshore RMA'!$N$4*(Calculations!$BJ$3-'offshore RMA'!$L$4)+(VLOOKUP($D16,'offshore RMA'!$F$9:$Q$70,11,FALSE))/'offshore RMA'!$N$5*(Calculations!$BJ$4-'offshore RMA'!$L$5)+(VLOOKUP($D16,'offshore RMA'!$F$9:$Q$70,12,FALSE))/'offshore RMA'!$N$6*($BJ$5-'offshore RMA'!$L$6))","v":0},null,{"$f":"IF($BL$3+$BL$4+$BL$5=0,0,VLOOKUP($D16,'barnett RMA'!$F$9:$Q$70,2,FALSE)+(VLOOKUP($D16,'barnett RMA'!$F$9:$Q$70,10,FALSE))/'barnett RMA'!$N$4*(Calculations!$BL$3-'barnett RMA'!$L$4)+(VLOOKUP($D16,'barnett RMA'!$F$9:$Q$70,11,FALSE))/'barnett RMA'!$N$5*(Calculations!$BL$4-'barnett RMA'!$L$5)+(VLOOKUP($D16,'barnett RMA'!$F$9:$Q$70,12,FALSE))/'barnett RMA'!$N$6*($BL$5-'barnett RMA'!$L$6))","v":0},null,{"$f":"IF($BN$3+$BN$4+$BN$5=0,0,VLOOKUP($D16,'cbm RMA'!$F$9:$Q$70,2,FALSE)+(VLOOKUP($D16,'cbm RMA'!$F$9:$Q$70,10,FALSE))/'cbm RMA'!$N$4*(Calculations!$BN$3-'cbm RMA'!$L$4)+(VLOOKUP($D16,'cbm RMA'!$F$9:$Q$70,11,FALSE))/'cbm RMA'!$N$5*(Calculations!$BN$4-'cbm RMA'!$L$5)+(VLOOKUP($D16,'cbm RMA'!$F$9:$Q$70,12,FALSE))/'cbm RMA'!$N$6*($BN$5-'cbm RMA'!$L$6))","v":0},null,{"$f":"IF($BP$3+$BP$4+$BP$5=0,0,VLOOKUP($D16,'Marc RMA'!$F$9:$Q$70,2,FALSE)+(VLOOKUP($D16,'Marc RMA'!$F$9:$Q$70,10,FALSE))/'Marc RMA'!$N$4*(Calculations!$BP$3-'Marc RMA'!$L$4)+(VLOOKUP($D16,'Marc RMA'!$F$9:$Q$70,11,FALSE))/'Marc RMA'!$N$5*(Calculations!$BP$4-'Marc RMA'!$L$5)+(VLOOKUP($D16,'Marc RMA'!$F$9:$Q$70,12,FALSE))/'Marc RMA'!$N$6*($BP$5-'Marc RMA'!$L$6))","v":0},null,{"$f":"IF($BR$3+$BR$4+$BR$5=0,0,VLOOKUP($D16,'LNG RMA'!$F$9:$Q$70,2,FALSE)+(VLOOKUP($D16,'LNG RMA'!$F$9:$Q$70,10,FALSE))/'LNG RMA'!$N$4*(Calculations!$BR$3-'LNG RMA'!$L$4)+(VLOOKUP($D16,'LNG RMA'!$F$9:$Q$70,11,FALSE))/'LNG RMA'!$N$5*(Calculations!$BR$4-'LNG RMA'!$L$5)+(VLOOKUP($D16,'LNG RMA'!$F$9:$Q$70,12,FALSE))/'LNG RMA'!$N$6*($BR$5-'LNG RMA'!$L$6))","v":0},null,{"$f":"IF($BT$3+$BT$4+$BT$5=0,0,VLOOKUP($D16,'tight RMA'!$F$9:$Q$70,2,FALSE)+(VLOOKUP($D16,'tight RMA'!$F$9:$Q$70,10,FALSE))/'tight RMA'!$N$4*(Calculations!$BT$3-'tight RMA'!$L$4)+(VLOOKUP($D16,'tight RMA'!$F$9:$Q$70,11,FALSE))/'tight RMA'!$N$5*(Calculations!$BT$4-'tight RMA'!$L$5)+(VLOOKUP($D16,'tight RMA'!$F$9:$Q$70,12,FALSE))/'tight RMA'!$N$6*($BT$5-'tight RMA'!$L$6))","v":0},null,{"$f":"IF($BV$3+$BV$4+$BV$5=0,0,VLOOKUP($D16,'mix RMA'!$F$9:$Q$70,2,FALSE)+(VLOOKUP($D16,'mix RMA'!$F$9:$Q$70,10,FALSE))/'mix RMA'!$N$4*(Calculations!$BV$3-'mix RMA'!$L$4)+(VLOOKUP($D16,'mix RMA'!$F$9:$Q$70,11,FALSE))/'mix RMA'!$N$5*(Calculations!$BV$4-'mix RMA'!$L$5)+(VLOOKUP($D16,'mix RMA'!$F$9:$Q$70,12,FALSE))/'mix RMA'!$N$6*($BV$5-'mix RMA'!$L$6))","v":1.3184310933217974E-8}]
[null,10,"Mercury (kg)","Mercury (+II)",null,{"$f":"IF($F$4=0,0,VLOOKUP($D17,'I6 RMA'!$F$10:$O$82,2,FALSE)+(VLOOKUP($D17,'I6 RMA'!$F$10:$O$82,3,FALSE)-VLOOKUP($D17,'I6 RMA'!$F$10:$O$82,2,FALSE))/'I6 RMA'!$L$4*(Calculations!$F$4-'I6 RMA'!$J$4))","v":6.1493410213589256E-10},null,{"$f":"IF($H$4=0,0,VLOOKUP($D17,'PRB RMA'!$F$10:$O$82,2,FALSE)+(VLOOKUP($D17,'PRB RMA'!$F$10:$O$82,3,FALSE)-VLOOKUP($D17,'PRB RMA'!$F$10:$O$82,2,FALSE))/'PRB RMA'!$L$4*(Calculations!$H$4-'PRB RMA'!$J$4))","v":0},null,{"$f":"IF($J$4=0,0,VLOOKUP($D17,'Coal TrainRMT'!$F$10:$O$82,2,FALSE)+(VLOOKUP($D17,'Coal TrainRMT'!$F$10:$O$82,3,FALSE)-VLOOKUP($D17,'Coal TrainRMT'!$F$10:$O$82,2,FALSE))/'Coal TrainRMT'!$L$4*(Calculations!$J$4-'Coal TrainRMT'!$J$4))","v":1.0927068649830101E-11},null,{"$f":"IF($L$4+$L$5+$L$6=0,0,VLOOKUP($D17,#REF!,2,FALSE)+(VLOOKUP($D17,#REF!,6,FALSE)/#REF!*(#REF!-#REF!)+(VLOOKUP($D17,#REF!,8,FALSE))/#REF!*(#REF!-#REF!)+(VLOOKUP($D17,#REF!,10,FALSE))/#REF!*($L$6-#REF!)))","v":{"$error":"#REF!"}},null,{"$f":"IF($N$4=0,0,VLOOKUP($D17,'NG Pipeline RMT'!$F$10:$O$82,2,FALSE)+(VLOOKUP($D17,'NG Pipeline RMT'!$F$10:$O$82,3,FALSE)-VLOOKUP($D17,'NG Pipeline RMT'!$F$10:$O$82,2,FALSE))/'NG Pipeline RMT'!$L$4*(Calculations!$N$4-'NG Pipeline RMT'!$J$4))","v":0},null,{"$f":"IF($P$4=0,0,VLOOKUP($D17,'SG RMA'!$F$10:$O$82,2,FALSE)+(VLOOKUP($D17,'SG RMA'!$F$10:$O$82,3,FALSE)-VLOOKUP($D17,'SG RMA'!$F$10:$O$82,2,FALSE))/'SG RMA'!$L$4*(Calculations!$P$4-'SG RMA'!$J$4))","v":0},null,{"$f":"IF($R$4=0,0,VLOOKUP($D17,'Bale Truck RMT'!$F$10:$O$82,2,FALSE)+(VLOOKUP($D17,'Bale Truck RMT'!$F$10:$O$82,3,FALSE)-VLOOKUP($D17,'Bale Truck RMT'!$F$10:$O$82,2,FALSE))/'Bale Truck RMT'!$L$4*(Calculations!$R$4-'Bale Truck RMT'!$J$4))","v":0},null,{"$f":"IF($T$4=0,0,VLOOKUP($D17,'Cont Truck RMT'!$F$10:$O$82,2,FALSE)+(VLOOKUP($D17,'Cont Truck RMT'!$F$10:$O$82,3,FALSE)-VLOOKUP($D17,'Cont Truck RMT'!$F$10:$O$82,2,FALSE))/'Cont Truck RMT'!$L$4*(Calculations!$T$4-'Cont Truck RMT'!$J$4))","v":0},null,{"$f":"IF($V$4=0,0,VLOOKUP($D17,'SRWC RMA'!$F$10:$O$82,2,FALSE)+(VLOOKUP($D17,'SRWC RMA'!$F$10:$O$82,3,FALSE)-VLOOKUP($D17,'SRWC RMA'!$F$10:$O$82,2,FALSE))/'SRWC RMA'!$L$4*(Calculations!$V$4-'SRWC RMA'!$J$4))","v":0},null,{"$f":"IF($X$4+$X$5+$X$6=0,0,VLOOKUP($D17,'Stover RMA'!$F$9:$Q$70,2,FALSE)+(VLOOKUP($D17,'Stover RMA'!$F$9:$Q$70,10,FALSE))/'Stover RMA'!$N$4*(Calculations!$X$4-'Stover RMA'!$L$4)+(VLOOKUP($D17,'Stover RMA'!$F$9:$Q$70,11,FALSE))/'Stover RMA'!$N$5*(Calculations!$X$5-'Stover RMA'!$L$5)+(VLOOKUP($D17,'Stover RMA'!$F$9:$Q$70,12,FALSE))/'Stover RMA'!$N$6*($X$6-'Stover RMA'!$L$6))","v":0},null,{"$f":"IF($Z$4=0,0,VLOOKUP($D17,'Corn RMA'!$F$10:$O$82,2,FALSE)+(VLOOKUP($D17,'Corn RMA'!$F$10:$O$82,3,FALSE)-VLOOKUP($D17,'Corn RMA'!$F$10:$O$82,2,FALSE))/'Corn RMA'!$L$4*(Calculations!$Z$4-'Corn RMA'!$J$4))","v":0},null,{"$f":"HLOOKUP(1,'FT Diesel 2'!$H$11:$U$76,'FT Diesel 2'!V48,FALSE)","v":{"$error":"#N/A"}},null,{"$f":"HLOOKUP(1,'Adv Ethanol'!$G$10:$O$79,'Adv Ethanol'!Q38,FALSE)","v":{"$error":"#N/A"}},null,{"$f":"IF($AF$4+$AF$5>0,VLOOKUP(D17,Uranium!$F$10:$K$77,3,FALSE)*Calculations!$AF$4+VLOOKUP(D17,Uranium!$F$10:$K$77,4,FALSE)*$AF$5,0)","v":0},null,{"$f":"IF($AH$4=0,0,VLOOKUP($D17,'U RMT'!$F$9:$U$64,2,FALSE)+(VLOOKUP($D17,'U RMT'!$F$10:$U$64,3,FALSE)-VLOOKUP($D17,'U RMT'!$F$10:$U$64,2,FALSE))/'U RMT'!$U$2*(Calculations!$AH$4-'U RMT'!$O$2))","v":0},null,{"$f":"IF($AJ$4=0,0,VLOOKUP($D17,'U RMT'!$F$9:$U$64,4,FALSE)+(VLOOKUP($D17,'U RMT'!$F$10:$U$64,5,FALSE)-VLOOKUP($D17,'U RMT'!$F$10:$U$64,4,FALSE))/'U RMT'!$U$3*(Calculations!$AJ$4-'U RMT'!$Q$3))","v":0},null,{"$f":"IF($AL$4=0,0,VLOOKUP($D17,'U RMT'!$F$9:$U$64,6,FALSE)+(VLOOKUP($D17,'U RMT'!$F$10:$U$64,7,FALSE)-VLOOKUP($D17,'U RMT'!$F$10:$U$64,6,FALSE))/'U RMT'!$U$4*(Calculations!$AL$4-'U RMT'!$S$4))","v":0},null,{"$f":"IF($AN$4=0,0,VLOOKUP($D17,'Petro Transport'!$F$10:$Z$77,2,FALSE)+(VLOOKUP($D17,'Petro Transport'!$F$10:$Z$77,3,FALSE)-VLOOKUP($D17,'Petro Transport'!$F$10:$Z$77,2,FALSE))/'Petro Transport'!$V$3*(Calculations!$AN$4-'Petro Transport'!$N$3))","v":0},null,{"$f":"IF($AP$4=0,0,VLOOKUP($D17,'Petro Transport'!$F$10:$Z$77,4,FALSE)+(VLOOKUP($D17,'Petro Transport'!$F$10:$Z$77,5,FALSE)-VLOOKUP($D17,'Petro Transport'!$F$10:$Z$77,4,FALSE))/'Petro Transport'!$V$4*(Calculations!$AP$4-'Petro Transport'!$P$4))","v":0},null,{"$f":"IF($AR$4=0,0,VLOOKUP($D17,'Petro Transport'!$F$10:$Z$77,6,FALSE)+(VLOOKUP($D17,'Petro Transport'!$F$10:$Z$77,7,FALSE)-VLOOKUP($D17,'Petro Transport'!$F$10:$Z$77,6,FALSE))/'Petro Transport'!$V$5*(Calculations!$AR$4-'Petro Transport'!$R$5))","v":0},null,{"$f":"IF($AT$4=0,0,VLOOKUP($D17,'Petro Transport'!$F$10:$Z$77,8,FALSE)+(VLOOKUP($D17,'Petro Transport'!$F$10:$Z$77,9,FALSE)-VLOOKUP($D17,'Petro Transport'!$F$10:$Z$77,8,FALSE))/'Petro Transport'!$V$6*(Calculations!$AT$4-'Petro Transport'!$T$6))","v":0},null,{"$f":"VLOOKUP($D17,'Dom Petro'!$F$11:$J$65,3,FALSE)*Calculations!$AV$4+VLOOKUP($D17,'Dom Petro'!$F$11:$J$65,4,FALSE)*Calculations!$AV$5+VLOOKUP($D17,'Dom Petro'!$F$11:$J$65,5,FALSE)*Calculations!$AV$6","v":4.6941386443885803E-10},null,{"$f":"VLOOKUP($D17,'For Petro'!$F$9:$K$77,3,FALSE)*Calculations!$AX$3+VLOOKUP($D17,'For Petro'!$F$9:$K$77,4,FALSE)*Calculations!$AX$4+VLOOKUP($D17,'For Petro'!$F$9:$K$77,5,FALSE)*Calculations!$AX$5+VLOOKUP($D17,'For Petro'!$F$9:$K$77,6,FALSE)*$AX$6","v":0},null,{"$f":"IF($AZ$5=1,VLOOKUP($D17,'Petro Ref'!$F$10:$J$77,3,FALSE),0)","v":0},null,{"$f":"IF($BB$5,VLOOKUP($D17,'Petro Ref'!$F$10:$J$77,4,FALSE),0)","v":0},null,{"$f":"IF($BD$5=1,VLOOKUP($D17,'Petro Ref'!$F$10:$J$77,5,FALSE),0)","v":0},null,{"$f":"IF($BF$3+$BF$4+$BF$5=0,0,VLOOKUP($D17,'onshore RMA'!$F$9:$Q$70,2,FALSE)+(VLOOKUP($D17,'onshore RMA'!$F$9:$Q$70,10,FALSE))/'onshore RMA'!$N$4*(Calculations!$BF$3-'onshore RMA'!$L$4)+(VLOOKUP($D17,'onshore RMA'!$F$9:$Q$70,11,FALSE))/'onshore RMA'!$N$5*(Calculations!$BF$4-'onshore RMA'!$L$5)+(VLOOKUP($D17,'onshore RMA'!$F$9:$Q$70,12,FALSE))/'onshore RMA'!$N$6*($BF$5-'onshore RMA'!$L$6))","v":0},null,{"$f":"IF($BH$3+$BH$4+$BH$5=0,0,VLOOKUP($D17,'assoc RMA'!$F$9:$Q$70,2,FALSE)+(VLOOKUP($D17,'assoc RMA'!$F$9:$Q$70,10,FALSE))/'assoc RMA'!$N$4*(Calculations!$BH$3-'assoc RMA'!$L$4)+(VLOOKUP($D17,'assoc RMA'!$F$9:$Q$70,11,FALSE))/'assoc RMA'!$N$5*(Calculations!$BH$4-'assoc RMA'!$L$5)+(VLOOKUP($D17,'assoc RMA'!$F$9:$Q$70,12,FALSE))/'assoc RMA'!$N$6*($BH$5-'assoc RMA'!$L$6))","v":0},null,{"$f":"IF($BJ$3+$BJ$4+$BJ$5=0,0,VLOOKUP($D17,'offshore RMA'!$F$9:$Q$70,2,FALSE)+(VLOOKUP($D17,'offshore RMA'!$F$9:$Q$70,10,FALSE))/'offshore RMA'!$N$4*(Calculations!$BJ$3-'offshore RMA'!$L$4)+(VLOOKUP($D17,'offshore RMA'!$F$9:$Q$70,11,FALSE))/'offshore RMA'!$N$5*(Calculations!$BJ$4-'offshore RMA'!$L$5)+(VLOOKUP($D17,'offshore RMA'!$F$9:$Q$70,12,FALSE))/'offshore RMA'!$N$6*($BJ$5-'offshore RMA'!$L$6))","v":0},null,{"$f":"IF($BL$3+$BL$4+$BL$5=0,0,VLOOKUP($D17,'barnett RMA'!$F$9:$Q$70,2,FALSE)+(VLOOKUP($D17,'barnett RMA'!$F$9:$Q$70,10,FALSE))/'barnett RMA'!$N$4*(Calculations!$BL$3-'barnett RMA'!$L$4)+(VLOOKUP($D17,'barnett RMA'!$F$9:$Q$70,11,FALSE))/'barnett RMA'!$N$5*(Calculations!$BL$4-'barnett RMA'!$L$5)+(VLOOKUP($D17,'barnett RMA'!$F$9:$Q$70,12,FALSE))/'barnett RMA'!$N$6*($BL$5-'barnett RMA'!$L$6))","v":0},null,{"$f":"IF($BN$3+$BN$4+$BN$5=0,0,VLOOKUP($D17,'cbm RMA'!$F$9:$Q$70,2,FALSE)+(VLOOKUP($D17,'cbm RMA'!$F$9:$Q$70,10,FALSE))/'cbm RMA'!$N$4*(Calculations!$BN$3-'cbm RMA'!$L$4)+(VLOOKUP($D17,'cbm RMA'!$F$9:$Q$70,11,FALSE))/'cbm RMA'!$N$5*(Calculations!$BN$4-'cbm RMA'!$L$5)+(VLOOKUP($D17,'cbm RMA'!$F$9:$Q$70,12,FALSE))/'cbm RMA'!$N$6*($BN$5-'cbm RMA'!$L$6))","v":0},null,{"$f":"IF($BP$3+$BP$4+$BP$5=0,0,VLOOKUP($D17,'Marc RMA'!$F$9:$Q$70,2,FALSE)+(VLOOKUP($D17,'Marc RMA'!$F$9:$Q$70,10,FALSE))/'Marc RMA'!$N$4*(Calculations!$BP$3-'Marc RMA'!$L$4)+(VLOOKUP($D17,'Marc RMA'!$F$9:$Q$70,11,FALSE))/'Marc RMA'!$N$5*(Calculations!$BP$4-'Marc RMA'!$L$5)+(VLOOKUP($D17,'Marc RMA'!$F$9:$Q$70,12,FALSE))/'Marc RMA'!$N$6*($BP$5-'Marc RMA'!$L$6))","v":0},null,{"$f":"IF($BR$3+$BR$4+$BR$5=0,0,VLOOKUP($D17,'LNG RMA'!$F$9:$Q$70,2,FALSE)+(VLOOKUP($D17,'LNG RMA'!$F$9:$Q$70,10,FALSE))/'LNG RMA'!$N$4*(Calculations!$BR$3-'LNG RMA'!$L$4)+(VLOOKUP($D17,'LNG RMA'!$F$9:$Q$70,11,FALSE))/'LNG RMA'!$N$5*(Calculations!$BR$4-'LNG RMA'!$L$5)+(VLOOKUP($D17,'LNG RMA'!$F$9:$Q$70,12,FALSE))/'LNG RMA'!$N$6*($BR$5-'LNG RMA'!$L$6))","v":0},null,{"$f":"IF($BT$3+$BT$4+$BT$5=0,0,VLOOKUP($D17,'tight RMA'!$F$9:$Q$70,2,FALSE)+(VLOOKUP($D17,'tight RMA'!$F$9:$Q$70,10,FALSE))/'tight RMA'!$N$4*(Calculations!$BT$3-'tight RMA'!$L$4)+(VLOOKUP($D17,'tight RMA'!$F$9:$Q$70,11,FALSE))/'tight RMA'!$N$5*(Calculations!$BT$4-'tight RMA'!$L$5)+(VLOOKUP($D17,'tight RMA'!$F$9:$Q$70,12,FALSE))/'tight RMA'!$N$6*($BT$5-'tight RMA'!$L$6))","v":0},null,{"$f":"IF($BV$3+$BV$4+$BV$5=0,0,VLOOKUP($D17,'mix RMA'!$F$9:$Q$70,2,FALSE)+(VLOOKUP($D17,'mix RMA'!$F$9:$Q$70,10,FALSE))/'mix RMA'!$N$4*(Calculations!$BV$3-'mix RMA'!$L$4)+(VLOOKUP($D17,'mix RMA'!$F$9:$Q$70,11,FALSE))/'mix RMA'!$N$5*(Calculations!$BV$4-'mix RMA'!$L$5)+(VLOOKUP($D17,'mix RMA'!$F$9:$Q$70,12,FALSE))/'mix RMA'!$N$6*($BV$5-'mix RMA'!$L$6))","v":4.8798951644595183E-10}]
[null,11,"Ammonia (kg)","Ammonia",null,{"$f":"IF($F$4=0,0,VLOOKUP($D18,'I6 RMA'!$F$10:$O$82,2,FALSE)+(VLOOKUP($D18,'I6 RMA'!$F$10:$O$82,3,FALSE)-VLOOKUP($D18,'I6 RMA'!$F$10:$O$82,2,FALSE))/'I6 RMA'!$L$4*(Calculations!$F$4-'I6 RMA'!$J$4))","v":5.3129263711894803E-8},null,{"$f":"IF($H$4=0,0,VLOOKUP($D18,'PRB RMA'!$F$10:$O$82,2,FALSE)+(VLOOKUP($D18,'PRB RMA'!$F$10:$O$82,3,FALSE)-VLOOKUP($D18,'PRB RMA'!$F$10:$O$82,2,FALSE))/'PRB RMA'!$L$4*(Calculations!$H$4-'PRB RMA'!$J$4))","v":0},null,{"$f":"IF($J$4=0,0,VLOOKUP($D18,'Coal TrainRMT'!$F$10:$O$82,2,FALSE)+(VLOOKUP($D18,'Coal TrainRMT'!$F$10:$O$82,3,FALSE)-VLOOKUP($D18,'Coal TrainRMT'!$F$10:$O$82,2,FALSE))/'Coal TrainRMT'!$L$4*(Calculations!$J$4-'Coal TrainRMT'!$J$4))","v":4.45066411081205E-7},null,{"$f":"IF($L$4+$L$5+$L$6=0,0,VLOOKUP($D18,#REF!,2,FALSE)+(VLOOKUP($D18,#REF!,6,FALSE)/#REF!*(#REF!-#REF!)+(VLOOKUP($D18,#REF!,8,FALSE))/#REF!*(#REF!-#REF!)+(VLOOKUP($D18,#REF!,10,FALSE))/#REF!*($L$6-#REF!)))","v":{"$error":"#REF!"}},null,{"$f":"IF($N$4=0,0,VLOOKUP($D18,'NG Pipeline RMT'!$F$10:$O$82,2,FALSE)+(VLOOKUP($D18,'NG Pipeline RMT'!$F$10:$O$82,3,FALSE)-VLOOKUP($D18,'NG Pipeline RMT'!$F$10:$O$82,2,FALSE))/'NG Pipeline RMT'!$L$4*(Calculations!$N$4-'NG Pipeline RMT'!$J$4))","v":0},null,{"$f":"IF($P$4=0,0,VLOOKUP($D18,'SG RMA'!$F$10:$O$82,2,FALSE)+(VLOOKUP($D18,'SG RMA'!$F$10:$O$82,3,FALSE)-VLOOKUP($D18,'SG RMA'!$F$10:$O$82,2,FALSE))/'SG RMA'!$L$4*(Calculations!$P$4-'SG RMA'!$J$4))","v":0},null,{"$f":"IF($R$4=0,0,VLOOKUP($D18,'Bale Truck RMT'!$F$10:$O$82,2,FALSE)+(VLOOKUP($D18,'Bale Truck RMT'!$F$10:$O$82,3,FALSE)-VLOOKUP($D18,'Bale Truck RMT'!$F$10:$O$82,2,FALSE))/'Bale Truck RMT'!$L$4*(Calculations!$R$4-'Bale Truck RMT'!$J$4))","v":0},null,{"$f":"IF($T$4=0,0,VLOOKUP($D18,'Cont Truck RMT'!$F$10:$O$82,2,FALSE)+(VLOOKUP($D18,'Cont Truck RMT'!$F$10:$O$82,3,FALSE)-VLOOKUP($D18,'Cont Truck RMT'!$F$10:$O$82,2,FALSE))/'Cont Truck RMT'!$L$4*(Calculations!$T$4-'Cont Truck RMT'!$J$4))","v":0},null,{"$f":"IF($V$4=0,0,VLOOKUP($D18,'SRWC RMA'!$F$10:$O$82,2,FALSE)+(VLOOKUP($D18,'SRWC RMA'!$F$10:$O$82,3,FALSE)-VLOOKUP($D18,'SRWC RMA'!$F$10:$O$82,2,FALSE))/'SRWC RMA'!$L$4*(Calculations!$V$4-'SRWC RMA'!$J$4))","v":0},null,{"$f":"IF($X$4+$X$5+$X$6=0,0,VLOOKUP($D18,'Stover RMA'!$F$9:$Q$70,2,FALSE)+(VLOOKUP($D18,'Stover RMA'!$F$9:$Q$70,10,FALSE))/'Stover RMA'!$N$4*(Calculations!$X$4-'Stover RMA'!$L$4)+(VLOOKUP($D18,'Stover RMA'!$F$9:$Q$70,11,FALSE))/'Stover RMA'!$N$5*(Calculations!$X$5-'Stover RMA'!$L$5)+(VLOOKUP($D18,'Stover RMA'!$F$9:$Q$70,12,FALSE))/'Stover RMA'!$N$6*($X$6-'Stover RMA'!$L$6))","v":0},null,{"$f":"IF($Z$4=0,0,VLOOKUP($D18,'Corn RMA'!$F$10:$O$82,2,FALSE)+(VLOOKUP($D18,'Corn RMA'!$F$10:$O$82,3,FALSE)-VLOOKUP($D18,'Corn RMA'!$F$10:$O$82,2,FALSE))/'Corn RMA'!$L$4*(Calculations!$Z$4-'Corn RMA'!$J$4))","v":0},null,{"$f":"HLOOKUP(1,'FT Diesel 2'!$H$11:$U$76,'FT Diesel 2'!V50,FALSE)","v":{"$error":"#N/A"}},null,{"$f":"HLOOKUP(1,'Adv Ethanol'!$G$10:$O$79,'Adv Ethanol'!Q40,FALSE)","v":{"$error":"#N/A"}},null,{"$f":"IF($AF$4+$AF$5>0,VLOOKUP(D18,Uranium!$F$10:$K$77,3,FALSE)*Calculations!$AF$4+VLOOKUP(D18,Uranium!$F$10:$K$77,4,FALSE)*$AF$5,0)","v":0},null,{"$f":"IF($AH$4=0,0,VLOOKUP($D18,'U RMT'!$F$9:$U$64,2,FALSE)+(VLOOKUP($D18,'U RMT'!$F$10:$U$64,3,FALSE)-VLOOKUP($D18,'U RMT'!$F$10:$U$64,2,FALSE))/'U RMT'!$U$2*(Calculations!$AH$4-'U RMT'!$O$2))","v":0},null,{"$f":"IF($AJ$4=0,0,VLOOKUP($D18,'U RMT'!$F$9:$U$64,4,FALSE)+(VLOOKUP($D18,'U RMT'!$F$10:$U$64,5,FALSE)-VLOOKUP($D18,'U RMT'!$F$10:$U$64,4,FALSE))/'U RMT'!$U$3*(Calculations!$AJ$4-'U RMT'!$Q$3))","v":0},null,{"$f":"IF($AL$4=0,0,VLOOKUP($D18,'U RMT'!$F$9:$U$64,6,FALSE)+(VLOOKUP($D18,'U RMT'!$F$10:$U$64,7,FALSE)-VLOOKUP($D18,'U RMT'!$F$10:$U$64,6,FALSE))/'U RMT'!$U$4*(Calculations!$AL$4-'U RMT'!$S$4))","v":0},null,{"$f":"IF($AN$4=0,0,VLOOKUP($D18,'Petro Transport'!$F$10:$Z$77,2,FALSE)+(VLOOKUP($D18,'Petro Transport'!$F$10:$Z$77,3,FALSE)-VLOOKUP($D18,'Petro Transport'!$F$10:$Z$77,2,FALSE))/'Petro Transport'!$V$3*(Calculations!$AN$4-'Petro Transport'!$N$3))","v":0},null,{"$f":"IF($AP$4=0,0,VLOOKUP($D18,'Petro Transport'!$F$10:$Z$77,4,FALSE)+(VLOOKUP($D18,'Petro Transport'!$F$10:$Z$77,5,FALSE)-VLOOKUP($D18,'Petro Transport'!$F$10:$Z$77,4,FALSE))/'Petro Transport'!$V$4*(Calculations!$AP$4-'Petro Transport'!$P$4))","v":0},null,{"$f":"IF($AR$4=0,0,VLOOKUP($D18,'Petro Transport'!$F$10:$Z$77,6,FALSE)+(VLOOKUP($D18,'Petro Transport'!$F$10:$Z$77,7,FALSE)-VLOOKUP($D18,'Petro Transport'!$F$10:$Z$77,6,FALSE))/'Petro Transport'!$V$5*(Calculations!$AR$4-'Petro Transport'!$R$5))","v":0},null,{"$f":"IF($AT$4=0,0,VLOOKUP($D18,'Petro Transport'!$F$10:$Z$77,8,FALSE)+(VLOOKUP($D18,'Petro Transport'!$F$10:$Z$77,9,FALSE)-VLOOKUP($D18,'Petro Transport'!$F$10:$Z$77,8,FALSE))/'Petro Transport'!$V$6*(Calculations!$AT$4-'Petro Transport'!$T$6))","v":0},null,{"$f":"VLOOKUP($D18,'Dom Petro'!$F$11:$J$65,3,FALSE)*Calculations!$AV$4+VLOOKUP($D18,'Dom Petro'!$F$11:$J$65,4,FALSE)*Calculations!$AV$5+VLOOKUP($D18,'Dom Petro'!$F$11:$J$65,5,FALSE)*Calculations!$AV$6","v":2.09458364794448E-7},null,{"$f":"VLOOKUP($D18,'For Petro'!$F$9:$K$77,3,FALSE)*Calculations!$AX$3+VLOOKUP($D18,'For Petro'!$F$9:$K$77,4,FALSE)*Calculations!$AX$4+VLOOKUP($D18,'For Petro'!$F$9:$K$77,5,FALSE)*Calculations!$AX$5+VLOOKUP($D18,'For Petro'!$F$9:$K$77,6,FALSE)*$AX$6","v":0},null,{"$f":"IF($AZ$5=1,VLOOKUP($D18,'Petro Ref'!$F$10:$J$77,3,FALSE),0)","v":0},null,{"$f":"IF($BB$5,VLOOKUP($D18,'Petro Ref'!$F$10:$J$77,4,FALSE),0)","v":0},null,{"$f":"IF($BD$5=1,VLOOKUP($D18,'Petro Ref'!$F$10:$J$77,5,FALSE),0)","v":0},null,{"$f":"IF($BF$3+$BF$4+$BF$5=0,0,VLOOKUP($D18,'onshore RMA'!$F$9:$Q$70,2,FALSE)+(VLOOKUP($D18,'onshore RMA'!$F$9:$Q$70,10,FALSE))/'onshore RMA'!$N$4*(Calculations!$BF$3-'onshore RMA'!$L$4)+(VLOOKUP($D18,'onshore RMA'!$F$9:$Q$70,11,FALSE))/'onshore RMA'!$N$5*(Calculations!$BF$4-'onshore RMA'!$L$5)+(VLOOKUP($D18,'onshore RMA'!$F$9:$Q$70,12,FALSE))/'onshore RMA'!$N$6*($BF$5-'onshore RMA'!$L$6))","v":0},null,{"$f":"IF($BH$3+$BH$4+$BH$5=0,0,VLOOKUP($D18,'assoc RMA'!$F$9:$Q$70,2,FALSE)+(VLOOKUP($D18,'assoc RMA'!$F$9:$Q$70,10,FALSE))/'assoc RMA'!$N$4*(Calculations!$BH$3-'assoc RMA'!$L$4)+(VLOOKUP($D18,'assoc RMA'!$F$9:$Q$70,11,FALSE))/'assoc RMA'!$N$5*(Calculations!$BH$4-'assoc RMA'!$L$5)+(VLOOKUP($D18,'assoc RMA'!$F$9:$Q$70,12,FALSE))/'assoc RMA'!$N$6*($BH$5-'assoc RMA'!$L$6))","v":0},null,{"$f":"IF($BJ$3+$BJ$4+$BJ$5=0,0,VLOOKUP($D18,'offshore RMA'!$F$9:$Q$70,2,FALSE)+(VLOOKUP($D18,'offshore RMA'!$F$9:$Q$70,10,FALSE))/'offshore RMA'!$N$4*(Calculations!$BJ$3-'offshore RMA'!$L$4)+(VLOOKUP($D18,'offshore RMA'!$F$9:$Q$70,11,FALSE))/'offshore RMA'!$N$5*(Calculations!$BJ$4-'offshore RMA'!$L$5)+(VLOOKUP($D18,'offshore RMA'!$F$9:$Q$70,12,FALSE))/'offshore RMA'!$N$6*($BJ$5-'offshore RMA'!$L$6))","v":0},null,{"$f":"IF($BL$3+$BL$4+$BL$5=0,0,VLOOKUP($D18,'barnett RMA'!$F$9:$Q$70,2,FALSE)+(VLOOKUP($D18,'barnett RMA'!$F$9:$Q$70,10,FALSE))/'barnett RMA'!$N$4*(Calculations!$BL$3-'barnett RMA'!$L$4)+(VLOOKUP($D18,'barnett RMA'!$F$9:$Q$70,11,FALSE))/'barnett RMA'!$N$5*(Calculations!$BL$4-'barnett RMA'!$L$5)+(VLOOKUP($D18,'barnett RMA'!$F$9:$Q$70,12,FALSE))/'barnett RMA'!$N$6*($BL$5-'barnett RMA'!$L$6))","v":0},null,{"$f":"IF($BN$3+$BN$4+$BN$5=0,0,VLOOKUP($D18,'cbm RMA'!$F$9:$Q$70,2,FALSE)+(VLOOKUP($D18,'cbm RMA'!$F$9:$Q$70,10,FALSE))/'cbm RMA'!$N$4*(Calculations!$BN$3-'cbm RMA'!$L$4)+(VLOOKUP($D18,'cbm RMA'!$F$9:$Q$70,11,FALSE))/'cbm RMA'!$N$5*(Calculations!$BN$4-'cbm RMA'!$L$5)+(VLOOKUP($D18,'cbm RMA'!$F$9:$Q$70,12,FALSE))/'cbm RMA'!$N$6*($BN$5-'cbm RMA'!$L$6))","v":0},null,{"$f":"IF($BP$3+$BP$4+$BP$5=0,0,VLOOKUP($D18,'Marc RMA'!$F$9:$Q$70,2,FALSE)+(VLOOKUP($D18,'Marc RMA'!$F$9:$Q$70,10,FALSE))/'Marc RMA'!$N$4*(Calculations!$BP$3-'Marc RMA'!$L$4)+(VLOOKUP($D18,'Marc RMA'!$F$9:$Q$70,11,FALSE))/'Marc RMA'!$N$5*(Calculations!$BP$4-'Marc RMA'!$L$5)+(VLOOKUP($D18,'Marc RMA'!$F$9:$Q$70,12,FALSE))/'Marc RMA'!$N$6*($BP$5-'Marc RMA'!$L$6))","v":0},null,{"$f":"IF($BR$3+$BR$4+$BR$5=0,0,VLOOKUP($D18,'LNG RMA'!$F$9:$Q$70,2,FALSE)+(VLOOKUP($D18,'LNG RMA'!$F$9:$Q$70,10,FALSE))/'LNG RMA'!$N$4*(Calculations!$BR$3-'LNG RMA'!$L$4)+(VLOOKUP($D18,'LNG RMA'!$F$9:$Q$70,11,FALSE))/'LNG RMA'!$N$5*(Calculations!$BR$4-'LNG RMA'!$L$5)+(VLOOKUP($D18,'LNG RMA'!$F$9:$Q$70,12,FALSE))/'LNG RMA'!$N$6*($BR$5-'LNG RMA'!$L$6))","v":0},null,{"$f":"IF($BT$3+$BT$4+$BT$5=0,0,VLOOKUP($D18,'tight RMA'!$F$9:$Q$70,2,FALSE)+(VLOOKUP($D18,'tight RMA'!$F$9:$Q$70,10,FALSE))/'tight RMA'!$N$4*(Calculations!$BT$3-'tight RMA'!$L$4)+(VLOOKUP($D18,'tight RMA'!$F$9:$Q$70,11,FALSE))/'tight RMA'!$N$5*(Calculations!$BT$4-'tight RMA'!$L$5)+(VLOOKUP($D18,'tight RMA'!$F$9:$Q$70,12,FALSE))/'tight RMA'!$N$6*($BT$5-'tight RMA'!$L$6))","v":0},null,{"$f":"IF($BV$3+$BV$4+$BV$5=0,0,VLOOKUP($D18,'mix RMA'!$F$9:$Q$70,2,FALSE)+(VLOOKUP($D18,'mix RMA'!$F$9:$Q$70,10,FALSE))/'mix RMA'!$N$4*(Calculations!$BV$3-'mix RMA'!$L$4)+(VLOOKUP($D18,'mix RMA'!$F$9:$Q$70,11,FALSE))/'mix RMA'!$N$5*(Calculations!$BV$4-'mix RMA'!$L$5)+(VLOOKUP($D18,'mix RMA'!$F$9:$Q$70,12,FALSE))/'mix RMA'!$N$6*($BV$5-'mix RMA'!$L$6))","v":7.4769312571311159E-9}]
[null,12,"Radiation (kg)","Radioactive emissions to air",null,{"$f":"IF($F$4=0,0,VLOOKUP($D19,'I6 RMA'!$F$10:$O$82,2,FALSE)+(VLOOKUP($D19,'I6 RMA'!$F$10:$O$82,3,FALSE)-VLOOKUP($D19,'I6 RMA'!$F$10:$O$82,2,FALSE))/'I6 RMA'!$L$4*(Calculations!$F$4-'I6 RMA'!$J$4))","v":6.3003657093190003E-12},null,{"$f":"IF($H$4=0,0,VLOOKUP($D19,'PRB RMA'!$F$10:$O$82,2,FALSE)+(VLOOKUP($D19,'PRB RMA'!$F$10:$O$82,3,FALSE)-VLOOKUP($D19,'PRB RMA'!$F$10:$O$82,2,FALSE))/'PRB RMA'!$L$4*(Calculations!$H$4-'PRB RMA'!$J$4))","v":0},null,{"$f":"IF($J$4=0,0,VLOOKUP($D19,'Coal TrainRMT'!$F$10:$O$82,2,FALSE)+(VLOOKUP($D19,'Coal TrainRMT'!$F$10:$O$82,3,FALSE)-VLOOKUP($D19,'Coal TrainRMT'!$F$10:$O$82,2,FALSE))/'Coal TrainRMT'!$L$4*(Calculations!$J$4-'Coal TrainRMT'!$J$4))","v":3.8525164975184997E-11},null,{"$f":"IF($L$4+$L$5+$L$6=0,0,VLOOKUP($D19,#REF!,2,FALSE)+(VLOOKUP($D19,#REF!,6,FALSE)/#REF!*(#REF!-#REF!)+(VLOOKUP($D19,#REF!,8,FALSE))/#REF!*(#REF!-#REF!)+(VLOOKUP($D19,#REF!,10,FALSE))/#REF!*($L$6-#REF!)))","v":{"$error":"#REF!"}},null,{"$f":"IF($N$4=0,0,VLOOKUP($D19,'NG Pipeline RMT'!$F$10:$O$82,2,FALSE)+(VLOOKUP($D19,'NG Pipeline RMT'!$F$10:$O$82,3,FALSE)-VLOOKUP($D19,'NG Pipeline RMT'!$F$10:$O$82,2,FALSE))/'NG Pipeline RMT'!$L$4*(Calculations!$N$4-'NG Pipeline RMT'!$J$4))","v":0},null,{"$f":"IF($P$4=0,0,VLOOKUP($D19,'SG RMA'!$F$10:$O$82,2,FALSE)+(VLOOKUP($D19,'SG RMA'!$F$10:$O$82,3,FALSE)-VLOOKUP($D19,'SG RMA'!$F$10:$O$82,2,FALSE))/'SG RMA'!$L$4*(Calculations!$P$4-'SG RMA'!$J$4))","v":0},null,{"$f":"IF($R$4=0,0,VLOOKUP($D19,'Bale Truck RMT'!$F$10:$O$82,2,FALSE)+(VLOOKUP($D19,'Bale Truck RMT'!$F$10:$O$82,3,FALSE)-VLOOKUP($D19,'Bale Truck RMT'!$F$10:$O$82,2,FALSE))/'Bale Truck RMT'!$L$4*(Calculations!$R$4-'Bale Truck RMT'!$J$4))","v":0},null,{"$f":"IF($T$4=0,0,VLOOKUP($D19,'Cont Truck RMT'!$F$10:$O$82,2,FALSE)+(VLOOKUP($D19,'Cont Truck RMT'!$F$10:$O$82,3,FALSE)-VLOOKUP($D19,'Cont Truck RMT'!$F$10:$O$82,2,FALSE))/'Cont Truck RMT'!$L$4*(Calculations!$T$4-'Cont Truck RMT'!$J$4))","v":0},null,{"$f":"IF($V$4=0,0,VLOOKUP($D19,'SRWC RMA'!$F$10:$O$82,2,FALSE)+(VLOOKUP($D19,'SRWC RMA'!$F$10:$O$82,3,FALSE)-VLOOKUP($D19,'SRWC RMA'!$F$10:$O$82,2,FALSE))/'SRWC RMA'!$L$4*(Calculations!$V$4-'SRWC RMA'!$J$4))","v":0},null,{"$f":"IF($X$4+$X$5+$X$6=0,0,VLOOKUP($D19,'Stover RMA'!$F$9:$Q$70,2,FALSE)+(VLOOKUP($D19,'Stover RMA'!$F$9:$Q$70,10,FALSE))/'Stover RMA'!$N$4*(Calculations!$X$4-'Stover RMA'!$L$4)+(VLOOKUP($D19,'Stover RMA'!$F$9:$Q$70,11,FALSE))/'Stover RMA'!$N$5*(Calculations!$X$5-'Stover RMA'!$L$5)+(VLOOKUP($D19,'Stover RMA'!$F$9:$Q$70,12,FALSE))/'Stover RMA'!$N$6*($X$6-'Stover RMA'!$L$6))","v":0},null,{"$f":"IF($Z$4=0,0,VLOOKUP($D19,'Corn RMA'!$F$10:$O$82,2,FALSE)+(VLOOKUP($D19,'Corn RMA'!$F$10:$O$82,3,FALSE)-VLOOKUP($D19,'Corn RMA'!$F$10:$O$82,2,FALSE))/'Corn RMA'!$L$4*(Calculations!$Z$4-'Corn RMA'!$J$4))","v":0},null,{"$f":"HLOOKUP(1,'FT Diesel 2'!$H$11:$U$76,'FT Diesel 2'!V63,FALSE)","v":{"$error":"#N/A"}},null,{"$f":"HLOOKUP(1,'Adv Ethanol'!$G$10:$O$79,'Adv Ethanol'!Q53,FALSE)","v":{"$error":"#N/A"}},null,{"$f":"IF($AF$4+$AF$5>0,VLOOKUP(D19,Uranium!$F$10:$K$77,3,FALSE)*Calculations!$AF$4+VLOOKUP(D19,Uranium!$F$10:$K$77,4,FALSE)*$AF$5,0)","v":0},null,{"$f":"IF($AH$4=0,0,VLOOKUP($D19,'U RMT'!$F$9:$U$64,2,FALSE)+(VLOOKUP($D19,'U RMT'!$F$10:$U$64,3,FALSE)-VLOOKUP($D19,'U RMT'!$F$10:$U$64,2,FALSE))/'U RMT'!$U$2*(Calculations!$AH$4-'U RMT'!$O$2))","v":0},null,{"$f":"IF($AJ$4=0,0,VLOOKUP($D19,'U RMT'!$F$9:$U$64,4,FALSE)+(VLOOKUP($D19,'U RMT'!$F$10:$U$64,5,FALSE)-VLOOKUP($D19,'U RMT'!$F$10:$U$64,4,FALSE))/'U RMT'!$U$3*(Calculations!$AJ$4-'U RMT'!$Q$3))","v":0},null,{"$f":"IF($AL$4=0,0,VLOOKUP($D19,'U RMT'!$F$9:$U$64,6,FALSE)+(VLOOKUP($D19,'U RMT'!$F$10:$U$64,7,FALSE)-VLOOKUP($D19,'U RMT'!$F$10:$U$64,6,FALSE))/'U RMT'!$U$4*(Calculations!$AL$4-'U RMT'!$S$4))","v":0},null,{"$f":"IF($AN$4=0,0,VLOOKUP($D19,'Petro Transport'!$F$10:$Z$77,2,FALSE)+(VLOOKUP($D19,'Petro Transport'!$F$10:$Z$77,3,FALSE)-VLOOKUP($D19,'Petro Transport'!$F$10:$Z$77,2,FALSE))/'Petro Transport'!$V$3*(Calculations!$AN$4-'Petro Transport'!$N$3))","v":0},null,{"$f":"IF($AP$4=0,0,VLOOKUP($D19,'Petro Transport'!$F$10:$Z$77,4,FALSE)+(VLOOKUP($D19,'Petro Transport'!$F$10:$Z$77,5,FALSE)-VLOOKUP($D19,'Petro Transport'!$F$10:$Z$77,4,FALSE))/'Petro Transport'!$V$4*(Calculations!$AP$4-'Petro Transport'!$P$4))","v":0},null,{"$f":"IF($AR$4=0,0,VLOOKUP($D19,'Petro Transport'!$F$10:$Z$77,6,FALSE)+(VLOOKUP($D19,'Petro Transport'!$F$10:$Z$77,7,FALSE)-VLOOKUP($D19,'Petro Transport'!$F$10:$Z$77,6,FALSE))/'Petro Transport'!$V$5*(Calculations!$AR$4-'Petro Transport'!$R$5))","v":0},null,{"$f":"IF($AT$4=0,0,VLOOKUP($D19,'Petro Transport'!$F$10:$Z$77,8,FALSE)+(VLOOKUP($D19,'Petro Transport'!$F$10:$Z$77,9,FALSE)-VLOOKUP($D19,'Petro Transport'!$F$10:$Z$77,8,FALSE))/'Petro Transport'!$V$6*(Calculations!$AT$4-'Petro Transport'!$T$6))","v":0},null,{"$f":"VLOOKUP($D19,'Dom Petro'!$F$11:$J$65,3,FALSE)*Calculations!$AV$4+VLOOKUP($D19,'Dom Petro'!$F$11:$J$65,4,FALSE)*Calculations!$AV$5+VLOOKUP($D19,'Dom Petro'!$F$11:$J$65,5,FALSE)*Calculations!$AV$6","v":3.28973792165596E-10},null,{"$f":"VLOOKUP($D19,'For Petro'!$F$9:$K$77,3,FALSE)*Calculations!$AX$3+VLOOKUP($D19,'For Petro'!$F$9:$K$77,4,FALSE)*Calculations!$AX$4+VLOOKUP($D19,'For Petro'!$F$9:$K$77,5,FALSE)*Calculations!$AX$5+VLOOKUP($D19,'For Petro'!$F$9:$K$77,6,FALSE)*$AX$6","v":0},null,{"$f":"IF($AZ$5=1,VLOOKUP($D19,'Petro Ref'!$F$10:$J$77,3,FALSE),0)","v":0},null,{"$f":"IF($BB$5,VLOOKUP($D19,'Petro Ref'!$F$10:$J$77,4,FALSE),0)","v":0},null,{"$f":"IF($BD$5=1,VLOOKUP($D19,'Petro Ref'!$F$10:$J$77,5,FALSE),0)","v":0},null,{"$f":"IF($BF$3+$BF$4+$BF$5=0,0,VLOOKUP($D19,'onshore RMA'!$F$9:$Q$70,2,FALSE)+(VLOOKUP($D19,'onshore RMA'!$F$9:$Q$70,10,FALSE))/'onshore RMA'!$N$4*(Calculations!$BF$3-'onshore RMA'!$L$4)+(VLOOKUP($D19,'onshore RMA'!$F$9:$Q$70,11,FALSE))/'onshore RMA'!$N$5*(Calculations!$BF$4-'onshore RMA'!$L$5)+(VLOOKUP($D19,'onshore RMA'!$F$9:$Q$70,12,FALSE))/'onshore RMA'!$N$6*($BF$5-'onshore RMA'!$L$6))","v":0},null,{"$f":"IF($BH$3+$BH$4+$BH$5=0,0,VLOOKUP($D19,'assoc RMA'!$F$9:$Q$70,2,FALSE)+(VLOOKUP($D19,'assoc RMA'!$F$9:$Q$70,10,FALSE))/'assoc RMA'!$N$4*(Calculations!$BH$3-'assoc RMA'!$L$4)+(VLOOKUP($D19,'assoc RMA'!$F$9:$Q$70,11,FALSE))/'assoc RMA'!$N$5*(Calculations!$BH$4-'assoc RMA'!$L$5)+(VLOOKUP($D19,'assoc RMA'!$F$9:$Q$70,12,FALSE))/'assoc RMA'!$N$6*($BH$5-'assoc RMA'!$L$6))","v":0},null,{"$f":"IF($BJ$3+$BJ$4+$BJ$5=0,0,VLOOKUP($D19,'offshore RMA'!$F$9:$Q$70,2,FALSE)+(VLOOKUP($D19,'offshore RMA'!$F$9:$Q$70,10,FALSE))/'offshore RMA'!$N$4*(Calculations!$BJ$3-'offshore RMA'!$L$4)+(VLOOKUP($D19,'offshore RMA'!$F$9:$Q$70,11,FALSE))/'offshore RMA'!$N$5*(Calculations!$BJ$4-'offshore RMA'!$L$5)+(VLOOKUP($D19,'offshore RMA'!$F$9:$Q$70,12,FALSE))/'offshore RMA'!$N$6*($BJ$5-'offshore RMA'!$L$6))","v":0},null,{"$f":"IF($BL$3+$BL$4+$BL$5=0,0,VLOOKUP($D19,'barnett RMA'!$F$9:$Q$70,2,FALSE)+(VLOOKUP($D19,'barnett RMA'!$F$9:$Q$70,10,FALSE))/'barnett RMA'!$N$4*(Calculations!$BL$3-'barnett RMA'!$L$4)+(VLOOKUP($D19,'barnett RMA'!$F$9:$Q$70,11,FALSE))/'barnett RMA'!$N$5*(Calculations!$BL$4-'barnett RMA'!$L$5)+(VLOOKUP($D19,'barnett RMA'!$F$9:$Q$70,12,FALSE))/'barnett RMA'!$N$6*($BL$5-'barnett RMA'!$L$6))","v":0},null,{"$f":"IF($BN$3+$BN$4+$BN$5=0,0,VLOOKUP($D19,'cbm RMA'!$F$9:$Q$70,2,FALSE)+(VLOOKUP($D19,'cbm RMA'!$F$9:$Q$70,10,FALSE))/'cbm RMA'!$N$4*(Calculations!$BN$3-'cbm RMA'!$L$4)+(VLOOKUP($D19,'cbm RMA'!$F$9:$Q$70,11,FALSE))/'cbm RMA'!$N$5*(Calculations!$BN$4-'cbm RMA'!$L$5)+(VLOOKUP($D19,'cbm RMA'!$F$9:$Q$70,12,FALSE))/'cbm RMA'!$N$6*($BN$5-'cbm RMA'!$L$6))","v":0},null,{"$f":"IF($BP$3+$BP$4+$BP$5=0,0,VLOOKUP($D19,'Marc RMA'!$F$9:$Q$70,2,FALSE)+(VLOOKUP($D19,'Marc RMA'!$F$9:$Q$70,10,FALSE))/'Marc RMA'!$N$4*(Calculations!$BP$3-'Marc RMA'!$L$4)+(VLOOKUP($D19,'Marc RMA'!$F$9:$Q$70,11,FALSE))/'Marc RMA'!$N$5*(Calculations!$BP$4-'Marc RMA'!$L$5)+(VLOOKUP($D19,'Marc RMA'!$F$9:$Q$70,12,FALSE))/'Marc RMA'!$N$6*($BP$5-'Marc RMA'!$L$6))","v":0},null,{"$f":"IF($BR$3+$BR$4+$BR$5=0,0,VLOOKUP($D19,'LNG RMA'!$F$9:$Q$70,2,FALSE)+(VLOOKUP($D19,'LNG RMA'!$F$9:$Q$70,10,FALSE))/'LNG RMA'!$N$4*(Calculations!$BR$3-'LNG RMA'!$L$4)+(VLOOKUP($D19,'LNG RMA'!$F$9:$Q$70,11,FALSE))/'LNG RMA'!$N$5*(Calculations!$BR$4-'LNG RMA'!$L$5)+(VLOOKUP($D19,'LNG RMA'!$F$9:$Q$70,12,FALSE))/'LNG RMA'!$N$6*($BR$5-'LNG RMA'!$L$6))","v":0},null,{"$f":"IF($BT$3+$BT$4+$BT$5=0,0,VLOOKUP($D19,'tight RMA'!$F$9:$Q$70,2,FALSE)+(VLOOKUP($D19,'tight RMA'!$F$9:$Q$70,10,FALSE))/'tight RMA'!$N$4*(Calculations!$BT$3-'tight RMA'!$L$4)+(VLOOKUP($D19,'tight RMA'!$F$9:$Q$70,11,FALSE))/'tight RMA'!$N$5*(Calculations!$BT$4-'tight RMA'!$L$5)+(VLOOKUP($D19,'tight RMA'!$F$9:$Q$70,12,FALSE))/'tight RMA'!$N$6*($BT$5-'tight RMA'!$L$6))","v":0},null,{"$f":"IF($BV$3+$BV$4+$BV$5=0,0,VLOOKUP($D19,'mix RMA'!$F$9:$Q$70,2,FALSE)+(VLOOKUP($D19,'mix RMA'!$F$9:$Q$70,10,FALSE))/'mix RMA'!$N$4*(Calculations!$BV$3-'mix RMA'!$L$4)+(VLOOKUP($D19,'mix RMA'!$F$9:$Q$70,11,FALSE))/'mix RMA'!$N$5*(Calculations!$BV$4-'mix RMA'!$L$5)+(VLOOKUP($D19,'mix RMA'!$F$9:$Q$70,12,FALSE))/'mix RMA'!$N$6*($BV$5-'mix RMA'!$L$6))","v":3.5311343794822121E-12}]
[null,13,"Non Methane VOC (kg)","Group NMVOC to air",null,{"$f":"IF($F$4=0,0,VLOOKUP($D20,'I6 RMA'!$F$10:$O$82,2,FALSE)+(VLOOKUP($D20,'I6 RMA'!$F$10:$O$82,3,FALSE)-VLOOKUP($D20,'I6 RMA'!$F$10:$O$82,2,FALSE))/'I6 RMA'!$L$4*(Calculations!$F$4-'I6 RMA'!$J$4))","v":6.3490117260985863E-6},null,{"$f":"IF($H$4=0,0,VLOOKUP($D20,'PRB RMA'!$F$10:$O$82,2,FALSE)+(VLOOKUP($D20,'PRB RMA'!$F$10:$O$82,3,FALSE)-VLOOKUP($D20,'PRB RMA'!$F$10:$O$82,2,FALSE))/'PRB RMA'!$L$4*(Calculations!$H$4-'PRB RMA'!$J$4))","v":0},null,{"$f":"IF($J$4=0,0,VLOOKUP($D20,'Coal TrainRMT'!$F$10:$O$82,2,FALSE)+(VLOOKUP($D20,'Coal TrainRMT'!$F$10:$O$82,3,FALSE)-VLOOKUP($D20,'Coal TrainRMT'!$F$10:$O$82,2,FALSE))/'Coal TrainRMT'!$L$4*(Calculations!$J$4-'Coal TrainRMT'!$J$4))","v":2.5091015699817501E-6},null,{"$f":"IF($L$4+$L$5+$L$6=0,0,VLOOKUP($D20,#REF!,2,FALSE)+(VLOOKUP($D20,#REF!,6,FALSE)/#REF!*(#REF!-#REF!)+(VLOOKUP($D20,#REF!,8,FALSE))/#REF!*(#REF!-#REF!)+(VLOOKUP($D20,#REF!,10,FALSE))/#REF!*($L$6-#REF!)))","v":{"$error":"#REF!"}},null,{"$f":"IF($N$4=0,0,VLOOKUP($D20,'NG Pipeline RMT'!$F$10:$O$82,2,FALSE)+(VLOOKUP($D20,'NG Pipeline RMT'!$F$10:$O$82,3,FALSE)-VLOOKUP($D20,'NG Pipeline RMT'!$F$10:$O$82,2,FALSE))/'NG Pipeline RMT'!$L$4*(Calculations!$N$4-'NG Pipeline RMT'!$J$4))","v":0},null,{"$f":"IF($P$4=0,0,VLOOKUP($D20,'SG RMA'!$F$10:$O$82,2,FALSE)+(VLOOKUP($D20,'SG RMA'!$F$10:$O$82,3,FALSE)-VLOOKUP($D20,'SG RMA'!$F$10:$O$82,2,FALSE))/'SG RMA'!$L$4*(Calculations!$P$4-'SG RMA'!$J$4))","v":0},null,{"$f":"IF($R$4=0,0,VLOOKUP($D20,'Bale Truck RMT'!$F$10:$O$82,2,FALSE)+(VLOOKUP($D20,'Bale Truck RMT'!$F$10:$O$82,3,FALSE)-VLOOKUP($D20,'Bale Truck RMT'!$F$10:$O$82,2,FALSE))/'Bale Truck RMT'!$L$4*(Calculations!$R$4-'Bale Truck RMT'!$J$4))","v":0},null,{"$f":"IF($T$4=0,0,VLOOKUP($D20,'Cont Truck RMT'!$F$10:$O$82,2,FALSE)+(VLOOKUP($D20,'Cont Truck RMT'!$F$10:$O$82,3,FALSE)-VLOOKUP($D20,'Cont Truck RMT'!$F$10:$O$82,2,FALSE))/'Cont Truck RMT'!$L$4*(Calculations!$T$4-'Cont Truck RMT'!$J$4))","v":0},null,{"$f":"IF($V$4=0,0,VLOOKUP($D20,'SRWC RMA'!$F$10:$O$82,2,FALSE)+(VLOOKUP($D20,'SRWC RMA'!$F$10:$O$82,3,FALSE)-VLOOKUP($D20,'SRWC RMA'!$F$10:$O$82,2,FALSE))/'SRWC RMA'!$L$4*(Calculations!$V$4-'SRWC RMA'!$J$4))","v":0},null,{"$f":"IF($X$4+$X$5+$X$6=0,0,VLOOKUP($D20,'Stover RMA'!$F$9:$Q$70,2,FALSE)+(VLOOKUP($D20,'Stover RMA'!$F$9:$Q$70,10,FALSE))/'Stover RMA'!$N$4*(Calculations!$X$4-'Stover RMA'!$L$4)+(VLOOKUP($D20,'Stover RMA'!$F$9:$Q$70,11,FALSE))/'Stover RMA'!$N$5*(Calculations!$X$5-'Stover RMA'!$L$5)+(VLOOKUP($D20,'Stover RMA'!$F$9:$Q$70,12,FALSE))/'Stover RMA'!$N$6*($X$6-'Stover RMA'!$L$6))","v":0},null,{"$f":"IF($Z$4=0,0,VLOOKUP($D20,'Corn RMA'!$F$10:$O$82,2,FALSE)+(VLOOKUP($D20,'Corn RMA'!$F$10:$O$82,3,FALSE)-VLOOKUP($D20,'Corn RMA'!$F$10:$O$82,2,FALSE))/'Corn RMA'!$L$4*(Calculations!$Z$4-'Corn RMA'!$J$4))","v":0},null,{"$f":"HLOOKUP(1,'FT Diesel 2'!$H$11:$U$76,'FT Diesel 2'!V59,FALSE)","v":{"$error":"#N/A"}},null,{"$f":"HLOOKUP(1,'Adv Ethanol'!$G$10:$O$79,'Adv Ethanol'!Q49,FALSE)","v":{"$error":"#N/A"}},null,{"$f":"IF($AF$4+$AF$5>0,VLOOKUP(D20,Uranium!$F$10:$K$77,3,FALSE)*Calculations!$AF$4+VLOOKUP(D20,Uranium!$F$10:$K$77,4,FALSE)*$AF$5,0)","v":0},null,{"$f":"IF($AH$4=0,0,VLOOKUP($D20,'U RMT'!$F$9:$U$64,2,FALSE)+(VLOOKUP($D20,'U RMT'!$F$10:$U$64,3,FALSE)-VLOOKUP($D20,'U RMT'!$F$10:$U$64,2,FALSE))/'U RMT'!$U$2*(Calculations!$AH$4-'U RMT'!$O$2))","v":0},null,{"$f":"IF($AJ$4=0,0,VLOOKUP($D20,'U RMT'!$F$9:$U$64,4,FALSE)+(VLOOKUP($D20,'U RMT'!$F$10:$U$64,5,FALSE)-VLOOKUP($D20,'U RMT'!$F$10:$U$64,4,FALSE))/'U RMT'!$U$3*(Calculations!$AJ$4-'U RMT'!$Q$3))","v":0},null,{"$f":"IF($AL$4=0,0,VLOOKUP($D20,'U RMT'!$F$9:$U$64,6,FALSE)+(VLOOKUP($D20,'U RMT'!$F$10:$U$64,7,FALSE)-VLOOKUP($D20,'U RMT'!$F$10:$U$64,6,FALSE))/'U RMT'!$U$4*(Calculations!$AL$4-'U RMT'!$S$4))","v":0},null,{"$f":"IF($AN$4=0,0,VLOOKUP($D20,'Petro Transport'!$F$10:$Z$77,2,FALSE)+(VLOOKUP($D20,'Petro Transport'!$F$10:$Z$77,3,FALSE)-VLOOKUP($D20,'Petro Transport'!$F$10:$Z$77,2,FALSE))/'Petro Transport'!$V$3*(Calculations!$AN$4-'Petro Transport'!$N$3))","v":0},null,{"$f":"IF($AP$4=0,0,VLOOKUP($D20,'Petro Transport'!$F$10:$Z$77,4,FALSE)+(VLOOKUP($D20,'Petro Transport'!$F$10:$Z$77,5,FALSE)-VLOOKUP($D20,'Petro Transport'!$F$10:$Z$77,4,FALSE))/'Petro Transport'!$V$4*(Calculations!$AP$4-'Petro Transport'!$P$4))","v":0},null,{"$f":"IF($AR$4=0,0,VLOOKUP($D20,'Petro Transport'!$F$10:$Z$77,6,FALSE)+(VLOOKUP($D20,'Petro Transport'!$F$10:$Z$77,7,FALSE)-VLOOKUP($D20,'Petro Transport'!$F$10:$Z$77,6,FALSE))/'Petro Transport'!$V$5*(Calculations!$AR$4-'Petro Transport'!$R$5))","v":0},null,{"$f":"IF($AT$4=0,0,VLOOKUP($D20,'Petro Transport'!$F$10:$Z$77,8,FALSE)+(VLOOKUP($D20,'Petro Transport'!$F$10:$Z$77,9,FALSE)-VLOOKUP($D20,'Petro Transport'!$F$10:$Z$77,8,FALSE))/'Petro Transport'!$V$6*(Calculations!$AT$4-'Petro Transport'!$T$6))","v":0},null,{"$f":"VLOOKUP($D20,'Dom Petro'!$F$11:$J$65,3,FALSE)*Calculations!$AV$4+VLOOKUP($D20,'Dom Petro'!$F$11:$J$65,4,FALSE)*Calculations!$AV$5+VLOOKUP($D20,'Dom Petro'!$F$11:$J$65,5,FALSE)*Calculations!$AV$6","v":1.8263450560966599E-4},null,{"$f":"VLOOKUP($D20,'For Petro'!$F$9:$K$77,3,FALSE)*Calculations!$AX$3+VLOOKUP($D20,'For Petro'!$F$9:$K$77,4,FALSE)*Calculations!$AX$4+VLOOKUP($D20,'For Petro'!$F$9:$K$77,5,FALSE)*Calculations!$AX$5+VLOOKUP($D20,'For Petro'!$F$9:$K$77,6,FALSE)*$AX$6","v":0},null,{"$f":"IF($AZ$5=1,VLOOKUP($D20,'Petro Ref'!$F$10:$J$77,3,FALSE),0)","v":0},null,{"$f":"IF($BB$5,VLOOKUP($D20,'Petro Ref'!$F$10:$J$77,4,FALSE),0)","v":0},null,{"$f":"IF($BD$5=1,VLOOKUP($D20,'Petro Ref'!$F$10:$J$77,5,FALSE),0)","v":0},null,{"$f":"IF($BF$3+$BF$4+$BF$5=0,0,VLOOKUP($D20,'onshore RMA'!$F$9:$Q$70,2,FALSE)+(VLOOKUP($D20,'onshore RMA'!$F$9:$Q$70,10,FALSE))/'onshore RMA'!$N$4*(Calculations!$BF$3-'onshore RMA'!$L$4)+(VLOOKUP($D20,'onshore RMA'!$F$9:$Q$70,11,FALSE))/'onshore RMA'!$N$5*(Calculations!$BF$4-'onshore RMA'!$L$5)+(VLOOKUP($D20,'onshore RMA'!$F$9:$Q$70,12,FALSE))/'onshore RMA'!$N$6*($BF$5-'onshore RMA'!$L$6))","v":0},null,{"$f":"IF($BH$3+$BH$4+$BH$5=0,0,VLOOKUP($D20,'assoc RMA'!$F$9:$Q$70,2,FALSE)+(VLOOKUP($D20,'assoc RMA'!$F$9:$Q$70,10,FALSE))/'assoc RMA'!$N$4*(Calculations!$BH$3-'assoc RMA'!$L$4)+(VLOOKUP($D20,'assoc RMA'!$F$9:$Q$70,11,FALSE))/'assoc RMA'!$N$5*(Calculations!$BH$4-'assoc RMA'!$L$5)+(VLOOKUP($D20,'assoc RMA'!$F$9:$Q$70,12,FALSE))/'assoc RMA'!$N$6*($BH$5-'assoc RMA'!$L$6))","v":0},null,{"$f":"IF($BJ$3+$BJ$4+$BJ$5=0,0,VLOOKUP($D20,'offshore RMA'!$F$9:$Q$70,2,FALSE)+(VLOOKUP($D20,'offshore RMA'!$F$9:$Q$70,10,FALSE))/'offshore RMA'!$N$4*(Calculations!$BJ$3-'offshore RMA'!$L$4)+(VLOOKUP($D20,'offshore RMA'!$F$9:$Q$70,11,FALSE))/'offshore RMA'!$N$5*(Calculations!$BJ$4-'offshore RMA'!$L$5)+(VLOOKUP($D20,'offshore RMA'!$F$9:$Q$70,12,FALSE))/'offshore RMA'!$N$6*($BJ$5-'offshore RMA'!$L$6))","v":0},null,{"$f":"IF($BL$3+$BL$4+$BL$5=0,0,VLOOKUP($D20,'barnett RMA'!$F$9:$Q$70,2,FALSE)+(VLOOKUP($D20,'barnett RMA'!$F$9:$Q$70,10,FALSE))/'barnett RMA'!$N$4*(Calculations!$BL$3-'barnett RMA'!$L$4)+(VLOOKUP($D20,'barnett RMA'!$F$9:$Q$70,11,FALSE))/'barnett RMA'!$N$5*(Calculations!$BL$4-'barnett RMA'!$L$5)+(VLOOKUP($D20,'barnett RMA'!$F$9:$Q$70,12,FALSE))/'barnett RMA'!$N$6*($BL$5-'barnett RMA'!$L$6))","v":0},null,{"$f":"IF($BN$3+$BN$4+$BN$5=0,0,VLOOKUP($D20,'cbm RMA'!$F$9:$Q$70,2,FALSE)+(VLOOKUP($D20,'cbm RMA'!$F$9:$Q$70,10,FALSE))/'cbm RMA'!$N$4*(Calculations!$BN$3-'cbm RMA'!$L$4)+(VLOOKUP($D20,'cbm RMA'!$F$9:$Q$70,11,FALSE))/'cbm RMA'!$N$5*(Calculations!$BN$4-'cbm RMA'!$L$5)+(VLOOKUP($D20,'cbm RMA'!$F$9:$Q$70,12,FALSE))/'cbm RMA'!$N$6*($BN$5-'cbm RMA'!$L$6))","v":0},null,{"$f":"IF($BP$3+$BP$4+$BP$5=0,0,VLOOKUP($D20,'Marc RMA'!$F$9:$Q$70,2,FALSE)+(VLOOKUP($D20,'Marc RMA'!$F$9:$Q$70,10,FALSE))/'Marc RMA'!$N$4*(Calculations!$BP$3-'Marc RMA'!$L$4)+(VLOOKUP($D20,'Marc RMA'!$F$9:$Q$70,11,FALSE))/'Marc RMA'!$N$5*(Calculations!$BP$4-'Marc RMA'!$L$5)+(VLOOKUP($D20,'Marc RMA'!$F$9:$Q$70,12,FALSE))/'Marc RMA'!$N$6*($BP$5-'Marc RMA'!$L$6))","v":0},null,{"$f":"IF($BR$3+$BR$4+$BR$5=0,0,VLOOKUP($D20,'LNG RMA'!$F$9:$Q$70,2,FALSE)+(VLOOKUP($D20,'LNG RMA'!$F$9:$Q$70,10,FALSE))/'LNG RMA'!$N$4*(Calculations!$BR$3-'LNG RMA'!$L$4)+(VLOOKUP($D20,'LNG RMA'!$F$9:$Q$70,11,FALSE))/'LNG RMA'!$N$5*(Calculations!$BR$4-'LNG RMA'!$L$5)+(VLOOKUP($D20,'LNG RMA'!$F$9:$Q$70,12,FALSE))/'LNG RMA'!$N$6*($BR$5-'LNG RMA'!$L$6))","v":0},null,{"$f":"IF($BT$3+$BT$4+$BT$5=0,0,VLOOKUP($D20,'tight RMA'!$F$9:$Q$70,2,FALSE)+(VLOOKUP($D20,'tight RMA'!$F$9:$Q$70,10,FALSE))/'tight RMA'!$N$4*(Calculations!$BT$3-'tight RMA'!$L$4)+(VLOOKUP($D20,'tight RMA'!$F$9:$Q$70,11,FALSE))/'tight RMA'!$N$5*(Calculations!$BT$4-'tight RMA'!$L$5)+(VLOOKUP($D20,'tight RMA'!$F$9:$Q$70,12,FALSE))/'tight RMA'!$N$6*($BT$5-'tight RMA'!$L$6))","v":0},null,{"$f":"IF($BV$3+$BV$4+$BV$5=0,0,VLOOKUP($D20,'mix RMA'!$F$9:$Q$70,2,FALSE)+(VLOOKUP($D20,'mix RMA'!$F$9:$Q$70,10,FALSE))/'mix RMA'!$N$4*(Calculations!$BV$3-'mix RMA'!$L$4)+(VLOOKUP($D20,'mix RMA'!$F$9:$Q$70,11,FALSE))/'mix RMA'!$N$5*(Calculations!$BV$4-'mix RMA'!$L$5)+(VLOOKUP($D20,'mix RMA'!$F$9:$Q$70,12,FALSE))/'mix RMA'!$N$6*($BV$5-'mix RMA'!$L$6))","v":2.5680161509500144E-3}]
["Solid Waste",14,"Heavy Metals to Soil (kg)","Heavy metals to industrial soil",null,{"$f":"IF($F$4=0,0,VLOOKUP($D21,'I6 RMA'!$F$10:$O$82,2,FALSE)+(VLOOKUP($D21,'I6 RMA'!$F$10:$O$82,3,FALSE)-VLOOKUP($D21,'I6 RMA'!$F$10:$O$82,2,FALSE))/'I6 RMA'!$L$4*(Calculations!$F$4-'I6 RMA'!$J$4))","v":1.4862560294175099E-4},null,{"$f":"IF($H$4=0,0,VLOOKUP($D21,'PRB RMA'!$F$10:$O$82,2,FALSE)+(VLOOKUP($D21,'PRB RMA'!$F$10:$O$82,3,FALSE)-VLOOKUP($D21,'PRB RMA'!$F$10:$O$82,2,FALSE))/'PRB RMA'!$L$4*(Calculations!$H$4-'PRB RMA'!$J$4))","v":0},null,{"$f":"IF($J$4=0,0,VLOOKUP($D21,'Coal TrainRMT'!$F$10:$O$82,2,FALSE)+(VLOOKUP($D21,'Coal TrainRMT'!$F$10:$O$82,3,FALSE)-VLOOKUP($D21,'Coal TrainRMT'!$F$10:$O$82,2,FALSE))/'Coal TrainRMT'!$L$4*(Calculations!$J$4-'Coal TrainRMT'!$J$4))","v":1.4515972489588299E-8},null,{"$f":"IF($L$4+$L$5+$L$6=0,0,VLOOKUP($D21,#REF!,2,FALSE)+(VLOOKUP($D21,#REF!,6,FALSE)/#REF!*(#REF!-#REF!)+(VLOOKUP($D21,#REF!,8,FALSE))/#REF!*(#REF!-#REF!)+(VLOOKUP($D21,#REF!,10,FALSE))/#REF!*($L$6-#REF!)))","v":{"$error":"#REF!"}},null,{"$f":"IF($N$4=0,0,VLOOKUP($D21,'NG Pipeline RMT'!$F$10:$O$82,2,FALSE)+(VLOOKUP($D21,'NG Pipeline RMT'!$F$10:$O$82,3,FALSE)-VLOOKUP($D21,'NG Pipeline RMT'!$F$10:$O$82,2,FALSE))/'NG Pipeline RMT'!$L$4*(Calculations!$N$4-'NG Pipeline RMT'!$J$4))","v":0},null,{"$f":"IF($P$4=0,0,VLOOKUP($D21,'SG RMA'!$F$10:$O$82,2,FALSE)+(VLOOKUP($D21,'SG RMA'!$F$10:$O$82,3,FALSE)-VLOOKUP($D21,'SG RMA'!$F$10:$O$82,2,FALSE))/'SG RMA'!$L$4*(Calculations!$P$4-'SG RMA'!$J$4))","v":0},null,{"$f":"IF($R$4=0,0,VLOOKUP($D21,'Bale Truck RMT'!$F$10:$O$82,2,FALSE)+(VLOOKUP($D21,'Bale Truck RMT'!$F$10:$O$82,3,FALSE)-VLOOKUP($D21,'Bale Truck RMT'!$F$10:$O$82,2,FALSE))/'Bale Truck RMT'!$L$4*(Calculations!$R$4-'Bale Truck RMT'!$J$4))","v":0},null,{"$f":"IF($T$4=0,0,VLOOKUP($D21,'Cont Truck RMT'!$F$10:$O$82,2,FALSE)+(VLOOKUP($D21,'Cont Truck RMT'!$F$10:$O$82,3,FALSE)-VLOOKUP($D21,'Cont Truck RMT'!$F$10:$O$82,2,FALSE))/'Cont Truck RMT'!$L$4*(Calculations!$T$4-'Cont Truck RMT'!$J$4))","v":0},null,{"$f":"IF($V$4=0,0,VLOOKUP($D21,'SRWC RMA'!$F$10:$O$82,2,FALSE)+(VLOOKUP($D21,'SRWC RMA'!$F$10:$O$82,3,FALSE)-VLOOKUP($D21,'SRWC RMA'!$F$10:$O$82,2,FALSE))/'SRWC RMA'!$L$4*(Calculations!$V$4-'SRWC RMA'!$J$4))","v":0},null,{"$f":"IF($X$4+$X$5+$X$6=0,0,VLOOKUP($D21,'Stover RMA'!$F$9:$Q$70,2,FALSE)+(VLOOKUP($D21,'Stover RMA'!$F$9:$Q$70,10,FALSE))/'Stover RMA'!$N$4*(Calculations!$X$4-'Stover RMA'!$L$4)+(VLOOKUP($D21,'Stover RMA'!$F$9:$Q$70,11,FALSE))/'Stover RMA'!$N$5*(Calculations!$X$5-'Stover RMA'!$L$5)+(VLOOKUP($D21,'Stover RMA'!$F$9:$Q$70,12,FALSE))/'Stover RMA'!$N$6*($X$6-'Stover RMA'!$L$6))","v":0},null,{"$f":"IF($Z$4=0,0,VLOOKUP($D21,'Corn RMA'!$F$10:$O$82,2,FALSE)+(VLOOKUP($D21,'Corn RMA'!$F$10:$O$82,3,FALSE)-VLOOKUP($D21,'Corn RMA'!$F$10:$O$82,2,FALSE))/'Corn RMA'!$L$4*(Calculations!$Z$4-'Corn RMA'!$J$4))","v":0},null,{"$f":"HLOOKUP(1,'FT Diesel 2'!$H$11:$U$76,'FT Diesel 2'!V76,FALSE)","v":{"$error":"#N/A"}},null,{"$f":"HLOOKUP(1,'Adv Ethanol'!$G$10:$O$79,'Adv Ethanol'!Q66,FALSE)","v":{"$error":"#N/A"}},null,{"$f":"IF($AF$4+$AF$5>0,VLOOKUP(D21,Uranium!$F$10:$K$77,3,FALSE)*Calculations!$AF$4+VLOOKUP(D21,Uranium!$F$10:$K$77,4,FALSE)*$AF$5,0)","v":0},null,{"$f":"IF($AH$4=0,0,VLOOKUP($D21,'U RMT'!$F$9:$U$64,2,FALSE)+(VLOOKUP($D21,'U RMT'!$F$10:$U$64,3,FALSE)-VLOOKUP($D21,'U RMT'!$F$10:$U$64,2,FALSE))/'U RMT'!$U$2*(Calculations!$AH$4-'U RMT'!$O$2))","v":0},null,{"$f":"IF($AJ$4=0,0,VLOOKUP($D21,'U RMT'!$F$9:$U$64,4,FALSE)+(VLOOKUP($D21,'U RMT'!$F$10:$U$64,5,FALSE)-VLOOKUP($D21,'U RMT'!$F$10:$U$64,4,FALSE))/'U RMT'!$U$3*(Calculations!$AJ$4-'U RMT'!$Q$3))","v":0},null,{"$f":"IF($AL$4=0,0,VLOOKUP($D21,'U RMT'!$F$9:$U$64,6,FALSE)+(VLOOKUP($D21,'U RMT'!$F$10:$U$64,7,FALSE)-VLOOKUP($D21,'U RMT'!$F$10:$U$64,6,FALSE))/'U RMT'!$U$4*(Calculations!$AL$4-'U RMT'!$S$4))","v":0},null,{"$f":"IF($AN$4=0,0,VLOOKUP($D21,'Petro Transport'!$F$10:$Z$77,2,FALSE)+(VLOOKUP($D21,'Petro Transport'!$F$10:$Z$77,3,FALSE)-VLOOKUP($D21,'Petro Transport'!$F$10:$Z$77,2,FALSE))/'Petro Transport'!$V$3*(Calculations!$AN$4-'Petro Transport'!$N$3))","v":0},null,{"$f":"IF($AP$4=0,0,VLOOKUP($D21,'Petro Transport'!$F$10:$Z$77,4,FALSE)+(VLOOKUP($D21,'Petro Transport'!$F$10:$Z$77,5,FALSE)-VLOOKUP($D21,'Petro Transport'!$F$10:$Z$77,4,FALSE))/'Petro Transport'!$V$4*(Calculations!$AP$4-'Petro Transport'!$P$4))","v":0},null,{"$f":"IF($AR$4=0,0,VLOOKUP($D21,'Petro Transport'!$F$10:$Z$77,6,FALSE)+(VLOOKUP($D21,'Petro Transport'!$F$10:$Z$77,7,FALSE)-VLOOKUP($D21,'Petro Transport'!$F$10:$Z$77,6,FALSE))/'Petro Transport'!$V$5*(Calculations!$AR$4-'Petro Transport'!$R$5))","v":0},null,{"$f":"IF($AT$4=0,0,VLOOKUP($D21,'Petro Transport'!$F$10:$Z$77,8,FALSE)+(VLOOKUP($D21,'Petro Transport'!$F$10:$Z$77,9,FALSE)-VLOOKUP($D21,'Petro Transport'!$F$10:$Z$77,8,FALSE))/'Petro Transport'!$V$6*(Calculations!$AT$4-'Petro Transport'!$T$6))","v":0},null,{"$f":"VLOOKUP($D21,'Dom Petro'!$F$11:$J$65,3,FALSE)*Calculations!$AV$4+VLOOKUP($D21,'Dom Petro'!$F$11:$J$65,4,FALSE)*Calculations!$AV$5+VLOOKUP($D21,'Dom Petro'!$F$11:$J$65,5,FALSE)*Calculations!$AV$6","v":7.5599640476559603E-6},null,{"$f":"VLOOKUP($D21,'For Petro'!$F$9:$K$77,3,FALSE)*Calculations!$AX$3+VLOOKUP($D21,'For Petro'!$F$9:$K$77,4,FALSE)*Calculations!$AX$4+VLOOKUP($D21,'For Petro'!$F$9:$K$77,5,FALSE)*Calculations!$AX$5+VLOOKUP($D21,'For Petro'!$F$9:$K$77,6,FALSE)*$AX$6","v":0},null,{"$f":"IF($AZ$5=1,VLOOKUP($D21,'Petro Ref'!$F$10:$J$77,3,FALSE),0)","v":0},null,{"$f":"IF($BB$5,VLOOKUP($D21,'Petro Ref'!$F$10:$J$77,4,FALSE),0)","v":0},null,{"$f":"IF($BD$5=1,VLOOKUP($D21,'Petro Ref'!$F$10:$J$77,5,FALSE),0)","v":0},null,{"$f":"IF($BF$3+$BF$4+$BF$5=0,0,VLOOKUP($D21,'onshore RMA'!$F$9:$Q$70,2,FALSE)+(VLOOKUP($D21,'onshore RMA'!$F$9:$Q$70,10,FALSE))/'onshore RMA'!$N$4*(Calculations!$BF$3-'onshore RMA'!$L$4)+(VLOOKUP($D21,'onshore RMA'!$F$9:$Q$70,11,FALSE))/'onshore RMA'!$N$5*(Calculations!$BF$4-'onshore RMA'!$L$5)+(VLOOKUP($D21,'onshore RMA'!$F$9:$Q$70,12,FALSE))/'onshore RMA'!$N$6*($BF$5-'onshore RMA'!$L$6))","v":0},null,{"$f":"IF($BH$3+$BH$4+$BH$5=0,0,VLOOKUP($D21,'assoc RMA'!$F$9:$Q$70,2,FALSE)+(VLOOKUP($D21,'assoc RMA'!$F$9:$Q$70,10,FALSE))/'assoc RMA'!$N$4*(Calculations!$BH$3-'assoc RMA'!$L$4)+(VLOOKUP($D21,'assoc RMA'!$F$9:$Q$70,11,FALSE))/'assoc RMA'!$N$5*(Calculations!$BH$4-'assoc RMA'!$L$5)+(VLOOKUP($D21,'assoc RMA'!$F$9:$Q$70,12,FALSE))/'assoc RMA'!$N$6*($BH$5-'assoc RMA'!$L$6))","v":0},null,{"$f":"IF($BJ$3+$BJ$4+$BJ$5=0,0,VLOOKUP($D21,'offshore RMA'!$F$9:$Q$70,2,FALSE)+(VLOOKUP($D21,'offshore RMA'!$F$9:$Q$70,10,FALSE))/'offshore RMA'!$N$4*(Calculations!$BJ$3-'offshore RMA'!$L$4)+(VLOOKUP($D21,'offshore RMA'!$F$9:$Q$70,11,FALSE))/'offshore RMA'!$N$5*(Calculations!$BJ$4-'offshore RMA'!$L$5)+(VLOOKUP($D21,'offshore RMA'!$F$9:$Q$70,12,FALSE))/'offshore RMA'!$N$6*($BJ$5-'offshore RMA'!$L$6))","v":0},null,{"$f":"IF($BL$3+$BL$4+$BL$5=0,0,VLOOKUP($D21,'barnett RMA'!$F$9:$Q$70,2,FALSE)+(VLOOKUP($D21,'barnett RMA'!$F$9:$Q$70,10,FALSE))/'barnett RMA'!$N$4*(Calculations!$BL$3-'barnett RMA'!$L$4)+(VLOOKUP($D21,'barnett RMA'!$F$9:$Q$70,11,FALSE))/'barnett RMA'!$N$5*(Calculations!$BL$4-'barnett RMA'!$L$5)+(VLOOKUP($D21,'barnett RMA'!$F$9:$Q$70,12,FALSE))/'barnett RMA'!$N$6*($BL$5-'barnett RMA'!$L$6))","v":0},null,{"$f":"IF($BN$3+$BN$4+$BN$5=0,0,VLOOKUP($D21,'cbm RMA'!$F$9:$Q$70,2,FALSE)+(VLOOKUP($D21,'cbm RMA'!$F$9:$Q$70,10,FALSE))/'cbm RMA'!$N$4*(Calculations!$BN$3-'cbm RMA'!$L$4)+(VLOOKUP($D21,'cbm RMA'!$F$9:$Q$70,11,FALSE))/'cbm RMA'!$N$5*(Calculations!$BN$4-'cbm RMA'!$L$5)+(VLOOKUP($D21,'cbm RMA'!$F$9:$Q$70,12,FALSE))/'cbm RMA'!$N$6*($BN$5-'cbm RMA'!$L$6))","v":0},null,{"$f":"IF($BP$3+$BP$4+$BP$5=0,0,VLOOKUP($D21,'Marc RMA'!$F$9:$Q$70,2,FALSE)+(VLOOKUP($D21,'Marc RMA'!$F$9:$Q$70,10,FALSE))/'Marc RMA'!$N$4*(Calculations!$BP$3-'Marc RMA'!$L$4)+(VLOOKUP($D21,'Marc RMA'!$F$9:$Q$70,11,FALSE))/'Marc RMA'!$N$5*(Calculations!$BP$4-'Marc RMA'!$L$5)+(VLOOKUP($D21,'Marc RMA'!$F$9:$Q$70,12,FALSE))/'Marc RMA'!$N$6*($BP$5-'Marc RMA'!$L$6))","v":0},null,{"$f":"IF($BR$3+$BR$4+$BR$5=0,0,VLOOKUP($D21,'LNG RMA'!$F$9:$Q$70,2,FALSE)+(VLOOKUP($D21,'LNG RMA'!$F$9:$Q$70,10,FALSE))/'LNG RMA'!$N$4*(Calculations!$BR$3-'LNG RMA'!$L$4)+(VLOOKUP($D21,'LNG RMA'!$F$9:$Q$70,11,FALSE))/'LNG RMA'!$N$5*(Calculations!$BR$4-'LNG RMA'!$L$5)+(VLOOKUP($D21,'LNG RMA'!$F$9:$Q$70,12,FALSE))/'LNG RMA'!$N$6*($BR$5-'LNG RMA'!$L$6))","v":0},null,{"$f":"IF($BT$3+$BT$4+$BT$5=0,0,VLOOKUP($D21,'tight RMA'!$F$9:$Q$70,2,FALSE)+(VLOOKUP($D21,'tight RMA'!$F$9:$Q$70,10,FALSE))/'tight RMA'!$N$4*(Calculations!$BT$3-'tight RMA'!$L$4)+(VLOOKUP($D21,'tight RMA'!$F$9:$Q$70,11,FALSE))/'tight RMA'!$N$5*(Calculations!$BT$4-'tight RMA'!$L$5)+(VLOOKUP($D21,'tight RMA'!$F$9:$Q$70,12,FALSE))/'tight RMA'!$N$6*($BT$5-'tight RMA'!$L$6))","v":0},null,{"$f":"IF($BV$3+$BV$4+$BV$5=0,0,VLOOKUP($D21,'mix RMA'!$F$9:$Q$70,2,FALSE)+(VLOOKUP($D21,'mix RMA'!$F$9:$Q$70,10,FALSE))/'mix RMA'!$N$4*(Calculations!$BV$3-'mix RMA'!$L$4)+(VLOOKUP($D21,'mix RMA'!$F$9:$Q$70,11,FALSE))/'mix RMA'!$N$5*(Calculations!$BV$4-'mix RMA'!$L$5)+(VLOOKUP($D21,'mix RMA'!$F$9:$Q$70,12,FALSE))/'mix RMA'!$N$6*($BV$5-'mix RMA'!$L$6))","v":4.9773207934925327E-5}]
[null,15,"Solid Waste (kg)","Waste (solid)",null,{"$f":"IF($F$4=0,0,VLOOKUP($D22,'I6 RMA'!$F$10:$O$82,2,FALSE)+(VLOOKUP($D22,'I6 RMA'!$F$10:$O$82,3,FALSE)-VLOOKUP($D22,'I6 RMA'!$F$10:$O$82,2,FALSE))/'I6 RMA'!$L$4*(Calculations!$F$4-'I6 RMA'!$J$4))","v":9.1769716288524556E-7},null,{"$f":"IF($H$4=0,0,VLOOKUP($D22,'PRB RMA'!$F$10:$O$82,2,FALSE)+(VLOOKUP($D22,'PRB RMA'!$F$10:$O$82,3,FALSE)-VLOOKUP($D22,'PRB RMA'!$F$10:$O$82,2,FALSE))/'PRB RMA'!$L$4*(Calculations!$H$4-'PRB RMA'!$J$4))","v":0},null,{"$f":"IF($J$4=0,0,VLOOKUP($D22,'Coal TrainRMT'!$F$10:$O$82,2,FALSE)+(VLOOKUP($D22,'Coal TrainRMT'!$F$10:$O$82,3,FALSE)-VLOOKUP($D22,'Coal TrainRMT'!$F$10:$O$82,2,FALSE))/'Coal TrainRMT'!$L$4*(Calculations!$J$4-'Coal TrainRMT'!$J$4))","v":9.0481910629581203E-7},null,{"$f":"IF($L$4+$L$5+$L$6=0,0,VLOOKUP($D22,#REF!,2,FALSE)+(VLOOKUP($D22,#REF!,6,FALSE)/#REF!*(#REF!-#REF!)+(VLOOKUP($D22,#REF!,8,FALSE))/#REF!*(#REF!-#REF!)+(VLOOKUP($D22,#REF!,10,FALSE))/#REF!*($L$6-#REF!)))","v":{"$error":"#REF!"}},null,{"$f":"IF($N$4=0,0,VLOOKUP($D22,'NG Pipeline RMT'!$F$10:$O$82,2,FALSE)+(VLOOKUP($D22,'NG Pipeline RMT'!$F$10:$O$82,3,FALSE)-VLOOKUP($D22,'NG Pipeline RMT'!$F$10:$O$82,2,FALSE))/'NG Pipeline RMT'!$L$4*(Calculations!$N$4-'NG Pipeline RMT'!$J$4))","v":0},null,{"$f":"IF($P$4=0,0,VLOOKUP($D22,'SG RMA'!$F$10:$O$82,2,FALSE)+(VLOOKUP($D22,'SG RMA'!$F$10:$O$82,3,FALSE)-VLOOKUP($D22,'SG RMA'!$F$10:$O$82,2,FALSE))/'SG RMA'!$L$4*(Calculations!$P$4-'SG RMA'!$J$4))","v":0},null,{"$f":"IF($R$4=0,0,VLOOKUP($D22,'Bale Truck RMT'!$F$10:$O$82,2,FALSE)+(VLOOKUP($D22,'Bale Truck RMT'!$F$10:$O$82,3,FALSE)-VLOOKUP($D22,'Bale Truck RMT'!$F$10:$O$82,2,FALSE))/'Bale Truck RMT'!$L$4*(Calculations!$R$4-'Bale Truck RMT'!$J$4))","v":0},null,{"$f":"IF($T$4=0,0,VLOOKUP($D22,'Cont Truck RMT'!$F$10:$O$82,2,FALSE)+(VLOOKUP($D22,'Cont Truck RMT'!$F$10:$O$82,3,FALSE)-VLOOKUP($D22,'Cont Truck RMT'!$F$10:$O$82,2,FALSE))/'Cont Truck RMT'!$L$4*(Calculations!$T$4-'Cont Truck RMT'!$J$4))","v":0},null,{"$f":"IF($V$4=0,0,VLOOKUP($D22,'SRWC RMA'!$F$10:$O$82,2,FALSE)+(VLOOKUP($D22,'SRWC RMA'!$F$10:$O$82,3,FALSE)-VLOOKUP($D22,'SRWC RMA'!$F$10:$O$82,2,FALSE))/'SRWC RMA'!$L$4*(Calculations!$V$4-'SRWC RMA'!$J$4))","v":0},null,{"$f":"IF($X$4+$X$5+$X$6=0,0,VLOOKUP($D22,'Stover RMA'!$F$9:$Q$70,2,FALSE)+(VLOOKUP($D22,'Stover RMA'!$F$9:$Q$70,10,FALSE))/'Stover RMA'!$N$4*(Calculations!$X$4-'Stover RMA'!$L$4)+(VLOOKUP($D22,'Stover RMA'!$F$9:$Q$70,11,FALSE))/'Stover RMA'!$N$5*(Calculations!$X$5-'Stover RMA'!$L$5)+(VLOOKUP($D22,'Stover RMA'!$F$9:$Q$70,12,FALSE))/'Stover RMA'!$N$6*($X$6-'Stover RMA'!$L$6))","v":0},null,{"$f":"IF($Z$4=0,0,VLOOKUP($D22,'Corn RMA'!$F$10:$O$82,2,FALSE)+(VLOOKUP($D22,'Corn RMA'!$F$10:$O$82,3,FALSE)-VLOOKUP($D22,'Corn RMA'!$F$10:$O$82,2,FALSE))/'Corn RMA'!$L$4*(Calculations!$Z$4-'Corn RMA'!$J$4))","v":0},null,{"$f":"HLOOKUP(1,'FT Diesel 2'!$H$11:$U$76,'FT Diesel 2'!V44,FALSE)","v":{"$error":"#N/A"}},null,{"$f":"HLOOKUP(1,'Adv Ethanol'!$G$10:$O$79,'Adv Ethanol'!Q34,FALSE)","v":{"$error":"#N/A"}},null,{"$f":"IF($AF$4+$AF$5>0,VLOOKUP(D22,Uranium!$F$10:$K$77,3,FALSE)*Calculations!$AF$4+VLOOKUP(D22,Uranium!$F$10:$K$77,4,FALSE)*$AF$5,0)","v":0},null,{"$f":"IF($AH$4=0,0,VLOOKUP($D22,'U RMT'!$F$9:$U$64,2,FALSE)+(VLOOKUP($D22,'U RMT'!$F$10:$U$64,3,FALSE)-VLOOKUP($D22,'U RMT'!$F$10:$U$64,2,FALSE))/'U RMT'!$U$2*(Calculations!$AH$4-'U RMT'!$O$2))","v":0},null,{"$f":"IF($AJ$4=0,0,VLOOKUP($D22,'U RMT'!$F$9:$U$64,4,FALSE)+(VLOOKUP($D22,'U RMT'!$F$10:$U$64,5,FALSE)-VLOOKUP($D22,'U RMT'!$F$10:$U$64,4,FALSE))/'U RMT'!$U$3*(Calculations!$AJ$4-'U RMT'!$Q$3))","v":0},null,{"$f":"IF($AL$4=0,0,VLOOKUP($D22,'U RMT'!$F$9:$U$64,6,FALSE)+(VLOOKUP($D22,'U RMT'!$F$10:$U$64,7,FALSE)-VLOOKUP($D22,'U RMT'!$F$10:$U$64,6,FALSE))/'U RMT'!$U$4*(Calculations!$AL$4-'U RMT'!$S$4))","v":0},null,{"$f":"IF($AN$4=0,0,VLOOKUP($D22,'Petro Transport'!$F$10:$Z$77,2,FALSE)+(VLOOKUP($D22,'Petro Transport'!$F$10:$Z$77,3,FALSE)-VLOOKUP($D22,'Petro Transport'!$F$10:$Z$77,2,FALSE))/'Petro Transport'!$V$3*(Calculations!$AN$4-'Petro Transport'!$N$3))","v":0},null,{"$f":"IF($AP$4=0,0,VLOOKUP($D22,'Petro Transport'!$F$10:$Z$77,4,FALSE)+(VLOOKUP($D22,'Petro Transport'!$F$10:$Z$77,5,FALSE)-VLOOKUP($D22,'Petro Transport'!$F$10:$Z$77,4,FALSE))/'Petro Transport'!$V$4*(Calculations!$AP$4-'Petro Transport'!$P$4))","v":0},null,{"$f":"IF($AR$4=0,0,VLOOKUP($D22,'Petro Transport'!$F$10:$Z$77,6,FALSE)+(VLOOKUP($D22,'Petro Transport'!$F$10:$Z$77,7,FALSE)-VLOOKUP($D22,'Petro Transport'!$F$10:$Z$77,6,FALSE))/'Petro Transport'!$V$5*(Calculations!$AR$4-'Petro Transport'!$R$5))","v":0},null,{"$f":"IF($AT$4=0,0,VLOOKUP($D22,'Petro Transport'!$F$10:$Z$77,8,FALSE)+(VLOOKUP($D22,'Petro Transport'!$F$10:$Z$77,9,FALSE)-VLOOKUP($D22,'Petro Transport'!$F$10:$Z$77,8,FALSE))/'Petro Transport'!$V$6*(Calculations!$AT$4-'Petro Transport'!$T$6))","v":0},null,{"$f":"VLOOKUP($D22,'Dom Petro'!$F$11:$J$65,3,FALSE)*Calculations!$AV$4+VLOOKUP($D22,'Dom Petro'!$F$11:$J$65,4,FALSE)*Calculations!$AV$5+VLOOKUP($D22,'Dom Petro'!$F$11:$J$65,5,FALSE)*Calculations!$AV$6","v":0},null,{"$f":"VLOOKUP($D22,'For Petro'!$F$9:$K$77,3,FALSE)*Calculations!$AX$3+VLOOKUP($D22,'For Petro'!$F$9:$K$77,4,FALSE)*Calculations!$AX$4+VLOOKUP($D22,'For Petro'!$F$9:$K$77,5,FALSE)*Calculations!$AX$5+VLOOKUP($D22,'For Petro'!$F$9:$K$77,6,FALSE)*$AX$6","v":0},null,{"$f":"IF($AZ$5=1,VLOOKUP($D22,'Petro Ref'!$F$10:$J$77,3,FALSE),0)","v":0},null,{"$f":"IF($BB$5,VLOOKUP($D22,'Petro Ref'!$F$10:$J$77,4,FALSE),0)","v":0},null,{"$f":"IF($BD$5=1,VLOOKUP($D22,'Petro Ref'!$F$10:$J$77,5,FALSE),0)","v":0},null,{"$f":"IF($BF$3+$BF$4+$BF$5=0,0,VLOOKUP($D22,'onshore RMA'!$F$9:$Q$70,2,FALSE)+(VLOOKUP($D22,'onshore RMA'!$F$9:$Q$70,10,FALSE))/'onshore RMA'!$N$4*(Calculations!$BF$3-'onshore RMA'!$L$4)+(VLOOKUP($D22,'onshore RMA'!$F$9:$Q$70,11,FALSE))/'onshore RMA'!$N$5*(Calculations!$BF$4-'onshore RMA'!$L$5)+(VLOOKUP($D22,'onshore RMA'!$F$9:$Q$70,12,FALSE))/'onshore RMA'!$N$6*($BF$5-'onshore RMA'!$L$6))","v":0},null,{"$f":"IF($BH$3+$BH$4+$BH$5=0,0,VLOOKUP($D22,'assoc RMA'!$F$9:$Q$70,2,FALSE)+(VLOOKUP($D22,'assoc RMA'!$F$9:$Q$70,10,FALSE))/'assoc RMA'!$N$4*(Calculations!$BH$3-'assoc RMA'!$L$4)+(VLOOKUP($D22,'assoc RMA'!$F$9:$Q$70,11,FALSE))/'assoc RMA'!$N$5*(Calculations!$BH$4-'assoc RMA'!$L$5)+(VLOOKUP($D22,'assoc RMA'!$F$9:$Q$70,12,FALSE))/'assoc RMA'!$N$6*($BH$5-'assoc RMA'!$L$6))","v":0},null,{"$f":"IF($BJ$3+$BJ$4+$BJ$5=0,0,VLOOKUP($D22,'offshore RMA'!$F$9:$Q$70,2,FALSE)+(VLOOKUP($D22,'offshore RMA'!$F$9:$Q$70,10,FALSE))/'offshore RMA'!$N$4*(Calculations!$BJ$3-'offshore RMA'!$L$4)+(VLOOKUP($D22,'offshore RMA'!$F$9:$Q$70,11,FALSE))/'offshore RMA'!$N$5*(Calculations!$BJ$4-'offshore RMA'!$L$5)+(VLOOKUP($D22,'offshore RMA'!$F$9:$Q$70,12,FALSE))/'offshore RMA'!$N$6*($BJ$5-'offshore RMA'!$L$6))","v":0},null,{"$f":"IF($BL$3+$BL$4+$BL$5=0,0,VLOOKUP($D22,'barnett RMA'!$F$9:$Q$70,2,FALSE)+(VLOOKUP($D22,'barnett RMA'!$F$9:$Q$70,10,FALSE))/'barnett RMA'!$N$4*(Calculations!$BL$3-'barnett RMA'!$L$4)+(VLOOKUP($D22,'barnett RMA'!$F$9:$Q$70,11,FALSE))/'barnett RMA'!$N$5*(Calculations!$BL$4-'barnett RMA'!$L$5)+(VLOOKUP($D22,'barnett RMA'!$F$9:$Q$70,12,FALSE))/'barnett RMA'!$N$6*($BL$5-'barnett RMA'!$L$6))","v":0},null,{"$f":"IF($BN$3+$BN$4+$BN$5=0,0,VLOOKUP($D22,'cbm RMA'!$F$9:$Q$70,2,FALSE)+(VLOOKUP($D22,'cbm RMA'!$F$9:$Q$70,10,FALSE))/'cbm RMA'!$N$4*(Calculations!$BN$3-'cbm RMA'!$L$4)+(VLOOKUP($D22,'cbm RMA'!$F$9:$Q$70,11,FALSE))/'cbm RMA'!$N$5*(Calculations!$BN$4-'cbm RMA'!$L$5)+(VLOOKUP($D22,'cbm RMA'!$F$9:$Q$70,12,FALSE))/'cbm RMA'!$N$6*($BN$5-'cbm RMA'!$L$6))","v":0},null,{"$f":"IF($BP$3+$BP$4+$BP$5=0,0,VLOOKUP($D22,'Marc RMA'!$F$9:$Q$70,2,FALSE)+(VLOOKUP($D22,'Marc RMA'!$F$9:$Q$70,10,FALSE))/'Marc RMA'!$N$4*(Calculations!$BP$3-'Marc RMA'!$L$4)+(VLOOKUP($D22,'Marc RMA'!$F$9:$Q$70,11,FALSE))/'Marc RMA'!$N$5*(Calculations!$BP$4-'Marc RMA'!$L$5)+(VLOOKUP($D22,'Marc RMA'!$F$9:$Q$70,12,FALSE))/'Marc RMA'!$N$6*($BP$5-'Marc RMA'!$L$6))","v":0},null,{"$f":"IF($BR$3+$BR$4+$BR$5=0,0,VLOOKUP($D22,'LNG RMA'!$F$9:$Q$70,2,FALSE)+(VLOOKUP($D22,'LNG RMA'!$F$9:$Q$70,10,FALSE))/'LNG RMA'!$N$4*(Calculations!$BR$3-'LNG RMA'!$L$4)+(VLOOKUP($D22,'LNG RMA'!$F$9:$Q$70,11,FALSE))/'LNG RMA'!$N$5*(Calculations!$BR$4-'LNG RMA'!$L$5)+(VLOOKUP($D22,'LNG RMA'!$F$9:$Q$70,12,FALSE))/'LNG RMA'!$N$6*($BR$5-'LNG RMA'!$L$6))","v":0},null,{"$f":"IF($BT$3+$BT$4+$BT$5=0,0,VLOOKUP($D22,'tight RMA'!$F$9:$Q$70,2,FALSE)+(VLOOKUP($D22,'tight RMA'!$F$9:$Q$70,10,FALSE))/'tight RMA'!$N$4*(Calculations!$BT$3-'tight RMA'!$L$4)+(VLOOKUP($D22,'tight RMA'!$F$9:$Q$70,11,FALSE))/'tight RMA'!$N$5*(Calculations!$BT$4-'tight RMA'!$L$5)+(VLOOKUP($D22,'tight RMA'!$F$9:$Q$70,12,FALSE))/'tight RMA'!$N$6*($BT$5-'tight RMA'!$L$6))","v":0},null,{"$f":"IF($BV$3+$BV$4+$BV$5=0,0,VLOOKUP($D22,'mix RMA'!$F$9:$Q$70,2,FALSE)+(VLOOKUP($D22,'mix RMA'!$F$9:$Q$70,10,FALSE))/'mix RMA'!$N$4*(Calculations!$BV$3-'mix RMA'!$L$4)+(VLOOKUP($D22,'mix RMA'!$F$9:$Q$70,11,FALSE))/'mix RMA'!$N$5*(Calculations!$BV$4-'mix RMA'!$L$5)+(VLOOKUP($D22,'mix RMA'!$F$9:$Q$70,12,FALSE))/'mix RMA'!$N$6*($BV$5-'mix RMA'!$L$6))","v":2.146321843809195E-7}]
["Water Emissions",16,"Aluminum (kg)","Aluminum (+III)",null,{"$f":"IF($F$4=0,0,VLOOKUP($D23,'I6 RMA'!$F$10:$O$82,2,FALSE)+(VLOOKUP($D23,'I6 RMA'!$F$10:$O$82,3,FALSE)-VLOOKUP($D23,'I6 RMA'!$F$10:$O$82,2,FALSE))/'I6 RMA'!$L$4*(Calculations!$F$4-'I6 RMA'!$J$4))","v":1.13439029302665E-8},null,{"$f":"IF($H$4=0,0,VLOOKUP($D23,'PRB RMA'!$F$10:$O$82,2,FALSE)+(VLOOKUP($D23,'PRB RMA'!$F$10:$O$82,3,FALSE)-VLOOKUP($D23,'PRB RMA'!$F$10:$O$82,2,FALSE))/'PRB RMA'!$L$4*(Calculations!$H$4-'PRB RMA'!$J$4))","v":0},null,{"$f":"IF($J$4=0,0,VLOOKUP($D23,'Coal TrainRMT'!$F$10:$O$82,2,FALSE)+(VLOOKUP($D23,'Coal TrainRMT'!$F$10:$O$82,3,FALSE)-VLOOKUP($D23,'Coal TrainRMT'!$F$10:$O$82,2,FALSE))/'Coal TrainRMT'!$L$4*(Calculations!$J$4-'Coal TrainRMT'!$J$4))","v":3.0370396676439101E-9},null,{"$f":"IF($L$4+$L$5+$L$6=0,0,VLOOKUP($D23,#REF!,2,FALSE)+(VLOOKUP($D23,#REF!,6,FALSE)/#REF!*(#REF!-#REF!)+(VLOOKUP($D23,#REF!,8,FALSE))/#REF!*(#REF!-#REF!)+(VLOOKUP($D23,#REF!,10,FALSE))/#REF!*($L$6-#REF!)))","v":{"$error":"#REF!"}},null,{"$f":"IF($N$4=0,0,VLOOKUP($D23,'NG Pipeline RMT'!$F$10:$O$82,2,FALSE)+(VLOOKUP($D23,'NG Pipeline RMT'!$F$10:$O$82,3,FALSE)-VLOOKUP($D23,'NG Pipeline RMT'!$F$10:$O$82,2,FALSE))/'NG Pipeline RMT'!$L$4*(Calculations!$N$4-'NG Pipeline RMT'!$J$4))","v":0},null,{"$f":"IF($P$4=0,0,VLOOKUP($D23,'SG RMA'!$F$10:$O$82,2,FALSE)+(VLOOKUP($D23,'SG RMA'!$F$10:$O$82,3,FALSE)-VLOOKUP($D23,'SG RMA'!$F$10:$O$82,2,FALSE))/'SG RMA'!$L$4*(Calculations!$P$4-'SG RMA'!$J$4))","v":0},null,{"$f":"IF($R$4=0,0,VLOOKUP($D23,'Bale Truck RMT'!$F$10:$O$82,2,FALSE)+(VLOOKUP($D23,'Bale Truck RMT'!$F$10:$O$82,3,FALSE)-VLOOKUP($D23,'Bale Truck RMT'!$F$10:$O$82,2,FALSE))/'Bale Truck RMT'!$L$4*(Calculations!$R$4-'Bale Truck RMT'!$J$4))","v":0},null,{"$f":"IF($T$4=0,0,VLOOKUP($D23,'Cont Truck RMT'!$F$10:$O$82,2,FALSE)+(VLOOKUP($D23,'Cont Truck RMT'!$F$10:$O$82,3,FALSE)-VLOOKUP($D23,'Cont Truck RMT'!$F$10:$O$82,2,FALSE))/'Cont Truck RMT'!$L$4*(Calculations!$T$4-'Cont Truck RMT'!$J$4))","v":0},null,{"$f":"IF($V$4=0,0,VLOOKUP($D23,'SRWC RMA'!$F$10:$O$82,2,FALSE)+(VLOOKUP($D23,'SRWC RMA'!$F$10:$O$82,3,FALSE)-VLOOKUP($D23,'SRWC RMA'!$F$10:$O$82,2,FALSE))/'SRWC RMA'!$L$4*(Calculations!$V$4-'SRWC RMA'!$J$4))","v":0},null,{"$f":"IF($X$4+$X$5+$X$6=0,0,VLOOKUP($D23,'Stover RMA'!$F$9:$Q$70,2,FALSE)+(VLOOKUP($D23,'Stover RMA'!$F$9:$Q$70,10,FALSE))/'Stover RMA'!$N$4*(Calculations!$X$4-'Stover RMA'!$L$4)+(VLOOKUP($D23,'Stover RMA'!$F$9:$Q$70,11,FALSE))/'Stover RMA'!$N$5*(Calculations!$X$5-'Stover RMA'!$L$5)+(VLOOKUP($D23,'Stover RMA'!$F$9:$Q$70,12,FALSE))/'Stover RMA'!$N$6*($X$6-'Stover RMA'!$L$6))","v":0},null,{"$f":"IF($Z$4=0,0,VLOOKUP($D23,'Corn RMA'!$F$10:$O$82,2,FALSE)+(VLOOKUP($D23,'Corn RMA'!$F$10:$O$82,3,FALSE)-VLOOKUP($D23,'Corn RMA'!$F$10:$O$82,2,FALSE))/'Corn RMA'!$L$4*(Calculations!$Z$4-'Corn RMA'!$J$4))","v":0},null,{"$f":"HLOOKUP(1,'FT Diesel 2'!$H$11:$U$76,'FT Diesel 2'!V67,FALSE)","v":{"$error":"#N/A"}},null,{"$f":"HLOOKUP(1,'Adv Ethanol'!$G$10:$O$79,'Adv Ethanol'!Q57,FALSE)","v":{"$error":"#N/A"}},null,{"$f":"IF($AF$4+$AF$5>0,VLOOKUP(D23,Uranium!$F$10:$K$77,3,FALSE)*Calculations!$AF$4+VLOOKUP(D23,Uranium!$F$10:$K$77,4,FALSE)*$AF$5,0)","v":0},null,{"$f":"IF($AH$4=0,0,VLOOKUP($D23,'U RMT'!$F$9:$U$64,2,FALSE)+(VLOOKUP($D23,'U RMT'!$F$10:$U$64,3,FALSE)-VLOOKUP($D23,'U RMT'!$F$10:$U$64,2,FALSE))/'U RMT'!$U$2*(Calculations!$AH$4-'U RMT'!$O$2))","v":0},null,{"$f":"IF($AJ$4=0,0,VLOOKUP($D23,'U RMT'!$F$9:$U$64,4,FALSE)+(VLOOKUP($D23,'U RMT'!$F$10:$U$64,5,FALSE)-VLOOKUP($D23,'U RMT'!$F$10:$U$64,4,FALSE))/'U RMT'!$U$3*(Calculations!$AJ$4-'U RMT'!$Q$3))","v":0},null,{"$f":"IF($AL$4=0,0,VLOOKUP($D23,'U RMT'!$F$9:$U$64,6,FALSE)+(VLOOKUP($D23,'U RMT'!$F$10:$U$64,7,FALSE)-VLOOKUP($D23,'U RMT'!$F$10:$U$64,6,FALSE))/'U RMT'!$U$4*(Calculations!$AL$4-'U RMT'!$S$4))","v":0},null,{"$f":"IF($AN$4=0,0,VLOOKUP($D23,'Petro Transport'!$F$10:$Z$77,2,FALSE)+(VLOOKUP($D23,'Petro Transport'!$F$10:$Z$77,3,FALSE)-VLOOKUP($D23,'Petro Transport'!$F$10:$Z$77,2,FALSE))/'Petro Transport'!$V$3*(Calculations!$AN$4-'Petro Transport'!$N$3))","v":0},null,{"$f":"IF($AP$4=0,0,VLOOKUP($D23,'Petro Transport'!$F$10:$Z$77,4,FALSE)+(VLOOKUP($D23,'Petro Transport'!$F$10:$Z$77,5,FALSE)-VLOOKUP($D23,'Petro Transport'!$F$10:$Z$77,4,FALSE))/'Petro Transport'!$V$4*(Calculations!$AP$4-'Petro Transport'!$P$4))","v":0},null,{"$f":"IF($AR$4=0,0,VLOOKUP($D23,'Petro Transport'!$F$10:$Z$77,6,FALSE)+(VLOOKUP($D23,'Petro Transport'!$F$10:$Z$77,7,FALSE)-VLOOKUP($D23,'Petro Transport'!$F$10:$Z$77,6,FALSE))/'Petro Transport'!$V$5*(Calculations!$AR$4-'Petro Transport'!$R$5))","v":0},null,{"$f":"IF($AT$4=0,0,VLOOKUP($D23,'Petro Transport'!$F$10:$Z$77,8,FALSE)+(VLOOKUP($D23,'Petro Transport'!$F$10:$Z$77,9,FALSE)-VLOOKUP($D23,'Petro Transport'!$F$10:$Z$77,8,FALSE))/'Petro Transport'!$V$6*(Calculations!$AT$4-'Petro Transport'!$T$6))","v":0},null,{"$f":"VLOOKUP($D23,'Dom Petro'!$F$11:$J$65,3,FALSE)*Calculations!$AV$4+VLOOKUP($D23,'Dom Petro'!$F$11:$J$65,4,FALSE)*Calculations!$AV$5+VLOOKUP($D23,'Dom Petro'!$F$11:$J$65,5,FALSE)*Calculations!$AV$6","v":2.8801126483361199E-8},null,{"$f":"VLOOKUP($D23,'For Petro'!$F$9:$K$77,3,FALSE)*Calculations!$AX$3+VLOOKUP($D23,'For Petro'!$F$9:$K$77,4,FALSE)*Calculations!$AX$4+VLOOKUP($D23,'For Petro'!$F$9:$K$77,5,FALSE)*Calculations!$AX$5+VLOOKUP($D23,'For Petro'!$F$9:$K$77,6,FALSE)*$AX$6","v":0},null,{"$f":"IF($AZ$5=1,VLOOKUP($D23,'Petro Ref'!$F$10:$J$77,3,FALSE),0)","v":0},null,{"$f":"IF($BB$5,VLOOKUP($D23,'Petro Ref'!$F$10:$J$77,4,FALSE),0)","v":0},null,{"$f":"IF($BD$5=1,VLOOKUP($D23,'Petro Ref'!$F$10:$J$77,5,FALSE),0)","v":0},null,{"$f":"IF($BF$3+$BF$4+$BF$5=0,0,VLOOKUP($D23,'onshore RMA'!$F$9:$Q$70,2,FALSE)+(VLOOKUP($D23,'onshore RMA'!$F$9:$Q$70,10,FALSE))/'onshore RMA'!$N$4*(Calculations!$BF$3-'onshore RMA'!$L$4)+(VLOOKUP($D23,'onshore RMA'!$F$9:$Q$70,11,FALSE))/'onshore RMA'!$N$5*(Calculations!$BF$4-'onshore RMA'!$L$5)+(VLOOKUP($D23,'onshore RMA'!$F$9:$Q$70,12,FALSE))/'onshore RMA'!$N$6*($BF$5-'onshore RMA'!$L$6))","v":0},null,{"$f":"IF($BH$3+$BH$4+$BH$5=0,0,VLOOKUP($D23,'assoc RMA'!$F$9:$Q$70,2,FALSE)+(VLOOKUP($D23,'assoc RMA'!$F$9:$Q$70,10,FALSE))/'assoc RMA'!$N$4*(Calculations!$BH$3-'assoc RMA'!$L$4)+(VLOOKUP($D23,'assoc RMA'!$F$9:$Q$70,11,FALSE))/'assoc RMA'!$N$5*(Calculations!$BH$4-'assoc RMA'!$L$5)+(VLOOKUP($D23,'assoc RMA'!$F$9:$Q$70,12,FALSE))/'assoc RMA'!$N$6*($BH$5-'assoc RMA'!$L$6))","v":0},null,{"$f":"IF($BJ$3+$BJ$4+$BJ$5=0,0,VLOOKUP($D23,'offshore RMA'!$F$9:$Q$70,2,FALSE)+(VLOOKUP($D23,'offshore RMA'!$F$9:$Q$70,10,FALSE))/'offshore RMA'!$N$4*(Calculations!$BJ$3-'offshore RMA'!$L$4)+(VLOOKUP($D23,'offshore RMA'!$F$9:$Q$70,11,FALSE))/'offshore RMA'!$N$5*(Calculations!$BJ$4-'offshore RMA'!$L$5)+(VLOOKUP($D23,'offshore RMA'!$F$9:$Q$70,12,FALSE))/'offshore RMA'!$N$6*($BJ$5-'offshore RMA'!$L$6))","v":0},null,{"$f":"IF($BL$3+$BL$4+$BL$5=0,0,VLOOKUP($D23,'barnett RMA'!$F$9:$Q$70,2,FALSE)+(VLOOKUP($D23,'barnett RMA'!$F$9:$Q$70,10,FALSE))/'barnett RMA'!$N$4*(Calculations!$BL$3-'barnett RMA'!$L$4)+(VLOOKUP($D23,'barnett RMA'!$F$9:$Q$70,11,FALSE))/'barnett RMA'!$N$5*(Calculations!$BL$4-'barnett RMA'!$L$5)+(VLOOKUP($D23,'barnett RMA'!$F$9:$Q$70,12,FALSE))/'barnett RMA'!$N$6*($BL$5-'barnett RMA'!$L$6))","v":0},null,{"$f":"IF($BN$3+$BN$4+$BN$5=0,0,VLOOKUP($D23,'cbm RMA'!$F$9:$Q$70,2,FALSE)+(VLOOKUP($D23,'cbm RMA'!$F$9:$Q$70,10,FALSE))/'cbm RMA'!$N$4*(Calculations!$BN$3-'cbm RMA'!$L$4)+(VLOOKUP($D23,'cbm RMA'!$F$9:$Q$70,11,FALSE))/'cbm RMA'!$N$5*(Calculations!$BN$4-'cbm RMA'!$L$5)+(VLOOKUP($D23,'cbm RMA'!$F$9:$Q$70,12,FALSE))/'cbm RMA'!$N$6*($BN$5-'cbm RMA'!$L$6))","v":0},null,{"$f":"IF($BP$3+$BP$4+$BP$5=0,0,VLOOKUP($D23,'Marc RMA'!$F$9:$Q$70,2,FALSE)+(VLOOKUP($D23,'Marc RMA'!$F$9:$Q$70,10,FALSE))/'Marc RMA'!$N$4*(Calculations!$BP$3-'Marc RMA'!$L$4)+(VLOOKUP($D23,'Marc RMA'!$F$9:$Q$70,11,FALSE))/'Marc RMA'!$N$5*(Calculations!$BP$4-'Marc RMA'!$L$5)+(VLOOKUP($D23,'Marc RMA'!$F$9:$Q$70,12,FALSE))/'Marc RMA'!$N$6*($BP$5-'Marc RMA'!$L$6))","v":0},null,{"$f":"IF($BR$3+$BR$4+$BR$5=0,0,VLOOKUP($D23,'LNG RMA'!$F$9:$Q$70,2,FALSE)+(VLOOKUP($D23,'LNG RMA'!$F$9:$Q$70,10,FALSE))/'LNG RMA'!$N$4*(Calculations!$BR$3-'LNG RMA'!$L$4)+(VLOOKUP($D23,'LNG RMA'!$F$9:$Q$70,11,FALSE))/'LNG RMA'!$N$5*(Calculations!$BR$4-'LNG RMA'!$L$5)+(VLOOKUP($D23,'LNG RMA'!$F$9:$Q$70,12,FALSE))/'LNG RMA'!$N$6*($BR$5-'LNG RMA'!$L$6))","v":0},null,{"$f":"IF($BT$3+$BT$4+$BT$5=0,0,VLOOKUP($D23,'tight RMA'!$F$9:$Q$70,2,FALSE)+(VLOOKUP($D23,'tight RMA'!$F$9:$Q$70,10,FALSE))/'tight RMA'!$N$4*(Calculations!$BT$3-'tight RMA'!$L$4)+(VLOOKUP($D23,'tight RMA'!$F$9:$Q$70,11,FALSE))/'tight RMA'!$N$5*(Calculations!$BT$4-'tight RMA'!$L$5)+(VLOOKUP($D23,'tight RMA'!$F$9:$Q$70,12,FALSE))/'tight RMA'!$N$6*($BT$5-'tight RMA'!$L$6))","v":0},null,{"$f":"IF($BV$3+$BV$4+$BV$5=0,0,VLOOKUP($D23,'mix RMA'!$F$9:$Q$70,2,FALSE)+(VLOOKUP($D23,'mix RMA'!$F$9:$Q$70,10,FALSE))/'mix RMA'!$N$4*(Calculations!$BV$3-'mix RMA'!$L$4)+(VLOOKUP($D23,'mix RMA'!$F$9:$Q$70,11,FALSE))/'mix RMA'!$N$5*(Calculations!$BV$4-'mix RMA'!$L$5)+(VLOOKUP($D23,'mix RMA'!$F$9:$Q$70,12,FALSE))/'mix RMA'!$N$6*($BV$5-'mix RMA'!$L$6))","v":3.8926377146531886E-9}]
[null,17,"Ammonium/ammonia (kg)","Ammonium / ammonia",null,{"$f":"IF($F$4=0,0,VLOOKUP($D24,'I6 RMA'!$F$10:$O$82,4,FALSE)+(VLOOKUP($D24,'I6 RMA'!$F$10:$O$82,5,FALSE)-VLOOKUP($D24,'I6 RMA'!$F$10:$O$82,4,FALSE))/'I6 RMA'!$L$4*(Calculations!$F$4-'I6 RMA'!$J$4))","v":3.7346455096333926E-6},null,{"$f":"IF($H$4=0,0,VLOOKUP($D24,'PRB RMA'!$F$10:$O$82,4,FALSE)+(VLOOKUP($D24,'PRB RMA'!$F$10:$O$82,5,FALSE)-VLOOKUP($D24,'PRB RMA'!$F$10:$O$82,4,FALSE))/'PRB RMA'!$L$4*(Calculations!$H$4-'PRB RMA'!$J$4))","v":0},null,{"$f":"IF($J$4=0,0,VLOOKUP($D24,'Coal TrainRMT'!$F$10:$O$82,4,FALSE)+(VLOOKUP($D24,'Coal TrainRMT'!$F$10:$O$82,5,FALSE)-VLOOKUP($D24,'Coal TrainRMT'!$F$10:$O$82,4,FALSE))/'Coal TrainRMT'!$L$4*(Calculations!$J$4-'Coal TrainRMT'!$J$4))","v":4.3469153868538281E-9},null,{"$f":"IF($L$4+$L$5+$L$6=0,0,VLOOKUP($D24,#REF!,6,FALSE)+(VLOOKUP($D24,#REF!,10,FALSE))/#REF!*(#REF!-#REF!)+(VLOOKUP($D24,#REF!,11,FALSE))/#REF!*(#REF!-#REF!)+(VLOOKUP($D24,#REF!,10,FALSE))/#REF!*($L$4-#REF!))","v":{"$error":"#REF!"}},null,{"$f":"IF($N$4=0,0,VLOOKUP($D24,'NG Pipeline RMT'!$F$10:$O$82,4,FALSE)+(VLOOKUP($D24,'NG Pipeline RMT'!$F$10:$O$82,5,FALSE)-VLOOKUP($D24,'NG Pipeline RMT'!$F$10:$O$82,4,FALSE))/'NG Pipeline RMT'!$L$4*(Calculations!$N$4-'NG Pipeline RMT'!$J$4))","v":0},null,{"$f":"IF($P$4=0,0,VLOOKUP($D24,'SG RMA'!$F$10:$O$82,4,FALSE)+(VLOOKUP($D24,'SG RMA'!$F$10:$O$82,5,FALSE)-VLOOKUP($D24,'SG RMA'!$F$10:$O$82,4,FALSE))/'SG RMA'!$L$4*(Calculations!$P$4-'SG RMA'!$J$4))","v":0},null,{"$f":"IF($R$4=0,0,VLOOKUP($D24,'Bale Truck RMT'!$F$10:$O$82,4,FALSE)+(VLOOKUP($D24,'Bale Truck RMT'!$F$10:$O$82,5,FALSE)-VLOOKUP($D24,'Bale Truck RMT'!$F$10:$O$82,4,FALSE))/'Bale Truck RMT'!$L$4*(Calculations!$R$4-'Bale Truck RMT'!$J$4))","v":0},null,{"$f":"IF($T$4=0,0,VLOOKUP($D24,'Cont Truck RMT'!$F$10:$O$82,4,FALSE)+(VLOOKUP($D24,'Cont Truck RMT'!$F$10:$O$82,5,FALSE)-VLOOKUP($D24,'Cont Truck RMT'!$F$10:$O$82,4,FALSE))/'Cont Truck RMT'!$L$4*(Calculations!$R$4-'Cont Truck RMT'!$J$4))","v":0},null,{"$f":"IF($V$4=0,0,VLOOKUP($D24,'SRWC RMA'!$F$10:$O$82,4,FALSE)+(VLOOKUP($D24,'SRWC RMA'!$F$10:$O$82,5,FALSE)-VLOOKUP($D24,'SRWC RMA'!$F$10:$O$82,4,FALSE))/'SRWC RMA'!$L$4*(Calculations!$V$4-'SRWC RMA'!$J$4))","v":0},null,{"$f":"IF($X$4+$X$5+$X$6=0,0,VLOOKUP($D24,'Stover RMA'!$F$9:$Q$70,6,FALSE)+(VLOOKUP($D24,'Stover RMA'!$F$9:$Q$70,10,FALSE))/'Stover RMA'!$N$4*($X$4-'Stover RMA'!$L$4)+(VLOOKUP($D24,'Stover RMA'!$F$9:$Q$70,11,FALSE))/'Stover RMA'!$N$5*($X$5-'Stover RMA'!$L$5)+(VLOOKUP($D24,'Stover RMA'!$F$9:$Q$70,12,FALSE))/'Stover RMA'!$N$6*($X$6-'Stover RMA'!$L$6))","v":0},null,{"$f":"IF($Z$4=0,0,VLOOKUP($D24,'Corn RMA'!$F$10:$O$82,4,FALSE)+(VLOOKUP($D24,'Corn RMA'!$F$10:$O$82,5,FALSE)-VLOOKUP($D24,'Corn RMA'!$F$10:$O$82,4,FALSE))/'Corn RMA'!$L$4*(Calculations!$Z$4-'Corn RMA'!$J$4))","v":0},null,{"$f":"HLOOKUP(1,'FT Diesel 2'!$H$11:$U$76,'FT Diesel 2'!V68,FALSE)+HLOOKUP(1,'FT Diesel 2'!$H$11:$U$76,'FT Diesel 2'!V69,FALSE)","v":{"$error":"#N/A"}},null,{"$f":"HLOOKUP(1,'Adv Ethanol'!$G$10:$O$79,'Adv Ethanol'!Q49,FALSE)+HLOOKUP(1,'Adv Ethanol'!$G$10:$L$79,'Adv Ethanol'!Q50,FALSE)","v":{"$error":"#N/A"}},null,{"$f":"IF($AF$4+$AF$5>0,VLOOKUP(D24,Uranium!$F$10:$K$77,5,FALSE)*Calculations!$AF$4+VLOOKUP(D24,Uranium!$F$10:$K$77,6,FALSE)*$AF$5,0)","v":0},null,{"$f":"IF($AH$4=0,0,VLOOKUP($D24,'U RMT'!$F$9:$U$64,8,FALSE)+(VLOOKUP($D24,'U RMT'!$F$10:$U$64,9,FALSE)-VLOOKUP($D24,'U RMT'!$F$10:$U$64,8,FALSE))/'U RMT'!$U$2*(Calculations!$AH$4-'U RMT'!$O$2))","v":0},null,{"$f":"IF($AJ$4=0,0,VLOOKUP($D24,'U RMT'!$F$9:$U$64,10,FALSE)+(VLOOKUP($D24,'U RMT'!$F$10:$U$64,11,FALSE)-VLOOKUP($D24,'U RMT'!$F$10:$U$64,10,FALSE))/'U RMT'!$U$3*(Calculations!$AJ$4-'U RMT'!$Q$3))","v":0},null,{"$f":"IF($AL$4=0,0,VLOOKUP($D24,'U RMT'!$F$9:$U$64,12,FALSE)+(VLOOKUP($D24,'U RMT'!$F$10:$U$64,13,FALSE)-VLOOKUP($D24,'U RMT'!$F$10:$U$64,12,FALSE))/'U RMT'!$U$4*(Calculations!$AL$4-'U RMT'!$S$4))","v":0},null,{"$f":"IF($AN$4=0,0,VLOOKUP($D24,'Petro Transport'!$F$10:$Z$77,10,FALSE)+(VLOOKUP($D24,'Petro Transport'!$F$10:$Z$77,11,FALSE)-VLOOKUP($D24,'Petro Transport'!$F$10:$Z$77,10,FALSE))/'Petro Transport'!$V$3*(Calculations!$AN$4-'Petro Transport'!$N$3))","v":0},null,{"$f":"IF($AP$4=0,0,VLOOKUP($D24,'Petro Transport'!$F$10:$Z$77,12,FALSE)+(VLOOKUP($D24,'Petro Transport'!$F$10:$Z$77,13,FALSE)-VLOOKUP($D24,'Petro Transport'!$F$10:$Z$77,12,FALSE))/'Petro Transport'!$V$4*(Calculations!$AP$4-'Petro Transport'!$P$4))","v":0},null,{"$f":"IF($AR$4=0,0,VLOOKUP($D24,'Petro Transport'!$F$10:$Z$77,14,FALSE)+(VLOOKUP($D24,'Petro Transport'!$F$10:$Z$77,15,FALSE)-VLOOKUP($D24,'Petro Transport'!$F$10:$Z$77,14,FALSE))/'Petro Transport'!$V$5*(Calculations!$AR$4-'Petro Transport'!$R$5))","v":0},null,{"$f":"IF($AT$4=0,0,VLOOKUP($D24,'Petro Transport'!$F$10:$Z$77,16,FALSE)+(VLOOKUP($D24,'Petro Transport'!$F$10:$Z$77,17,FALSE)-VLOOKUP($D24,'Petro Transport'!$F$10:$Z$77,16,FALSE))/'Petro Transport'!$V$6*(Calculations!$AT$4-'Petro Transport'!$T$6))","v":0},null,{"$f":"VLOOKUP($D24,'Dom Petro'!$F$11:$J$65,3,FALSE)*Calculations!$AV$4+VLOOKUP($D24,'Dom Petro'!$F$11:$J$65,4,FALSE)*Calculations!$AV$5+VLOOKUP($D24,'Dom Petro'!$F$11:$J$65,5,FALSE)*Calculations!$AV$6","v":5.6852621987178798E-7},null,{"$f":"VLOOKUP($D24,'For Petro'!$F$9:$K$77,3,FALSE)*Calculations!$AX$3+VLOOKUP($D24,'For Petro'!$F$9:$K$77,4,FALSE)*Calculations!$AX$4+VLOOKUP($D24,'For Petro'!$F$9:$K$77,5,FALSE)*Calculations!$AX$5+VLOOKUP($D24,'For Petro'!$F$9:$K$77,6,FALSE)*$AX$6","v":0},null,{"$f":"IF($AZ$5=1,VLOOKUP($D24,'Petro Ref'!$F$10:$M$77,6,FALSE),0)","v":0},null,{"$f":"IF($BB$5,VLOOKUP($D24,'Petro Ref'!$F$10:$M$77,7,FALSE),0)","v":0},null,{"$f":"IF($BD$5=1,VLOOKUP($D24,'Petro Ref'!$F$10:$M$77,8,FALSE),0)","v":0},null,{"$f":"IF($BF$3+$BF$4+$BF$5=0,0,VLOOKUP($D24,'onshore RMA'!$F$9:$Q$70,6,FALSE)+(VLOOKUP($D24,'onshore RMA'!$F$9:$Q$70,10,FALSE))/'onshore RMA'!$N$4*(Calculations!$BF$3-'onshore RMA'!$L$4)+(VLOOKUP($D24,'onshore RMA'!$F$9:$Q$70,11,FALSE))/'onshore RMA'!$N$5*(Calculations!$BF$4-'onshore RMA'!$L$5)+(VLOOKUP($D24,'onshore RMA'!$F$9:$Q$70,12,FALSE))/'onshore RMA'!$N$6*($BF$5-'onshore RMA'!$L$6))","v":0},null,{"$f":"IF($BH$3+$BH$4+$BH$5=0,0,VLOOKUP($D24,'assoc RMA'!$F$9:$Q$70,6,FALSE)+(VLOOKUP($D24,'assoc RMA'!$F$9:$Q$70,10,FALSE))/'assoc RMA'!$N$4*(Calculations!$BH$3-'assoc RMA'!$L$4)+(VLOOKUP($D24,'assoc RMA'!$F$9:$Q$70,11,FALSE))/'assoc RMA'!$N$5*(Calculations!$BH$4-'assoc RMA'!$L$5)+(VLOOKUP($D24,'assoc RMA'!$F$9:$Q$70,12,FALSE))/'assoc RMA'!$N$6*($BH$5-'assoc RMA'!$L$6))","v":0},null,{"$f":"IF($BJ$3+$BJ$4+$BJ$5=0,0,VLOOKUP($D24,'offshore RMA'!$F$9:$Q$70,6,FALSE)+(VLOOKUP($D24,'offshore RMA'!$F$9:$Q$70,10,FALSE))/'offshore RMA'!$N$4*(Calculations!$BJ$3-'offshore RMA'!$L$4)+(VLOOKUP($D24,'offshore RMA'!$F$9:$Q$70,11,FALSE))/'offshore RMA'!$N$5*(Calculations!$BJ$4-'offshore RMA'!$L$5)+(VLOOKUP($D24,'offshore RMA'!$F$9:$Q$70,12,FALSE))/'offshore RMA'!$N$6*($BJ$5-'offshore RMA'!$L$6))","v":0},null,{"$f":"IF($BL$3+$BL$4+$BL$5=0,0,VLOOKUP($D24,'barnett RMA'!$F$9:$Q$70,6,FALSE)+(VLOOKUP($D24,'barnett RMA'!$F$9:$Q$70,10,FALSE))/'barnett RMA'!$N$4*(Calculations!$BL$3-'barnett RMA'!$L$4)+(VLOOKUP($D24,'barnett RMA'!$F$9:$Q$70,11,FALSE))/'barnett RMA'!$N$5*(Calculations!$BL$4-'barnett RMA'!$L$5)+(VLOOKUP($D24,'barnett RMA'!$F$9:$Q$70,12,FALSE))/'barnett RMA'!$N$6*($BL$5-'barnett RMA'!$L$6))","v":0},null,{"$f":"IF($BN$3+$BN$4+$BN$5=0,0,VLOOKUP($D24,'cbm RMA'!$F$9:$Q$70,6,FALSE)+(VLOOKUP($D24,'cbm RMA'!$F$9:$Q$70,10,FALSE))/'cbm RMA'!$N$4*(Calculations!$BN$3-'cbm RMA'!$L$4)+(VLOOKUP($D24,'cbm RMA'!$F$9:$Q$70,11,FALSE))/'cbm RMA'!$N$5*(Calculations!$BN$4-'cbm RMA'!$L$5)+(VLOOKUP($D24,'cbm RMA'!$F$9:$Q$70,12,FALSE))/'cbm RMA'!$N$6*($BN$5-'cbm RMA'!$L$6))","v":0},null,{"$f":"IF($BP$3+$BP$4+$BP$5=0,0,VLOOKUP($D24,'Marc RMA'!$F$9:$Q$70,6,FALSE)+(VLOOKUP($D24,'Marc RMA'!$F$9:$Q$70,10,FALSE))/'Marc RMA'!$N$4*(Calculations!$BP$3-'Marc RMA'!$L$4)+(VLOOKUP($D24,'Marc RMA'!$F$9:$Q$70,11,FALSE))/'Marc RMA'!$N$5*(Calculations!$BP$4-'Marc RMA'!$L$5)+(VLOOKUP($D24,'Marc RMA'!$F$9:$Q$70,12,FALSE))/'Marc RMA'!$N$6*($BP$5-'Marc RMA'!$L$6))","v":0},null,{"$f":"IF($BR$3+$BR$4+$BR$5=0,0,VLOOKUP($D24,'LNG RMA'!$F$9:$Q$70,6,FALSE)+(VLOOKUP($D24,'LNG RMA'!$F$9:$Q$70,10,FALSE))/'LNG RMA'!$N$4*(Calculations!$BR$3-'LNG RMA'!$L$4)+(VLOOKUP($D24,'LNG RMA'!$F$9:$Q$70,11,FALSE))/'LNG RMA'!$N$5*(Calculations!$BR$4-'LNG RMA'!$L$5)+(VLOOKUP($D24,'LNG RMA'!$F$9:$Q$70,12,FALSE))/'LNG RMA'!$N$6*($BR$5-'LNG RMA'!$L$6))","v":0},null,{"$f":"IF($BT$3+$BT$4+$BT$5=0,0,VLOOKUP($D24,'tight RMA'!$F$9:$Q$70,6,FALSE)+(VLOOKUP($D24,'tight RMA'!$F$9:$Q$70,10,FALSE))/'tight RMA'!$N$4*(Calculations!$BT$3-'tight RMA'!$L$4)+(VLOOKUP($D24,'tight RMA'!$F$9:$Q$70,11,FALSE))/'tight RMA'!$N$5*(Calculations!$BT$4-'tight RMA'!$L$5)+(VLOOKUP($D24,'tight RMA'!$F$9:$Q$70,12,FALSE))/'tight RMA'!$N$6*($BT$5-'tight RMA'!$L$6))","v":0},null,{"$f":"IF($BV$3+$BV$4+$BV$5=0,0,VLOOKUP($D24,'mix RMA'!$F$9:$Q$70,6,FALSE)+(VLOOKUP($D24,'mix RMA'!$F$9:$Q$70,10,FALSE))/'mix RMA'!$N$4*(Calculations!$BV$3-'mix RMA'!$L$4)+(VLOOKUP($D24,'mix RMA'!$F$9:$Q$70,11,FALSE))/'mix RMA'!$N$5*(Calculations!$BV$4-'mix RMA'!$L$5)+(VLOOKUP($D24,'mix RMA'!$F$9:$Q$70,12,FALSE))/'mix RMA'!$N$6*($BV$5-'mix RMA'!$L$6))","v":1.4659490681434354E-6}]
[null,18,"Heavy Metals (kg)","Heavy metals to fresh water",null,{"$f":"VLOOKUP($D25,'I6 RMA'!$F$10:$O$82,2,FALSE)+(VLOOKUP($D25,'I6 RMA'!$F$10:$O$82,3,FALSE)-VLOOKUP($D25,'I6 RMA'!$F$10:$O$82,2,FALSE))/'I6 RMA'!$L$4*(Calculations!$F$4-'I6 RMA'!$J$4)","v":3.56327989768243E-6},null,{"$f":"IF($H$4=0,0,VLOOKUP($D25,'PRB RMA'!$F$10:$O$82,2,FALSE)+(VLOOKUP($D25,'PRB RMA'!$F$10:$O$82,3,FALSE)-VLOOKUP($D25,'PRB RMA'!$F$10:$O$82,2,FALSE))/'PRB RMA'!$L$4*(Calculations!$H$4-'PRB RMA'!$J$4))","v":0},null,{"$f":"IF($J$4=0,0,VLOOKUP($D25,'Coal TrainRMT'!$F$10:$O$82,2,FALSE)+(VLOOKUP($D25,'Coal TrainRMT'!$F$10:$O$82,3,FALSE)-VLOOKUP($D25,'Coal TrainRMT'!$F$10:$O$82,2,FALSE))/'Coal TrainRMT'!$L$4*(Calculations!$J$4-'Coal TrainRMT'!$J$4))","v":7.0810029512696299E-6},null,{"$f":"IF($L$4+$L$5+$L$6=0,0,VLOOKUP($D25,#REF!,2,FALSE)+(VLOOKUP($D25,#REF!,6,FALSE)/#REF!*(#REF!-#REF!)+(VLOOKUP($D25,#REF!,8,FALSE))/#REF!*(#REF!-#REF!)+(VLOOKUP($D25,#REF!,10,FALSE))/#REF!*($L$6-#REF!)))","v":{"$error":"#REF!"}},null,{"$f":"IF($N$4=0,0,VLOOKUP($D25,'NG Pipeline RMT'!$F$10:$O$82,2,FALSE)+(VLOOKUP($D25,'NG Pipeline RMT'!$F$10:$O$82,3,FALSE)-VLOOKUP($D25,'NG Pipeline RMT'!$F$10:$O$82,2,FALSE))/'NG Pipeline RMT'!$L$4*(Calculations!$N$4-'NG Pipeline RMT'!$J$4))","v":0},null,{"$f":"IF($P$4=0,0,VLOOKUP($D25,'SG RMA'!$F$10:$O$82,2,FALSE)+(VLOOKUP($D25,'SG RMA'!$F$10:$O$82,3,FALSE)-VLOOKUP($D25,'SG RMA'!$F$10:$O$82,2,FALSE))/'SG RMA'!$L$4*(Calculations!$P$4-'SG RMA'!$J$4))","v":0},null,{"$f":"IF($R$4=0,0,VLOOKUP($D25,'Bale Truck RMT'!$F$10:$O$82,2,FALSE)+(VLOOKUP($D25,'Bale Truck RMT'!$F$10:$O$82,3,FALSE)-VLOOKUP($D25,'Bale Truck RMT'!$F$10:$O$82,2,FALSE))/'Bale Truck RMT'!$L$4*(Calculations!$R$4-'Bale Truck RMT'!$J$4))","v":0},null,{"$f":"IF($T$4=0,0,VLOOKUP($D25,'Cont Truck RMT'!$F$10:$O$82,2,FALSE)+(VLOOKUP($D25,'Cont Truck RMT'!$F$10:$O$82,3,FALSE)-VLOOKUP($D25,'Cont Truck RMT'!$F$10:$O$82,2,FALSE))/'Cont Truck RMT'!$L$4*(Calculations!$T$4-'Cont Truck RMT'!$J$4))","v":0},null,{"$f":"IF($V$4=0,0,VLOOKUP($D25,'SRWC RMA'!$F$10:$O$82,2,FALSE)+(VLOOKUP($D25,'SRWC RMA'!$F$10:$O$82,3,FALSE)-VLOOKUP($D25,'SRWC RMA'!$F$10:$O$82,2,FALSE))/'SRWC RMA'!$L$4*(Calculations!$V$4-'SRWC RMA'!$J$4))","v":0},null,{"$f":"IF($X$4+$X$5+$X$6=0,0,VLOOKUP($D25,'Stover RMA'!$F$9:$Q$70,2,FALSE)+(VLOOKUP($D25,'Stover RMA'!$F$9:$Q$70,10,FALSE))/'Stover RMA'!$N$4*(Calculations!$X$4-'Stover RMA'!$L$4)+(VLOOKUP($D25,'Stover RMA'!$F$9:$Q$70,11,FALSE))/'Stover RMA'!$N$5*(Calculations!$X$5-'Stover RMA'!$L$5)+(VLOOKUP($D25,'Stover RMA'!$F$9:$Q$70,12,FALSE))/'Stover RMA'!$N$6*($X$6-'Stover RMA'!$L$6))","v":0},null,{"$f":"IF($Z$4=0,0,VLOOKUP($D25,'Corn RMA'!$F$10:$O$82,2,FALSE)+(VLOOKUP($D25,'Corn RMA'!$F$10:$O$82,3,FALSE)-VLOOKUP($D25,'Corn RMA'!$F$10:$O$82,2,FALSE))/'Corn RMA'!$L$4*(Calculations!$Z$4-'Corn RMA'!$J$4))","v":0},null,{"$f":"HLOOKUP(1,'FT Diesel 2'!$H$11:$U$76,'FT Diesel 2'!V65,FALSE)","v":{"$error":"#N/A"}},null,{"$f":"HLOOKUP(1,'Adv Ethanol'!$G$10:$O$79,'Adv Ethanol'!Q55,FALSE)","v":{"$error":"#N/A"}},null,{"$f":"IF($AF$4+$AF$5>0,VLOOKUP(D25,Uranium!$F$10:$K$77,3,FALSE)*Calculations!$AF$4+VLOOKUP(D25,Uranium!$F$10:$K$77,4,FALSE)*$AF$5,0)","v":0},null,{"$f":"IF($AH$4=0,0,VLOOKUP($D25,'U RMT'!$F$9:$U$64,2,FALSE)+(VLOOKUP($D25,'U RMT'!$F$10:$U$64,3,FALSE)-VLOOKUP($D25,'U RMT'!$F$10:$U$64,2,FALSE))/'U RMT'!$U$2*(Calculations!$AH$4-'U RMT'!$O$2))","v":0},null,{"$f":"IF($AJ$4=0,0,VLOOKUP($D25,'U RMT'!$F$9:$U$64,4,FALSE)+(VLOOKUP($D25,'U RMT'!$F$10:$U$64,5,FALSE)-VLOOKUP($D25,'U RMT'!$F$10:$U$64,4,FALSE))/'U RMT'!$U$3*(Calculations!$AJ$4-'U RMT'!$Q$3))","v":0},null,{"$f":"IF($AL$4=0,0,VLOOKUP($D25,'U RMT'!$F$9:$U$64,6,FALSE)+(VLOOKUP($D25,'U RMT'!$F$10:$U$64,7,FALSE)-VLOOKUP($D25,'U RMT'!$F$10:$U$64,6,FALSE))/'U RMT'!$U$4*(Calculations!$AL$4-'U RMT'!$S$4))","v":0},null,{"$f":"IF($AN$4=0,0,VLOOKUP($D25,'Petro Transport'!$F$10:$Z$77,2,FALSE)+(VLOOKUP($D25,'Petro Transport'!$F$10:$Z$77,3,FALSE)-VLOOKUP($D25,'Petro Transport'!$F$10:$Z$77,2,FALSE))/'Petro Transport'!$V$3*(Calculations!$AN$4-'Petro Transport'!$N$3))","v":0},null,{"$f":"IF($AP$4=0,0,VLOOKUP($D25,'Petro Transport'!$F$10:$Z$77,4,FALSE)+(VLOOKUP($D25,'Petro Transport'!$F$10:$Z$77,5,FALSE)-VLOOKUP($D25,'Petro Transport'!$F$10:$Z$77,4,FALSE))/'Petro Transport'!$V$4*(Calculations!$AP$4-'Petro Transport'!$P$4))","v":0},null,{"$f":"IF($AR$4=0,0,VLOOKUP($D25,'Petro Transport'!$F$10:$Z$77,6,FALSE)+(VLOOKUP($D25,'Petro Transport'!$F$10:$Z$77,7,FALSE)-VLOOKUP($D25,'Petro Transport'!$F$10:$Z$77,6,FALSE))/'Petro Transport'!$V$5*(Calculations!$AR$4-'Petro Transport'!$R$5))","v":0},null,{"$f":"IF($AT$4=0,0,VLOOKUP($D25,'Petro Transport'!$F$10:$Z$77,8,FALSE)+(VLOOKUP($D25,'Petro Transport'!$F$10:$Z$77,9,FALSE)-VLOOKUP($D25,'Petro Transport'!$F$10:$Z$77,8,FALSE))/'Petro Transport'!$V$6*(Calculations!$AT$4-'Petro Transport'!$T$6))","v":0},null,{"$f":"VLOOKUP($D25,'Dom Petro'!$F$11:$J$65,3,FALSE)*Calculations!$AV$4+VLOOKUP($D25,'Dom Petro'!$F$11:$J$65,4,FALSE)*Calculations!$AV$5+VLOOKUP($D25,'Dom Petro'!$F$11:$J$65,5,FALSE)*Calculations!$AV$6","v":4.5918453527359098E-6},null,{"$f":"VLOOKUP($D25,'For Petro'!$F$9:$K$77,3,FALSE)*Calculations!$AX$3+VLOOKUP($D25,'For Petro'!$F$9:$K$77,4,FALSE)*Calculations!$AX$4+VLOOKUP($D25,'For Petro'!$F$9:$K$77,5,FALSE)*Calculations!$AX$5+VLOOKUP($D25,'For Petro'!$F$9:$K$77,6,FALSE)*$AX$6","v":0},null,{"$f":"IF($AZ$5=1,VLOOKUP($D25,'Petro Ref'!$F$10:$J$77,3,FALSE),0)","v":0},null,{"$f":"IF($BB$5,VLOOKUP($D25,'Petro Ref'!$F$10:$J$77,4,FALSE),0)","v":0},null,{"$f":"IF($BD$5=1,VLOOKUP($D25,'Petro Ref'!$F$10:$J$77,5,FALSE),0)","v":0},null,{"$f":"IF($BF$3+$BF$4+$BF$5=0,0,VLOOKUP($D25,'onshore RMA'!$F$9:$Q$70,2,FALSE)+(VLOOKUP($D25,'onshore RMA'!$F$9:$Q$70,10,FALSE))/'onshore RMA'!$N$4*(Calculations!$BF$3-'onshore RMA'!$L$4)+(VLOOKUP($D25,'onshore RMA'!$F$9:$Q$70,11,FALSE))/'onshore RMA'!$N$5*(Calculations!$BF$4-'onshore RMA'!$L$5)+(VLOOKUP($D25,'onshore RMA'!$F$9:$Q$70,12,FALSE))/'onshore RMA'!$N$6*($BF$5-'onshore RMA'!$L$6))","v":0},null,{"$f":"IF($BF$3+$BF$4+$BF$5=0,0,VLOOKUP($D25,'onshore RMA'!$F$9:$Q$70,2,FALSE)+(VLOOKUP($D25,'onshore RMA'!$F$9:$Q$70,10,FALSE))/'onshore RMA'!$N$4*(Calculations!$BF$3-'onshore RMA'!$L$4)+(VLOOKUP($D25,'onshore RMA'!$F$9:$Q$70,11,FALSE))/'onshore RMA'!$N$5*(Calculations!$BF$4-'onshore RMA'!$L$5)+(VLOOKUP($D25,'onshore RMA'!$F$9:$Q$70,12,FALSE))/'onshore RMA'!$N$6*($BF$5-'onshore RMA'!$L$6))","v":0},null,{"$f":"IF($BJ$3+$BJ$4+$BJ$5=0,0,VLOOKUP($D25,'offshore RMA'!$F$9:$Q$70,2,FALSE)+(VLOOKUP($D25,'offshore RMA'!$F$9:$Q$70,10,FALSE))/'offshore RMA'!$N$4*(Calculations!$BJ$3-'offshore RMA'!$L$4)+(VLOOKUP($D25,'offshore RMA'!$F$9:$Q$70,11,FALSE))/'offshore RMA'!$N$5*(Calculations!$BJ$4-'offshore RMA'!$L$5)+(VLOOKUP($D25,'offshore RMA'!$F$9:$Q$70,12,FALSE))/'offshore RMA'!$N$6*($BJ$5-'offshore RMA'!$L$6))","v":0},null,{"$f":"IF($BL$3+$BL$4+$BL$5=0,0,VLOOKUP($D25,'barnett RMA'!$F$9:$Q$70,2,FALSE)+(VLOOKUP($D25,'barnett RMA'!$F$9:$Q$70,10,FALSE))/'barnett RMA'!$N$4*(Calculations!$BL$3-'barnett RMA'!$L$4)+(VLOOKUP($D25,'barnett RMA'!$F$9:$Q$70,11,FALSE))/'barnett RMA'!$N$5*(Calculations!$BL$4-'barnett RMA'!$L$5)+(VLOOKUP($D25,'barnett RMA'!$F$9:$Q$70,12,FALSE))/'barnett RMA'!$N$6*($BL$5-'barnett RMA'!$L$6))","v":0},null,{"$f":"IF($BN$3+$BN$4+$BN$5=0,0,VLOOKUP($D25,'cbm RMA'!$F$9:$Q$70,2,FALSE)+(VLOOKUP($D25,'cbm RMA'!$F$9:$Q$70,10,FALSE))/'cbm RMA'!$N$4*(Calculations!$BN$3-'cbm RMA'!$L$4)+(VLOOKUP($D25,'cbm RMA'!$F$9:$Q$70,11,FALSE))/'cbm RMA'!$N$5*(Calculations!$BN$4-'cbm RMA'!$L$5)+(VLOOKUP($D25,'cbm RMA'!$F$9:$Q$70,12,FALSE))/'cbm RMA'!$N$6*($BN$5-'cbm RMA'!$L$6))","v":0},null,{"$f":"IF($BP$3+$BP$4+$BP$5=0,0,VLOOKUP($D25,'Marc RMA'!$F$9:$Q$70,2,FALSE)+(VLOOKUP($D25,'Marc RMA'!$F$9:$Q$70,10,FALSE))/'Marc RMA'!$N$4*(Calculations!$BP$3-'Marc RMA'!$L$4)+(VLOOKUP($D25,'Marc RMA'!$F$9:$Q$70,11,FALSE))/'Marc RMA'!$N$5*(Calculations!$BP$4-'Marc RMA'!$L$5)+(VLOOKUP($D25,'Marc RMA'!$F$9:$Q$70,12,FALSE))/'Marc RMA'!$N$6*($BP$5-'Marc RMA'!$L$6))","v":0},null,{"$f":"IF($BR$3+$BR$4+$BR$5=0,0,VLOOKUP($D25,'LNG RMA'!$F$9:$Q$70,2,FALSE)+(VLOOKUP($D25,'LNG RMA'!$F$9:$Q$70,10,FALSE))/'LNG RMA'!$N$4*(Calculations!$BR$3-'LNG RMA'!$L$4)+(VLOOKUP($D25,'LNG RMA'!$F$9:$Q$70,11,FALSE))/'LNG RMA'!$N$5*(Calculations!$BR$4-'LNG RMA'!$L$5)+(VLOOKUP($D25,'LNG RMA'!$F$9:$Q$70,12,FALSE))/'LNG RMA'!$N$6*($BR$5-'LNG RMA'!$L$6))","v":0},null,{"$f":"IF($BT$3+$BT$4+$BT$5=0,0,VLOOKUP($D25,'tight RMA'!$F$9:$Q$70,2,FALSE)+(VLOOKUP($D25,'tight RMA'!$F$9:$Q$70,10,FALSE))/'tight RMA'!$N$4*(Calculations!$BT$3-'tight RMA'!$L$4)+(VLOOKUP($D25,'tight RMA'!$F$9:$Q$70,11,FALSE))/'tight RMA'!$N$5*(Calculations!$BT$4-'tight RMA'!$L$5)+(VLOOKUP($D25,'tight RMA'!$F$9:$Q$70,12,FALSE))/'tight RMA'!$N$6*($BT$5-'tight RMA'!$L$6))","v":0},null,{"$f":"IF($BV$3+$BV$4+$BV$5=0,0,VLOOKUP($D25,'mix RMA'!$F$9:$Q$70,2,FALSE)+(VLOOKUP($D25,'mix RMA'!$F$9:$Q$70,10,FALSE))/'mix RMA'!$N$4*(Calculations!$BV$3-'mix RMA'!$L$4)+(VLOOKUP($D25,'mix RMA'!$F$9:$Q$70,11,FALSE))/'mix RMA'!$N$5*(Calculations!$BV$4-'mix RMA'!$L$5)+(VLOOKUP($D25,'mix RMA'!$F$9:$Q$70,12,FALSE))/'mix RMA'!$N$6*($BV$5-'mix RMA'!$L$6))","v":2.3175661558035425E-5}]
[null,19,"Nitrate (kg)","Nitrate",null,{"$f":"IF($F$4=0,0,VLOOKUP($D26,'I6 RMA'!$F$10:$O$82,2,FALSE)+(VLOOKUP($D26,'I6 RMA'!$F$10:$O$82,3,FALSE)-VLOOKUP($D26,'I6 RMA'!$F$10:$O$82,2,FALSE))/'I6 RMA'!$L$4*(Calculations!$F$4-'I6 RMA'!$J$4))","v":2.88825206346649E-8},null,{"$f":"IF($H$4=0,0,VLOOKUP($D26,'PRB RMA'!$F$10:$O$82,2,FALSE)+(VLOOKUP($D26,'PRB RMA'!$F$10:$O$82,3,FALSE)-VLOOKUP($D26,'PRB RMA'!$F$10:$O$82,2,FALSE))/'PRB RMA'!$L$4*(Calculations!$H$4-'PRB RMA'!$J$4))","v":0},null,{"$f":"IF($J$4=0,0,VLOOKUP($D26,'Coal TrainRMT'!$F$10:$O$82,2,FALSE)+(VLOOKUP($D26,'Coal TrainRMT'!$F$10:$O$82,3,FALSE)-VLOOKUP($D26,'Coal TrainRMT'!$F$10:$O$82,2,FALSE))/'Coal TrainRMT'!$L$4*(Calculations!$J$4-'Coal TrainRMT'!$J$4))","v":1.1982046128572E-8},null,{"$f":"IF($L$4+$L$5+$L$6=0,0,VLOOKUP($D26,#REF!,2,FALSE)+(VLOOKUP($D26,#REF!,6,FALSE)/#REF!*(#REF!-#REF!)+(VLOOKUP($D26,#REF!,8,FALSE))/#REF!*(#REF!-#REF!)+(VLOOKUP($D26,#REF!,10,FALSE))/#REF!*($L$6-#REF!)))","v":{"$error":"#REF!"}},null,{"$f":"IF($N$4=0,0,VLOOKUP($D26,'NG Pipeline RMT'!$F$10:$O$82,2,FALSE)+(VLOOKUP($D26,'NG Pipeline RMT'!$F$10:$O$82,3,FALSE)-VLOOKUP($D26,'NG Pipeline RMT'!$F$10:$O$82,2,FALSE))/'NG Pipeline RMT'!$L$4*(Calculations!$N$4-'NG Pipeline RMT'!$J$4))","v":0},null,{"$f":"IF($P$4=0,0,VLOOKUP($D26,'SG RMA'!$F$10:$O$82,2,FALSE)+(VLOOKUP($D26,'SG RMA'!$F$10:$O$82,3,FALSE)-VLOOKUP($D26,'SG RMA'!$F$10:$O$82,2,FALSE))/'SG RMA'!$L$4*(Calculations!$P$4-'SG RMA'!$J$4))","v":0},null,{"$f":"IF($R$4=0,0,VLOOKUP($D26,'Bale Truck RMT'!$F$10:$O$82,2,FALSE)+(VLOOKUP($D26,'Bale Truck RMT'!$F$10:$O$82,3,FALSE)-VLOOKUP($D26,'Bale Truck RMT'!$F$10:$O$82,2,FALSE))/'Bale Truck RMT'!$L$4*(Calculations!$R$4-'Bale Truck RMT'!$J$4))","v":0},null,{"$f":"IF($T$4=0,0,VLOOKUP($D26,'Cont Truck RMT'!$F$10:$O$82,2,FALSE)+(VLOOKUP($D26,'Cont Truck RMT'!$F$10:$O$82,3,FALSE)-VLOOKUP($D26,'Cont Truck RMT'!$F$10:$O$82,2,FALSE))/'Cont Truck RMT'!$L$4*(Calculations!$T$4-'Cont Truck RMT'!$J$4))","v":0},null,{"$f":"IF($V$4=0,0,VLOOKUP($D26,'SRWC RMA'!$F$10:$O$82,2,FALSE)+(VLOOKUP($D26,'SRWC RMA'!$F$10:$O$82,3,FALSE)-VLOOKUP($D26,'SRWC RMA'!$F$10:$O$82,2,FALSE))/'SRWC RMA'!$L$4*(Calculations!$V$4-'SRWC RMA'!$J$4))","v":0},null,{"$f":"IF($X$4+$X$5+$X$6=0,0,VLOOKUP($D26,'Stover RMA'!$F$9:$Q$70,2,FALSE)+(VLOOKUP($D26,'Stover RMA'!$F$9:$Q$70,10,FALSE))/'Stover RMA'!$N$4*(Calculations!$X$4-'Stover RMA'!$L$4)+(VLOOKUP($D26,'Stover RMA'!$F$9:$Q$70,11,FALSE))/'Stover RMA'!$N$5*(Calculations!$X$5-'Stover RMA'!$L$5)+(VLOOKUP($D26,'Stover RMA'!$F$9:$Q$70,12,FALSE))/'Stover RMA'!$N$6*($X$6-'Stover RMA'!$L$6))","v":0},null,{"$f":"IF($Z$4=0,0,VLOOKUP($D26,'Corn RMA'!$F$10:$O$82,2,FALSE)+(VLOOKUP($D26,'Corn RMA'!$F$10:$O$82,3,FALSE)-VLOOKUP($D26,'Corn RMA'!$F$10:$O$82,2,FALSE))/'Corn RMA'!$L$4*(Calculations!$Z$4-'Corn RMA'!$J$4))","v":0},null,{"$f":"HLOOKUP(1,'FT Diesel 2'!$H$11:$U$76,'FT Diesel 2'!V70,FALSE)","v":{"$error":"#N/A"}},null,{"$f":"HLOOKUP(1,'Adv Ethanol'!$G$10:$O$79,'Adv Ethanol'!Q60,FALSE)","v":{"$error":"#N/A"}},null,{"$f":"IF($AF$4+$AF$5>0,VLOOKUP(D26,Uranium!$F$10:$K$77,3,FALSE)*Calculations!$AF$4+VLOOKUP(D26,Uranium!$F$10:$K$77,4,FALSE)*$AF$5,0)","v":0},null,{"$f":"IF($AH$4=0,0,VLOOKUP($D26,'U RMT'!$F$9:$U$64,2,FALSE)+(VLOOKUP($D26,'U RMT'!$F$10:$U$64,3,FALSE)-VLOOKUP($D26,'U RMT'!$F$10:$U$64,2,FALSE))/'U RMT'!$U$2*(Calculations!$AH$4-'U RMT'!$O$2))","v":0},null,{"$f":"IF($AJ$4=0,0,VLOOKUP($D26,'U RMT'!$F$9:$U$64,4,FALSE)+(VLOOKUP($D26,'U RMT'!$F$10:$U$64,5,FALSE)-VLOOKUP($D26,'U RMT'!$F$10:$U$64,4,FALSE))/'U RMT'!$U$3*(Calculations!$AJ$4-'U RMT'!$Q$3))","v":0},null,{"$f":"IF($AL$4=0,0,VLOOKUP($D26,'U RMT'!$F$9:$U$64,6,FALSE)+(VLOOKUP($D26,'U RMT'!$F$10:$U$64,7,FALSE)-VLOOKUP($D26,'U RMT'!$F$10:$U$64,6,FALSE))/'U RMT'!$U$4*(Calculations!$AL$4-'U RMT'!$S$4))","v":0},null,{"$f":"IF($AN$4=0,0,VLOOKUP($D26,'Petro Transport'!$F$10:$Z$77,2,FALSE)+(VLOOKUP($D26,'Petro Transport'!$F$10:$Z$77,3,FALSE)-VLOOKUP($D26,'Petro Transport'!$F$10:$Z$77,2,FALSE))/'Petro Transport'!$V$3*(Calculations!$AN$4-'Petro Transport'!$N$3))","v":0},null,{"$f":"IF($AP$4=0,0,VLOOKUP($D26,'Petro Transport'!$F$10:$Z$77,4,FALSE)+(VLOOKUP($D26,'Petro Transport'!$F$10:$Z$77,5,FALSE)-VLOOKUP($D26,'Petro Transport'!$F$10:$Z$77,4,FALSE))/'Petro Transport'!$V$4*(Calculations!$AP$4-'Petro Transport'!$P$4))","v":0},null,{"$f":"IF($AR$4=0,0,VLOOKUP($D26,'Petro Transport'!$F$10:$Z$77,6,FALSE)+(VLOOKUP($D26,'Petro Transport'!$F$10:$Z$77,7,FALSE)-VLOOKUP($D26,'Petro Transport'!$F$10:$Z$77,6,FALSE))/'Petro Transport'!$V$5*(Calculations!$AR$4-'Petro Transport'!$R$5))","v":0},null,{"$f":"IF($AT$4=0,0,VLOOKUP($D26,'Petro Transport'!$F$10:$Z$77,8,FALSE)+(VLOOKUP($D26,'Petro Transport'!$F$10:$Z$77,9,FALSE)-VLOOKUP($D26,'Petro Transport'!$F$10:$Z$77,8,FALSE))/'Petro Transport'!$V$6*(Calculations!$AT$4-'Petro Transport'!$T$6))","v":0},null,{"$f":"VLOOKUP($D26,'Dom Petro'!$F$11:$J$65,3,FALSE)*Calculations!$AV$4+VLOOKUP($D26,'Dom Petro'!$F$11:$J$65,4,FALSE)*Calculations!$AV$5+VLOOKUP($D26,'Dom Petro'!$F$11:$J$65,5,FALSE)*Calculations!$AV$6","v":1.0672057884596699E-7},null,{"$f":"VLOOKUP($D26,'For Petro'!$F$9:$K$77,3,FALSE)*Calculations!$AX$3+VLOOKUP($D26,'For Petro'!$F$9:$K$77,4,FALSE)*Calculations!$AX$4+VLOOKUP($D26,'For Petro'!$F$9:$K$77,5,FALSE)*Calculations!$AX$5+VLOOKUP($D26,'For Petro'!$F$9:$K$77,6,FALSE)*$AX$6","v":0},null,{"$f":"IF($AZ$5=1,VLOOKUP($D26,'Petro Ref'!$F$10:$J$77,3,FALSE),0)","v":0},null,{"$f":"IF($BB$5,VLOOKUP($D26,'Petro Ref'!$F$10:$J$77,4,FALSE),0)","v":0},null,{"$f":"IF($BD$5=1,VLOOKUP($D26,'Petro Ref'!$F$10:$J$77,5,FALSE),0)","v":0},null,{"$f":"IF($BF$3+$BF$4+$BF$5=0,0,VLOOKUP($D26,'onshore RMA'!$F$9:$Q$70,2,FALSE)+(VLOOKUP($D26,'onshore RMA'!$F$9:$Q$70,10,FALSE))/'onshore RMA'!$N$4*(Calculations!$BF$3-'onshore RMA'!$L$4)+(VLOOKUP($D26,'onshore RMA'!$F$9:$Q$70,11,FALSE))/'onshore RMA'!$N$5*(Calculations!$BF$4-'onshore RMA'!$L$5)+(VLOOKUP($D26,'onshore RMA'!$F$9:$Q$70,12,FALSE))/'onshore RMA'!$N$6*($BF$5-'onshore RMA'!$L$6))","v":0},null,{"$f":"IF($BF$3+$BF$4+$BF$5=0,0,VLOOKUP($D26,'onshore RMA'!$F$9:$Q$70,2,FALSE)+(VLOOKUP($D26,'onshore RMA'!$F$9:$Q$70,10,FALSE))/'onshore RMA'!$N$4*(Calculations!$BF$3-'onshore RMA'!$L$4)+(VLOOKUP($D26,'onshore RMA'!$F$9:$Q$70,11,FALSE))/'onshore RMA'!$N$5*(Calculations!$BF$4-'onshore RMA'!$L$5)+(VLOOKUP($D26,'onshore RMA'!$F$9:$Q$70,12,FALSE))/'onshore RMA'!$N$6*($BF$5-'onshore RMA'!$L$6))","v":0},null,{"$f":"IF($BJ$3+$BJ$4+$BJ$5=0,0,VLOOKUP($D26,'offshore RMA'!$F$9:$Q$70,2,FALSE)+(VLOOKUP($D26,'offshore RMA'!$F$9:$Q$70,10,FALSE))/'offshore RMA'!$N$4*(Calculations!$BJ$3-'offshore RMA'!$L$4)+(VLOOKUP($D26,'offshore RMA'!$F$9:$Q$70,11,FALSE))/'offshore RMA'!$N$5*(Calculations!$BJ$4-'offshore RMA'!$L$5)+(VLOOKUP($D26,'offshore RMA'!$F$9:$Q$70,12,FALSE))/'offshore RMA'!$N$6*($BJ$5-'offshore RMA'!$L$6))","v":0},null,{"$f":"IF($BL$3+$BL$4+$BL$5=0,0,VLOOKUP($D26,'barnett RMA'!$F$9:$Q$70,2,FALSE)+(VLOOKUP($D26,'barnett RMA'!$F$9:$Q$70,10,FALSE))/'barnett RMA'!$N$4*(Calculations!$BL$3-'barnett RMA'!$L$4)+(VLOOKUP($D26,'barnett RMA'!$F$9:$Q$70,11,FALSE))/'barnett RMA'!$N$5*(Calculations!$BL$4-'barnett RMA'!$L$5)+(VLOOKUP($D26,'barnett RMA'!$F$9:$Q$70,12,FALSE))/'barnett RMA'!$N$6*($BL$5-'barnett RMA'!$L$6))","v":0},null,{"$f":"IF($BN$3+$BN$4+$BN$5=0,0,VLOOKUP($D26,'cbm RMA'!$F$9:$Q$70,2,FALSE)+(VLOOKUP($D26,'cbm RMA'!$F$9:$Q$70,10,FALSE))/'cbm RMA'!$N$4*(Calculations!$BN$3-'cbm RMA'!$L$4)+(VLOOKUP($D26,'cbm RMA'!$F$9:$Q$70,11,FALSE))/'cbm RMA'!$N$5*(Calculations!$BN$4-'cbm RMA'!$L$5)+(VLOOKUP($D26,'cbm RMA'!$F$9:$Q$70,12,FALSE))/'cbm RMA'!$N$6*($BN$5-'cbm RMA'!$L$6))","v":0},null,{"$f":"IF($BP$3+$BP$4+$BP$5=0,0,VLOOKUP($D26,'Marc RMA'!$F$9:$Q$70,2,FALSE)+(VLOOKUP($D26,'Marc RMA'!$F$9:$Q$70,10,FALSE))/'Marc RMA'!$N$4*(Calculations!$BP$3-'Marc RMA'!$L$4)+(VLOOKUP($D26,'Marc RMA'!$F$9:$Q$70,11,FALSE))/'Marc RMA'!$N$5*(Calculations!$BP$4-'Marc RMA'!$L$5)+(VLOOKUP($D26,'Marc RMA'!$F$9:$Q$70,12,FALSE))/'Marc RMA'!$N$6*($BP$5-'Marc RMA'!$L$6))","v":0},null,{"$f":"IF($BR$3+$BR$4+$BR$5=0,0,VLOOKUP($D26,'LNG RMA'!$F$9:$Q$70,2,FALSE)+(VLOOKUP($D26,'LNG RMA'!$F$9:$Q$70,10,FALSE))/'LNG RMA'!$N$4*(Calculations!$BR$3-'LNG RMA'!$L$4)+(VLOOKUP($D26,'LNG RMA'!$F$9:$Q$70,11,FALSE))/'LNG RMA'!$N$5*(Calculations!$BR$4-'LNG RMA'!$L$5)+(VLOOKUP($D26,'LNG RMA'!$F$9:$Q$70,12,FALSE))/'LNG RMA'!$N$6*($BR$5-'LNG RMA'!$L$6))","v":0},null,{"$f":"IF($BT$3+$BT$4+$BT$5=0,0,VLOOKUP($D26,'tight RMA'!$F$9:$Q$70,2,FALSE)+(VLOOKUP($D26,'tight RMA'!$F$9:$Q$70,10,FALSE))/'tight RMA'!$N$4*(Calculations!$BT$3-'tight RMA'!$L$4)+(VLOOKUP($D26,'tight RMA'!$F$9:$Q$70,11,FALSE))/'tight RMA'!$N$5*(Calculations!$BT$4-'tight RMA'!$L$5)+(VLOOKUP($D26,'tight RMA'!$F$9:$Q$70,12,FALSE))/'tight RMA'!$N$6*($BT$5-'tight RMA'!$L$6))","v":0},null,{"$f":"IF($BV$3+$BV$4+$BV$5=0,0,VLOOKUP($D26,'mix RMA'!$F$9:$Q$70,2,FALSE)+(VLOOKUP($D26,'mix RMA'!$F$9:$Q$70,10,FALSE))/'mix RMA'!$N$4*(Calculations!$BV$3-'mix RMA'!$L$4)+(VLOOKUP($D26,'mix RMA'!$F$9:$Q$70,11,FALSE))/'mix RMA'!$N$5*(Calculations!$BV$4-'mix RMA'!$L$5)+(VLOOKUP($D26,'mix RMA'!$F$9:$Q$70,12,FALSE))/'mix RMA'!$N$6*($BV$5-'mix RMA'!$L$6))","v":9.5644527670416445E-9}]
[null,20,"Nitrogen (kg)","Nitrogen",null,{"$f":"IF($F$4=0,0,VLOOKUP($D27,'I6 RMA'!$F$10:$O$82,2,FALSE)+(VLOOKUP($D27,'I6 RMA'!$F$10:$O$82,3,FALSE)-VLOOKUP($D27,'I6 RMA'!$F$10:$O$82,2,FALSE))/'I6 RMA'!$L$4*(Calculations!$F$4-'I6 RMA'!$J$4))","v":1.14091332650564E-7},null,{"$f":"IF($H$4=0,0,VLOOKUP($D27,'PRB RMA'!$F$10:$O$82,2,FALSE)+(VLOOKUP($D27,'PRB RMA'!$F$10:$O$82,3,FALSE)-VLOOKUP($D27,'PRB RMA'!$F$10:$O$82,2,FALSE))/'PRB RMA'!$L$4*(Calculations!$H$4-'PRB RMA'!$J$4))","v":0},null,{"$f":"IF($J$4=0,0,VLOOKUP($D27,'Coal TrainRMT'!$F$10:$O$82,2,FALSE)+(VLOOKUP($D27,'Coal TrainRMT'!$F$10:$O$82,3,FALSE)-VLOOKUP($D27,'Coal TrainRMT'!$F$10:$O$82,2,FALSE))/'Coal TrainRMT'!$L$4*(Calculations!$J$4-'Coal TrainRMT'!$J$4))","v":7.9443648414168103E-11},null,{"$f":"IF($L$4+$L$5+$L$6=0,0,VLOOKUP($D27,#REF!,2,FALSE)+(VLOOKUP($D27,#REF!,6,FALSE)/#REF!*(#REF!-#REF!)+(VLOOKUP($D27,#REF!,8,FALSE))/#REF!*(#REF!-#REF!)+(VLOOKUP($D27,#REF!,10,FALSE))/#REF!*($L$6-#REF!)))","v":{"$error":"#REF!"}},null,{"$f":"IF($N$4=0,0,VLOOKUP($D27,'NG Pipeline RMT'!$F$10:$O$82,2,FALSE)+(VLOOKUP($D27,'NG Pipeline RMT'!$F$10:$O$82,3,FALSE)-VLOOKUP($D27,'NG Pipeline RMT'!$F$10:$O$82,2,FALSE))/'NG Pipeline RMT'!$L$4*(Calculations!$N$4-'NG Pipeline RMT'!$J$4))","v":0},null,{"$f":"IF($P$4=0,0,VLOOKUP($D27,'SG RMA'!$F$10:$O$82,2,FALSE)+(VLOOKUP($D27,'SG RMA'!$F$10:$O$82,3,FALSE)-VLOOKUP($D27,'SG RMA'!$F$10:$O$82,2,FALSE))/'SG RMA'!$L$4*(Calculations!$P$4-'SG RMA'!$J$4))","v":0},null,{"$f":"IF($R$4=0,0,VLOOKUP($D27,'Bale Truck RMT'!$F$10:$O$82,2,FALSE)+(VLOOKUP($D27,'Bale Truck RMT'!$F$10:$O$82,3,FALSE)-VLOOKUP($D27,'Bale Truck RMT'!$F$10:$O$82,2,FALSE))/'Bale Truck RMT'!$L$4*(Calculations!$R$4-'Bale Truck RMT'!$J$4))","v":0},null,{"$f":"IF($T$4=0,0,VLOOKUP($D27,'Cont Truck RMT'!$F$10:$O$82,2,FALSE)+(VLOOKUP($D27,'Cont Truck RMT'!$F$10:$O$82,3,FALSE)-VLOOKUP($D27,'Cont Truck RMT'!$F$10:$O$82,2,FALSE))/'Cont Truck RMT'!$L$4*(Calculations!$T$4-'Cont Truck RMT'!$J$4))","v":0},null,{"$f":"IF($V$4=0,0,VLOOKUP($D27,'SRWC RMA'!$F$10:$O$82,2,FALSE)+(VLOOKUP($D27,'SRWC RMA'!$F$10:$O$82,3,FALSE)-VLOOKUP($D27,'SRWC RMA'!$F$10:$O$82,2,FALSE))/'SRWC RMA'!$L$4*(Calculations!$V$4-'SRWC RMA'!$J$4))","v":0},null,{"$f":"IF($X$4+$X$5+$X$6=0,0,VLOOKUP($D27,'Stover RMA'!$F$9:$Q$70,2,FALSE)+(VLOOKUP($D27,'Stover RMA'!$F$9:$Q$70,10,FALSE))/'Stover RMA'!$N$4*(Calculations!$X$4-'Stover RMA'!$L$4)+(VLOOKUP($D27,'Stover RMA'!$F$9:$Q$70,11,FALSE))/'Stover RMA'!$N$5*(Calculations!$X$5-'Stover RMA'!$L$5)+(VLOOKUP($D27,'Stover RMA'!$F$9:$Q$70,12,FALSE))/'Stover RMA'!$N$6*($X$6-'Stover RMA'!$L$6))","v":0},null,{"$f":"IF($Z$4=0,0,VLOOKUP($D27,'Corn RMA'!$F$10:$O$82,2,FALSE)+(VLOOKUP($D27,'Corn RMA'!$F$10:$O$82,3,FALSE)-VLOOKUP($D27,'Corn RMA'!$F$10:$O$82,2,FALSE))/'Corn RMA'!$L$4*(Calculations!$Z$4-'Corn RMA'!$J$4))","v":0},null,{"$f":"HLOOKUP(1,'FT Diesel 2'!$H$11:$U$76,'FT Diesel 2'!V71,FALSE)","v":{"$error":"#N/A"}},null,{"$f":"HLOOKUP(1,'Adv Ethanol'!$G$10:$O$79,'Adv Ethanol'!Q61,FALSE)","v":{"$error":"#N/A"}},null,{"$f":"IF($AF$4+$AF$5>0,VLOOKUP(D27,Uranium!$F$10:$K$77,3,FALSE)*Calculations!$AF$4+VLOOKUP(D27,Uranium!$F$10:$K$77,4,FALSE)*$AF$5,0)","v":0},null,{"$f":"IF($AH$4=0,0,VLOOKUP($D27,'U RMT'!$F$9:$U$64,2,FALSE)+(VLOOKUP($D27,'U RMT'!$F$10:$U$64,3,FALSE)-VLOOKUP($D27,'U RMT'!$F$10:$U$64,2,FALSE))/'U RMT'!$U$2*(Calculations!$AH$4-'U RMT'!$O$2))","v":0},null,{"$f":"IF($AJ$4=0,0,VLOOKUP($D27,'U RMT'!$F$9:$U$64,4,FALSE)+(VLOOKUP($D27,'U RMT'!$F$10:$U$64,5,FALSE)-VLOOKUP($D27,'U RMT'!$F$10:$U$64,4,FALSE))/'U RMT'!$U$3*(Calculations!$AJ$4-'U RMT'!$Q$3))","v":0},null,{"$f":"IF($AL$4=0,0,VLOOKUP($D27,'U RMT'!$F$9:$U$64,6,FALSE)+(VLOOKUP($D27,'U RMT'!$F$10:$U$64,7,FALSE)-VLOOKUP($D27,'U RMT'!$F$10:$U$64,6,FALSE))/'U RMT'!$U$4*(Calculations!$AL$4-'U RMT'!$S$4))","v":0},null,{"$f":"IF($AN$4=0,0,VLOOKUP($D27,'Petro Transport'!$F$10:$Z$77,2,FALSE)+(VLOOKUP($D27,'Petro Transport'!$F$10:$Z$77,3,FALSE)-VLOOKUP($D27,'Petro Transport'!$F$10:$Z$77,2,FALSE))/'Petro Transport'!$V$3*(Calculations!$AN$4-'Petro Transport'!$N$3))","v":0},null,{"$f":"IF($AP$4=0,0,VLOOKUP($D27,'Petro Transport'!$F$10:$Z$77,4,FALSE)+(VLOOKUP($D27,'Petro Transport'!$F$10:$Z$77,5,FALSE)-VLOOKUP($D27,'Petro Transport'!$F$10:$Z$77,4,FALSE))/'Petro Transport'!$V$4*(Calculations!$AP$4-'Petro Transport'!$P$4))","v":0},null,{"$f":"IF($AR$4=0,0,VLOOKUP($D27,'Petro Transport'!$F$10:$Z$77,6,FALSE)+(VLOOKUP($D27,'Petro Transport'!$F$10:$Z$77,7,FALSE)-VLOOKUP($D27,'Petro Transport'!$F$10:$Z$77,6,FALSE))/'Petro Transport'!$V$5*(Calculations!$AR$4-'Petro Transport'!$R$5))","v":0},null,{"$f":"IF($AT$4=0,0,VLOOKUP($D27,'Petro Transport'!$F$10:$Z$77,8,FALSE)+(VLOOKUP($D27,'Petro Transport'!$F$10:$Z$77,9,FALSE)-VLOOKUP($D27,'Petro Transport'!$F$10:$Z$77,8,FALSE))/'Petro Transport'!$V$6*(Calculations!$AT$4-'Petro Transport'!$T$6))","v":0},null,{"$f":"VLOOKUP($D27,'Dom Petro'!$F$11:$J$65,3,FALSE)*Calculations!$AV$4+VLOOKUP($D27,'Dom Petro'!$F$11:$J$65,4,FALSE)*Calculations!$AV$5+VLOOKUP($D27,'Dom Petro'!$F$11:$J$65,5,FALSE)*Calculations!$AV$6","v":0},null,{"$f":"VLOOKUP($D27,'For Petro'!$F$9:$K$77,3,FALSE)*Calculations!$AX$3+VLOOKUP($D27,'For Petro'!$F$9:$K$77,4,FALSE)*Calculations!$AX$4+VLOOKUP($D27,'For Petro'!$F$9:$K$77,5,FALSE)*Calculations!$AX$5+VLOOKUP($D27,'For Petro'!$F$9:$K$77,6,FALSE)*$AX$6","v":0},null,{"$f":"IF($AZ$5=1,VLOOKUP($D27,'Petro Ref'!$F$10:$J$77,3,FALSE),0)","v":0},null,{"$f":"IF($BB$5,VLOOKUP($D27,'Petro Ref'!$F$10:$J$77,4,FALSE),0)","v":0},null,{"$f":"IF($BD$5=1,VLOOKUP($D27,'Petro Ref'!$F$10:$J$77,5,FALSE),0)","v":0},null,{"$f":"IF($BF$3+$BF$4+$BF$5=0,0,VLOOKUP($D27,'onshore RMA'!$F$9:$Q$70,2,FALSE)+(VLOOKUP($D27,'onshore RMA'!$F$9:$Q$70,10,FALSE))/'onshore RMA'!$N$4*(Calculations!$BF$3-'onshore RMA'!$L$4)+(VLOOKUP($D27,'onshore RMA'!$F$9:$Q$70,11,FALSE))/'onshore RMA'!$N$5*(Calculations!$BF$4-'onshore RMA'!$L$5)+(VLOOKUP($D27,'onshore RMA'!$F$9:$Q$70,12,FALSE))/'onshore RMA'!$N$6*($BF$5-'onshore RMA'!$L$6))","v":0},null,{"$f":"IF($BF$3+$BF$4+$BF$5=0,0,VLOOKUP($D27,'onshore RMA'!$F$9:$Q$70,2,FALSE)+(VLOOKUP($D27,'onshore RMA'!$F$9:$Q$70,10,FALSE))/'onshore RMA'!$N$4*(Calculations!$BF$3-'onshore RMA'!$L$4)+(VLOOKUP($D27,'onshore RMA'!$F$9:$Q$70,11,FALSE))/'onshore RMA'!$N$5*(Calculations!$BF$4-'onshore RMA'!$L$5)+(VLOOKUP($D27,'onshore RMA'!$F$9:$Q$70,12,FALSE))/'onshore RMA'!$N$6*($BF$5-'onshore RMA'!$L$6))","v":0},null,{"$f":"IF($BJ$3+$BJ$4+$BJ$5=0,0,VLOOKUP($D27,'offshore RMA'!$F$9:$Q$70,2,FALSE)+(VLOOKUP($D27,'offshore RMA'!$F$9:$Q$70,10,FALSE))/'offshore RMA'!$N$4*(Calculations!$BJ$3-'offshore RMA'!$L$4)+(VLOOKUP($D27,'offshore RMA'!$F$9:$Q$70,11,FALSE))/'offshore RMA'!$N$5*(Calculations!$BJ$4-'offshore RMA'!$L$5)+(VLOOKUP($D27,'offshore RMA'!$F$9:$Q$70,12,FALSE))/'offshore RMA'!$N$6*($BJ$5-'offshore RMA'!$L$6))","v":0},null,{"$f":"IF($BL$3+$BL$4+$BL$5=0,0,VLOOKUP($D27,'barnett RMA'!$F$9:$Q$70,2,FALSE)+(VLOOKUP($D27,'barnett RMA'!$F$9:$Q$70,10,FALSE))/'barnett RMA'!$N$4*(Calculations!$BL$3-'barnett RMA'!$L$4)+(VLOOKUP($D27,'barnett RMA'!$F$9:$Q$70,11,FALSE))/'barnett RMA'!$N$5*(Calculations!$BL$4-'barnett RMA'!$L$5)+(VLOOKUP($D27,'barnett RMA'!$F$9:$Q$70,12,FALSE))/'barnett RMA'!$N$6*($BL$5-'barnett RMA'!$L$6))","v":0},null,{"$f":"IF($BN$3+$BN$4+$BN$5=0,0,VLOOKUP($D27,'cbm RMA'!$F$9:$Q$70,2,FALSE)+(VLOOKUP($D27,'cbm RMA'!$F$9:$Q$70,10,FALSE))/'cbm RMA'!$N$4*(Calculations!$BN$3-'cbm RMA'!$L$4)+(VLOOKUP($D27,'cbm RMA'!$F$9:$Q$70,11,FALSE))/'cbm RMA'!$N$5*(Calculations!$BN$4-'cbm RMA'!$L$5)+(VLOOKUP($D27,'cbm RMA'!$F$9:$Q$70,12,FALSE))/'cbm RMA'!$N$6*($BN$5-'cbm RMA'!$L$6))","v":0},null,{"$f":"IF($BP$3+$BP$4+$BP$5=0,0,VLOOKUP($D27,'Marc RMA'!$F$9:$Q$70,2,FALSE)+(VLOOKUP($D27,'Marc RMA'!$F$9:$Q$70,10,FALSE))/'Marc RMA'!$N$4*(Calculations!$BP$3-'Marc RMA'!$L$4)+(VLOOKUP($D27,'Marc RMA'!$F$9:$Q$70,11,FALSE))/'Marc RMA'!$N$5*(Calculations!$BP$4-'Marc RMA'!$L$5)+(VLOOKUP($D27,'Marc RMA'!$F$9:$Q$70,12,FALSE))/'Marc RMA'!$N$6*($BP$5-'Marc RMA'!$L$6))","v":0},null,{"$f":"IF($BR$3+$BR$4+$BR$5=0,0,VLOOKUP($D27,'LNG RMA'!$F$9:$Q$70,2,FALSE)+(VLOOKUP($D27,'LNG RMA'!$F$9:$Q$70,10,FALSE))/'LNG RMA'!$N$4*(Calculations!$BR$3-'LNG RMA'!$L$4)+(VLOOKUP($D27,'LNG RMA'!$F$9:$Q$70,11,FALSE))/'LNG RMA'!$N$5*(Calculations!$BR$4-'LNG RMA'!$L$5)+(VLOOKUP($D27,'LNG RMA'!$F$9:$Q$70,12,FALSE))/'LNG RMA'!$N$6*($BR$5-'LNG RMA'!$L$6))","v":0},null,{"$f":"IF($BT$3+$BT$4+$BT$5=0,0,VLOOKUP($D27,'tight RMA'!$F$9:$Q$70,2,FALSE)+(VLOOKUP($D27,'tight RMA'!$F$9:$Q$70,10,FALSE))/'tight RMA'!$N$4*(Calculations!$BT$3-'tight RMA'!$L$4)+(VLOOKUP($D27,'tight RMA'!$F$9:$Q$70,11,FALSE))/'tight RMA'!$N$5*(Calculations!$BT$4-'tight RMA'!$L$5)+(VLOOKUP($D27,'tight RMA'!$F$9:$Q$70,12,FALSE))/'tight RMA'!$N$6*($BT$5-'tight RMA'!$L$6))","v":0},null,{"$f":"IF($BV$3+$BV$4+$BV$5=0,0,VLOOKUP($D27,'mix RMA'!$F$9:$Q$70,2,FALSE)+(VLOOKUP($D27,'mix RMA'!$F$9:$Q$70,10,FALSE))/'mix RMA'!$N$4*(Calculations!$BV$3-'mix RMA'!$L$4)+(VLOOKUP($D27,'mix RMA'!$F$9:$Q$70,11,FALSE))/'mix RMA'!$N$5*(Calculations!$BV$4-'mix RMA'!$L$5)+(VLOOKUP($D27,'mix RMA'!$F$9:$Q$70,12,FALSE))/'mix RMA'!$N$6*($BV$5-'mix RMA'!$L$6))","v":3.7996995943612016E-8}]
[null,21,"Phosphate (kg)","Phosphate",null,{"$f":"IF($F$4=0,0,VLOOKUP($D28,'I6 RMA'!$F$10:$O$82,2,FALSE)+(VLOOKUP($D28,'I6 RMA'!$F$10:$O$82,3,FALSE)-VLOOKUP($D28,'I6 RMA'!$F$10:$O$82,2,FALSE))/'I6 RMA'!$L$4*(Calculations!$F$4-'I6 RMA'!$J$4))","v":2.8579155162335698E-10},null,{"$f":"IF($H$4=0,0,VLOOKUP($D28,'PRB RMA'!$F$10:$O$82,2,FALSE)+(VLOOKUP($D28,'PRB RMA'!$F$10:$O$82,3,FALSE)-VLOOKUP($D28,'PRB RMA'!$F$10:$O$82,2,FALSE))/'PRB RMA'!$L$4*(Calculations!$H$4-'PRB RMA'!$J$4))","v":0},null,{"$f":"IF($J$4=0,0,VLOOKUP($D28,'Coal TrainRMT'!$F$10:$O$82,2,FALSE)+(VLOOKUP($D28,'Coal TrainRMT'!$F$10:$O$82,3,FALSE)-VLOOKUP($D28,'Coal TrainRMT'!$F$10:$O$82,2,FALSE))/'Coal TrainRMT'!$L$4*(Calculations!$J$4-'Coal TrainRMT'!$J$4))","v":1.3484490552670299E-10},null,{"$f":"IF($L$4+$L$5+$L$6=0,0,VLOOKUP($D28,#REF!,2,FALSE)+(VLOOKUP($D28,#REF!,6,FALSE)/#REF!*(#REF!-#REF!)+(VLOOKUP($D28,#REF!,8,FALSE))/#REF!*(#REF!-#REF!)+(VLOOKUP($D28,#REF!,10,FALSE))/#REF!*($L$6-#REF!)))","v":{"$error":"#REF!"}},null,{"$f":"IF($N$4=0,0,VLOOKUP($D28,'NG Pipeline RMT'!$F$10:$O$82,2,FALSE)+(VLOOKUP($D28,'NG Pipeline RMT'!$F$10:$O$82,3,FALSE)-VLOOKUP($D28,'NG Pipeline RMT'!$F$10:$O$82,2,FALSE))/'NG Pipeline RMT'!$L$4*(Calculations!$N$4-'NG Pipeline RMT'!$J$4))","v":0},null,{"$f":"IF($P$4=0,0,VLOOKUP($D28,'SG RMA'!$F$10:$O$82,2,FALSE)+(VLOOKUP($D28,'SG RMA'!$F$10:$O$82,3,FALSE)-VLOOKUP($D28,'SG RMA'!$F$10:$O$82,2,FALSE))/'SG RMA'!$L$4*(Calculations!$P$4-'SG RMA'!$J$4))","v":0},null,{"$f":"IF($R$4=0,0,VLOOKUP($D28,'Bale Truck RMT'!$F$10:$O$82,2,FALSE)+(VLOOKUP($D28,'Bale Truck RMT'!$F$10:$O$82,3,FALSE)-VLOOKUP($D28,'Bale Truck RMT'!$F$10:$O$82,2,FALSE))/'Bale Truck RMT'!$L$4*(Calculations!$R$4-'Bale Truck RMT'!$J$4))","v":0},null,{"$f":"IF($T$4=0,0,VLOOKUP($D28,'Cont Truck RMT'!$F$10:$O$82,2,FALSE)+(VLOOKUP($D28,'Cont Truck RMT'!$F$10:$O$82,3,FALSE)-VLOOKUP($D28,'Cont Truck RMT'!$F$10:$O$82,2,FALSE))/'Cont Truck RMT'!$L$4*(Calculations!$T$4-'Cont Truck RMT'!$J$4))","v":0},null,{"$f":"IF($V$4=0,0,VLOOKUP($D28,'SRWC RMA'!$F$10:$O$82,2,FALSE)+(VLOOKUP($D28,'SRWC RMA'!$F$10:$O$82,3,FALSE)-VLOOKUP($D28,'SRWC RMA'!$F$10:$O$82,2,FALSE))/'SRWC RMA'!$L$4*(Calculations!$V$4-'SRWC RMA'!$J$4))","v":0},null,{"$f":"IF($X$4+$X$5+$X$6=0,0,VLOOKUP($D28,'Stover RMA'!$F$9:$Q$70,2,FALSE)+(VLOOKUP($D28,'Stover RMA'!$F$9:$Q$70,10,FALSE))/'Stover RMA'!$N$4*(Calculations!$X$4-'Stover RMA'!$L$4)+(VLOOKUP($D28,'Stover RMA'!$F$9:$Q$70,11,FALSE))/'Stover RMA'!$N$5*(Calculations!$X$5-'Stover RMA'!$L$5)+(VLOOKUP($D28,'Stover RMA'!$F$9:$Q$70,12,FALSE))/'Stover RMA'!$N$6*($X$6-'Stover RMA'!$L$6))","v":0},null,{"$f":"IF($Z$4=0,0,VLOOKUP($D28,'Corn RMA'!$F$10:$O$82,2,FALSE)+(VLOOKUP($D28,'Corn RMA'!$F$10:$O$82,3,FALSE)-VLOOKUP($D28,'Corn RMA'!$F$10:$O$82,2,FALSE))/'Corn RMA'!$L$4*(Calculations!$Z$4-'Corn RMA'!$J$4))","v":0},null,{"$f":"HLOOKUP(1,'FT Diesel 2'!$H$11:$U$76,'FT Diesel 2'!V72,FALSE)","v":{"$error":"#N/A"}},null,{"$f":"HLOOKUP(1,'Adv Ethanol'!$G$10:$O$79,'Adv Ethanol'!Q62,FALSE)","v":{"$error":"#N/A"}},null,{"$f":"IF($AF$4+$AF$5>0,VLOOKUP(D28,Uranium!$F$10:$K$77,3,FALSE)*Calculations!$AF$4+VLOOKUP(D28,Uranium!$F$10:$K$77,4,FALSE)*$AF$5,0)","v":0},null,{"$f":"IF($AH$4=0,0,VLOOKUP($D28,'U RMT'!$F$9:$U$64,2,FALSE)+(VLOOKUP($D28,'U RMT'!$F$10:$U$64,3,FALSE)-VLOOKUP($D28,'U RMT'!$F$10:$U$64,2,FALSE))/'U RMT'!$U$2*(Calculations!$AH$4-'U RMT'!$O$2))","v":0},null,{"$f":"IF($AJ$4=0,0,VLOOKUP($D28,'U RMT'!$F$9:$U$64,4,FALSE)+(VLOOKUP($D28,'U RMT'!$F$10:$U$64,5,FALSE)-VLOOKUP($D28,'U RMT'!$F$10:$U$64,4,FALSE))/'U RMT'!$U$3*(Calculations!$AJ$4-'U RMT'!$Q$3))","v":0},null,{"$f":"IF($AL$4=0,0,VLOOKUP($D28,'U RMT'!$F$9:$U$64,6,FALSE)+(VLOOKUP($D28,'U RMT'!$F$10:$U$64,7,FALSE)-VLOOKUP($D28,'U RMT'!$F$10:$U$64,6,FALSE))/'U RMT'!$U$4*(Calculations!$AL$4-'U RMT'!$S$4))","v":0},null,{"$f":"IF($AN$4=0,0,VLOOKUP($D28,'Petro Transport'!$F$10:$Z$77,2,FALSE)+(VLOOKUP($D28,'Petro Transport'!$F$10:$Z$77,3,FALSE)-VLOOKUP($D28,'Petro Transport'!$F$10:$Z$77,2,FALSE))/'Petro Transport'!$V$3*(Calculations!$AN$4-'Petro Transport'!$N$3))","v":0},null,{"$f":"IF($AP$4=0,0,VLOOKUP($D28,'Petro Transport'!$F$10:$Z$77,4,FALSE)+(VLOOKUP($D28,'Petro Transport'!$F$10:$Z$77,5,FALSE)-VLOOKUP($D28,'Petro Transport'!$F$10:$Z$77,4,FALSE))/'Petro Transport'!$V$4*(Calculations!$AP$4-'Petro Transport'!$P$4))","v":0},null,{"$f":"IF($AR$4=0,0,VLOOKUP($D28,'Petro Transport'!$F$10:$Z$77,6,FALSE)+(VLOOKUP($D28,'Petro Transport'!$F$10:$Z$77,7,FALSE)-VLOOKUP($D28,'Petro Transport'!$F$10:$Z$77,6,FALSE))/'Petro Transport'!$V$5*(Calculations!$AR$4-'Petro Transport'!$R$5))","v":0},null,{"$f":"IF($AT$4=0,0,VLOOKUP($D28,'Petro Transport'!$F$10:$Z$77,8,FALSE)+(VLOOKUP($D28,'Petro Transport'!$F$10:$Z$77,9,FALSE)-VLOOKUP($D28,'Petro Transport'!$F$10:$Z$77,8,FALSE))/'Petro Transport'!$V$6*(Calculations!$AT$4-'Petro Transport'!$T$6))","v":0},null,{"$f":"VLOOKUP($D28,'Dom Petro'!$F$11:$J$65,3,FALSE)*Calculations!$AV$4+VLOOKUP($D28,'Dom Petro'!$F$11:$J$65,4,FALSE)*Calculations!$AV$5+VLOOKUP($D28,'Dom Petro'!$F$11:$J$65,5,FALSE)*Calculations!$AV$6","v":1.3500460790989601E-8},null,{"$f":"VLOOKUP($D28,'For Petro'!$F$9:$K$77,3,FALSE)*Calculations!$AX$3+VLOOKUP($D28,'For Petro'!$F$9:$K$77,4,FALSE)*Calculations!$AX$4+VLOOKUP($D28,'For Petro'!$F$9:$K$77,5,FALSE)*Calculations!$AX$5+VLOOKUP($D28,'For Petro'!$F$9:$K$77,6,FALSE)*$AX$6","v":0},null,{"$f":"IF($AZ$5=1,VLOOKUP($D28,'Petro Ref'!$F$10:$J$77,3,FALSE),0)","v":0},null,{"$f":"IF($BB$5,VLOOKUP($D28,'Petro Ref'!$F$10:$J$77,4,FALSE),0)","v":0},null,{"$f":"IF($BD$5=1,VLOOKUP($D28,'Petro Ref'!$F$10:$J$77,5,FALSE),0)","v":0},null,{"$f":"IF($BF$3+$BF$4+$BF$5=0,0,VLOOKUP($D28,'onshore RMA'!$F$9:$Q$70,2,FALSE)+(VLOOKUP($D28,'onshore RMA'!$F$9:$Q$70,10,FALSE))/'onshore RMA'!$N$4*(Calculations!$BF$3-'onshore RMA'!$L$4)+(VLOOKUP($D28,'onshore RMA'!$F$9:$Q$70,11,FALSE))/'onshore RMA'!$N$5*(Calculations!$BF$4-'onshore RMA'!$L$5)+(VLOOKUP($D28,'onshore RMA'!$F$9:$Q$70,12,FALSE))/'onshore RMA'!$N$6*($BF$5-'onshore RMA'!$L$6))","v":0},null,{"$f":"IF($BF$3+$BF$4+$BF$5=0,0,VLOOKUP($D28,'onshore RMA'!$F$9:$Q$70,2,FALSE)+(VLOOKUP($D28,'onshore RMA'!$F$9:$Q$70,10,FALSE))/'onshore RMA'!$N$4*(Calculations!$BF$3-'onshore RMA'!$L$4)+(VLOOKUP($D28,'onshore RMA'!$F$9:$Q$70,11,FALSE))/'onshore RMA'!$N$5*(Calculations!$BF$4-'onshore RMA'!$L$5)+(VLOOKUP($D28,'onshore RMA'!$F$9:$Q$70,12,FALSE))/'onshore RMA'!$N$6*($BF$5-'onshore RMA'!$L$6))","v":0},null,{"$f":"IF($BJ$3+$BJ$4+$BJ$5=0,0,VLOOKUP($D28,'offshore RMA'!$F$9:$Q$70,2,FALSE)+(VLOOKUP($D28,'offshore RMA'!$F$9:$Q$70,10,FALSE))/'offshore RMA'!$N$4*(Calculations!$BJ$3-'offshore RMA'!$L$4)+(VLOOKUP($D28,'offshore RMA'!$F$9:$Q$70,11,FALSE))/'offshore RMA'!$N$5*(Calculations!$BJ$4-'offshore RMA'!$L$5)+(VLOOKUP($D28,'offshore RMA'!$F$9:$Q$70,12,FALSE))/'offshore RMA'!$N$6*($BJ$5-'offshore RMA'!$L$6))","v":0},null,{"$f":"IF($BL$3+$BL$4+$BL$5=0,0,VLOOKUP($D28,'barnett RMA'!$F$9:$Q$70,2,FALSE)+(VLOOKUP($D28,'barnett RMA'!$F$9:$Q$70,10,FALSE))/'barnett RMA'!$N$4*(Calculations!$BL$3-'barnett RMA'!$L$4)+(VLOOKUP($D28,'barnett RMA'!$F$9:$Q$70,11,FALSE))/'barnett RMA'!$N$5*(Calculations!$BL$4-'barnett RMA'!$L$5)+(VLOOKUP($D28,'barnett RMA'!$F$9:$Q$70,12,FALSE))/'barnett RMA'!$N$6*($BL$5-'barnett RMA'!$L$6))","v":0},null,{"$f":"IF($BN$3+$BN$4+$BN$5=0,0,VLOOKUP($D28,'cbm RMA'!$F$9:$Q$70,2,FALSE)+(VLOOKUP($D28,'cbm RMA'!$F$9:$Q$70,10,FALSE))/'cbm RMA'!$N$4*(Calculations!$BN$3-'cbm RMA'!$L$4)+(VLOOKUP($D28,'cbm RMA'!$F$9:$Q$70,11,FALSE))/'cbm RMA'!$N$5*(Calculations!$BN$4-'cbm RMA'!$L$5)+(VLOOKUP($D28,'cbm RMA'!$F$9:$Q$70,12,FALSE))/'cbm RMA'!$N$6*($BN$5-'cbm RMA'!$L$6))","v":0},null,{"$f":"IF($BP$3+$BP$4+$BP$5=0,0,VLOOKUP($D28,'Marc RMA'!$F$9:$Q$70,2,FALSE)+(VLOOKUP($D28,'Marc RMA'!$F$9:$Q$70,10,FALSE))/'Marc RMA'!$N$4*(Calculations!$BP$3-'Marc RMA'!$L$4)+(VLOOKUP($D28,'Marc RMA'!$F$9:$Q$70,11,FALSE))/'Marc RMA'!$N$5*(Calculations!$BP$4-'Marc RMA'!$L$5)+(VLOOKUP($D28,'Marc RMA'!$F$9:$Q$70,12,FALSE))/'Marc RMA'!$N$6*($BP$5-'Marc RMA'!$L$6))","v":0},null,{"$f":"IF($BR$3+$BR$4+$BR$5=0,0,VLOOKUP($D28,'LNG RMA'!$F$9:$Q$70,2,FALSE)+(VLOOKUP($D28,'LNG RMA'!$F$9:$Q$70,10,FALSE))/'LNG RMA'!$N$4*(Calculations!$BR$3-'LNG RMA'!$L$4)+(VLOOKUP($D28,'LNG RMA'!$F$9:$Q$70,11,FALSE))/'LNG RMA'!$N$5*(Calculations!$BR$4-'LNG RMA'!$L$5)+(VLOOKUP($D28,'LNG RMA'!$F$9:$Q$70,12,FALSE))/'LNG RMA'!$N$6*($BR$5-'LNG RMA'!$L$6))","v":0},null,{"$f":"IF($BT$3+$BT$4+$BT$5=0,0,VLOOKUP($D28,'tight RMA'!$F$9:$Q$70,2,FALSE)+(VLOOKUP($D28,'tight RMA'!$F$9:$Q$70,10,FALSE))/'tight RMA'!$N$4*(Calculations!$BT$3-'tight RMA'!$L$4)+(VLOOKUP($D28,'tight RMA'!$F$9:$Q$70,11,FALSE))/'tight RMA'!$N$5*(Calculations!$BT$4-'tight RMA'!$L$5)+(VLOOKUP($D28,'tight RMA'!$F$9:$Q$70,12,FALSE))/'tight RMA'!$N$6*($BT$5-'tight RMA'!$L$6))","v":0},null,{"$f":"IF($BV$3+$BV$4+$BV$5=0,0,VLOOKUP($D28,'mix RMA'!$F$9:$Q$70,2,FALSE)+(VLOOKUP($D28,'mix RMA'!$F$9:$Q$70,10,FALSE))/'mix RMA'!$N$4*(Calculations!$BV$3-'mix RMA'!$L$4)+(VLOOKUP($D28,'mix RMA'!$F$9:$Q$70,11,FALSE))/'mix RMA'!$N$5*(Calculations!$BV$4-'mix RMA'!$L$5)+(VLOOKUP($D28,'mix RMA'!$F$9:$Q$70,12,FALSE))/'mix RMA'!$N$6*($BV$5-'mix RMA'!$L$6))","v":5.0139744640679103E-11}]
[null,22,"Phosphorus (kg)","Phosphorus",null,{"$f":"IF($F$4=0,0,VLOOKUP($D29,'I6 RMA'!$F$10:$O$82,2,FALSE)+(VLOOKUP($D29,'I6 RMA'!$F$10:$O$82,3,FALSE)-VLOOKUP($D29,'I6 RMA'!$F$10:$O$82,2,FALSE))/'I6 RMA'!$L$4*(Calculations!$F$4-'I6 RMA'!$J$4))","v":1.45935922120199E-7},null,{"$f":"IF($H$4=0,0,VLOOKUP($D29,'PRB RMA'!$F$10:$O$82,2,FALSE)+(VLOOKUP($D29,'PRB RMA'!$F$10:$O$82,3,FALSE)-VLOOKUP($D29,'PRB RMA'!$F$10:$O$82,2,FALSE))/'PRB RMA'!$L$4*(Calculations!$H$4-'PRB RMA'!$J$4))","v":0},null,{"$f":"IF($J$4=0,0,VLOOKUP($D29,'Coal TrainRMT'!$F$10:$O$82,2,FALSE)+(VLOOKUP($D29,'Coal TrainRMT'!$F$10:$O$82,3,FALSE)-VLOOKUP($D29,'Coal TrainRMT'!$F$10:$O$82,2,FALSE))/'Coal TrainRMT'!$L$4*(Calculations!$J$4-'Coal TrainRMT'!$J$4))","v":1.47265594498172E-6},null,{"$f":"IF($L$4+$L$5+$L$6=0,0,VLOOKUP($D29,#REF!,2,FALSE)+(VLOOKUP($D29,#REF!,6,FALSE)/#REF!*(#REF!-#REF!)+(VLOOKUP($D29,#REF!,8,FALSE))/#REF!*(#REF!-#REF!)+(VLOOKUP($D29,#REF!,10,FALSE))/#REF!*($L$6-#REF!)))","v":{"$error":"#REF!"}},null,{"$f":"IF($N$4=0,0,VLOOKUP($D29,'NG Pipeline RMT'!$F$10:$O$82,2,FALSE)+(VLOOKUP($D29,'NG Pipeline RMT'!$F$10:$O$82,3,FALSE)-VLOOKUP($D29,'NG Pipeline RMT'!$F$10:$O$82,2,FALSE))/'NG Pipeline RMT'!$L$4*(Calculations!$N$4-'NG Pipeline RMT'!$J$4))","v":0},null,{"$f":"IF($P$4=0,0,VLOOKUP($D29,'SG RMA'!$F$10:$O$82,2,FALSE)+(VLOOKUP($D29,'SG RMA'!$F$10:$O$82,3,FALSE)-VLOOKUP($D29,'SG RMA'!$F$10:$O$82,2,FALSE))/'SG RMA'!$L$4*(Calculations!$P$4-'SG RMA'!$J$4))","v":0},null,{"$f":"IF($R$4=0,0,VLOOKUP($D29,'Bale Truck RMT'!$F$10:$O$82,2,FALSE)+(VLOOKUP($D29,'Bale Truck RMT'!$F$10:$O$82,3,FALSE)-VLOOKUP($D29,'Bale Truck RMT'!$F$10:$O$82,2,FALSE))/'Bale Truck RMT'!$L$4*(Calculations!$R$4-'Bale Truck RMT'!$J$4))","v":0},null,{"$f":"IF($T$4=0,0,VLOOKUP($D29,'Cont Truck RMT'!$F$10:$O$82,2,FALSE)+(VLOOKUP($D29,'Cont Truck RMT'!$F$10:$O$82,3,FALSE)-VLOOKUP($D29,'Cont Truck RMT'!$F$10:$O$82,2,FALSE))/'Cont Truck RMT'!$L$4*(Calculations!$T$4-'Cont Truck RMT'!$J$4))","v":0},null,{"$f":"IF($V$4=0,0,VLOOKUP($D29,'SRWC RMA'!$F$10:$O$82,2,FALSE)+(VLOOKUP($D29,'SRWC RMA'!$F$10:$O$82,3,FALSE)-VLOOKUP($D29,'SRWC RMA'!$F$10:$O$82,2,FALSE))/'SRWC RMA'!$L$4*(Calculations!$V$4-'SRWC RMA'!$J$4))","v":0},null,{"$f":"IF($X$4+$X$5+$X$6=0,0,VLOOKUP($D29,'Stover RMA'!$F$9:$Q$70,2,FALSE)+(VLOOKUP($D29,'Stover RMA'!$F$9:$Q$70,10,FALSE))/'Stover RMA'!$N$4*(Calculations!$X$4-'Stover RMA'!$L$4)+(VLOOKUP($D29,'Stover RMA'!$F$9:$Q$70,11,FALSE))/'Stover RMA'!$N$5*(Calculations!$X$5-'Stover RMA'!$L$5)+(VLOOKUP($D29,'Stover RMA'!$F$9:$Q$70,12,FALSE))/'Stover RMA'!$N$6*($X$6-'Stover RMA'!$L$6))","v":0},null,{"$f":"IF($Z$4=0,0,VLOOKUP($D29,'Corn RMA'!$F$10:$O$82,2,FALSE)+(VLOOKUP($D29,'Corn RMA'!$F$10:$O$82,3,FALSE)-VLOOKUP($D29,'Corn RMA'!$F$10:$O$82,2,FALSE))/'Corn RMA'!$L$4*(Calculations!$Z$4-'Corn RMA'!$J$4))","v":0},null,{"$f":"HLOOKUP(1,'FT Diesel 2'!$H$11:$U$76,'FT Diesel 2'!V73,FALSE)","v":{"$error":"#N/A"}},null,{"$f":"HLOOKUP(1,'Adv Ethanol'!$G$10:$O$79,'Adv Ethanol'!Q63,FALSE)","v":{"$error":"#N/A"}},null,{"$f":"IF($AF$4+$AF$5>0,VLOOKUP(D29,Uranium!$F$10:$K$77,3,FALSE)*Calculations!$AF$4+VLOOKUP(D29,Uranium!$F$10:$K$77,4,FALSE)*$AF$5,0)","v":0},null,{"$f":"IF($AH$4=0,0,VLOOKUP($D29,'U RMT'!$F$9:$U$64,2,FALSE)+(VLOOKUP($D29,'U RMT'!$F$10:$U$64,3,FALSE)-VLOOKUP($D29,'U RMT'!$F$10:$U$64,2,FALSE))/'U RMT'!$U$2*(Calculations!$AH$4-'U RMT'!$O$2))","v":0},null,{"$f":"IF($AJ$4=0,0,VLOOKUP($D29,'U RMT'!$F$9:$U$64,4,FALSE)+(VLOOKUP($D29,'U RMT'!$F$10:$U$64,5,FALSE)-VLOOKUP($D29,'U RMT'!$F$10:$U$64,4,FALSE))/'U RMT'!$U$3*(Calculations!$AJ$4-'U RMT'!$Q$3))","v":0},null,{"$f":"IF($AL$4=0,0,VLOOKUP($D29,'U RMT'!$F$9:$U$64,6,FALSE)+(VLOOKUP($D29,'U RMT'!$F$10:$U$64,7,FALSE)-VLOOKUP($D29,'U RMT'!$F$10:$U$64,6,FALSE))/'U RMT'!$U$4*(Calculations!$AL$4-'U RMT'!$S$4))","v":0},null,{"$f":"IF($AN$4=0,0,VLOOKUP($D29,'Petro Transport'!$F$10:$Z$77,2,FALSE)+(VLOOKUP($D29,'Petro Transport'!$F$10:$Z$77,3,FALSE)-VLOOKUP($D29,'Petro Transport'!$F$10:$Z$77,2,FALSE))/'Petro Transport'!$V$3*(Calculations!$AN$4-'Petro Transport'!$N$3))","v":0},null,{"$f":"IF($AP$4=0,0,VLOOKUP($D29,'Petro Transport'!$F$10:$Z$77,4,FALSE)+(VLOOKUP($D29,'Petro Transport'!$F$10:$Z$77,5,FALSE)-VLOOKUP($D29,'Petro Transport'!$F$10:$Z$77,4,FALSE))/'Petro Transport'!$V$4*(Calculations!$AP$4-'Petro Transport'!$P$4))","v":0},null,{"$f":"IF($AR$4=0,0,VLOOKUP($D29,'Petro Transport'!$F$10:$Z$77,6,FALSE)+(VLOOKUP($D29,'Petro Transport'!$F$10:$Z$77,7,FALSE)-VLOOKUP($D29,'Petro Transport'!$F$10:$Z$77,6,FALSE))/'Petro Transport'!$V$5*(Calculations!$AR$4-'Petro Transport'!$R$5))","v":0},null,{"$f":"IF($AT$4=0,0,VLOOKUP($D29,'Petro Transport'!$F$10:$Z$77,8,FALSE)+(VLOOKUP($D29,'Petro Transport'!$F$10:$Z$77,9,FALSE)-VLOOKUP($D29,'Petro Transport'!$F$10:$Z$77,8,FALSE))/'Petro Transport'!$V$6*(Calculations!$AT$4-'Petro Transport'!$T$6))","v":0},null,{"$f":"VLOOKUP($D29,'Dom Petro'!$F$11:$J$65,3,FALSE)*Calculations!$AV$4+VLOOKUP($D29,'Dom Petro'!$F$11:$J$65,4,FALSE)*Calculations!$AV$5+VLOOKUP($D29,'Dom Petro'!$F$11:$J$65,5,FALSE)*Calculations!$AV$6","v":5.9103837128789098E-8},null,{"$f":"VLOOKUP($D29,'For Petro'!$F$9:$K$77,3,FALSE)*Calculations!$AX$3+VLOOKUP($D29,'For Petro'!$F$9:$K$77,4,FALSE)*Calculations!$AX$4+VLOOKUP($D29,'For Petro'!$F$9:$K$77,5,FALSE)*Calculations!$AX$5+VLOOKUP($D29,'For Petro'!$F$9:$K$77,6,FALSE)*$AX$6","v":0},null,{"$f":"IF($AZ$5=1,VLOOKUP($D29,'Petro Ref'!$F$10:$J$77,3,FALSE),0)","v":0},null,{"$f":"IF($BB$5,VLOOKUP($D29,'Petro Ref'!$F$10:$J$77,4,FALSE),0)","v":0},null,{"$f":"IF($BD$5=1,VLOOKUP($D29,'Petro Ref'!$F$10:$J$77,5,FALSE),0)","v":0},null,{"$f":"IF($BF$3+$BF$4+$BF$5=0,0,VLOOKUP($D29,'onshore RMA'!$F$9:$Q$70,2,FALSE)+(VLOOKUP($D29,'onshore RMA'!$F$9:$Q$70,10,FALSE))/'onshore RMA'!$N$4*(Calculations!$BF$3-'onshore RMA'!$L$4)+(VLOOKUP($D29,'onshore RMA'!$F$9:$Q$70,11,FALSE))/'onshore RMA'!$N$5*(Calculations!$BF$4-'onshore RMA'!$L$5)+(VLOOKUP($D29,'onshore RMA'!$F$9:$Q$70,12,FALSE))/'onshore RMA'!$N$6*($BF$5-'onshore RMA'!$L$6))","v":0},null,{"$f":"IF($BF$3+$BF$4+$BF$5=0,0,VLOOKUP($D29,'onshore RMA'!$F$9:$Q$70,2,FALSE)+(VLOOKUP($D29,'onshore RMA'!$F$9:$Q$70,10,FALSE))/'onshore RMA'!$N$4*(Calculations!$BF$3-'onshore RMA'!$L$4)+(VLOOKUP($D29,'onshore RMA'!$F$9:$Q$70,11,FALSE))/'onshore RMA'!$N$5*(Calculations!$BF$4-'onshore RMA'!$L$5)+(VLOOKUP($D29,'onshore RMA'!$F$9:$Q$70,12,FALSE))/'onshore RMA'!$N$6*($BF$5-'onshore RMA'!$L$6))","v":0},null,{"$f":"IF($BJ$3+$BJ$4+$BJ$5=0,0,VLOOKUP($D29,'offshore RMA'!$F$9:$Q$70,2,FALSE)+(VLOOKUP($D29,'offshore RMA'!$F$9:$Q$70,10,FALSE))/'offshore RMA'!$N$4*(Calculations!$BJ$3-'offshore RMA'!$L$4)+(VLOOKUP($D29,'offshore RMA'!$F$9:$Q$70,11,FALSE))/'offshore RMA'!$N$5*(Calculations!$BJ$4-'offshore RMA'!$L$5)+(VLOOKUP($D29,'offshore RMA'!$F$9:$Q$70,12,FALSE))/'offshore RMA'!$N$6*($BJ$5-'offshore RMA'!$L$6))","v":0},null,{"$f":"IF($BL$3+$BL$4+$BL$5=0,0,VLOOKUP($D29,'barnett RMA'!$F$9:$Q$70,2,FALSE)+(VLOOKUP($D29,'barnett RMA'!$F$9:$Q$70,10,FALSE))/'barnett RMA'!$N$4*(Calculations!$BL$3-'barnett RMA'!$L$4)+(VLOOKUP($D29,'barnett RMA'!$F$9:$Q$70,11,FALSE))/'barnett RMA'!$N$5*(Calculations!$BL$4-'barnett RMA'!$L$5)+(VLOOKUP($D29,'barnett RMA'!$F$9:$Q$70,12,FALSE))/'barnett RMA'!$N$6*($BL$5-'barnett RMA'!$L$6))","v":0},null,{"$f":"IF($BN$3+$BN$4+$BN$5=0,0,VLOOKUP($D29,'cbm RMA'!$F$9:$Q$70,2,FALSE)+(VLOOKUP($D29,'cbm RMA'!$F$9:$Q$70,10,FALSE))/'cbm RMA'!$N$4*(Calculations!$BN$3-'cbm RMA'!$L$4)+(VLOOKUP($D29,'cbm RMA'!$F$9:$Q$70,11,FALSE))/'cbm RMA'!$N$5*(Calculations!$BN$4-'cbm RMA'!$L$5)+(VLOOKUP($D29,'cbm RMA'!$F$9:$Q$70,12,FALSE))/'cbm RMA'!$N$6*($BN$5-'cbm RMA'!$L$6))","v":0},null,{"$f":"IF($BP$3+$BP$4+$BP$5=0,0,VLOOKUP($D29,'Marc RMA'!$F$9:$Q$70,2,FALSE)+(VLOOKUP($D29,'Marc RMA'!$F$9:$Q$70,10,FALSE))/'Marc RMA'!$N$4*(Calculations!$BP$3-'Marc RMA'!$L$4)+(VLOOKUP($D29,'Marc RMA'!$F$9:$Q$70,11,FALSE))/'Marc RMA'!$N$5*(Calculations!$BP$4-'Marc RMA'!$L$5)+(VLOOKUP($D29,'Marc RMA'!$F$9:$Q$70,12,FALSE))/'Marc RMA'!$N$6*($BP$5-'Marc RMA'!$L$6))","v":0},null,{"$f":"IF($BR$3+$BR$4+$BR$5=0,0,VLOOKUP($D29,'LNG RMA'!$F$9:$Q$70,2,FALSE)+(VLOOKUP($D29,'LNG RMA'!$F$9:$Q$70,10,FALSE))/'LNG RMA'!$N$4*(Calculations!$BR$3-'LNG RMA'!$L$4)+(VLOOKUP($D29,'LNG RMA'!$F$9:$Q$70,11,FALSE))/'LNG RMA'!$N$5*(Calculations!$BR$4-'LNG RMA'!$L$5)+(VLOOKUP($D29,'LNG RMA'!$F$9:$Q$70,12,FALSE))/'LNG RMA'!$N$6*($BR$5-'LNG RMA'!$L$6))","v":0},null,{"$f":"IF($BT$3+$BT$4+$BT$5=0,0,VLOOKUP($D29,'tight RMA'!$F$9:$Q$70,2,FALSE)+(VLOOKUP($D29,'tight RMA'!$F$9:$Q$70,10,FALSE))/'tight RMA'!$N$4*(Calculations!$BT$3-'tight RMA'!$L$4)+(VLOOKUP($D29,'tight RMA'!$F$9:$Q$70,11,FALSE))/'tight RMA'!$N$5*(Calculations!$BT$4-'tight RMA'!$L$5)+(VLOOKUP($D29,'tight RMA'!$F$9:$Q$70,12,FALSE))/'tight RMA'!$N$6*($BT$5-'tight RMA'!$L$6))","v":0},null,{"$f":"IF($BV$3+$BV$4+$BV$5=0,0,VLOOKUP($D29,'mix RMA'!$F$9:$Q$70,2,FALSE)+(VLOOKUP($D29,'mix RMA'!$F$9:$Q$70,10,FALSE))/'mix RMA'!$N$4*(Calculations!$BV$3-'mix RMA'!$L$4)+(VLOOKUP($D29,'mix RMA'!$F$9:$Q$70,11,FALSE))/'mix RMA'!$N$5*(Calculations!$BV$4-'mix RMA'!$L$5)+(VLOOKUP($D29,'mix RMA'!$F$9:$Q$70,12,FALSE))/'mix RMA'!$N$6*($BV$5-'mix RMA'!$L$6))","v":3.7049796939491718E-7}]
["Water",23,"Water Withdrawal (kg)","Water",null,{"$f":"IF($F$4=0,0,VLOOKUP($D30,'I6 RMA'!$F$10:$O$82,2,FALSE)+(VLOOKUP($D30,'I6 RMA'!$F$10:$O$82,3,FALSE)-VLOOKUP($D30,'I6 RMA'!$F$10:$O$82,2,FALSE))/'I6 RMA'!$L$4*(Calculations!$F$4-'I6 RMA'!$J$4))","v":1.14459435973983},null,{"$f":"IF($H$4=0,0,VLOOKUP($D30,'PRB RMA'!$F$10:$O$82,2,FALSE)+(VLOOKUP($D30,'PRB RMA'!$F$10:$O$82,3,FALSE)-VLOOKUP($D30,'PRB RMA'!$F$10:$O$82,2,FALSE))/'PRB RMA'!$L$4*(Calculations!$H$4-'PRB RMA'!$J$4))","v":0},null,{"$f":"IF($J$4=0,0,VLOOKUP($D30,'Coal TrainRMT'!$F$10:$O$82,2,FALSE)+(VLOOKUP($D30,'Coal TrainRMT'!$F$10:$O$82,3,FALSE)-VLOOKUP($D30,'Coal TrainRMT'!$F$10:$O$82,2,FALSE))/'Coal TrainRMT'!$L$4*(Calculations!$J$4-'Coal TrainRMT'!$J$4))","v":1.13441181987318E-2},null,{"$f":"IF($L$4+$L$5+$L$6=0,0,VLOOKUP($D30,#REF!,2,FALSE)+(VLOOKUP($D30,#REF!,6,FALSE)/#REF!*(#REF!-#REF!)+(VLOOKUP($D30,#REF!,8,FALSE))/#REF!*(#REF!-#REF!)+(VLOOKUP($D30,#REF!,10,FALSE))/#REF!*($L$6-#REF!)))","v":{"$error":"#REF!"}},null,{"$f":"IF($N$4=0,0,VLOOKUP($D30,'NG Pipeline RMT'!$F$25:$O$82,4,FALSE)+(VLOOKUP($D30,'NG Pipeline RMT'!$F$25:$O$82,5,FALSE)-VLOOKUP($D30,'NG Pipeline RMT'!$F$25:$O$82,4,FALSE))/'NG Pipeline RMT'!$L$4*(Calculations!$N$4-'NG Pipeline RMT'!$J$4))","v":0},null,{"$f":"IF($P$4=0,0,VLOOKUP($D30,'SG RMA'!$F$10:$O$82,2,FALSE)+(VLOOKUP($D30,'SG RMA'!$F$10:$O$82,3,FALSE)-VLOOKUP($D30,'SG RMA'!$F$10:$O$82,2,FALSE))/'SG RMA'!$L$4*(Calculations!$P$4-'SG RMA'!$J$4))","v":0},null,{"$f":"IF($R$4=0,0,VLOOKUP($D30,'Bale Truck RMT'!$F$10:$O$82,2,FALSE)+(VLOOKUP($D30,'Bale Truck RMT'!$F$10:$O$82,3,FALSE)-VLOOKUP($D30,'Bale Truck RMT'!$F$10:$O$82,2,FALSE))/'Bale Truck RMT'!$L$4*(Calculations!$R$4-'Bale Truck RMT'!$J$4))","v":0},null,{"$f":"IF($T$4=0,0,VLOOKUP($D30,'Cont Truck RMT'!$F$10:$O$82,2,FALSE)+(VLOOKUP($D30,'Cont Truck RMT'!$F$10:$O$82,3,FALSE)-VLOOKUP($D30,'Cont Truck RMT'!$F$10:$O$82,2,FALSE))/'Cont Truck RMT'!$L$4*(Calculations!$T$4-'Cont Truck RMT'!$J$4))","v":0},null,{"$f":"IF($V$4=0,0,VLOOKUP($D30,'SRWC RMA'!$F$10:$O$82,2,FALSE)+(VLOOKUP($D30,'SRWC RMA'!$F$10:$O$82,3,FALSE)-VLOOKUP($D30,'SRWC RMA'!$F$10:$O$82,2,FALSE))/'SRWC RMA'!$L$4*(Calculations!$V$4-'SRWC RMA'!$J$4))","v":0},null,{"$f":"IF($X$4+$X$5+$X$6=0,0,VLOOKUP($D30,'Stover RMA'!$F$9:$Q$70,2,FALSE)+(VLOOKUP($D30,'Stover RMA'!$F$9:$Q$70,10,FALSE))/'Stover RMA'!$N$4*(Calculations!$X$4-'Stover RMA'!$L$4)+(VLOOKUP($D30,'Stover RMA'!$F$9:$Q$70,11,FALSE))/'Stover RMA'!$N$5*(Calculations!$X$5-'Stover RMA'!$L$5)+(VLOOKUP($D30,'Stover RMA'!$F$9:$Q$70,12,FALSE))/'Stover RMA'!$N$6*($X$6-'Stover RMA'!$L$6))","v":0},null,{"$f":"IF($Z$4=0,0,VLOOKUP($D30,'Corn RMA'!$F$10:$O$82,2,FALSE)+(VLOOKUP($D30,'Corn RMA'!$F$10:$O$82,3,FALSE)-VLOOKUP($D30,'Corn RMA'!$F$10:$O$82,2,FALSE))/'Corn RMA'!$L$4*(Calculations!$Z$4-'Corn RMA'!$J$4))","v":0},null,{"$f":"HLOOKUP(1,'FT Diesel 2'!$H$11:$U$76,'FT Diesel 2'!V22,FALSE)","v":{"$error":"#N/A"}},null,{"$f":"HLOOKUP(1,'Adv Ethanol'!$G$10:$O$79,'Adv Ethanol'!Q17,FALSE)","v":{"$error":"#N/A"}},null,{"$f":"IF($AF$4+$AF$5>0,VLOOKUP(D30,Uranium!$F$10:$K$77,3,FALSE)*Calculations!$AF$4+VLOOKUP(D30,Uranium!$F$10:$K$77,4,FALSE)*$AF$5,0)","v":0},null,{"$f":"IF($AH$4=0,0,VLOOKUP($D30,'U RMT'!$F$9:$U$64,2,FALSE)+(VLOOKUP($D30,'U RMT'!$F$10:$U$64,3,FALSE)-VLOOKUP($D30,'U RMT'!$F$10:$U$64,2,FALSE))/'U RMT'!$U$2*(Calculations!$AH$4-'U RMT'!$O$2))","v":0},null,{"$f":"IF($AJ$4=0,0,VLOOKUP($D30,'U RMT'!$F$9:$U$64,4,FALSE)+(VLOOKUP($D30,'U RMT'!$F$10:$U$64,5,FALSE)-VLOOKUP($D30,'U RMT'!$F$10:$U$64,4,FALSE))/'U RMT'!$U$3*(Calculations!$AJ$4-'U RMT'!$Q$3))","v":0},null,{"$f":"IF($AL$4=0,0,VLOOKUP($D30,'U RMT'!$F$9:$U$64,6,FALSE)+(VLOOKUP($D30,'U RMT'!$F$10:$U$64,7,FALSE)-VLOOKUP($D30,'U RMT'!$F$10:$U$64,6,FALSE))/'U RMT'!$U$4*(Calculations!$AL$4-'U RMT'!$S$4))","v":0},null,{"$f":"IF($AN$4=0,0,VLOOKUP($D30,'Petro Transport'!$F$10:$Z$77,2,FALSE)+(VLOOKUP($D30,'Petro Transport'!$F$10:$Z$77,3,FALSE)-VLOOKUP($D30,'Petro Transport'!$F$10:$Z$77,2,FALSE))/'Petro Transport'!$V$3*(Calculations!$AN$4-'Petro Transport'!$N$3))","v":0},null,{"$f":"IF($AP$4=0,0,VLOOKUP($D30,'Petro Transport'!$F$10:$Z$77,4,FALSE)+(VLOOKUP($D30,'Petro Transport'!$F$10:$Z$77,5,FALSE)-VLOOKUP($D30,'Petro Transport'!$F$10:$Z$77,4,FALSE))/'Petro Transport'!$V$4*(Calculations!$AP$4-'Petro Transport'!$P$4))","v":0},null,{"$f":"IF($AR$4=0,0,VLOOKUP($D30,'Petro Transport'!$F$10:$Z$77,6,FALSE)+(VLOOKUP($D30,'Petro Transport'!$F$10:$Z$77,7,FALSE)-VLOOKUP($D30,'Petro Transport'!$F$10:$Z$77,6,FALSE))/'Petro Transport'!$V$5*(Calculations!$AR$4-'Petro Transport'!$R$5))","v":0},null,{"$f":"IF($AT$4=0,0,VLOOKUP($D30,'Petro Transport'!$F$10:$Z$77,8,FALSE)+(VLOOKUP($D30,'Petro Transport'!$F$10:$Z$77,9,FALSE)-VLOOKUP($D30,'Petro Transport'!$F$10:$Z$77,8,FALSE))/'Petro Transport'!$V$6*(Calculations!$AT$4-'Petro Transport'!$T$6))","v":0},null,{"$f":"VLOOKUP($D30,'Dom Petro'!$F$11:$J$65,3,FALSE)*Calculations!$AV$4+VLOOKUP($D30,'Dom Petro'!$F$11:$J$65,4,FALSE)*Calculations!$AV$5+VLOOKUP($D30,'Dom Petro'!$F$11:$J$65,5,FALSE)*Calculations!$AV$6","v":0.117739198435418},null,{"$f":"VLOOKUP($D30,'For Petro'!$F$9:$K$77,3,FALSE)*Calculations!$AX$3+VLOOKUP($D30,'For Petro'!$F$9:$K$77,4,FALSE)*Calculations!$AX$4+VLOOKUP($D30,'For Petro'!$F$9:$K$77,5,FALSE)*Calculations!$AX$5+VLOOKUP($D30,'For Petro'!$F$9:$K$77,6,FALSE)*$AX$6","v":0},null,{"$f":"IF($AZ$5=1,VLOOKUP($D30,'Petro Ref'!$F$10:$J$77,3,FALSE),0)","v":0},null,{"$f":"IF($BB$5,VLOOKUP($D30,'Petro Ref'!$F$10:$J$77,4,FALSE),0)","v":0},null,{"$f":"IF($BD$5=1,VLOOKUP($D30,'Petro Ref'!$F$10:$J$77,5,FALSE),0)","v":0},null,{"$f":"IF($BF$3+$BF$4+$BF$5=0,0,VLOOKUP($D30,'onshore RMA'!$F$9:$Q$70,2,FALSE)+(VLOOKUP($D30,'onshore RMA'!$F$9:$Q$70,10,FALSE))/'onshore RMA'!$N$4*(Calculations!$BF$3-'onshore RMA'!$L$4)+(VLOOKUP($D30,'onshore RMA'!$F$9:$Q$70,11,FALSE))/'onshore RMA'!$N$5*(Calculations!$BF$4-'onshore RMA'!$L$5)+(VLOOKUP($D30,'onshore RMA'!$F$9:$Q$70,12,FALSE))/'onshore RMA'!$N$6*($BF$5-'onshore RMA'!$L$6))","v":0},null,{"$f":"IF($BF$3+$BF$4+$BF$5=0,0,VLOOKUP($D30,'onshore RMA'!$F$9:$Q$70,2,FALSE)+(VLOOKUP($D30,'onshore RMA'!$F$9:$Q$70,10,FALSE))/'onshore RMA'!$N$4*(Calculations!$BF$3-'onshore RMA'!$L$4)+(VLOOKUP($D30,'onshore RMA'!$F$9:$Q$70,11,FALSE))/'onshore RMA'!$N$5*(Calculations!$BF$4-'onshore RMA'!$L$5)+(VLOOKUP($D30,'onshore RMA'!$F$9:$Q$70,12,FALSE))/'onshore RMA'!$N$6*($BF$5-'onshore RMA'!$L$6))","v":0},null,{"$f":"IF($BJ$3+$BJ$4+$BJ$5=0,0,VLOOKUP($D30,'offshore RMA'!$F$9:$Q$70,2,FALSE)+(VLOOKUP($D30,'offshore RMA'!$F$9:$Q$70,10,FALSE))/'offshore RMA'!$N$4*(Calculations!$BJ$3-'offshore RMA'!$L$4)+(VLOOKUP($D30,'offshore RMA'!$F$9:$Q$70,11,FALSE))/'offshore RMA'!$N$5*(Calculations!$BJ$4-'offshore RMA'!$L$5)+(VLOOKUP($D30,'offshore RMA'!$F$9:$Q$70,12,FALSE))/'offshore RMA'!$N$6*($BJ$5-'offshore RMA'!$L$6))","v":0},null,{"$f":"IF($BL$3+$BL$4+$BL$5=0,0,VLOOKUP($D30,'barnett RMA'!$F$9:$Q$70,2,FALSE)+(VLOOKUP($D30,'barnett RMA'!$F$9:$Q$70,10,FALSE))/'barnett RMA'!$N$4*(Calculations!$BL$3-'barnett RMA'!$L$4)+(VLOOKUP($D30,'barnett RMA'!$F$9:$Q$70,11,FALSE))/'barnett RMA'!$N$5*(Calculations!$BL$4-'barnett RMA'!$L$5)+(VLOOKUP($D30,'barnett RMA'!$F$9:$Q$70,12,FALSE))/'barnett RMA'!$N$6*($BL$5-'barnett RMA'!$L$6))","v":0},null,{"$f":"IF($BN$3+$BN$4+$BN$5=0,0,VLOOKUP($D30,'cbm RMA'!$F$9:$Q$70,2,FALSE)+(VLOOKUP($D30,'cbm RMA'!$F$9:$Q$70,10,FALSE))/'cbm RMA'!$N$4*(Calculations!$BN$3-'cbm RMA'!$L$4)+(VLOOKUP($D30,'cbm RMA'!$F$9:$Q$70,11,FALSE))/'cbm RMA'!$N$5*(Calculations!$BN$4-'cbm RMA'!$L$5)+(VLOOKUP($D30,'cbm RMA'!$F$9:$Q$70,12,FALSE))/'cbm RMA'!$N$6*($BN$5-'cbm RMA'!$L$6))","v":0},null,{"$f":"IF($BP$3+$BP$4+$BP$5=0,0,VLOOKUP($D30,'Marc RMA'!$F$9:$Q$70,2,FALSE)+(VLOOKUP($D30,'Marc RMA'!$F$9:$Q$70,10,FALSE))/'Marc RMA'!$N$4*(Calculations!$BP$3-'Marc RMA'!$L$4)+(VLOOKUP($D30,'Marc RMA'!$F$9:$Q$70,11,FALSE))/'Marc RMA'!$N$5*(Calculations!$BP$4-'Marc RMA'!$L$5)+(VLOOKUP($D30,'Marc RMA'!$F$9:$Q$70,12,FALSE))/'Marc RMA'!$N$6*($BP$5-'Marc RMA'!$L$6))","v":0},null,{"$f":"IF($BR$3+$BR$4+$BR$5=0,0,VLOOKUP($D30,'LNG RMA'!$F$9:$Q$70,2,FALSE)+(VLOOKUP($D30,'LNG RMA'!$F$9:$Q$70,10,FALSE))/'LNG RMA'!$N$4*(Calculations!$BR$3-'LNG RMA'!$L$4)+(VLOOKUP($D30,'LNG RMA'!$F$9:$Q$70,11,FALSE))/'LNG RMA'!$N$5*(Calculations!$BR$4-'LNG RMA'!$L$5)+(VLOOKUP($D30,'LNG RMA'!$F$9:$Q$70,12,FALSE))/'LNG RMA'!$N$6*($BR$5-'LNG RMA'!$L$6))","v":0},null,{"$f":"IF($BT$3+$BT$4+$BT$5=0,0,VLOOKUP($D30,'tight RMA'!$F$9:$Q$70,2,FALSE)+(VLOOKUP($D30,'tight RMA'!$F$9:$Q$70,10,FALSE))/'tight RMA'!$N$4*(Calculations!$BT$3-'tight RMA'!$L$4)+(VLOOKUP($D30,'tight RMA'!$F$9:$Q$70,11,FALSE))/'tight RMA'!$N$5*(Calculations!$BT$4-'tight RMA'!$L$5)+(VLOOKUP($D30,'tight RMA'!$F$9:$Q$70,12,FALSE))/'tight RMA'!$N$6*($BT$5-'tight RMA'!$L$6))","v":0},null,{"$f":"IF($BV$3+$BV$4+$BV$5=0,0,VLOOKUP($D30,'mix RMA'!$F$9:$Q$70,2,FALSE)+(VLOOKUP($D30,'mix RMA'!$F$9:$Q$70,10,FALSE))/'mix RMA'!$N$4*(Calculations!$BV$3-'mix RMA'!$L$4)+(VLOOKUP($D30,'mix RMA'!$F$9:$Q$70,11,FALSE))/'mix RMA'!$N$5*(Calculations!$BV$4-'mix RMA'!$L$5)+(VLOOKUP($D30,'mix RMA'!$F$9:$Q$70,12,FALSE))/'mix RMA'!$N$6*($BV$5-'mix RMA'!$L$6))","v":1.227020995862306}]
[null,24,"Water Consumption (kg)","Water",null,{"$f":"IF($F$4=0,0,VLOOKUP($D31,'I6 RMA'!$F$25:$O$82,4,FALSE)+(VLOOKUP($D31,'I6 RMA'!$F$25:$O$82,5,FALSE)-VLOOKUP($D31,'I6 RMA'!$F$25:$O$82,4,FALSE))/'I6 RMA'!$L$4*(Calculations!$F$4-'I6 RMA'!$J$4))","v":-0.57918125631066997},null,{"$f":"IF($H$4=0,0,VLOOKUP($D31,'PRB RMA'!$F$25:$O$82,4,FALSE)+(VLOOKUP($D31,'PRB RMA'!$F$25:$O$82,5,FALSE)-VLOOKUP($D31,'PRB RMA'!$F$25:$O$82,4,FALSE))/'PRB RMA'!$L$4*(Calculations!$H$4-'PRB RMA'!$J$4))","v":0},null,{"$f":"IF($J$4=0,0,VLOOKUP($D31,'Coal TrainRMT'!$F$25:$O$82,4,FALSE)+(VLOOKUP($D31,'Coal TrainRMT'!$F$25:$O$82,5,FALSE)-VLOOKUP($D31,'Coal TrainRMT'!$F$25:$O$82,4,FALSE))/'Coal TrainRMT'!$L$4*(Calculations!$J$4-'Coal TrainRMT'!$J$4))","v":4.8177142506343152E-3},null,{"$f":"IF($L$4+$L$5+$L$6=0,0,VLOOKUP($D31,#REF!,6,FALSE)+(VLOOKUP($D31,#REF!,10,FALSE))/#REF!*(#REF!-#REF!)+(VLOOKUP($D31,#REF!,11,FALSE))/#REF!*(#REF!-#REF!)+(VLOOKUP($D31,#REF!,10,FALSE))/#REF!*($L$4-#REF!))","v":{"$error":"#REF!"}},null,{"$f":"IF($N$4=0,0,VLOOKUP($D31,'NG Pipeline RMT'!$F$25:$O$82,2,FALSE)+(VLOOKUP($D31,'NG Pipeline RMT'!$F$25:$O$82,3,FALSE)-VLOOKUP($D31,'NG Pipeline RMT'!$F$25:$O$82,2,FALSE))/'NG Pipeline RMT'!$L$4*(Calculations!$N$4-'NG Pipeline RMT'!$J$4))","v":0},null,{"$f":"IF($P$4=0,0,VLOOKUP($D31,'SG RMA'!$F$25:$O$82,2,FALSE)+(VLOOKUP($D31,'SG RMA'!$F$25:$O$82,3,FALSE)-VLOOKUP($D31,'SG RMA'!$F$25:$O$82,2,FALSE))/'SG RMA'!$L$4*(Calculations!$P$4-'SG RMA'!$J$4))","v":0},null,{"$f":"IF($R$4=0,0,VLOOKUP($D31,'Bale Truck RMT'!$F$25:$O$82,4,FALSE)+(VLOOKUP($D31,'Bale Truck RMT'!$F$25:$O$82,5,FALSE)-VLOOKUP($D31,'Bale Truck RMT'!$F$25:$O$82,4,FALSE))/'Bale Truck RMT'!$L$4*(Calculations!$R$4-'Bale Truck RMT'!$J$4))","v":0},null,{"$f":"IF($T$4=0,0,VLOOKUP($D31,'Cont Truck RMT'!$F$25:$O$82,4,FALSE)+(VLOOKUP($D31,'Cont Truck RMT'!$F$25:$O$82,5,FALSE)-VLOOKUP($D31,'Cont Truck RMT'!$F$25:$O$82,4,FALSE))/'Cont Truck RMT'!$L$4*(Calculations!$R$4-'Cont Truck RMT'!$J$4))","v":0},null,{"$f":"IF($V$4=0,0,VLOOKUP($D31,'SRWC RMA'!$F$25:$O$82,4,FALSE)+(VLOOKUP($D31,'SRWC RMA'!$F$25:$O$82,5,FALSE)-VLOOKUP($D31,'SRWC RMA'!$F$25:$O$82,4,FALSE))/'SRWC RMA'!$L$4*(Calculations!$V$4-'SRWC RMA'!$J$4))","v":0},null,{"$f":"IF($X$4+$X$5+$X$6=0,0,VLOOKUP($D31,'Stover RMA'!$F$20:$Q$70,6,FALSE)+(VLOOKUP($D31,'Stover RMA'!$F$20:$Q$70,10,FALSE))/'Stover RMA'!$N$4*($X$4-'Stover RMA'!$L$4)+(VLOOKUP($D31,'Stover RMA'!$F$20:$Q$70,11,FALSE))/'Stover RMA'!$N$5*($X$5-'Stover RMA'!$L$5)+(VLOOKUP($D31,'Stover RMA'!$F$20:$Q$70,12,FALSE))/'Stover RMA'!$N$6*($X$6-'Stover RMA'!$L$6))","v":0},null,{"$f":"IF($Z$4=0,0,VLOOKUP($D31,'Corn RMA'!$F$25:$O$82,4,FALSE)+(VLOOKUP($D31,'Corn RMA'!$F$25:$O$82,5,FALSE)-VLOOKUP($D31,'Corn RMA'!$F$25:$O$82,4,FALSE))/'Corn RMA'!$L$4*(Calculations!$Z$4-'Corn RMA'!$J$4))","v":0},null,{"$f":"HLOOKUP(1,'FT Diesel 2'!$H$11:$U$76,'FT Diesel 2'!V22,FALSE)-HLOOKUP(1,'FT Diesel 2'!$H$11:$U$76,'FT Diesel 2'!V37,FALSE)","v":{"$error":"#N/A"}},null,{"$f":"HLOOKUP(1,'Adv Ethanol'!$G$10:$O$79,'Adv Ethanol'!Q17,FALSE)-HLOOKUP(1,'Adv Ethanol'!$G$10:$L$79,'Adv Ethanol'!Q27,FALSE)","v":{"$error":"#N/A"}},null,{"$f":"IF($AF$4+$AF$5>0,VLOOKUP(D31,Uranium!$F$20:$K$77,5,FALSE)*Calculations!$AF$4+VLOOKUP(D31,Uranium!$F$20:$K$77,6,FALSE)*$AF$5,0)","v":0},null,{"$f":"IF($AH$4=0,0,VLOOKUP($D31,'U RMT'!$F$20:$U$64,2,FALSE)+(VLOOKUP($D31,'U RMT'!$F$20:$U$64,3,FALSE)-VLOOKUP($D31,'U RMT'!$F$20:$U$64,2,FALSE))/'U RMT'!$U$2*(Calculations!$AH$4-'U RMT'!$O$2))","v":0},null,{"$f":"IF($AJ$4=0,0,VLOOKUP($D31,'U RMT'!$F$20:$U$64,4,FALSE)+(VLOOKUP($D31,'U RMT'!$F$20:$U$64,5,FALSE)-VLOOKUP($D31,'U RMT'!$F$20:$U$64,4,FALSE))/'U RMT'!$U$3*(Calculations!$AJ$4-'U RMT'!$Q$3))","v":0},null,{"$f":"IF($AL$4=0,0,VLOOKUP($D31,'U RMT'!$F$20:$U$64,6,FALSE)+(VLOOKUP($D31,'U RMT'!$F$20:$U$64,7,FALSE)-VLOOKUP($D31,'U RMT'!$F$20:$U$64,6,FALSE))/'U RMT'!$U$4*(Calculations!$AL$4-'U RMT'!$S$4))","v":0},null,{"$f":"IF($AN$4=0,0,VLOOKUP($D31,'Petro Transport'!$F$20:$Z$77,10,FALSE)+(VLOOKUP($D31,'Petro Transport'!$F$20:$Z$77,11,FALSE)-VLOOKUP($D31,'Petro Transport'!$F$10:$Z$77,10,FALSE))/'Petro Transport'!$V$3*(Calculations!$AN$4-'Petro Transport'!$N$3))","v":0},null,{"$f":"IF($AP$4=0,0,VLOOKUP($D31,'Petro Transport'!$F$20:$Z$77,12,FALSE)+(VLOOKUP($D31,'Petro Transport'!$F$20:$Z$77,13,FALSE)-VLOOKUP($D31,'Petro Transport'!$F$20:$Z$77,12,FALSE))/'Petro Transport'!$V$4*(Calculations!$AP$4-'Petro Transport'!$P$4))","v":0},null,{"$f":"IF($AR$4=0,0,VLOOKUP($D31,'Petro Transport'!$F$20:$Z$77,14,FALSE)+(VLOOKUP($D31,'Petro Transport'!$F$20:$Z$77,15,FALSE)-VLOOKUP($D31,'Petro Transport'!$F$20:$Z$77,14,FALSE))/'Petro Transport'!$V$5*(Calculations!$AR$4-'Petro Transport'!$R$5))","v":0},null,{"$f":"IF($AT$4=0,0,VLOOKUP($D31,'Petro Transport'!$F$20:$Z$77,16,FALSE)+(VLOOKUP($D31,'Petro Transport'!$F$20:$Z$77,17,FALSE)-VLOOKUP($D31,'Petro Transport'!$F$20:$Z$77,16,FALSE))/'Petro Transport'!$V$6*(Calculations!$AT$4-'Petro Transport'!$T$6))","v":0},null,{"$f":"VLOOKUP($D31,'Dom Petro'!$F$20:$J$65,3,FALSE)*Calculations!$AV$4+VLOOKUP($D31,'Dom Petro'!$F$20:$J$65,4,FALSE)*Calculations!$AV$5+VLOOKUP($D31,'Dom Petro'!$F$20:$J$65,5,FALSE)*Calculations!$AV$6","v":6.2156388115081299E-2},null,{"$f":"VLOOKUP($D31,'For Petro'!$F$20:$K$77,3,FALSE)*Calculations!$AX$3+VLOOKUP($D31,'For Petro'!$F$20:$K$77,4,FALSE)*Calculations!$AX$4+VLOOKUP($D31,'For Petro'!$F$20:$K$77,5,FALSE)*Calculations!$AX$5+VLOOKUP($D31,'For Petro'!$F$20:$K$77,6,FALSE)*$AX$6","v":0},null,{"$f":"IF($AZ$5=1,VLOOKUP($D31,'Petro Ref'!$F$20:$M$77,6,FALSE),0)","v":0},null,{"$f":"IF($BB$5=1,VLOOKUP($D31,'Petro Ref'!$F$20:$M$77,7,FALSE),0)","v":0},null,{"$f":"IF($BD$5=1,VLOOKUP($D31,'Petro Ref'!$F$20:$M$77,8,FALSE),0)","v":0},null,{"$f":"IF($BF$3+$BF$4+$BF$5=0,0,VLOOKUP($D31,'onshore RMA'!$F$20:$Q$70,6,FALSE)+(VLOOKUP($D31,'onshore RMA'!$F$20:$Q$70,10,FALSE))/'onshore RMA'!$N$4*(Calculations!$BF$3-'onshore RMA'!$L$4)+(VLOOKUP($D31,'onshore RMA'!$F$20:$Q$70,11,FALSE))/'onshore RMA'!$N$5*(Calculations!$BF$4-'onshore RMA'!$L$5)+(VLOOKUP($D31,'onshore RMA'!$F$20:$Q$70,12,FALSE))/'onshore RMA'!$N$6*($BF$5-'onshore RMA'!$L$6))","v":0},null,{"$f":"IF($BH$3+$BH$4+$BH$5=0,0,VLOOKUP($D31,'assoc RMA'!$F$20:$Q$70,6,FALSE)+(VLOOKUP($D31,'assoc RMA'!$F$20:$Q$70,10,FALSE))/'assoc RMA'!$N$4*(Calculations!$BH$3-'assoc RMA'!$L$4)+(VLOOKUP($D31,'assoc RMA'!$F$20:$Q$70,11,FALSE))/'assoc RMA'!$N$5*(Calculations!$BH$4-'assoc RMA'!$L$5)+(VLOOKUP($D31,'assoc RMA'!$F$20:$Q$70,12,FALSE))/'assoc RMA'!$N$6*($BH$5-'assoc RMA'!$L$6))","v":0},null,{"$f":"IF($BJ$3+$BJ$4+$BJ$5=0,0,VLOOKUP($D31,'offshore RMA'!$F$20:$Q$70,6,FALSE)+(VLOOKUP($D31,'offshore RMA'!$F$20:$Q$70,10,FALSE))/'offshore RMA'!$N$4*(Calculations!$BJ$3-'offshore RMA'!$L$4)+(VLOOKUP($D31,'offshore RMA'!$F$20:$Q$70,11,FALSE))/'offshore RMA'!$N$5*(Calculations!$BJ$4-'offshore RMA'!$L$5)+(VLOOKUP($D31,'offshore RMA'!$F$20:$Q$70,12,FALSE))/'offshore RMA'!$N$6*($BJ$5-'offshore RMA'!$L$6))","v":0},null,{"$f":"IF($BL$3+$BL$4+$BL$5=0,0,VLOOKUP($D31,'barnett RMA'!$F$20:$Q$70,6,FALSE)+(VLOOKUP($D31,'barnett RMA'!$F$20:$Q$70,10,FALSE))/'barnett RMA'!$N$4*(Calculations!$BL$3-'barnett RMA'!$L$4)+(VLOOKUP($D31,'barnett RMA'!$F$20:$Q$70,11,FALSE))/'barnett RMA'!$N$5*(Calculations!$BL$4-'barnett RMA'!$L$5)+(VLOOKUP($D31,'barnett RMA'!$F$20:$Q$70,12,FALSE))/'barnett RMA'!$N$6*($BL$5-'barnett RMA'!$L$6))","v":0},null,{"$f":"IF($BN$3+$BN$4+$BN$5=0,0,VLOOKUP($D31,'cbm RMA'!$F$20:$Q$70,6,FALSE)+(VLOOKUP($D31,'cbm RMA'!$F$20:$Q$70,10,FALSE))/'cbm RMA'!$N$4*(Calculations!$BN$3-'cbm RMA'!$L$4)+(VLOOKUP($D31,'cbm RMA'!$F$20:$Q$70,11,FALSE))/'cbm RMA'!$N$5*(Calculations!$BN$4-'cbm RMA'!$L$5)+(VLOOKUP($D31,'cbm RMA'!$F$20:$Q$70,12,FALSE))/'cbm RMA'!$N$6*($BN$5-'cbm RMA'!$L$6))","v":0},null,{"$f":"IF($BP$3+$BP$4+$BP$5=0,0,VLOOKUP($D31,'Marc RMA'!$F$20:$Q$70,6,FALSE)+(VLOOKUP($D31,'Marc RMA'!$F$20:$Q$70,10,FALSE))/'Marc RMA'!$N$4*(Calculations!$BP$3-'Marc RMA'!$L$4)+(VLOOKUP($D31,'Marc RMA'!$F$20:$Q$70,11,FALSE))/'Marc RMA'!$N$5*(Calculations!$BP$4-'Marc RMA'!$L$5)+(VLOOKUP($D31,'Marc RMA'!$F$20:$Q$70,12,FALSE))/'Marc RMA'!$N$6*($BP$5-'Marc RMA'!$L$6))","v":0},null,{"$f":"IF($BR$3+$BR$4+$BR$5=0,0,VLOOKUP($D31,'LNG RMA'!$F$20:$Q$70,6,FALSE)+(VLOOKUP($D31,'LNG RMA'!$F$20:$Q$70,10,FALSE))/'LNG RMA'!$N$4*(Calculations!$BR$3-'LNG RMA'!$L$4)+(VLOOKUP($D31,'LNG RMA'!$F$20:$Q$70,11,FALSE))/'LNG RMA'!$N$5*(Calculations!$BR$4-'LNG RMA'!$L$5)+(VLOOKUP($D31,'LNG RMA'!$F$20:$Q$70,12,FALSE))/'LNG RMA'!$N$6*($BR$5-'LNG RMA'!$L$6))","v":0},null,{"$f":"IF($BT$3+$BT$4+$BT$5=0,0,VLOOKUP($D31,'tight RMA'!$F$20:$Q$70,6,FALSE)+(VLOOKUP($D31,'tight RMA'!$F$20:$Q$70,10,FALSE))/'tight RMA'!$N$4*(Calculations!$BT$3-'tight RMA'!$L$4)+(VLOOKUP($D31,'tight RMA'!$F$20:$Q$70,11,FALSE))/'tight RMA'!$N$5*(Calculations!$BT$4-'tight RMA'!$L$5)+(VLOOKUP($D31,'tight RMA'!$F$20:$Q$70,12,FALSE))/'tight RMA'!$N$6*($BT$5-'tight RMA'!$L$6))","v":0},null,{"$f":"IF($BV$3+$BV$4+$BV$5=0,0,VLOOKUP($D31,'mix RMA'!$F$20:$Q$70,6,FALSE)+(VLOOKUP($D31,'mix RMA'!$F$20:$Q$70,10,FALSE))/'mix RMA'!$N$4*(Calculations!$BV$3-'mix RMA'!$L$4)+(VLOOKUP($D31,'mix RMA'!$F$20:$Q$70,11,FALSE))/'mix RMA'!$N$5*(Calculations!$BV$4-'mix RMA'!$L$5)+(VLOOKUP($D31,'mix RMA'!$F$20:$Q$70,12,FALSE))/'mix RMA'!$N$6*($BV$5-'mix RMA'!$L$6))","v":-0.20924849109132082}]
["Land Use",25,"Acreage Change (m2/kg)",null,null,1.3931576383938739E-5,null,5.9738041804378586E-5,null,{"$f":"AVERAGE(N32:AK32)","v":{"$error":"#N/A"}},null,null,null,1.2977150859922976E-3,null,6.5305056081787785E-2,null,0,null,0,null,6.5540523114989674E-2,null,4.1161666486301964E-2,null,4.5266850335570465E-2,null,{"$f":"IF(AB5>0,AB38,AB37)","v":{"$error":"#N/A"}},null,{"$f":"IF(1=HLOOKUP(1,'Adv Ethanol'!G10:O18,9,FALSE),AD37,AD38)","v":{"$error":"#N/A"}},null,0.71981118078358652,null,0,null,0,null,0,null,0,null,0,null,0,null,0,null,null,null,null,null,0,null,0,null,0,null,2.7956596965297316E-4,null,2.7956596965297316E-4,null,0,null,5.7217783695142721E-4,null,1.6705922246756993E-5,null,1.1841610421634127E-4,null,5.4172439434514513E-4,null,2.8510127955587408E-3,null,2.8510127955587408E-3]
["EROI",26,"Energy Input (MJ)","Energy resources",null,{"$f":"IF($F$4=0,0,VLOOKUP($D33,'I6 RMA'!$F$10:$O$82,2,FALSE)+(VLOOKUP($D33,'I6 RMA'!$F$10:$O$82,3,FALSE)-VLOOKUP($D33,'I6 RMA'!$F$10:$O$82,2,FALSE))/'I6 RMA'!$L$4*(Calculations!$F$4-'I6 RMA'!$J$4))","v":0.167172464085763},null,{"$f":"IF($H$4=0,0,VLOOKUP($D33,'PRB RMA'!$F$10:$O$82,2,FALSE)+(VLOOKUP($D33,'PRB RMA'!$F$10:$O$82,3,FALSE)-VLOOKUP($D33,'PRB RMA'!$F$10:$O$82,2,FALSE))/'PRB RMA'!$L$4*(Calculations!$H$4-'PRB RMA'!$J$4))","v":0},null,{"$f":"IF($J$4=0,0,VLOOKUP($D33,'Coal TrainRMT'!$F$10:$O$82,2,FALSE)+(VLOOKUP($D33,'Coal TrainRMT'!$F$10:$O$82,3,FALSE)-VLOOKUP($D33,'Coal TrainRMT'!$F$10:$O$82,2,FALSE))/'Coal TrainRMT'!$L$4*(Calculations!$J$4-'Coal TrainRMT'!$J$4))","v":6.0447039886258498E-2},null,{"$f":"IF($L$4+$L$5+$L$6=0,0,VLOOKUP($D33,#REF!,2,FALSE)+(VLOOKUP($D33,#REF!,6,FALSE)/#REF!*(#REF!-#REF!)+(VLOOKUP($D33,#REF!,8,FALSE))/#REF!*(#REF!-#REF!)+(VLOOKUP($D33,#REF!,10,FALSE))/#REF!*($L$6-#REF!)))","v":{"$error":"#REF!"}},null,{"$f":"IF($N$4=0,0,VLOOKUP($D33,'NG Pipeline RMT'!$F$10:$O$82,2,FALSE)+(VLOOKUP($D33,'NG Pipeline RMT'!$F$10:$O$82,3,FALSE)-VLOOKUP($D33,'NG Pipeline RMT'!$F$10:$O$82,2,FALSE))/'NG Pipeline RMT'!$L$4*(Calculations!$N$4-'NG Pipeline RMT'!$J$4))","v":0},null,{"$f":"IF($P$4=0,0,VLOOKUP($D33,'SG RMA'!$F$10:$O$82,2,FALSE)+(VLOOKUP($D33,'SG RMA'!$F$10:$O$82,3,FALSE)-VLOOKUP($D33,'SG RMA'!$F$10:$O$82,2,FALSE))/'SG RMA'!$L$4*(Calculations!$P$4-'SG RMA'!$J$4))","v":0},null,{"$f":"IF($R$4=0,0,VLOOKUP($D33,'Bale Truck RMT'!$F$10:$O$82,2,FALSE)+(VLOOKUP($D33,'Bale Truck RMT'!$F$10:$O$82,3,FALSE)-VLOOKUP($D33,'Bale Truck RMT'!$F$10:$O$82,2,FALSE))/'Bale Truck RMT'!$L$4*(Calculations!$R$4-'Bale Truck RMT'!$J$4))","v":0},null,{"$f":"IF($T$4=0,0,VLOOKUP($D33,'Cont Truck RMT'!$F$10:$O$82,2,FALSE)+(VLOOKUP($D33,'Cont Truck RMT'!$F$10:$O$82,3,FALSE)-VLOOKUP($D33,'Cont Truck RMT'!$F$10:$O$82,2,FALSE))/'Cont Truck RMT'!$L$4*(Calculations!$T$4-'Cont Truck RMT'!$J$4))","v":0},null,{"$f":"IF($V$4=0,0,VLOOKUP($D33,'SRWC RMA'!$F$10:$O$82,2,FALSE)+(VLOOKUP($D33,'SRWC RMA'!$F$10:$O$82,3,FALSE)-VLOOKUP($D33,'SRWC RMA'!$F$10:$O$82,2,FALSE))/'SRWC RMA'!$L$4*(Calculations!$V$4-'SRWC RMA'!$J$4))","v":0},null,{"$f":"IF($X$4+$X$5+$X$6=0,0,VLOOKUP($D33,'Stover RMA'!$F$9:$Q$70,2,FALSE)+(VLOOKUP($D33,'Stover RMA'!$F$9:$Q$70,10,FALSE))/'Stover RMA'!$N$4*(Calculations!$X$4-'Stover RMA'!$L$4)+(VLOOKUP($D33,'Stover RMA'!$F$9:$Q$70,11,FALSE))/'Stover RMA'!$N$5*(Calculations!$X$5-'Stover RMA'!$L$5)+(VLOOKUP($D33,'Stover RMA'!$F$9:$Q$70,12,FALSE))/'Stover RMA'!$N$6*($X$6-'Stover RMA'!$L$6))","v":0},null,{"$f":"IF($Z$4=0,0,VLOOKUP($D33,'Corn RMA'!$F$10:$O$82,2,FALSE)+(VLOOKUP($D33,'Corn RMA'!$F$10:$O$82,3,FALSE)-VLOOKUP($D33,'Corn RMA'!$F$10:$O$82,2,FALSE))/'Corn RMA'!$L$4*(Calculations!$Z$4-'Corn RMA'!$J$4))","v":0},null,{"$f":"HLOOKUP(1,'FT Diesel 2'!$H$11:$U$76,'FT Diesel 2'!V19,FALSE)","v":{"$error":"#N/A"}},null,{"$f":"HLOOKUP(1,'Adv Ethanol'!$G$10:$O$79,'Adv Ethanol'!Q14,FALSE)","v":{"$error":"#N/A"}},null,{"$f":"IF($AF$4+$AF$5>0,VLOOKUP(D33,Uranium!$F$10:$K$77,3,FALSE)*Calculations!$AF$4+VLOOKUP(D33,Uranium!$F$10:$K$77,4,FALSE)*$AF$5,0)","v":0},null,{"$f":"IF($AH$4=0,0,VLOOKUP($D33,'U RMT'!$F$9:$U$64,2,FALSE)+(VLOOKUP($D33,'U RMT'!$F$10:$U$64,3,FALSE)-VLOOKUP($D33,'U RMT'!$F$10:$U$64,2,FALSE))/'U RMT'!$U$2*(Calculations!$AH$4-'U RMT'!$O$2))","v":0},null,{"$f":"IF($AJ$4=0,0,VLOOKUP($D33,'U RMT'!$F$9:$U$64,4,FALSE)+(VLOOKUP($D33,'U RMT'!$F$10:$U$64,5,FALSE)-VLOOKUP($D33,'U RMT'!$F$10:$U$64,4,FALSE))/'U RMT'!$U$3*(Calculations!$AJ$4-'U RMT'!$Q$3))","v":0},null,{"$f":"IF($AL$4=0,0,VLOOKUP($D33,'U RMT'!$F$9:$U$64,6,FALSE)+(VLOOKUP($D33,'U RMT'!$F$10:$U$64,7,FALSE)-VLOOKUP($D33,'U RMT'!$F$10:$U$64,6,FALSE))/'U RMT'!$U$4*(Calculations!$AL$4-'U RMT'!$S$4))","v":0},null,{"$f":"IF($AN$4=0,0,VLOOKUP($D33,'Petro Transport'!$F$10:$Z$77,2,FALSE)+(VLOOKUP($D33,'Petro Transport'!$F$10:$Z$77,3,FALSE)-VLOOKUP($D33,'Petro Transport'!$F$10:$Z$77,2,FALSE))/'Petro Transport'!$V$3*(Calculations!$AN$4-'Petro Transport'!$N$3))","v":0},null,{"$f":"IF($AP$4=0,0,VLOOKUP($D33,'Petro Transport'!$F$10:$Z$77,4,FALSE)+(VLOOKUP($D33,'Petro Transport'!$F$10:$Z$77,5,FALSE)-VLOOKUP($D33,'Petro Transport'!$F$10:$Z$77,4,FALSE))/'Petro Transport'!$V$4*(Calculations!$AP$4-'Petro Transport'!$P$4))","v":0},null,{"$f":"IF($AR$4=0,0,VLOOKUP($D33,'Petro Transport'!$F$10:$Z$77,6,FALSE)+(VLOOKUP($D33,'Petro Transport'!$F$10:$Z$77,7,FALSE)-VLOOKUP($D33,'Petro Transport'!$F$10:$Z$77,6,FALSE))/'Petro Transport'!$V$5*(Calculations!$AR$4-'Petro Transport'!$R$5))","v":0},null,{"$f":"IF($AT$4=0,0,VLOOKUP($D33,'Petro Transport'!$F$10:$Z$77,8,FALSE)+(VLOOKUP($D33,'Petro Transport'!$F$10:$Z$77,9,FALSE)-VLOOKUP($D33,'Petro Transport'!$F$10:$Z$77,8,FALSE))/'Petro Transport'!$V$6*(Calculations!$AT$4-'Petro Transport'!$T$6))","v":0},null,{"$f":"VLOOKUP($D33,'Dom Petro'!$F$11:$J$65,3,FALSE)*Calculations!$AV$4+VLOOKUP($D33,'Dom Petro'!$F$11:$J$65,4,FALSE)*Calculations!$AV$5+VLOOKUP($D33,'Dom Petro'!$F$11:$J$65,5,FALSE)*Calculations!$AV$6","v":44.387900000000002},null,{"$f":"VLOOKUP($D33,'For Petro'!$F$9:$K$77,3,FALSE)*Calculations!$AX$3+VLOOKUP($D33,'For Petro'!$F$9:$K$77,4,FALSE)*Calculations!$AX$4+VLOOKUP($D33,'For Petro'!$F$9:$K$77,5,FALSE)*Calculations!$AX$5+VLOOKUP($D33,'For Petro'!$F$9:$K$77,6,FALSE)*$AX$6","v":0},null,{"$f":"IF($AZ$5=1,VLOOKUP($D33,'Petro Ref'!$F$10:$J$77,3,FALSE),0)","v":0},null,{"$f":"IF($BB$5,VLOOKUP($D33,'Petro Ref'!$F$10:$J$77,4,FALSE),0)","v":0},null,{"$f":"IF($BD$5=1,VLOOKUP($D33,'Petro Ref'!$F$10:$J$77,5,FALSE),0)","v":0},null,{"$f":"IF($BF$3+$BF$4+$BF$5=0,0,VLOOKUP($D33,'onshore RMA'!$F$9:$Q$70,2,FALSE)+(VLOOKUP($D33,'onshore RMA'!$F$9:$Q$70,10,FALSE))/'onshore RMA'!$N$4*(Calculations!$BF$3-'onshore RMA'!$L$4)+(VLOOKUP($D33,'onshore RMA'!$F$9:$Q$70,11,FALSE))/'onshore RMA'!$N$5*(Calculations!$BF$4-'onshore RMA'!$L$5)+(VLOOKUP($D33,'onshore RMA'!$F$9:$Q$70,12,FALSE))/'onshore RMA'!$N$6*($BF$5-'onshore RMA'!$L$6))","v":0},null,{"$f":"IF($BF$3+$BF$4+$BF$5=0,0,VLOOKUP($D33,'onshore RMA'!$F$9:$Q$70,2,FALSE)+(VLOOKUP($D33,'onshore RMA'!$F$9:$Q$70,10,FALSE))/'onshore RMA'!$N$4*(Calculations!$BF$3-'onshore RMA'!$L$4)+(VLOOKUP($D33,'onshore RMA'!$F$9:$Q$70,11,FALSE))/'onshore RMA'!$N$5*(Calculations!$BF$4-'onshore RMA'!$L$5)+(VLOOKUP($D33,'onshore RMA'!$F$9:$Q$70,12,FALSE))/'onshore RMA'!$N$6*($BF$5-'onshore RMA'!$L$6))","v":0},null,{"$f":"IF($BJ$3+$BJ$4+$BJ$5=0,0,VLOOKUP($D33,'offshore RMA'!$F$9:$Q$70,2,FALSE)+(VLOOKUP($D33,'offshore RMA'!$F$9:$Q$70,10,FALSE))/'offshore RMA'!$N$4*(Calculations!$BJ$3-'offshore RMA'!$L$4)+(VLOOKUP($D33,'offshore RMA'!$F$9:$Q$70,11,FALSE))/'offshore RMA'!$N$5*(Calculations!$BJ$4-'offshore RMA'!$L$5)+(VLOOKUP($D33,'offshore RMA'!$F$9:$Q$70,12,FALSE))/'offshore RMA'!$N$6*($BJ$5-'offshore RMA'!$L$6))","v":0},null,{"$f":"IF($BL$3+$BL$4+$BL$5=0,0,VLOOKUP($D33,'barnett RMA'!$F$9:$Q$70,2,FALSE)+(VLOOKUP($D33,'barnett RMA'!$F$9:$Q$70,10,FALSE))/'barnett RMA'!$N$4*(Calculations!$BL$3-'barnett RMA'!$L$4)+(VLOOKUP($D33,'barnett RMA'!$F$9:$Q$70,11,FALSE))/'barnett RMA'!$N$5*(Calculations!$BL$4-'barnett RMA'!$L$5)+(VLOOKUP($D33,'barnett RMA'!$F$9:$Q$70,12,FALSE))/'barnett RMA'!$N$6*($BL$5-'barnett RMA'!$L$6))","v":0},null,{"$f":"IF($BN$3+$BN$4+$BN$5=0,0,VLOOKUP($D33,'cbm RMA'!$F$9:$Q$70,2,FALSE)+(VLOOKUP($D33,'cbm RMA'!$F$9:$Q$70,10,FALSE))/'cbm RMA'!$N$4*(Calculations!$BN$3-'cbm RMA'!$L$4)+(VLOOKUP($D33,'cbm RMA'!$F$9:$Q$70,11,FALSE))/'cbm RMA'!$N$5*(Calculations!$BN$4-'cbm RMA'!$L$5)+(VLOOKUP($D33,'cbm RMA'!$F$9:$Q$70,12,FALSE))/'cbm RMA'!$N$6*($BN$5-'cbm RMA'!$L$6))","v":0},null,{"$f":"IF($BP$3+$BP$4+$BP$5=0,0,VLOOKUP($D33,'Marc RMA'!$F$9:$Q$70,2,FALSE)+(VLOOKUP($D33,'Marc RMA'!$F$9:$Q$70,10,FALSE))/'Marc RMA'!$N$4*(Calculations!$BP$3-'Marc RMA'!$L$4)+(VLOOKUP($D33,'Marc RMA'!$F$9:$Q$70,11,FALSE))/'Marc RMA'!$N$5*(Calculations!$BP$4-'Marc RMA'!$L$5)+(VLOOKUP($D33,'Marc RMA'!$F$9:$Q$70,12,FALSE))/'Marc RMA'!$N$6*($BP$5-'Marc RMA'!$L$6))","v":0},null,{"$f":"IF($BR$3+$BR$4+$BR$5=0,0,VLOOKUP($D33,'LNG RMA'!$F$9:$Q$70,2,FALSE)+(VLOOKUP($D33,'LNG RMA'!$F$9:$Q$70,10,FALSE))/'LNG RMA'!$N$4*(Calculations!$BR$3-'LNG RMA'!$L$4)+(VLOOKUP($D33,'LNG RMA'!$F$9:$Q$70,11,FALSE))/'LNG RMA'!$N$5*(Calculations!$BR$4-'LNG RMA'!$L$5)+(VLOOKUP($D33,'LNG RMA'!$F$9:$Q$70,12,FALSE))/'LNG RMA'!$N$6*($BR$5-'LNG RMA'!$L$6))","v":0},null,{"$f":"IF($BT$3+$BT$4+$BT$5=0,0,VLOOKUP($D33,'tight RMA'!$F$9:$Q$70,2,FALSE)+(VLOOKUP($D33,'tight RMA'!$F$9:$Q$70,10,FALSE))/'tight RMA'!$N$4*(Calculations!$BT$3-'tight RMA'!$L$4)+(VLOOKUP($D33,'tight RMA'!$F$9:$Q$70,11,FALSE))/'tight RMA'!$N$5*(Calculations!$BT$4-'tight RMA'!$L$5)+(VLOOKUP($D33,'tight RMA'!$F$9:$Q$70,12,FALSE))/'tight RMA'!$N$6*($BT$5-'tight RMA'!$L$6))","v":0},null,{"$f":"IF($BV$3+$BV$4+$BV$5=0,0,VLOOKUP($D33,'mix RMA'!$F$9:$Q$70,2,FALSE)+(VLOOKUP($D33,'mix RMA'!$F$9:$Q$70,10,FALSE))/'mix RMA'!$N$4*(Calculations!$BV$3-'mix RMA'!$L$4)+(VLOOKUP($D33,'mix RMA'!$F$9:$Q$70,11,FALSE))/'mix RMA'!$N$5*(Calculations!$BV$4-'mix RMA'!$L$5)+(VLOOKUP($D33,'mix RMA'!$F$9:$Q$70,12,FALSE))/'mix RMA'!$N$6*($BV$5-'mix RMA'!$L$6))","v":64.225471210600546}]
[]
[null,null,null,null,null,null,null,null,null,null,null,null,null,null,null,null,null,null,null,null,null,null,null,{"$f":"VLOOKUP($D8,#REF!,6,FALSE)","v":{"$error":"#REF!"}}]
["IPCC 2007",null,"100 Year",null,null,null,null,null,null,null,null,null,null,null,null,null,null,null,null,null,null,null,null,null,null,{"$f":"HLOOKUP(1,'FT Diesel 2'!$H$11:$U$77,'FT Diesel 2'!V51,FALSE)","v":{"$error":"#N/A"}}]
["CO2",null,1,null,null,null,null,null,null,null,null,null,null,null,null,null,null,null,null,null,null,null,null,null,null,null,null,3.3553362094719045E-5,null,5.0029361354246495E-4]
["CH4",null,25,null,null,null,null,null,null,null,null,null,null,null,null,null,null,null,null,null,null,null,null,null,null,null,null,1.4425396799344159E-4,null,5.8080296880062674E-5]
["N2O",null,298]
[null,null,null,null,null,null,null,null,null,null,null,null,null,null,null,null,null,null,null,null,null,null,null,{"$f":"(VLOOKUP($D8,#REF!,10,FALSE))/#REF!*($X$4-#REF!)","v":{"$error":"#REF!"}}]

{"sheet":"Data","index":8,"n_rows":65,"n_cols":14,"rows_kept":65,"cut":false,"hidden":true,"merged":[[40,2,48,2],[49,2,50,2],[51,2,57,2],[58,2,59,2],[5,1,17,1],[18,1,19,1],[20,1,26,1],[27,1,28,1],[36,2,39,2]]}
[null,null,null,"Sum","Stage 1","Stage 2","Stage 3","ECF","RMA","RMA","RMT","RMT","RMT","RMT"]
[null,null,null,null,null,null,null,{"$f":"IF(Dashboard!M3<>Parameters!D2,Dashboard!M3,Dashboard!M7)","v":"Not Set"},{"$f":"Dashboard!C3","v":"Illinois No. 6 Coal"},{"$f":"IF(Dashboard!F2=\"On\",Dashboard!F3,\"\")","v":""},{"$f":"IF(Dashboard!$I$2=\"On\",Dashboard!H7,\"\")","v":"Coal Train"},{"$f":"IF(Dashboard!$I$2=\"On\",Dashboard!H8,\"\")","v":0},{"$f":"IF(Dashboard!$I$2=\"On\",Dashboard!H9,\"\")","v":0},{"$f":"IF(Dashboard!$I$2=\"On\",Dashboard!H10,\"\")","v":0}]
[null,null,"Factor1 (Biomass, Scaler)",null,null,null,null,{"$f":"IF(ISERROR(HLOOKUP(H$2,Calculations!$F$1:$BV$33,ROW(H3)+2,FALSE)),0,HLOOKUP(H$2,Calculations!$F$1:$BV$33,ROW(H3)+2,FALSE))","v":0},null,null,{"$f":"IF(ISERROR(HLOOKUP(K$2,Calculations!$F$1:$BV$33,ROW(K3)+3,FALSE)),0,HLOOKUP(K$2,Calculations!$F$1:$BV$33,ROW(K3)+3,FALSE))","v":2.4454E-5},{"$f":"IF(ISERROR(HLOOKUP(L$2,Calculations!$F$1:$BV$33,ROW(L3)+3,FALSE)),0,HLOOKUP(L$2,Calculations!$F$1:$BV$33,ROW(L3)+3,FALSE))","v":0},{"$f":"IF(ISERROR(HLOOKUP(M$2,Calculations!$F$1:$BV$33,ROW(M3)+3,FALSE)),0,HLOOKUP(M$2,Calculations!$F$1:$BV$33,ROW(M3)+3,FALSE))","v":0},{"$f":"IF(ISERROR(HLOOKUP(N$2,Calculations!$F$1:$BV$33,ROW(N3)+3,FALSE)),0,HLOOKUP(N$2,Calculations!$F$1:$BV$33,ROW(N3)+3,FALSE))","v":0}]
[null,null,"Factor2 (Fossil)",null,null,null,null,{"$f":"IF(ISERROR(HLOOKUP(H$2,Calculations!$F$1:$BV$33,ROW(H4)+2,FALSE)),0,HLOOKUP(H$2,Calculations!$F$1:$BV$33,ROW(H4)+2,FALSE))","v":0}]
[]
[1,"Air Emissions","Carbon Dioxide (kg)",{"$f":"SUM(E6:G6)","v":3.8156353835264792E-2},{"$f":"IF($H$2=Parameters!$B$2,IF($J$2=\"\",$H$3*I6*(1+$K$3)*(1+$L$3)*(1+$M$3)*(1+$N$3),$H$4*I6*(1+$K$3)+$H$3*J6*(1+$L$3)),IF($H$2=\"Not Set\",1*I6*(1+$K$3)*(1+$L$3)*(1+$M$3)*(1+$N$3),$H$3*I6*(1+$K$3)*(1+$L$3)*(1+$M$3)*(1+$N$3)))","v":2.5512335102820489E-2},{"$f":"IF($H$2=Parameters!$B$2,IF($H$4=0,$H$3*(1+$K$3)*K6,$H$4*(1+$K$3)*K6+$H$3*(1+$L$3)*L6),IF($H$2=Parameters!$C$2,IF($H$4=0,$H$3*(1+$K$3)*K6,$H$4*(1+$K$3)*K6+$H$3*(1+$L$3)*L6),IF($H$2=\"Not Set\",1*K6*(1+$L$3)*(1+$M$3)*(1+$N$3)+1*L6*(1+$M$3)*(1+$N$3)+1*M6*(1+$N$3)+N6,$H$3*K6*(1+$L$3)*(1+$M$3)*(1+$N$3)+$H$3*L6*(1+$M$3)*(1+$N$3)+$H$3*M6*(1+$N$3)+$H$3*N6)))","v":1.26440187324443E-2},{"$f":"H6","v":0},{"$f":"IF(ISERROR(HLOOKUP(H$2,Calculations!$F$1:$BV$33,ROW(H6)+2,FALSE)),0,HLOOKUP(H$2,Calculations!$F$1:$BV$33,ROW(H6)+2,FALSE))","v":0},{"$f":"IF(ISERROR(HLOOKUP(I$2,Calculations!$F$1:$BV$33,ROW(I6)+2,FALSE)),0,HLOOKUP(I$2,Calculations!$F$1:$BV$33,ROW(I6)+2,FALSE))","v":2.5511711239433837E-2},{"$f":"IF(ISERROR(HLOOKUP(J$2,Calculations!$F$1:$BV$33,ROW(J6)+2,FALSE)),0,HLOOKUP(J$2,Calculations!$F$1:$BV$33,ROW(J6)+2,FALSE))","v":0},{"$f":"IF(ISERROR(HLOOKUP(K$2,Calculations!$F$1:$BV$33,ROW(K6)+2,FALSE)),0,HLOOKUP(K$2,Calculations!$F$1:$BV$33,ROW(K6)+2,FALSE))","v":1.26440187324443E-2},{"$f":"IF(ISERROR(HLOOKUP(L$2,Calculations!$F$1:$BV$33,ROW(L6)+2,FALSE)),0,HLOOKUP(L$2,Calculations!$F$1:$BV$33,ROW(L6)+2,FALSE))","v":0},{"$f":"IF(ISERROR(HLOOKUP(M$2,Calculations!$F$1:$BV$33,ROW(M6)+2,FALSE)),0,HLOOKUP(M$2,Calculations!$F$1:$BV$33,ROW(M6)+2,FALSE))","v":0},{"$f":"IF(ISERROR(HLOOKUP(N$2,Calculations!$F$1:$BV$33,ROW(N6)+2,FALSE)),0,HLOOKUP(N$2,Calculations!$F$1:$BV$33,ROW(N6)+2,FALSE))","v":0}]
[2,null,"Methane (kg)",{"$f":"SUM(E7:G7)","v":8.9671935106824547E-3},{"$f":"IF($H$2=Parameters!$B$2,IF($J$2=\"\",$H$3*I7*(1+$K$3)*(1+$L$3)*(1+$M$3)*(1+$N$3),$H$4*I7*(1+$K$3)+$H$3*J7*(1+$L$3)),IF($H$2=\"Not Set\",1*I7*(1+$K$3)*(1+$L$3)*(1+$M$3)*(1+$N$3),$H$3*I7*(1+$K$3)*(1+$L$3)*(1+$M$3)*(1+$N$3)))","v":8.9603090579866568E-3},{"$f":"IF($H$2=Parameters!$B$2,IF($H$4=0,$H$3*(1+$K$3)*K7,$H$4*(1+$K$3)*K7+$H$3*(1+$L$3)*L7),IF($H$2=Parameters!$C$2,IF($H$4=0,$H$3*(1+$K$3)*K7,$H$4*(1+$K$3)*K7+$H$3*(1+$L$3)*L7),IF($H$2=\"Not Set\",1*K7*(1+$L$3)*(1+$M$3)*(1+$N$3)+1*L7*(1+$M$3)*(1+$N$3)+1*M7*(1+$N$3)+N7,$H$3*K7*(1+$L$3)*(1+$M$3)*(1+$N$3)+$H$3*L7*(1+$M$3)*(1+$N$3)+$H$3*M7*(1+$N$3)+$H$3*N7)))","v":6.88445269579842E-6},{"$f":"H7","v":0},{"$f":"IF(ISERROR(HLOOKUP(H$2,Calculations!$F$1:$BV$33,ROW(H7)+2,FALSE)),0,HLOOKUP(H$2,Calculations!$F$1:$BV$33,ROW(H7)+2,FALSE))","v":0},{"$f":"IF(ISERROR(HLOOKUP(I$2,Calculations!$F$1:$BV$33,ROW(I7)+2,FALSE)),0,HLOOKUP(I$2,Calculations!$F$1:$BV$33,ROW(I7)+2,FALSE))","v":8.960089947947069E-3},{"$f":"IF(ISERROR(HLOOKUP(J$2,Calculations!$F$1:$BV$33,ROW(J7)+2,FALSE)),0,HLOOKUP(J$2,Calculations!$F$1:$BV$33,ROW(J7)+2,FALSE))","v":0},{"$f":"IF(ISERROR(HLOOKUP(K$2,Calculations!$F$1:$BV$33,ROW(K7)+2,FALSE)),0,HLOOKUP(K$2,Calculations!$F$1:$BV$33,ROW(K7)+2,FALSE))","v":6.88445269579842E-6},{"$f":"IF(ISERROR(HLOOKUP(L$2,Calculations!$F$1:$BV$33,ROW(L7)+2,FALSE)),0,HLOOKUP(L$2,Calculations!$F$1:$BV$33,ROW(L7)+2,FALSE))","v":0},{"$f":"IF(ISERROR(HLOOKUP(M$2,Calculations!$F$1:$BV$33,ROW(M7)+2,FALSE)),0,HLOOKUP(M$2,Calculations!$F$1:$BV$33,ROW(M7)+2,FALSE))","v":0},{"$f":"IF(ISERROR(HLOOKUP(N$2,Calculations!$F$1:$BV$33,ROW(N7)+2,FALSE)),0,HLOOKUP(N$2,Calculations!$F$1:$BV$33,ROW(N7)+2,FALSE))","v":0}]
[3,null,"Nitrous Oxide (kg)",7.549728398322803E-7,{"$f":"IF($H$2=Parameters!$B$2,IF($J$2=\"\",$H$3*I8*(1+$K$3)*(1+$L$3)*(1+$M$3)*(1+$N$3),$H$4*I8*(1+$K$3)+$H$3*J8*(1+$L$3)),IF($H$2=\"Not Set\",1*I8*(1+$K$3)*(1+$L$3)*(1+$M$3)*(1+$N$3),$H$3*I8*(1+$K$3)*(1+$L$3)*(1+$M$3)*(1+$N$3)))","v":4.4906307081004132E-7},{"$f":"IF($H$2=Parameters!$B$2,IF($H$4=0,$H$3*(1+$K$3)*K8,$H$4*(1+$K$3)*K8+$H$3*(1+$L$3)*L8),IF($H$2=Parameters!$C$2,IF($H$4=0,$H$3*(1+$K$3)*K8,$H$4*(1+$K$3)*K8+$H$3*(1+$L$3)*L8),IF($H$2=\"Not Set\",1*K8*(1+$L$3)*(1+$M$3)*(1+$N$3)+1*L8*(1+$M$3)*(1+$N$3)+1*M8*(1+$N$3)+N8,$H$3*K8*(1+$L$3)*(1+$M$3)*(1+$N$3)+$H$3*L8*(1+$M$3)*(1+$N$3)+$H$3*M8*(1+$N$3)+$H$3*N8)))","v":3.0590976902223898E-7},0,{"$f":"IF(ISERROR(HLOOKUP(H$2,Calculations!$F$1:$BV$33,ROW(H8)+2,FALSE)),0,HLOOKUP(H$2,Calculations!$F$1:$BV$33,ROW(H8)+2,FALSE))","v":0},{"$f":"IF(ISERROR(HLOOKUP(I$2,Calculations!$F$1:$BV$33,ROW(I8)+2,FALSE)),0,HLOOKUP(I$2,Calculations!$F$1:$BV$33,ROW(I8)+2,FALSE))","v":4.4905208969024002E-7},{"$f":"IF(ISERROR(HLOOKUP(J$2,Calculations!$F$1:$BV$33,ROW(J8)+2,FALSE)),0,HLOOKUP(J$2,Calculations!$F$1:$BV$33,ROW(J8)+2,FALSE))","v":0},{"$f":"IF(ISERROR(HLOOKUP(K$2,Calculations!$F$1:$BV$33,ROW(K8)+2,FALSE)),0,HLOOKUP(K$2,Calculations!$F$1:$BV$33,ROW(K8)+2,FALSE))","v":3.0590976902223898E-7},{"$f":"IF(ISERROR(HLOOKUP(L$2,Calculations!$F$1:$BV$33,ROW(L8)+2,FALSE)),0,HLOOKUP(L$2,Calculations!$F$1:$BV$33,ROW(L8)+2,FALSE))","v":0},{"$f":"IF(ISERROR(HLOOKUP(M$2,Calculations!$F$1:$BV$33,ROW(M8)+2,FALSE)),0,HLOOKUP(M$2,Calculations!$F$1:$BV$33,ROW(M8)+2,FALSE))","v":0},{"$f":"IF(ISERROR(HLOOKUP(N$2,Calculations!$F$1:$BV$33,ROW(N8)+2,FALSE)),0,HLOOKUP(N$2,Calculations!$F$1:$BV$33,ROW(N8)+2,FALSE))","v":0}]
[4,null,"Total GWP (kg)",{"$f":"D6+D7*Calculations!$C$38+D8*Calculations!$C$39","v":0.2625611735085962},{"$f":"E6+E7*Calculations!$C$38+E8*Calculations!$C$39","v":0.24965388234758831},{"$f":"F6+F7*Calculations!$C$38+F8*Calculations!$C$39","v":1.2907291161007887E-2},{"$f":"G6+G7*Calculations!$C$38+G8*Calculations!$C$39","v":0},{"$f":"IF(ISERROR(HLOOKUP(H$2,Calculations!$F$1:$BV$33,ROW(H9)+2,FALSE)),0,HLOOKUP(H$2,Calculations!$F$1:$BV$33,ROW(H9)+2,FALSE))","v":0},{"$f":"IF(ISERROR(HLOOKUP(I$2,Calculations!$F$1:$BV$33,ROW(I9)+2,FALSE)),0,HLOOKUP(I$2,Calculations!$F$1:$BV$33,ROW(I9)+2,FALSE))","v":0.24964777746083824},{"$f":"IF(ISERROR(HLOOKUP(J$2,Calculations!$F$1:$BV$33,ROW(J9)+2,FALSE)),0,HLOOKUP(J$2,Calculations!$F$1:$BV$33,ROW(J9)+2,FALSE))","v":0},{"$f":"IF(ISERROR(HLOOKUP(K$2,Calculations!$F$1:$BV$33,ROW(K9)+2,FALSE)),0,HLOOKUP(K$2,Calculations!$F$1:$BV$33,ROW(K9)+2,FALSE))","v":1.2907291161007887E-2},{"$f":"IF(ISERROR(HLOOKUP(L$2,Calculations!$F$1:$BV$33,ROW(L9)+2,FALSE)),0,HLOOKUP(L$2,Calculations!$F$1:$BV$33,ROW(L9)+2,FALSE))","v":0},{"$f":"IF(ISERROR(HLOOKUP(M$2,Calculations!$F$1:$BV$33,ROW(M9)+2,FALSE)),0,HLOOKUP(M$2,Calculations!$F$1:$BV$33,ROW(M9)+2,FALSE))","v":0},{"$f":"IF(ISERROR(HLOOKUP(N$2,Calculations!$F$1:$BV$33,ROW(N9)+2,FALSE)),0,HLOOKUP(N$2,Calculations!$F$1:$BV$33,ROW(N9)+2,FALSE))","v":0}]
[5,null,"Nitrogen Oxides (kg)",7.3775390223479849E-5,{"$f":"IF($H$2=Parameters!$B$2,IF($J$2=\"\",$H$3*I10*(1+$K$3)*(1+$L$3)*(1+$M$3)*(1+$N$3),$H$4*I10*(1+$K$3)+$H$3*J10*(1+$L$3)),IF($H$2=\"Not Set\",1*I10*(1+$K$3)*(1+$L$3)*(1+$M$3)*(1+$N$3),$H$3*I10*(1+$K$3)*(1+$L$3)*(1+$M$3)*(1+$N$3)))","v":4.2439530918255741E-5},{"$f":"IF($H$2=Parameters!$B$2,IF($H$4=0,$H$3*(1+$K$3)*K10,$H$4*(1+$K$3)*K10+$H$3*(1+$L$3)*L10),IF($H$2=Parameters!$C$2,IF($H$4=0,$H$3*(1+$K$3)*K10,$H$4*(1+$K$3)*K10+$H$3*(1+$L$3)*L10),IF($H$2=\"Not Set\",1*K10*(1+$L$3)*(1+$M$3)*(1+$N$3)+1*L10*(1+$M$3)*(1+$N$3)+1*M10*(1+$N$3)+N10,$H$3*K10*(1+$L$3)*(1+$M$3)*(1+$N$3)+$H$3*L10*(1+$M$3)*(1+$N$3)+$H$3*M10*(1+$N$3)+$H$3*N10)))","v":3.1335859305224101E-5},0,{"$f":"IF(ISERROR(HLOOKUP(H$2,Calculations!$F$1:$BV$33,ROW(H10)+2,FALSE)),0,HLOOKUP(H$2,Calculations!$F$1:$BV$33,ROW(H10)+2,FALSE))","v":0},{"$f":"IF(ISERROR(HLOOKUP(I$2,Calculations!$F$1:$BV$33,ROW(I10)+2,FALSE)),0,HLOOKUP(I$2,Calculations!$F$1:$BV$33,ROW(I10)+2,FALSE))","v":4.2438493127344801E-5},{"$f":"IF(ISERROR(HLOOKUP(J$2,Calculations!$F$1:$BV$33,ROW(J10)+2,FALSE)),0,HLOOKUP(J$2,Calculations!$F$1:$BV$33,ROW(J10)+2,FALSE))","v":0},{"$f":"IF(ISERROR(HLOOKUP(K$2,Calculations!$F$1:$BV$33,ROW(K10)+2,FALSE)),0,HLOOKUP(K$2,Calculations!$F$1:$BV$33,ROW(K10)+2,FALSE))","v":3.1335859305224101E-5},{"$f":"IF(ISERROR(HLOOKUP(L$2,Calculations!$F$1:$BV$33,ROW(L10)+2,FALSE)),0,HLOOKUP(L$2,Calculations!$F$1:$BV$33,ROW(L10)+2,FALSE))","v":0},{"$f":"IF(ISERROR(HLOOKUP(M$2,Calculations!$F$1:$BV$33,ROW(M10)+2,FALSE)),0,HLOOKUP(M$2,Calculations!$F$1:$BV$33,ROW(M10)+2,FALSE))","v":0},{"$f":"IF(ISERROR(HLOOKUP(N$2,Calculations!$F$1:$BV$33,ROW(N10)+2,FALSE)),0,HLOOKUP(N$2,Calculations!$F$1:$BV$33,ROW(N10)+2,FALSE))","v":0}]
[6,null,"Sulfur Dioxide (kg)",8.4491764550705285E-5,{"$f":"IF($H$2=Parameters!$B$2,IF($J$2=\"\",$H$3*I11*(1+$K$3)*(1+$L$3)*(1+$M$3)*(1+$N$3),$H$4*I11*(1+$K$3)+$H$3*J11*(1+$L$3)),IF($H$2=\"Not Set\",1*I11*(1+$K$3)*(1+$L$3)*(1+$M$3)*(1+$N$3),$H$3*I11*(1+$K$3)*(1+$L$3)*(1+$M$3)*(1+$N$3)))","v":7.668560887586447E-5},{"$f":"IF($H$2=Parameters!$B$2,IF($H$4=0,$H$3*(1+$K$3)*K11,$H$4*(1+$K$3)*K11+$H$3*(1+$L$3)*L11),IF($H$2=Parameters!$C$2,IF($H$4=0,$H$3*(1+$K$3)*K11,$H$4*(1+$K$3)*K11+$H$3*(1+$L$3)*L11),IF($H$2=\"Not Set\",1*K11*(1+$L$3)*(1+$M$3)*(1+$N$3)+1*L11*(1+$M$3)*(1+$N$3)+1*M11*(1+$N$3)+N11,$H$3*K11*(1+$L$3)*(1+$M$3)*(1+$N$3)+$H$3*L11*(1+$M$3)*(1+$N$3)+$H$3*M11*(1+$N$3)+$H$3*N11)))","v":7.8061556748408105E-6},0,{"$f":"IF(ISERROR(HLOOKUP(H$2,Calculations!$F$1:$BV$33,ROW(H11)+2,FALSE)),0,HLOOKUP(H$2,Calculations!$F$1:$BV$33,ROW(H11)+2,FALSE))","v":0},{"$f":"IF(ISERROR(HLOOKUP(I$2,Calculations!$F$1:$BV$33,ROW(I11)+2,FALSE)),0,HLOOKUP(I$2,Calculations!$F$1:$BV$33,ROW(I11)+2,FALSE))","v":7.6683733651841749E-5},{"$f":"IF(ISERROR(HLOOKUP(J$2,Calculations!$F$1:$BV$33,ROW(J11)+2,FALSE)),0,HLOOKUP(J$2,Calculations!$F$1:$BV$33,ROW(J11)+2,FALSE))","v":0},{"$f":"IF(ISERROR(HLOOKUP(K$2,Calculations!$F$1:$BV$33,ROW(K11)+2,FALSE)),0,HLOOKUP(K$2,Calculations!$F$1:$BV$33,ROW(K11)+2,FALSE))","v":7.8061556748408105E-6},{"$f":"IF(ISERROR(HLOOKUP(L$2,Calculations!$F$1:$BV$33,ROW(L11)+2,FALSE)),0,HLOOKUP(L$2,Calculations!$F$1:$BV$33,ROW(L11)+2,FALSE))","v":0},{"$f":"IF(ISERROR(HLOOKUP(M$2,Calculations!$F$1:$BV$33,ROW(M11)+2,FALSE)),0,HLOOKUP(M$2,Calculations!$F$1:$BV$33,ROW(M11)+2,FALSE))","v":0},{"$f":"IF(ISERROR(HLOOKUP(N$2,Calculations!$F$1:$BV$33,ROW(N11)+2,FALSE)),0,HLOOKUP(N$2,Calculations!$F$1:$BV$33,ROW(N11)+2,FALSE))","v":0}]
[7,null,"Carbon Monoxide (kg)",6.1067766262818229E-5,{"$f":"IF($H$2=Parameters!$B$2,IF($J$2=\"\",$H$3*I12*(1+$K$3)*(1+$L$3)*(1+$M$3)*(1+$N$3),$H$4*I12*(1+$K$3)+$H$3*J12*(1+$L$3)),IF($H$2=\"Not Set\",1*I12*(1+$K$3)*(1+$L$3)*(1+$M$3)*(1+$N$3),$H$3*I12*(1+$K$3)*(1+$L$3)*(1+$M$3)*(1+$N$3)))","v":2.339405595115763E-5},{"$f":"IF($H$2=Parameters!$B$2,IF($H$4=0,$H$3*(1+$K$3)*K12,$H$4*(1+$K$3)*K12+$H$3*(1+$L$3)*L12),IF($H$2=Parameters!$C$2,IF($H$4=0,$H$3*(1+$K$3)*K12,$H$4*(1+$K$3)*K12+$H$3*(1+$L$3)*L12),IF($H$2=\"Not Set\",1*K12*(1+$L$3)*(1+$M$3)*(1+$N$3)+1*L12*(1+$M$3)*(1+$N$3)+1*M12*(1+$N$3)+N12,$H$3*K12*(1+$L$3)*(1+$M$3)*(1+$N$3)+$H$3*L12*(1+$M$3)*(1+$N$3)+$H$3*M12*(1+$N$3)+$H$3*N12)))","v":3.7673710311660601E-5},0,{"$f":"IF(ISERROR(HLOOKUP(H$2,Calculations!$F$1:$BV$33,ROW(H12)+2,FALSE)),0,HLOOKUP(H$2,Calculations!$F$1:$BV$33,ROW(H12)+2,FALSE))","v":0},{"$f":"IF(ISERROR(HLOOKUP(I$2,Calculations!$F$1:$BV$33,ROW(I12)+2,FALSE)),0,HLOOKUP(I$2,Calculations!$F$1:$BV$33,ROW(I12)+2,FALSE))","v":2.3393483886902658E-5},{"$f":"IF(ISERROR(HLOOKUP(J$2,Calculations!$F$1:$BV$33,ROW(J12)+2,FALSE)),0,HLOOKUP(J$2,Calculations!$F$1:$BV$33,ROW(J12)+2,FALSE))","v":0},{"$f":"IF(ISERROR(HLOOKUP(K$2,Calculations!$F$1:$BV$33,ROW(K12)+2,FALSE)),0,HLOOKUP(K$2,Calculations!$F$1:$BV$33,ROW(K12)+2,FALSE))","v":3.7673710311660601E-5},{"$f":"IF(ISERROR(HLOOKUP(L$2,Calculations!$F$1:$BV$33,ROW(L12)+2,FALSE)),0,HLOOKUP(L$2,Calculations!$F$1:$BV$33,ROW(L12)+2,FALSE))","v":0},{"$f":"IF(ISERROR(HLOOKUP(M$2,Calculations!$F$1:$BV$33,ROW(M12)+2,FALSE)),0,HLOOKUP(M$2,Calculations!$F$1:$BV$33,ROW(M12)+2,FALSE))","v":0},{"$f":"IF(ISERROR(HLOOKUP(N$2,Calculations!$F$1:$BV$33,ROW(N12)+2,FALSE)),0,HLOOKUP(N$2,Calculations!$F$1:$BV$33,ROW(N12)+2,FALSE))","v":0}]
[8,null,"Particulate Matter (kg)",4.3889387341120258E-5,{"$f":"IF($H$2=Parameters!$B$2,IF($J$2=\"\",$H$3*I13*(1+$K$3)*(1+$L$3)*(1+$M$3)*(1+$N$3),$H$4*I13*(1+$K$3)+$H$3*J13*(1+$L$3)),IF($H$2=\"Not Set\",1*I13*(1+$K$3)*(1+$L$3)*(1+$M$3)*(1+$N$3),$H$3*I13*(1+$K$3)*(1+$L$3)*(1+$M$3)*(1+$N$3)))","v":2.7434048159864551E-6},{"$f":"IF($H$2=Parameters!$B$2,IF($H$4=0,$H$3*(1+$K$3)*K13,$H$4*(1+$K$3)*K13+$H$3*(1+$L$3)*L13),IF($H$2=Parameters!$C$2,IF($H$4=0,$H$3*(1+$K$3)*K13,$H$4*(1+$K$3)*K13+$H$3*(1+$L$3)*L13),IF($H$2=\"Not Set\",1*K13*(1+$L$3)*(1+$M$3)*(1+$N$3)+1*L13*(1+$M$3)*(1+$N$3)+1*M13*(1+$N$3)+N13,$H$3*K13*(1+$L$3)*(1+$M$3)*(1+$N$3)+$H$3*L13*(1+$M$3)*(1+$N$3)+$H$3*M13*(1+$N$3)+$H$3*N13)))","v":4.1145982525133803E-5},0,{"$f":"IF(ISERROR(HLOOKUP(H$2,Calculations!$F$1:$BV$33,ROW(H13)+2,FALSE)),0,HLOOKUP(H$2,Calculations!$F$1:$BV$33,ROW(H13)+2,FALSE))","v":0},{"$f":"IF(ISERROR(HLOOKUP(I$2,Calculations!$F$1:$BV$33,ROW(I13)+2,FALSE)),0,HLOOKUP(I$2,Calculations!$F$1:$BV$33,ROW(I13)+2,FALSE))","v":2.7433377304055957E-6},{"$f":"IF(ISERROR(HLOOKUP(J$2,Calculations!$F$1:$BV$33,ROW(J13)+2,FALSE)),0,HLOOKUP(J$2,Calculations!$F$1:$BV$33,ROW(J13)+2,FALSE))","v":0},{"$f":"IF(ISERROR(HLOOKUP(K$2,Calculations!$F$1:$BV$33,ROW(K13)+2,FALSE)),0,HLOOKUP(K$2,Calculations!$F$1:$BV$33,ROW(K13)+2,FALSE))","v":4.1145982525133803E-5},{"$f":"IF(ISERROR(HLOOKUP(L$2,Calculations!$F$1:$BV$33,ROW(L13)+2,FALSE)),0,HLOOKUP(L$2,Calculations!$F$1:$BV$33,ROW(L13)+2,FALSE))","v":0},{"$f":"IF(ISERROR(HLOOKUP(M$2,Calculations!$F$1:$BV$33,ROW(M13)+2,FALSE)),0,HLOOKUP(M$2,Calculations!$F$1:$BV$33,ROW(M13)+2,FALSE))","v":0},{"$f":"IF(ISERROR(HLOOKUP(N$2,Calculations!$F$1:$BV$33,ROW(N13)+2,FALSE)),0,HLOOKUP(N$2,Calculations!$F$1:$BV$33,ROW(N13)+2,FALSE))","v":0}]
[9,null,"Lead (kg)",3.5838255459970181E-9,{"$f":"IF($H$2=Parameters!$B$2,IF($J$2=\"\",$H$3*I14*(1+$K$3)*(1+$L$3)*(1+$M$3)*(1+$N$3),$H$4*I14*(1+$K$3)+$H$3*J14*(1+$L$3)),IF($H$2=\"Not Set\",1*I14*(1+$K$3)*(1+$L$3)*(1+$M$3)*(1+$N$3),$H$3*I14*(1+$K$3)*(1+$L$3)*(1+$M$3)*(1+$N$3)))","v":3.4554936130612012E-9},{"$f":"IF($H$2=Parameters!$B$2,IF($H$4=0,$H$3*(1+$K$3)*K14,$H$4*(1+$K$3)*K14+$H$3*(1+$L$3)*L14),IF($H$2=Parameters!$C$2,IF($H$4=0,$H$3*(1+$K$3)*K14,$H$4*(1+$K$3)*K14+$H$3*(1+$L$3)*L14),IF($H$2=\"Not Set\",1*K14*(1+$L$3)*(1+$M$3)*(1+$N$3)+1*L14*(1+$M$3)*(1+$N$3)+1*M14*(1+$N$3)+N14,$H$3*K14*(1+$L$3)*(1+$M$3)*(1+$N$3)+$H$3*L14*(1+$M$3)*(1+$N$3)+$H$3*M14*(1+$N$3)+$H$3*N14)))","v":1.28331932935817E-10},0,{"$f":"IF(ISERROR(HLOOKUP(H$2,Calculations!$F$1:$BV$33,ROW(H14)+2,FALSE)),0,HLOOKUP(H$2,Calculations!$F$1:$BV$33,ROW(H14)+2,FALSE))","v":0},{"$f":"IF(ISERROR(HLOOKUP(I$2,Calculations!$F$1:$BV$33,ROW(I14)+2,FALSE)),0,HLOOKUP(I$2,Calculations!$F$1:$BV$33,ROW(I14)+2,FALSE))","v":3.4554091144867155E-9},{"$f":"IF(ISERROR(HLOOKUP(J$2,Calculations!$F$1:$BV$33,ROW(J14)+2,FALSE)),0,HLOOKUP(J$2,Calculations!$F$1:$BV$33,ROW(J14)+2,FALSE))","v":0},{"$f":"IF(ISERROR(HLOOKUP(K$2,Calculations!$F$1:$BV$33,ROW(K14)+2,FALSE)),0,HLOOKUP(K$2,Calculations!$F$1:$BV$33,ROW(K14)+2,FALSE))","v":1.28331932935817E-10},{"$f":"IF(ISERROR(HLOOKUP(L$2,Calculations!$F$1:$BV$33,ROW(L14)+2,FALSE)),0,HLOOKUP(L$2,Calculations!$F$1:$BV$33,ROW(L14)+2,FALSE))","v":0},{"$f":"IF(ISERROR(HLOOKUP(M$2,Calculations!$F$1:$BV$33,ROW(M14)+2,FALSE)),0,HLOOKUP(M$2,Calculations!$F$1:$BV$33,ROW(M14)+2,FALSE))","v":0},{"$f":"IF(ISERROR(HLOOKUP(N$2,Calculations!$F$1:$BV$33,ROW(N14)+2,FALSE)),0,HLOOKUP(N$2,Calculations!$F$1:$BV$33,ROW(N14)+2,FALSE))","v":0}]
[10,null,"Mercury (kg)",6.2587620838425631E-10,{"$f":"IF($H$2=Parameters!$B$2,IF($J$2=\"\",$H$3*I15*(1+$K$3)*(1+$L$3)*(1+$M$3)*(1+$N$3),$H$4*I15*(1+$K$3)+$H$3*J15*(1+$L$3)),IF($H$2=\"Not Set\",1*I15*(1+$K$3)*(1+$L$3)*(1+$M$3)*(1+$N$3),$H$3*I15*(1+$K$3)*(1+$L$3)*(1+$M$3)*(1+$N$3)))","v":6.1494913973442625E-10},{"$f":"IF($H$2=Parameters!$B$2,IF($H$4=0,$H$3*(1+$K$3)*K15,$H$4*(1+$K$3)*K15+$H$3*(1+$L$3)*L15),IF($H$2=Parameters!$C$2,IF($H$4=0,$H$3*(1+$K$3)*K15,$H$4*(1+$K$3)*K15+$H$3*(1+$L$3)*L15),IF($H$2=\"Not Set\",1*K15*(1+$L$3)*(1+$M$3)*(1+$N$3)+1*L15*(1+$M$3)*(1+$N$3)+1*M15*(1+$N$3)+N15,$H$3*K15*(1+$L$3)*(1+$M$3)*(1+$N$3)+$H$3*L15*(1+$M$3)*(1+$N$3)+$H$3*M15*(1+$N$3)+$H$3*N15)))","v":1.0927068649830101E-11},0,{"$f":"IF(ISERROR(HLOOKUP(H$2,Calculations!$F$1:$BV$33,ROW(H15)+2,FALSE)),0,HLOOKUP(H$2,Calculations!$F$1:$BV$33,ROW(H15)+2,FALSE))","v":0},{"$f":"IF(ISERROR(HLOOKUP(I$2,Calculations!$F$1:$BV$33,ROW(I15)+2,FALSE)),0,HLOOKUP(I$2,Calculations!$F$1:$BV$33,ROW(I15)+2,FALSE))","v":6.1493410213589256E-10},{"$f":"IF(ISERROR(HLOOKUP(J$2,Calculations!$F$1:$BV$33,ROW(J15)+2,FALSE)),0,HLOOKUP(J$2,Calculations!$F$1:$BV$33,ROW(J15)+2,FALSE))","v":0},{"$f":"IF(ISERROR(HLOOKUP(K$2,Calculations!$F$1:$BV$33,ROW(K15)+2,FALSE)),0,HLOOKUP(K$2,Calculations!$F$1:$BV$33,ROW(K15)+2,FALSE))","v":1.0927068649830101E-11},{"$f":"IF(ISERROR(HLOOKUP(L$2,Calculations!$F$1:$BV$33,ROW(L15)+2,FALSE)),0,HLOOKUP(L$2,Calculations!$F$1:$BV$33,ROW(L15)+2,FALSE))","v":0},{"$f":"IF(ISERROR(HLOOKUP(M$2,Calculations!$F$1:$BV$33,ROW(M15)+2,FALSE)),0,HLOOKUP(M$2,Calculations!$F$1:$BV$33,ROW(M15)+2,FALSE))","v":0},{"$f":"IF(ISERROR(HLOOKUP(N$2,Calculations!$F$1:$BV$33,ROW(N15)+2,FALSE)),0,HLOOKUP(N$2,Calculations!$F$1:$BV$33,ROW(N15)+2,FALSE))","v":0}]
[11,null,"Ammonia (kg)",4.9819697401611457E-7,{"$f":"IF($H$2=Parameters!$B$2,IF($J$2=\"\",$H$3*I16*(1+$K$3)*(1+$L$3)*(1+$M$3)*(1+$N$3),$H$4*I16*(1+$K$3)+$H$3*J16*(1+$L$3)),IF($H$2=\"Not Set\",1*I16*(1+$K$3)*(1+$L$3)*(1+$M$3)*(1+$N$3),$H$3*I16*(1+$K$3)*(1+$L$3)*(1+$M$3)*(1+$N$3)))","v":5.3130562934909618E-8},{"$f":"IF($H$2=Parameters!$B$2,IF($H$4=0,$H$3*(1+$K$3)*K16,$H$4*(1+$K$3)*K16+$H$3*(1+$L$3)*L16),IF($H$2=Parameters!$C$2,IF($H$4=0,$H$3*(1+$K$3)*K16,$H$4*(1+$K$3)*K16+$H$3*(1+$L$3)*L16),IF($H$2=\"Not Set\",1*K16*(1+$L$3)*(1+$M$3)*(1+$N$3)+1*L16*(1+$M$3)*(1+$N$3)+1*M16*(1+$N$3)+N16,$H$3*K16*(1+$L$3)*(1+$M$3)*(1+$N$3)+$H$3*L16*(1+$M$3)*(1+$N$3)+$H$3*M16*(1+$N$3)+$H$3*N16)))","v":4.45066411081205E-7},0,{"$f":"IF(ISERROR(HLOOKUP(H$2,Calculations!$F$1:$BV$33,ROW(H16)+2,FALSE)),0,HLOOKUP(H$2,Calculations!$F$1:$BV$33,ROW(H16)+2,FALSE))","v":0},{"$f":"IF(ISERROR(HLOOKUP(I$2,Calculations!$F$1:$BV$33,ROW(I16)+2,FALSE)),0,HLOOKUP(I$2,Calculations!$F$1:$BV$33,ROW(I16)+2,FALSE))","v":5.3129263711894803E-8},{"$f":"IF(ISERROR(HLOOKUP(J$2,Calculations!$F$1:$BV$33,ROW(J16)+2,FALSE)),0,HLOOKUP(J$2,Calculations!$F$1:$BV$33,ROW(J16)+2,FALSE))","v":0},{"$f":"IF(ISERROR(HLOOKUP(K$2,Calculations!$F$1:$BV$33,ROW(K16)+2,FALSE)),0,HLOOKUP(K$2,Calculations!$F$1:$BV$33,ROW(K16)+2,FALSE))","v":4.45066411081205E-7},{"$f":"IF(ISERROR(HLOOKUP(L$2,Calculations!$F$1:$BV$33,ROW(L16)+2,FALSE)),0,HLOOKUP(L$2,Calculations!$F$1:$BV$33,ROW(L16)+2,FALSE))","v":0},{"$f":"IF(ISERROR(HLOOKUP(M$2,Calculations!$F$1:$BV$33,ROW(M16)+2,FALSE)),0,HLOOKUP(M$2,Calculations!$F$1:$BV$33,ROW(M16)+2,FALSE))","v":0},{"$f":"IF(ISERROR(HLOOKUP(N$2,Calculations!$F$1:$BV$33,ROW(N16)+2,FALSE)),0,HLOOKUP(N$2,Calculations!$F$1:$BV$33,ROW(N16)+2,FALSE))","v":0}]
[12,null,"Radiation (kg)",4.4825684753647053E-11,{"$f":"IF($H$2=Parameters!$B$2,IF($J$2=\"\",$H$3*I17*(1+$K$3)*(1+$L$3)*(1+$M$3)*(1+$N$3),$H$4*I17*(1+$K$3)+$H$3*J17*(1+$L$3)),IF($H$2=\"Not Set\",1*I17*(1+$K$3)*(1+$L$3)*(1+$M$3)*(1+$N$3),$H$3*I17*(1+$K$3)*(1+$L$3)*(1+$M$3)*(1+$N$3)))","v":6.3005197784620568E-12},{"$f":"IF($H$2=Parameters!$B$2,IF($H$4=0,$H$3*(1+$K$3)*K17,$H$4*(1+$K$3)*K17+$H$3*(1+$L$3)*L17),IF($H$2=Parameters!$C$2,IF($H$4=0,$H$3*(1+$K$3)*K17,$H$4*(1+$K$3)*K17+$H$3*(1+$L$3)*L17),IF($H$2=\"Not Set\",1*K17*(1+$L$3)*(1+$M$3)*(1+$N$3)+1*L17*(1+$M$3)*(1+$N$3)+1*M17*(1+$N$3)+N17,$H$3*K17*(1+$L$3)*(1+$M$3)*(1+$N$3)+$H$3*L17*(1+$M$3)*(1+$N$3)+$H$3*M17*(1+$N$3)+$H$3*N17)))","v":3.8525164975184997E-11},0,{"$f":"IF(ISERROR(HLOOKUP(H$2,Calculations!$F$1:$BV$33,ROW(H17)+2,FALSE)),0,HLOOKUP(H$2,Calculations!$F$1:$BV$33,ROW(H17)+2,FALSE))","v":0},{"$f":"IF(ISERROR(HLOOKUP(I$2,Calculations!$F$1:$BV$33,ROW(I17)+2,FALSE)),0,HLOOKUP(I$2,Calculations!$F$1:$BV$33,ROW(I17)+2,FALSE))","v":6.3003657093190003E-12},{"$f":"IF(ISERROR(HLOOKUP(J$2,Calculations!$F$1:$BV$33,ROW(J17)+2,FALSE)),0,HLOOKUP(J$2,Calculations!$F$1:$BV$33,ROW(J17)+2,FALSE))","v":0},{"$f":"IF(ISERROR(HLOOKUP(K$2,Calculations!$F$1:$BV$33,ROW(K17)+2,FALSE)),0,HLOOKUP(K$2,Calculations!$F$1:$BV$33,ROW(K17)+2,FALSE))","v":3.8525164975184997E-11},{"$f":"IF(ISERROR(HLOOKUP(L$2,Calculations!$F$1:$BV$33,ROW(L17)+2,FALSE)),0,HLOOKUP(L$2,Calculations!$F$1:$BV$33,ROW(L17)+2,FALSE))","v":0},{"$f":"IF(ISERROR(HLOOKUP(M$2,Calculations!$F$1:$BV$33,ROW(M17)+2,FALSE)),0,HLOOKUP(M$2,Calculations!$F$1:$BV$33,ROW(M17)+2,FALSE))","v":0},{"$f":"IF(ISERROR(HLOOKUP(N$2,Calculations!$F$1:$BV$33,ROW(N17)+2,FALSE)),0,HLOOKUP(N$2,Calculations!$F$1:$BV$33,ROW(N17)+2,FALSE))","v":0}]
[13,null,"Non Methane VOC (kg)",8.858268554813086E-6,{"$f":"IF($H$2=Parameters!$B$2,IF($J$2=\"\",$H$3*I18*(1+$K$3)*(1+$L$3)*(1+$M$3)*(1+$N$3),$H$4*I18*(1+$K$3)+$H$3*J18*(1+$L$3)),IF($H$2=\"Not Set\",1*I18*(1+$K$3)*(1+$L$3)*(1+$M$3)*(1+$N$3),$H$3*I18*(1+$K$3)*(1+$L$3)*(1+$M$3)*(1+$N$3)))","v":6.3491669848313364E-6},{"$f":"IF($H$2=Parameters!$B$2,IF($H$4=0,$H$3*(1+$K$3)*K18,$H$4*(1+$K$3)*K18+$H$3*(1+$L$3)*L18),IF($H$2=Parameters!$C$2,IF($H$4=0,$H$3*(1+$K$3)*K18,$H$4*(1+$K$3)*K18+$H$3*(1+$L$3)*L18),IF($H$2=\"Not Set\",1*K18*(1+$L$3)*(1+$M$3)*(1+$N$3)+1*L18*(1+$M$3)*(1+$N$3)+1*M18*(1+$N$3)+N18,$H$3*K18*(1+$L$3)*(1+$M$3)*(1+$N$3)+$H$3*L18*(1+$M$3)*(1+$N$3)+$H$3*M18*(1+$N$3)+$H$3*N18)))","v":2.5091015699817501E-6},0,{"$f":"IF(ISERROR(HLOOKUP(H$2,Calculations!$F$1:$BV$33,ROW(H18)+2,FALSE)),0,HLOOKUP(H$2,Calculations!$F$1:$BV$33,ROW(H18)+2,FALSE))","v":0},{"$f":"IF(ISERROR(HLOOKUP(I$2,Calculations!$F$1:$BV$33,ROW(I18)+2,FALSE)),0,HLOOKUP(I$2,Calculations!$F$1:$BV$33,ROW(I18)+2,FALSE))","v":6.3490117260985863E-6},{"$f":"IF(ISERROR(HLOOKUP(J$2,Calculations!$F$1:$BV$33,ROW(J18)+2,FALSE)),0,HLOOKUP(J$2,Calculations!$F$1:$BV$33,ROW(J18)+2,FALSE))","v":0},{"$f":"IF(ISERROR(HLOOKUP(K$2,Calculations!$F$1:$BV$33,ROW(K18)+2,FALSE)),0,HLOOKUP(K$2,Calculations!$F$1:$BV$33,ROW(K18)+2,FALSE))","v":2.5091015699817501E-6},{"$f":"IF(ISERROR(HLOOKUP(L$2,Calculations!$F$1:$BV$33,ROW(L18)+2,FALSE)),0,HLOOKUP(L$2,Calculations!$F$1:$BV$33,ROW(L18)+2,FALSE))","v":0},{"$f":"IF(ISERROR(HLOOKUP(M$2,Calculations!$F$1:$BV$33,ROW(M18)+2,FALSE)),0,HLOOKUP(M$2,Calculations!$F$1:$BV$33,ROW(M18)+2,FALSE))","v":0},{"$f":"IF(ISERROR(HLOOKUP(N$2,Calculations!$F$1:$BV$33,ROW(N18)+2,FALSE)),0,HLOOKUP(N$2,Calculations!$F$1:$BV$33,ROW(N18)+2,FALSE))","v":0}]
[14,"Solid Waste","Heavy Metals to Soil (kg)",1.4864375340473493E-4,{"$f":"IF($H$2=Parameters!$B$2,IF($J$2=\"\",$H$3*I19*(1+$K$3)*(1+$L$3)*(1+$M$3)*(1+$N$3),$H$4*I19*(1+$K$3)+$H$3*J19*(1+$L$3)),IF($H$2=\"Not Set\",1*I19*(1+$K$3)*(1+$L$3)*(1+$M$3)*(1+$N$3),$H$3*I19*(1+$K$3)*(1+$L$3)*(1+$M$3)*(1+$N$3)))","v":1.4862923743224534E-4},{"$f":"IF($H$2=Parameters!$B$2,IF($H$4=0,$H$3*(1+$K$3)*K19,$H$4*(1+$K$3)*K19+$H$3*(1+$L$3)*L19),IF($H$2=Parameters!$C$2,IF($H$4=0,$H$3*(1+$K$3)*K19,$H$4*(1+$K$3)*K19+$H$3*(1+$L$3)*L19),IF($H$2=\"Not Set\",1*K19*(1+$L$3)*(1+$M$3)*(1+$N$3)+1*L19*(1+$M$3)*(1+$N$3)+1*M19*(1+$N$3)+N19,$H$3*K19*(1+$L$3)*(1+$M$3)*(1+$N$3)+$H$3*L19*(1+$M$3)*(1+$N$3)+$H$3*M19*(1+$N$3)+$H$3*N19)))","v":1.4515972489588299E-8},0,{"$f":"IF(ISERROR(HLOOKUP(H$2,Calculations!$F$1:$BV$33,ROW(H19)+2,FALSE)),0,HLOOKUP(H$2,Calculations!$F$1:$BV$33,ROW(H19)+2,FALSE))","v":0},{"$f":"IF(ISERROR(HLOOKUP(I$2,Calculations!$F$1:$BV$33,ROW(I19)+2,FALSE)),0,HLOOKUP(I$2,Calculations!$F$1:$BV$33,ROW(I19)+2,FALSE))","v":1.4862560294175099E-4},{"$f":"IF(ISERROR(HLOOKUP(J$2,Calculations!$F$1:$BV$33,ROW(J19)+2,FALSE)),0,HLOOKUP(J$2,Calculations!$F$1:$BV$33,ROW(J19)+2,FALSE))","v":0},{"$f":"IF(ISERROR(HLOOKUP(K$2,Calculations!$F$1:$BV$33,ROW(K19)+2,FALSE)),0,HLOOKUP(K$2,Calculations!$F$1:$BV$33,ROW(K19)+2,FALSE))","v":1.4515972489588299E-8},{"$f":"IF(ISERROR(HLOOKUP(L$2,Calculations!$F$1:$BV$33,ROW(L19)+2,FALSE)),0,HLOOKUP(L$2,Calculations!$F$1:$BV$33,ROW(L19)+2,FALSE))","v":0},{"$f":"IF(ISERROR(HLOOKUP(M$2,Calculations!$F$1:$BV$33,ROW(M19)+2,FALSE)),0,HLOOKUP(M$2,Calculations!$F$1:$BV$33,ROW(M19)+2,FALSE))","v":0},{"$f":"IF(ISERROR(HLOOKUP(N$2,Calculations!$F$1:$BV$33,ROW(N19)+2,FALSE)),0,HLOOKUP(N$2,Calculations!$F$1:$BV$33,ROW(N19)+2,FALSE))","v":0}]
[15,null,"Solid Waste (kg)",1.8225387105474788E-6,{"$f":"IF($H$2=Parameters!$B$2,IF($J$2=\"\",$H$3*I20*(1+$K$3)*(1+$L$3)*(1+$M$3)*(1+$N$3),$H$4*I20*(1+$K$3)+$H$3*J20*(1+$L$3)),IF($H$2=\"Not Set\",1*I20*(1+$K$3)*(1+$L$3)*(1+$M$3)*(1+$N$3),$H$3*I20*(1+$K$3)*(1+$L$3)*(1+$M$3)*(1+$N$3)))","v":9.1771960425166681E-7},{"$f":"IF($H$2=Parameters!$B$2,IF($H$4=0,$H$3*(1+$K$3)*K20,$H$4*(1+$K$3)*K20+$H$3*(1+$L$3)*L20),IF($H$2=Parameters!$C$2,IF($H$4=0,$H$3*(1+$K$3)*K20,$H$4*(1+$K$3)*K20+$H$3*(1+$L$3)*L20),IF($H$2=\"Not Set\",1*K20*(1+$L$3)*(1+$M$3)*(1+$N$3)+1*L20*(1+$M$3)*(1+$N$3)+1*M20*(1+$N$3)+N20,$H$3*K20*(1+$L$3)*(1+$M$3)*(1+$N$3)+$H$3*L20*(1+$M$3)*(1+$N$3)+$H$3*M20*(1+$N$3)+$H$3*N20)))","v":9.0481910629581203E-7},0,{"$f":"IF(ISERROR(HLOOKUP(H$2,Calculations!$F$1:$BV$33,ROW(H20)+2,FALSE)),0,HLOOKUP(H$2,Calculations!$F$1:$BV$33,ROW(H20)+2,FALSE))","v":0},{"$f":"IF(ISERROR(HLOOKUP(I$2,Calculations!$F$1:$BV$33,ROW(I20)+2,FALSE)),0,HLOOKUP(I$2,Calculations!$F$1:$BV$33,ROW(I20)+2,FALSE))","v":9.1769716288524556E-7},{"$f":"IF(ISERROR(HLOOKUP(J$2,Calculations!$F$1:$BV$33,ROW(J20)+2,FALSE)),0,HLOOKUP(J$2,Calculations!$F$1:$BV$33,ROW(J20)+2,FALSE))","v":0},{"$f":"IF(ISERROR(HLOOKUP(K$2,Calculations!$F$1:$BV$33,ROW(K20)+2,FALSE)),0,HLOOKUP(K$2,Calculations!$F$1:$BV$33,ROW(K20)+2,FALSE))","v":9.0481910629581203E-7},{"$f":"IF(ISERROR(HLOOKUP(L$2,Calculations!$F$1:$BV$33,ROW(L20)+2,FALSE)),0,HLOOKUP(L$2,Calculations!$F$1:$BV$33,ROW(L20)+2,FALSE))","v":0},{"$f":"IF(ISERROR(HLOOKUP(M$2,Calculations!$F$1:$BV$33,ROW(M20)+2,FALSE)),0,HLOOKUP(M$2,Calculations!$F$1:$BV$33,ROW(M20)+2,FALSE))","v":0},{"$f":"IF(ISERROR(HLOOKUP(N$2,Calculations!$F$1:$BV$33,ROW(N20)+2,FALSE)),0,HLOOKUP(N$2,Calculations!$F$1:$BV$33,ROW(N20)+2,FALSE))","v":0}]
[16,"Water Emissions","Aluminum (kg)",1.4381220001712666E-8,{"$f":"IF($H$2=Parameters!$B$2,IF($J$2=\"\",$H$3*I21*(1+$K$3)*(1+$L$3)*(1+$M$3)*(1+$N$3),$H$4*I21*(1+$K$3)+$H$3*J21*(1+$L$3)),IF($H$2=\"Not Set\",1*I21*(1+$K$3)*(1+$L$3)*(1+$M$3)*(1+$N$3),$H$3*I21*(1+$K$3)*(1+$L$3)*(1+$M$3)*(1+$N$3)))","v":1.1344180334068757E-8},{"$f":"IF($H$2=Parameters!$B$2,IF($H$4=0,$H$3*(1+$K$3)*K21,$H$4*(1+$K$3)*K21+$H$3*(1+$L$3)*L21),IF($H$2=Parameters!$C$2,IF($H$4=0,$H$3*(1+$K$3)*K21,$H$4*(1+$K$3)*K21+$H$3*(1+$L$3)*L21),IF($H$2=\"Not Set\",1*K21*(1+$L$3)*(1+$M$3)*(1+$N$3)+1*L21*(1+$M$3)*(1+$N$3)+1*M21*(1+$N$3)+N21,$H$3*K21*(1+$L$3)*(1+$M$3)*(1+$N$3)+$H$3*L21*(1+$M$3)*(1+$N$3)+$H$3*M21*(1+$N$3)+$H$3*N21)))","v":3.0370396676439101E-9},0,{"$f":"IF(ISERROR(HLOOKUP(H$2,Calculations!$F$1:$BV$33,ROW(H21)+2,FALSE)),0,HLOOKUP(H$2,Calculations!$F$1:$BV$33,ROW(H21)+2,FALSE))","v":0},{"$f":"IF(ISERROR(HLOOKUP(I$2,Calculations!$F$1:$BV$33,ROW(I21)+2,FALSE)),0,HLOOKUP(I$2,Calculations!$F$1:$BV$33,ROW(I21)+2,FALSE))","v":1.13439029302665E-8},{"$f":"IF(ISERROR(HLOOKUP(J$2,Calculations!$F$1:$BV$33,ROW(J21)+2,FALSE)),0,HLOOKUP(J$2,Calculations!$F$1:$BV$33,ROW(J21)+2,FALSE))","v":0},{"$f":"IF(ISERROR(HLOOKUP(K$2,Calculations!$F$1:$BV$33,ROW(K21)+2,FALSE)),0,HLOOKUP(K$2,Calculations!$F$1:$BV$33,ROW(K21)+2,FALSE))","v":3.0370396676439101E-9},{"$f":"IF(ISERROR(HLOOKUP(L$2,Calculations!$F$1:$BV$33,ROW(L21)+2,FALSE)),0,HLOOKUP(L$2,Calculations!$F$1:$BV$33,ROW(L21)+2,FALSE))","v":0},{"$f":"IF(ISERROR(HLOOKUP(M$2,Calculations!$F$1:$BV$33,ROW(M21)+2,FALSE)),0,HLOOKUP(M$2,Calculations!$F$1:$BV$33,ROW(M21)+2,FALSE))","v":0},{"$f":"IF(ISERROR(HLOOKUP(N$2,Calculations!$F$1:$BV$33,ROW(N21)+2,FALSE)),0,HLOOKUP(N$2,Calculations!$F$1:$BV$33,ROW(N21)+2,FALSE))","v":0}]
[17,null,"Ammonium/ammonia (kg)",3.7390837520415392E-6,{"$f":"IF($H$2=Parameters!$B$2,IF($J$2=\"\",$H$3*I22*(1+$K$3)*(1+$L$3)*(1+$M$3)*(1+$N$3),$H$4*I22*(1+$K$3)+$H$3*J22*(1+$L$3)),IF($H$2=\"Not Set\",1*I22*(1+$K$3)*(1+$L$3)*(1+$M$3)*(1+$N$3),$H$3*I22*(1+$K$3)*(1+$L$3)*(1+$M$3)*(1+$N$3)))","v":3.7347368366546855E-6},{"$f":"IF($H$2=Parameters!$B$2,IF($H$4=0,$H$3*(1+$K$3)*K22,$H$4*(1+$K$3)*K22+$H$3*(1+$L$3)*L22),IF($H$2=Parameters!$C$2,IF($H$4=0,$H$3*(1+$K$3)*K22,$H$4*(1+$K$3)*K22+$H$3*(1+$L$3)*L22),IF($H$2=\"Not Set\",1*K22*(1+$L$3)*(1+$M$3)*(1+$N$3)+1*L22*(1+$M$3)*(1+$N$3)+1*M22*(1+$N$3)+N22,$H$3*K22*(1+$L$3)*(1+$M$3)*(1+$N$3)+$H$3*L22*(1+$M$3)*(1+$N$3)+$H$3*M22*(1+$N$3)+$H$3*N22)))","v":4.3469153868538281E-9},0,{"$f":"IF(ISERROR(HLOOKUP(H$2,Calculations!$F$1:$BV$33,ROW(H22)+2,FALSE)),0,HLOOKUP(H$2,Calculations!$F$1:$BV$33,ROW(H22)+2,FALSE))","v":0},{"$f":"IF(ISERROR(HLOOKUP(I$2,Calculations!$F$1:$BV$33,ROW(I22)+2,FALSE)),0,HLOOKUP(I$2,Calculations!$F$1:$BV$33,ROW(I22)+2,FALSE))","v":3.7346455096333926E-6},{"$f":"IF(ISERROR(HLOOKUP(J$2,Calculations!$F$1:$BV$33,ROW(J22)+2,FALSE)),0,HLOOKUP(J$2,Calculations!$F$1:$BV$33,ROW(J22)+2,FALSE))","v":0},{"$f":"IF(ISERROR(HLOOKUP(K$2,Calculations!$F$1:$BV$33,ROW(K22)+2,FALSE)),0,HLOOKUP(K$2,Calculations!$F$1:$BV$33,ROW(K22)+2,FALSE))","v":4.3469153868538281E-9},{"$f":"IF(ISERROR(HLOOKUP(L$2,Calculations!$F$1:$BV$33,ROW(L22)+2,FALSE)),0,HLOOKUP(L$2,Calculations!$F$1:$BV$33,ROW(L22)+2,FALSE))","v":0},{"$f":"IF(ISERROR(HLOOKUP(M$2,Calculations!$F$1:$BV$33,ROW(M22)+2,FALSE)),0,HLOOKUP(M$2,Calculations!$F$1:$BV$33,ROW(M22)+2,FALSE))","v":0},{"$f":"IF(ISERROR(HLOOKUP(N$2,Calculations!$F$1:$BV$33,ROW(N22)+2,FALSE)),0,HLOOKUP(N$2,Calculations!$F$1:$BV$33,ROW(N22)+2,FALSE))","v":0}]
[18,null,"Heavy Metals (kg)",1.0644369985398677E-5,{"$f":"IF($H$2=Parameters!$B$2,IF($J$2=\"\",$H$3*I23*(1+$K$3)*(1+$L$3)*(1+$M$3)*(1+$N$3),$H$4*I23*(1+$K$3)+$H$3*J23*(1+$L$3)),IF($H$2=\"Not Set\",1*I23*(1+$K$3)*(1+$L$3)*(1+$M$3)*(1+$N$3),$H$3*I23*(1+$K$3)*(1+$L$3)*(1+$M$3)*(1+$N$3)))","v":3.5633670341290481E-6},{"$f":"IF($H$2=Parameters!$B$2,IF($H$4=0,$H$3*(1+$K$3)*K23,$H$4*(1+$K$3)*K23+$H$3*(1+$L$3)*L23),IF($H$2=Parameters!$C$2,IF($H$4=0,$H$3*(1+$K$3)*K23,$H$4*(1+$K$3)*K23+$H$3*(1+$L$3)*L23),IF($H$2=\"Not Set\",1*K23*(1+$L$3)*(1+$M$3)*(1+$N$3)+1*L23*(1+$M$3)*(1+$N$3)+1*M23*(1+$N$3)+N23,$H$3*K23*(1+$L$3)*(1+$M$3)*(1+$N$3)+$H$3*L23*(1+$M$3)*(1+$N$3)+$H$3*M23*(1+$N$3)+$H$3*N23)))","v":7.0810029512696299E-6},0,{"$f":"IF(ISERROR(HLOOKUP(H$2,Calculations!$F$1:$BV$33,ROW(H23)+2,FALSE)),0,HLOOKUP(H$2,Calculations!$F$1:$BV$33,ROW(H23)+2,FALSE))","v":0},{"$f":"IF(ISERROR(HLOOKUP(I$2,Calculations!$F$1:$BV$33,ROW(I23)+2,FALSE)),0,HLOOKUP(I$2,Calculations!$F$1:$BV$33,ROW(I23)+2,FALSE))","v":3.56327989768243E-6},{"$f":"IF(ISERROR(HLOOKUP(J$2,Calculations!$F$1:$BV$33,ROW(J23)+2,FALSE)),0,HLOOKUP(J$2,Calculations!$F$1:$BV$33,ROW(J23)+2,FALSE))","v":0},{"$f":"IF(ISERROR(HLOOKUP(K$2,Calculations!$F$1:$BV$33,ROW(K23)+2,FALSE)),0,HLOOKUP(K$2,Calculations!$F$1:$BV$33,ROW(K23)+2,FALSE))","v":7.0810029512696299E-6},{"$f":"IF(ISERROR(HLOOKUP(L$2,Calculations!$F$1:$BV$33,ROW(L23)+2,FALSE)),0,HLOOKUP(L$2,Calculations!$F$1:$BV$33,ROW(L23)+2,FALSE))","v":0},{"$f":"IF(ISERROR(HLOOKUP(M$2,Calculations!$F$1:$BV$33,ROW(M23)+2,FALSE)),0,HLOOKUP(M$2,Calculations!$F$1:$BV$33,ROW(M23)+2,FALSE))","v":0},{"$f":"IF(ISERROR(HLOOKUP(N$2,Calculations!$F$1:$BV$33,ROW(N23)+2,FALSE)),0,HLOOKUP(N$2,Calculations!$F$1:$BV$33,ROW(N23)+2,FALSE))","v":0}]
[19,null,"Nitrate (kg)",4.0865273056396499E-8,{"$f":"IF($H$2=Parameters!$B$2,IF($J$2=\"\",$H$3*I24*(1+$K$3)*(1+$L$3)*(1+$M$3)*(1+$N$3),$H$4*I24*(1+$K$3)+$H$3*J24*(1+$L$3)),IF($H$2=\"Not Set\",1*I24*(1+$K$3)*(1+$L$3)*(1+$M$3)*(1+$N$3),$H$3*I24*(1+$K$3)*(1+$L$3)*(1+$M$3)*(1+$N$3)))","v":2.8883226927824502E-8},{"$f":"IF($H$2=Parameters!$B$2,IF($H$4=0,$H$3*(1+$K$3)*K24,$H$4*(1+$K$3)*K24+$H$3*(1+$L$3)*L24),IF($H$2=Parameters!$C$2,IF($H$4=0,$H$3*(1+$K$3)*K24,$H$4*(1+$K$3)*K24+$H$3*(1+$L$3)*L24),IF($H$2=\"Not Set\",1*K24*(1+$L$3)*(1+$M$3)*(1+$N$3)+1*L24*(1+$M$3)*(1+$N$3)+1*M24*(1+$N$3)+N24,$H$3*K24*(1+$L$3)*(1+$M$3)*(1+$N$3)+$H$3*L24*(1+$M$3)*(1+$N$3)+$H$3*M24*(1+$N$3)+$H$3*N24)))","v":1.1982046128572E-8},0,{"$f":"IF(ISERROR(HLOOKUP(H$2,Calculations!$F$1:$BV$33,ROW(H24)+2,FALSE)),0,HLOOKUP(H$2,Calculations!$F$1:$BV$33,ROW(H24)+2,FALSE))","v":0},{"$f":"IF(ISERROR(HLOOKUP(I$2,Calculations!$F$1:$BV$33,ROW(I24)+2,FALSE)),0,HLOOKUP(I$2,Calculations!$F$1:$BV$33,ROW(I24)+2,FALSE))","v":2.88825206346649E-8},{"$f":"IF(ISERROR(HLOOKUP(J$2,Calculations!$F$1:$BV$33,ROW(J24)+2,FALSE)),0,HLOOKUP(J$2,Calculations!$F$1:$BV$33,ROW(J24)+2,FALSE))","v":0},{"$f":"IF(ISERROR(HLOOKUP(K$2,Calculations!$F$1:$BV$33,ROW(K24)+2,FALSE)),0,HLOOKUP(K$2,Calculations!$F$1:$BV$33,ROW(K24)+2,FALSE))","v":1.1982046128572E-8},{"$f":"IF(ISERROR(HLOOKUP(L$2,Calculations!$F$1:$BV$33,ROW(L24)+2,FALSE)),0,HLOOKUP(L$2,Calculations!$F$1:$BV$33,ROW(L24)+2,FALSE))","v":0},{"$f":"IF(ISERROR(HLOOKUP(M$2,Calculations!$F$1:$BV$33,ROW(M24)+2,FALSE)),0,HLOOKUP(M$2,Calculations!$F$1:$BV$33,ROW(M24)+2,FALSE))","v":0},{"$f":"IF(ISERROR(HLOOKUP(N$2,Calculations!$F$1:$BV$33,ROW(N24)+2,FALSE)),0,HLOOKUP(N$2,Calculations!$F$1:$BV$33,ROW(N24)+2,FALSE))","v":0}]
[20,null,"Nitrogen (kg)",1.141735662884268E-7,{"$f":"IF($H$2=Parameters!$B$2,IF($J$2=\"\",$H$3*I25*(1+$K$3)*(1+$L$3)*(1+$M$3)*(1+$N$3),$H$4*I25*(1+$K$3)+$H$3*J25*(1+$L$3)),IF($H$2=\"Not Set\",1*I25*(1+$K$3)*(1+$L$3)*(1+$M$3)*(1+$N$3),$H$3*I25*(1+$K$3)*(1+$L$3)*(1+$M$3)*(1+$N$3)))","v":1.1409412264001264E-7},{"$f":"IF($H$2=Parameters!$B$2,IF($H$4=0,$H$3*(1+$K$3)*K25,$H$4*(1+$K$3)*K25+$H$3*(1+$L$3)*L25),IF($H$2=Parameters!$C$2,IF($H$4=0,$H$3*(1+$K$3)*K25,$H$4*(1+$K$3)*K25+$H$3*(1+$L$3)*L25),IF($H$2=\"Not Set\",1*K25*(1+$L$3)*(1+$M$3)*(1+$N$3)+1*L25*(1+$M$3)*(1+$N$3)+1*M25*(1+$N$3)+N25,$H$3*K25*(1+$L$3)*(1+$M$3)*(1+$N$3)+$H$3*L25*(1+$M$3)*(1+$N$3)+$H$3*M25*(1+$N$3)+$H$3*N25)))","v":7.9443648414168103E-11},0,{"$f":"IF(ISERROR(HLOOKUP(H$2,Calculations!$F$1:$BV$33,ROW(H25)+2,FALSE)),0,HLOOKUP(H$2,Calculations!$F$1:$BV$33,ROW(H25)+2,FALSE))","v":0},{"$f":"IF(ISERROR(HLOOKUP(I$2,Calculations!$F$1:$BV$33,ROW(I25)+2,FALSE)),0,HLOOKUP(I$2,Calculations!$F$1:$BV$33,ROW(I25)+2,FALSE))","v":1.14091332650564E-7},{"$f":"IF(ISERROR(HLOOKUP(J$2,Calculations!$F$1:$BV$33,ROW(J25)+2,FALSE)),0,HLOOKUP(J$2,Calculations!$F$1:$BV$33,ROW(J25)+2,FALSE))","v":0},{"$f":"IF(ISERROR(HLOOKUP(K$2,Calculations!$F$1:$BV$33,ROW(K25)+2,FALSE)),0,HLOOKUP(K$2,Calculations!$F$1:$BV$33,ROW(K25)+2,FALSE))","v":7.9443648414168103E-11},{"$f":"IF(ISERROR(HLOOKUP(L$2,Calculations!$F$1:$BV$33,ROW(L25)+2,FALSE)),0,HLOOKUP(L$2,Calculations!$F$1:$BV$33,ROW(L25)+2,FALSE))","v":0},{"$f":"IF(ISERROR(HLOOKUP(M$2,Calculations!$F$1:$BV$33,ROW(M25)+2,FALSE)),0,HLOOKUP(M$2,Calculations!$F$1:$BV$33,ROW(M25)+2,FALSE))","v":0},{"$f":"IF(ISERROR(HLOOKUP(N$2,Calculations!$F$1:$BV$33,ROW(N25)+2,FALSE)),0,HLOOKUP(N$2,Calculations!$F$1:$BV$33,ROW(N25)+2,FALSE))","v":0}]
[21,null,"Phosphate (kg)",4.2064344589666342E-10,{"$f":"IF($H$2=Parameters!$B$2,IF($J$2=\"\",$H$3*I26*(1+$K$3)*(1+$L$3)*(1+$M$3)*(1+$N$3),$H$4*I26*(1+$K$3)+$H$3*J26*(1+$L$3)),IF($H$2=\"Not Set\",1*I26*(1+$K$3)*(1+$L$3)*(1+$M$3)*(1+$N$3),$H$3*I26*(1+$K$3)*(1+$L$3)*(1+$M$3)*(1+$N$3)))","v":2.857985403699604E-10},{"$f":"IF($H$2=Parameters!$B$2,IF($H$4=0,$H$3*(1+$K$3)*K26,$H$4*(1+$K$3)*K26+$H$3*(1+$L$3)*L26),IF($H$2=Parameters!$C$2,IF($H$4=0,$H$3*(1+$K$3)*K26,$H$4*(1+$K$3)*K26+$H$3*(1+$L$3)*L26),IF($H$2=\"Not Set\",1*K26*(1+$L$3)*(1+$M$3)*(1+$N$3)+1*L26*(1+$M$3)*(1+$N$3)+1*M26*(1+$N$3)+N26,$H$3*K26*(1+$L$3)*(1+$M$3)*(1+$N$3)+$H$3*L26*(1+$M$3)*(1+$N$3)+$H$3*M26*(1+$N$3)+$H$3*N26)))","v":1.3484490552670299E-10},0,{"$f":"IF(ISERROR(HLOOKUP(H$2,Calculations!$F$1:$BV$33,ROW(H26)+2,FALSE)),0,HLOOKUP(H$2,Calculations!$F$1:$BV$33,ROW(H26)+2,FALSE))","v":0},{"$f":"IF(ISERROR(HLOOKUP(I$2,Calculations!$F$1:$BV$33,ROW(I26)+2,FALSE)),0,HLOOKUP(I$2,Calculations!$F$1:$BV$33,ROW(I26)+2,FALSE))","v":2.8579155162335698E-10},{"$f":"IF(ISERROR(HLOOKUP(J$2,Calculations!$F$1:$BV$33,ROW(J26)+2,FALSE)),0,HLOOKUP(J$2,Calculations!$F$1:$BV$33,ROW(J26)+2,FALSE))","v":0},{"$f":"IF(ISERROR(HLOOKUP(K$2,Calculations!$F$1:$BV$33,ROW(K26)+2,FALSE)),0,HLOOKUP(K$2,Calculations!$F$1:$BV$33,ROW(K26)+2,FALSE))","v":1.3484490552670299E-10},{"$f":"IF(ISERROR(HLOOKUP(L$2,Calculations!$F$1:$BV$33,ROW(L26)+2,FALSE)),0,HLOOKUP(L$2,Calculations!$F$1:$BV$33,ROW(L26)+2,FALSE))","v":0},{"$f":"IF(ISERROR(HLOOKUP(M$2,Calculations!$F$1:$BV$33,ROW(M26)+2,FALSE)),0,HLOOKUP(M$2,Calculations!$F$1:$BV$33,ROW(M26)+2,FALSE))","v":0},{"$f":"IF(ISERROR(HLOOKUP(N$2,Calculations!$F$1:$BV$33,ROW(N26)+2,FALSE)),0,HLOOKUP(N$2,Calculations!$F$1:$BV$33,ROW(N26)+2,FALSE))","v":0}]
[22,null,"Phosphorus (kg)",1.6185954358189586E-6,{"$f":"IF($H$2=Parameters!$B$2,IF($J$2=\"\",$H$3*I27*(1+$K$3)*(1+$L$3)*(1+$M$3)*(1+$N$3),$H$4*I27*(1+$K$3)+$H$3*J27*(1+$L$3)),IF($H$2=\"Not Set\",1*I27*(1+$K$3)*(1+$L$3)*(1+$M$3)*(1+$N$3),$H$3*I27*(1+$K$3)*(1+$L$3)*(1+$M$3)*(1+$N$3)))","v":1.4593949083723854E-7},{"$f":"IF($H$2=Parameters!$B$2,IF($H$4=0,$H$3*(1+$K$3)*K27,$H$4*(1+$K$3)*K27+$H$3*(1+$L$3)*L27),IF($H$2=Parameters!$C$2,IF($H$4=0,$H$3*(1+$K$3)*K27,$H$4*(1+$K$3)*K27+$H$3*(1+$L$3)*L27),IF($H$2=\"Not Set\",1*K27*(1+$L$3)*(1+$M$3)*(1+$N$3)+1*L27*(1+$M$3)*(1+$N$3)+1*M27*(1+$N$3)+N27,$H$3*K27*(1+$L$3)*(1+$M$3)*(1+$N$3)+$H$3*L27*(1+$M$3)*(1+$N$3)+$H$3*M27*(1+$N$3)+$H$3*N27)))","v":1.47265594498172E-6},0,{"$f":"IF(ISERROR(HLOOKUP(H$2,Calculations!$F$1:$BV$33,ROW(H27)+2,FALSE)),0,HLOOKUP(H$2,Calculations!$F$1:$BV$33,ROW(H27)+2,FALSE))","v":0},{"$f":"IF(ISERROR(HLOOKUP(I$2,Calculations!$F$1:$BV$33,ROW(I27)+2,FALSE)),0,HLOOKUP(I$2,Calculations!$F$1:$BV$33,ROW(I27)+2,FALSE))","v":1.45935922120199E-7},{"$f":"IF(ISERROR(HLOOKUP(J$2,Calculations!$F$1:$BV$33,ROW(J27)+2,FALSE)),0,HLOOKUP(J$2,Calculations!$F$1:$BV$33,ROW(J27)+2,FALSE))","v":0},{"$f":"IF(ISERROR(HLOOKUP(K$2,Calculations!$F$1:$BV$33,ROW(K27)+2,FALSE)),0,HLOOKUP(K$2,Calculations!$F$1:$BV$33,ROW(K27)+2,FALSE))","v":1.47265594498172E-6},{"$f":"IF(ISERROR(HLOOKUP(L$2,Calculations!$F$1:$BV$33,ROW(L27)+2,FALSE)),0,HLOOKUP(L$2,Calculations!$F$1:$BV$33,ROW(L27)+2,FALSE))","v":0},{"$f":"IF(ISERROR(HLOOKUP(M$2,Calculations!$F$1:$BV$33,ROW(M27)+2,FALSE)),0,HLOOKUP(M$2,Calculations!$F$1:$BV$33,ROW(M27)+2,FALSE))","v":0},{"$f":"IF(ISERROR(HLOOKUP(N$2,Calculations!$F$1:$BV$33,ROW(N27)+2,FALSE)),0,HLOOKUP(N$2,Calculations!$F$1:$BV$33,ROW(N27)+2,FALSE))","v":0}]
[23,"Water","Water Withdrawal (kg)",1.1559664678490349,{"$f":"IF($H$2=Parameters!$B$2,IF($J$2=\"\",$H$3*I28*(1+$K$3)*(1+$L$3)*(1+$M$3)*(1+$N$3),$H$4*I28*(1+$K$3)+$H$3*J28*(1+$L$3)),IF($H$2=\"Not Set\",1*I28*(1+$K$3)*(1+$L$3)*(1+$M$3)*(1+$N$3),$H$3*I28*(1+$K$3)*(1+$L$3)*(1+$M$3)*(1+$N$3)))","v":1.1446223496503032},{"$f":"IF($H$2=Parameters!$B$2,IF($H$4=0,$H$3*(1+$K$3)*K28,$H$4*(1+$K$3)*K28+$H$3*(1+$L$3)*L28),IF($H$2=Parameters!$C$2,IF($H$4=0,$H$3*(1+$K$3)*K28,$H$4*(1+$K$3)*K28+$H$3*(1+$L$3)*L28),IF($H$2=\"Not Set\",1*K28*(1+$L$3)*(1+$M$3)*(1+$N$3)+1*L28*(1+$M$3)*(1+$N$3)+1*M28*(1+$N$3)+N28,$H$3*K28*(1+$L$3)*(1+$M$3)*(1+$N$3)+$H$3*L28*(1+$M$3)*(1+$N$3)+$H$3*M28*(1+$N$3)+$H$3*N28)))","v":1.13441181987318E-2},0,{"$f":"IF(ISERROR(HLOOKUP(H$2,Calculations!$F$1:$BV$33,ROW(H28)+2,FALSE)),0,HLOOKUP(H$2,Calculations!$F$1:$BV$33,ROW(H28)+2,FALSE))","v":0},{"$f":"IF(ISERROR(HLOOKUP(I$2,Calculations!$F$1:$BV$33,ROW(I28)+2,FALSE)),0,HLOOKUP(I$2,Calculations!$F$1:$BV$33,ROW(I28)+2,FALSE))","v":1.14459435973983},{"$f":"IF(ISERROR(HLOOKUP(J$2,Calculations!$F$1:$BV$33,ROW(J28)+2,FALSE)),0,HLOOKUP(J$2,Calculations!$F$1:$BV$33,ROW(J28)+2,FALSE))","v":0},{"$f":"IF(ISERROR(HLOOKUP(K$2,Calculations!$F$1:$BV$33,ROW(K28)+2,FALSE)),0,HLOOKUP(K$2,Calculations!$F$1:$BV$33,ROW(K28)+2,FALSE))","v":1.13441181987318E-2},{"$f":"IF(ISERROR(HLOOKUP(L$2,Calculations!$F$1:$BV$33,ROW(L28)+2,FALSE)),0,HLOOKUP(L$2,Calculations!$F$1:$BV$33,ROW(L28)+2,FALSE))","v":0},{"$f":"IF(ISERROR(HLOOKUP(M$2,Calculations!$F$1:$BV$33,ROW(M28)+2,FALSE)),0,HLOOKUP(M$2,Calculations!$F$1:$BV$33,ROW(M28)+2,FALSE))","v":0},{"$f":"IF(ISERROR(HLOOKUP(N$2,Calculations!$F$1:$BV$33,ROW(N28)+2,FALSE)),0,HLOOKUP(N$2,Calculations!$F$1:$BV$33,ROW(N28)+2,FALSE))","v":0}]
[24,null,"Water Consumption (kg)",-0.57437770535847754,{"$f":"IF($H$2=Parameters!$B$2,IF($J$2=\"\",$H$3*I29*(1+$K$3)*(1+$L$3)*(1+$M$3)*(1+$N$3),$H$4*I29*(1+$K$3)+$H$3*J29*(1+$L$3)),IF($H$2=\"Not Set\",1*I29*(1+$K$3)*(1+$L$3)*(1+$M$3)*(1+$N$3),$H$3*I29*(1+$K$3)*(1+$L$3)*(1+$M$3)*(1+$N$3)))","v":-0.57919541960911181},{"$f":"IF($H$2=Parameters!$B$2,IF($H$4=0,$H$3*(1+$K$3)*K29,$H$4*(1+$K$3)*K29+$H$3*(1+$L$3)*L29),IF($H$2=Parameters!$C$2,IF($H$4=0,$H$3*(1+$K$3)*K29,$H$4*(1+$K$3)*K29+$H$3*(1+$L$3)*L29),IF($H$2=\"Not Set\",1*K29*(1+$L$3)*(1+$M$3)*(1+$N$3)+1*L29*(1+$M$3)*(1+$N$3)+1*M29*(1+$N$3)+N29,$H$3*K29*(1+$L$3)*(1+$M$3)*(1+$N$3)+$H$3*L29*(1+$M$3)*(1+$N$3)+$H$3*M29*(1+$N$3)+$H$3*N29)))","v":4.8177142506343152E-3},0,{"$f":"IF(ISERROR(HLOOKUP(H$2,Calculations!$F$1:$BV$33,ROW(H29)+2,FALSE)),0,HLOOKUP(H$2,Calculations!$F$1:$BV$33,ROW(H29)+2,FALSE))","v":0},{"$f":"IF(ISERROR(HLOOKUP(I$2,Calculations!$F$1:$BV$33,ROW(I29)+2,FALSE)),0,HLOOKUP(I$2,Calculations!$F$1:$BV$33,ROW(I29)+2,FALSE))","v":-0.57918125631066997},{"$f":"IF(ISERROR(HLOOKUP(J$2,Calculations!$F$1:$BV$33,ROW(J29)+2,FALSE)),0,HLOOKUP(J$2,Calculations!$F$1:$BV$33,ROW(J29)+2,FALSE))","v":0},{"$f":"IF(ISERROR(HLOOKUP(K$2,Calculations!$F$1:$BV$33,ROW(K29)+2,FALSE)),0,HLOOKUP(K$2,Calculations!$F$1:$BV$33,ROW(K29)+2,FALSE))","v":4.8177142506343152E-3},{"$f":"IF(ISERROR(HLOOKUP(L$2,Calculations!$F$1:$BV$33,ROW(L29)+2,FALSE)),0,HLOOKUP(L$2,Calculations!$F$1:$BV$33,ROW(L29)+2,FALSE))","v":0},{"$f":"IF(ISERROR(HLOOKUP(M$2,Calculations!$F$1:$BV$33,ROW(M29)+2,FALSE)),0,HLOOKUP(M$2,Calculations!$F$1:$BV$33,ROW(M29)+2,FALSE))","v":0},{"$f":"IF(ISERROR(HLOOKUP(N$2,Calculations!$F$1:$BV$33,ROW(N29)+2,FALSE)),0,HLOOKUP(N$2,Calculations!$F$1:$BV$33,ROW(N29)+2,FALSE))","v":0}]
[25,"Land Use","Acreage Change",1.3931917066707632E-5,{"$f":"IF($H$2=Parameters!$B$2,IF($J$2=\"\",$H$3*I30*(1+$K$3)*(1+$L$3)*(1+$M$3)*(1+$N$3),$H$4*I30*(1+$K$3)+$H$3*J30*(1+$L$3)),IF($H$2=\"Not Set\",1*I30*(1+$K$3)*(1+$L$3)*(1+$M$3)*(1+$N$3),$H$3*I30*(1+$K$3)*(1+$L$3)*(1+$M$3)*(1+$N$3)))","v":1.3931917066707632E-5},{"$f":"IF($H$2=Parameters!$B$2,IF($H$4=0,$H$3*(1+$K$3)*K30,$H$4*(1+$K$3)*K30+$H$3*(1+$L$3)*L30),IF($H$2=Parameters!$C$2,IF($H$4=0,$H$3*(1+$K$3)*K30,$H$4*(1+$K$3)*K30+$H$3*(1+$L$3)*L30),IF($H$2=\"Not Set\",1*K30*(1+$L$3)*(1+$M$3)*(1+$N$3)+1*L30*(1+$M$3)*(1+$N$3)+1*M30*(1+$N$3)+N30,$H$3*K30*(1+$L$3)*(1+$M$3)*(1+$N$3)+$H$3*L30*(1+$M$3)*(1+$N$3)+$H$3*M30*(1+$N$3)+$H$3*N30)))","v":0},0,{"$f":"IF(ISERROR(HLOOKUP(H$2,Calculations!$F$1:$BV$33,ROW(H30)+2,FALSE)),0,HLOOKUP(H$2,Calculations!$F$1:$BV$33,ROW(H30)+2,FALSE))","v":0},{"$f":"IF(ISERROR(HLOOKUP(I$2,Calculations!$F$1:$BV$33,ROW(I30)+2,FALSE)),0,HLOOKUP(I$2,Calculations!$F$1:$BV$33,ROW(I30)+2,FALSE))","v":1.3931576383938739E-5},{"$f":"IF(ISERROR(HLOOKUP(J$2,Calculations!$F$1:$BV$33,ROW(J30)+2,FALSE)),0,HLOOKUP(J$2,Calculations!$F$1:$BV$33,ROW(J30)+2,FALSE))","v":0},{"$f":"IF(ISERROR(HLOOKUP(K$2,Calculations!$F$1:$BV$33,ROW(K30)+2,FALSE)),0,HLOOKUP(K$2,Calculations!$F$1:$BV$33,ROW(K30)+2,FALSE))","v":0},{"$f":"IF(ISERROR(HLOOKUP(L$2,Calculations!$F$1:$BV$33,ROW(L30)+2,FALSE)),0,HLOOKUP(L$2,Calculations!$F$1:$BV$33,ROW(L30)+2,FALSE))","v":0},{"$f":"IF(ISERROR(HLOOKUP(M$2,Calculations!$F$1:$BV$33,ROW(M30)+2,FALSE)),0,HLOOKUP(M$2,Calculations!$F$1:$BV$33,ROW(M30)+2,FALSE))","v":0},{"$f":"IF(ISERROR(HLOOKUP(N$2,Calculations!$F$1:$BV$33,ROW(N30)+2,FALSE)),0,HLOOKUP(N$2,Calculations!$F$1:$BV$33,ROW(N30)+2,FALSE))","v":0}]
[26,"EROI","Energy Input (MJ)",0.22762359200745824,{"$f":"IF($H$2=Parameters!$B$2,IF($J$2=\"\",$H$3*I31*(1+$K$3)*(1+$L$3)*(1+$M$3)*(1+$N$3),$H$4*I31*(1+$K$3)+$H$3*J31*(1+$L$3)),IF($H$2=\"Not Set\",1*I31*(1+$K$3)*(1+$L$3)*(1+$M$3)*(1+$N$3),$H$3*I31*(1+$K$3)*(1+$L$3)*(1+$M$3)*(1+$N$3)))","v":0.16717655212119975},{"$f":"IF($H$2=Parameters!$B$2,IF($H$4=0,$H$3*(1+$K$3)*K31,$H$4*(1+$K$3)*K31+$H$3*(1+$L$3)*L31),IF($H$2=Parameters!$C$2,IF($H$4=0,$H$3*(1+$K$3)*K31,$H$4*(1+$K$3)*K31+$H$3*(1+$L$3)*L31),IF($H$2=\"Not Set\",1*K31*(1+$L$3)*(1+$M$3)*(1+$N$3)+1*L31*(1+$M$3)*(1+$N$3)+1*M31*(1+$N$3)+N31,$H$3*K31*(1+$L$3)*(1+$M$3)*(1+$N$3)+$H$3*L31*(1+$M$3)*(1+$N$3)+$H$3*M31*(1+$N$3)+$H$3*N31)))","v":6.0447039886258498E-2},0,{"$f":"IF(ISERROR(HLOOKUP(H$2,Calculations!$F$1:$BV$33,ROW(H31)+2,FALSE)),0,HLOOKUP(H$2,Calculations!$F$1:$BV$33,ROW(H31)+2,FALSE))","v":0},{"$f":"IF(ISERROR(HLOOKUP(I$2,Calculations!$F$1:$BV$33,ROW(I31)+2,FALSE)),0,HLOOKUP(I$2,Calculations!$F$1:$BV$33,ROW(I31)+2,FALSE))","v":0.167172464085763},{"$f":"IF(ISERROR(HLOOKUP(J$2,Calculations!$F$1:$BV$33,ROW(J31)+2,FALSE)),0,HLOOKUP(J$2,Calculations!$F$1:$BV$33,ROW(J31)+2,FALSE))","v":0},{"$f":"IF(ISERROR(HLOOKUP(K$2,Calculations!$F$1:$BV$33,ROW(K31)+2,FALSE)),0,HLOOKUP(K$2,Calculations!$F$1:$BV$33,ROW(K31)+2,FALSE))","v":6.0447039886258498E-2},{"$f":"IF(ISERROR(HLOOKUP(L$2,Calculations!$F$1:$BV$33,ROW(L31)+2,FALSE)),0,HLOOKUP(L$2,Calculations!$F$1:$BV$33,ROW(L31)+2,FALSE))","v":0},{"$f":"IF(ISERROR(HLOOKUP(M$2,Calculations!$F$1:$BV$33,ROW(M31)+2,FALSE)),0,HLOOKUP(M$2,Calculations!$F$1:$BV$33,ROW(M31)+2,FALSE))","v":0},{"$f":"IF(ISERROR(HLOOKUP(N$2,Calculations!$F$1:$BV$33,ROW(N31)+2,FALSE)),0,HLOOKUP(N$2,Calculations!$F$1:$BV$33,ROW(N31)+2,FALSE))","v":0}]
[]
[]
[]
[]
[null,null,null,null,"Sum","Stage 1","Stage 2","Stage 3"]
[null,null,"Global Warming Potential","Carbon Dioxide (kg)",{"$f":"D6","v":3.8156353835264792E-2},{"$f":"E6","v":2.5512335102820489E-2},1.26440187324443E-2,0,1]
[null,null,null,"Methane (kg)",8.9671935106824547E-3,8.9603090579866568E-3,6.88445269579842E-6,0,{"$f":"I37+1","v":2}]
[null,null,null,"Nitrous Oxide (kg)",7.549728398322803E-7,4.4906307081004132E-7,3.0590976902223898E-7,0,{"$f":"I38+1","v":3}]
[null,null,null,"Total GWP (kg)",0.2625611735085962,0.24965388234758831,1.2907291161007887E-2,0,4]
[null,null,"Air Emissions","Nitrogen Oxides (kg)",7.3775390223479849E-5,4.2439530918255741E-5,3.1335859305224101E-5,0,5]
[null,null,null,"Sulfur Dioxide (kg)",8.4491764550705285E-5,7.668560887586447E-5,7.8061556748408105E-6,0,6]
[null,null,null,"Carbon Monoxide (kg)",6.1067766262818229E-5,2.339405595115763E-5,3.7673710311660601E-5,0,7]
[null,null,null,"Particulate Matter (kg)",4.3889387341120258E-5,2.7434048159864551E-6,4.1145982525133803E-5,0,8]
[null,null,null,"Lead (kg)",3.5838255459970181E-9,3.4554936130612012E-9,1.28331932935817E-10,0,9]
[null,null,null,"Mercury (kg)",6.2587620838425631E-10,6.1494913973442625E-10,1.0927068649830101E-11,0,10]
[null,null,null,"Ammonia (kg)",4.9819697401611457E-7,5.3130562934909618E-8,4.45066411081205E-7,0,11]
[null,null,null,"Radiation (kg)",4.4825684753647053E-11,6.3005197784620568E-12,3.8525164975184997E-11,0,12]
[null,null,null,"Non Methane VOC (kg)",8.858268554813086E-6,6.3491669848313364E-6,2.5091015699817501E-6,0,13]
[null,null,"Solid Waste","Heavy Metals to Soil (kg)",1.4864375340473493E-4,1.4862923743224534E-4,1.4515972489588299E-8,0,14]
[null,null,null,"Solid Waste (kg)",1.8225387105474788E-6,9.1771960425166681E-7,9.0481910629581203E-7,0,15]
[null,null,"Water Emissions","Aluminum (kg)",1.4381220001712666E-8,1.1344180334068757E-8,3.0370396676439101E-9,0,16]
[null,null,null,"Ammonium/ammonia (kg)",3.7390837520415392E-6,3.7347368366546855E-6,4.3469153868538281E-9,0,17]
[null,null,null,"Heavy Metals (kg)",1.0644369985398677E-5,3.5633670341290481E-6,7.0810029512696299E-6,0,18]
[null,null,null,"Nitrate (kg)",4.0865273056396499E-8,2.8883226927824502E-8,1.1982046128572E-8,0,19]
[null,null,null,"Nitrogen (kg)",1.141735662884268E-7,1.1409412264001264E-7,7.9443648414168103E-11,0,20]
[null,null,null,"Phosphate (kg)",4.2064344589666342E-10,2.857985403699604E-10,1.3484490552670299E-10,0,21]
[null,null,null,"Phosphorus (kg)",1.6185954358189586E-6,1.4593949083723854E-7,1.47265594498172E-6,0,22]
[null,null,"Water","Water Withdrawal (kg)",1.1559664678490349,1.1446223496503032,1.13441181987318E-2,0,23]
[null,null,null,"Water Consumption (kg)",-0.57437770535847754,-0.57919541960911181,4.8177142506343152E-3,0,24]
[null,null,"Land Use","Acreage Change",1.3931917066707632E-5,1.3931917066707632E-5,0,0,25]
[null,null,"EROI","Energy Input (MJ)",0.22762359200745824,0.16717655212119975,6.0447039886258498E-2,0,26]
[]
[]
[null,null,"Y-Axis Title","GHG Emissions, IPCC 2007, 100 Year Time Horizaon Global Warming Potential (kg / kg)"]

{"sheet":"U RMT","index":9,"n_rows":64,"n_cols":21,"rows_kept":64,"cut":false,"hidden":true,"merged":[]}
["GaBi 4",null,null,null,null,null,null,null,null,null,null,null,"(miles)",null,null,null,null,null,null,null,"Difference"]
[null,null,"Database:","C:\\Users\\548910\\Documents\\GaBi\\DB\\NETL_083111",null,null,null,null,null,null,null,null,"US: Train Transport, Operation NETL  -  'Uranium Transport'.'Train Transport'.'US: Train Transport, Operation NETL'","Distance",62.1371192237334,155.34279805933349,0,0,0,0,{"$f":"P2-O2","v":93.205678835600082}]
["Balance:","Uranium Transport","  Mass [kg]","kg","2011-09-23T12:08:54","Balance view: ","Upstreams (no sf6)",null,null,null,null,null,"US: Ocean Freighter Transport, Operation NETL  -  'Uranium Transport'.'Ocean Freighter'.'US: Ocean Freighter Transport, Operation NETL'","Distance",0,0,0.62137119223733395,31.0685596118667,0,0,{"$f":"R3-Q3","v":30.447188419629367}]
["Balance object:","Uranium Transport [Uranium]","2011-08-26T13:23:27","{FFCFD634-0371-48CE-9A11-88A81A8BFC4A}",null,null,null,null,null,null,null,null,"US: Tractor-trailer Transport, Operation NETL  -  'Uranium Transport'.'Tractor Trailer Only'.'US: Tractor-trailer Transport, Operation NETL'","km_input",0,0,0,0,0.62137119223733395,310.68559611866698,{"$f":"T4-S4","v":310.06422492642963}]
["In/out aggregation","Yes","Weak point analysis","No","Last service pack:",17]
[]
["&Inputs"]
[null,null,null,null,null,null,null,null,null,null,null,null,null,null,null,null,null,null,"delta"]
[null,null,null,null,null,null,"train","train 1","ocean","ocean 1","truck","trcuk 1","Train","Train 1","Ocean","Ocean 1","Truck","Truck 1","Train","Ocean","Truck"]
["Flows","Flows","Flows","Flows","Flows","Flows",4.6225130801069399E-4,1.1555893866443501E-3,1.9530964659104001E-6,9.7654823295520094E-5,5.64129626732033E-5,2.8206481336601599E-2]
[null,"Resources","Resources","Resources","Resources","Resources",4.6225130801069399E-4,1.1555893866443501E-3,1.9530964659104001E-6,9.7654823295520094E-5,5.64129626732033E-5,2.8206481336601599E-2]
[null,null,"Energy resources","Energy resources","Energy resources","Energy resources",2.376E-2,5.9400000000000001E-2,1.004E-4,5.0210000000000003E-3,1.2084999999999999E-3,0.60424999999999995]
[null,null,"Material resources","Material resources","Material resources","Material resources"]
[null,null,null,"Renewable resources","Renewable resources","Renewable resources"]
[null,null,null,null,"Water","Water",1.2177787210436101E-3,3.0444468026090301E-3,5.1455113378069802E-6,2.5727556689034901E-4,6.1923210434322497E-5,3.0961605217161198E-2]
[]
["&Outputs"]
[]
[]
["Flows","Flows","Flows","Flows","Flows","Flows"]
[null,"Resources","Resources","Resources","Resources","Resources"]
[null,null,"Energy resources","Energy resources","Energy resources","Energy resources"]
[null,null,"Material resources","Material resources","Material resources","Material resources"]
[null,null,null,"Renewable resources","Renewable resources","Renewable resources"]
[null,null,null,null,"Water","Water",2.96211527793018E-4,7.4052881948254504E-4,1.25159008636801E-6,6.2579504318400597E-5,1.50621524679625E-5,7.53107623398124E-3,{"$f":"G15-G25","v":9.2156719325059205E-4},2.3039179831264851E-3,3.89392125143897E-6,1.9469606257194842E-4,4.6861057966359994E-5,2.343052898317996E-2,{"$f":"N25-M25","v":1.3823507898758931E-3},{"$f":"P25-O25","v":1.9080214132050945E-4},{"$f":"R25-Q25","v":2.3383667925213601E-2}]
[null,null,null,null,null,"Water (river water)"]
[null,null,null,null,null,"Water (sea water)"]
[null,null,null,null,null,"Water (wastewater)"]
[null,"Ecoinvent","Ecoinvent","Ecoinvent","Ecoinvent","Ecoinvent"]
[null,"Production residues in life cycle","Production residues in life cycle","Production residues in life cycle","Production residues in life cycle","Production residues in life cycle"]
[null,null,"Waste for disposal","Waste for disposal","Waste for disposal","Waste for disposal"]
[null,null,null,"Waste (solid)","Waste (solid)","Waste (solid)",null,null,null,null,null,null,null,null,null,null,null,null,{"$f":"H32-G32","v":0},{"$f":"J32-I32","v":0},{"$f":"L32-K32","v":0}]
[null,"Emissions to air","Emissions to air","Emissions to air","Emissions to air","Emissions to air"]
[null,null,"Heavy metals to air","Heavy metals to air","Heavy metals to air","Heavy metals to air"]
[null,null,null,"Lead (+II)","Lead (+II)","Lead (+II)",7.4373997782078707E-12,1.8593499445519699E-11,3.1425434047472797E-14,1.57127170237364E-12,3.7818666362922601E-13,1.8909333181461301E-10,null,null,null,null,null,null,{"$f":"H35-G35","v":1.1156099667311828E-11},{"$f":"J35-I35","v":1.5398462683261673E-12},{"$f":"L35-K35","v":1.8871514515098378E-10}]
[null,null,null,"Mercury (+II)","Mercury (+II)","Mercury (+II)",6.1732421746394301E-13,1.5433105436598601E-12,2.60839568402164E-15,1.3041978420108201E-13,3.1390507809341801E-14,1.56952539046709E-11,null,null,null,null,null,null,{"$f":"H36-G36","v":9.2598632619591704E-13},{"$f":"J36-I36","v":1.2781138851706037E-13},{"$f":"L36-K36","v":1.5663863396861559E-11}]
[null,null,"Inorganic emissions to air","Inorganic emissions to air","Inorganic emissions to air","Inorganic emissions to air"]
[null,null,null,"Ammonia","Ammonia","Ammonia",7.1760098508020094E-8,1.7940024627005001E-7,3.0320976553008801E-10,1.5160488276504401E-8,2.1414999810186599E-10,1.07074999050933E-7,null,null,null,null,null,null,{"$f":"H38-G38","v":1.0764014776202992E-7},{"$f":"J38-I38","v":1.4857278510974312E-8},{"$f":"L38-K38","v":1.0686084905283113E-7}]
[null,null,null,"Carbon dioxide","Carbon dioxide","Carbon dioxide",1.97619378822679E-3,4.9404844705669797E-3,8.3500617597189308E-6,4.1750308798594698E-4,2.6179797456307601E-5,1.30898987281538E-2,null,null,null,null,null,null,{"$f":"H39-G39","v":2.9642906823401896E-3},{"$f":"J39-I39","v":4.0915302622622805E-4},{"$f":"L39-K39","v":1.3063718930697493E-2}]
[null,null,null,"Carbon dioxide (biotic)","Carbon dioxide (biotic)","Carbon dioxide (biotic)",5.7716807175486501E-8,1.4429201793871599E-7,2.43872290237571E-10,1.21936145118785E-8,2.9348599499768E-9,1.4674299749884E-6]
[null,null,null,"Carbon monoxide","Carbon monoxide","Carbon monoxide",5.3760183972144302E-6,1.3440045993036099E-5,2.2715426979558E-8,1.1357713489779E-6,3.7572589152240401E-8,1.87862945761202E-5,null,null,null,null,null,null,{"$f":"H41-G41","v":8.064027595821669E-6},{"$f":"J41-I41","v":1.1130559219983419E-6},{"$f":"L41-K41","v":1.874872198696796E-5}]
[null,null,null,"Nitrogen oxides","Nitrogen oxides","Nitrogen oxides",4.8180702809689501E-6,1.20451757024224E-5,2.0357914643007398E-8,1.01789573215037E-6,2.3009396968407202E-8,1.1504698484203601E-5,null,null,null,null,null,null,{"$f":"H42-G42","v":7.2271054214534497E-6},{"$f":"J42-I42","v":9.9753781750736262E-7},{"$f":"L42-K42","v":1.1481689087235194E-5}]
[null,null,null,"Nitrous oxide (laughing gas)","Nitrous oxide (laughing gas)","Nitrous oxide (laughing gas)",4.8663073485189601E-8,1.21657683712974E-7,2.05617319488054E-10,1.0280865974402701E-8,5.7128029212347703E-10,2.8564014606173802E-7,null,null,null,null,null,null,{"$f":"H43-G43","v":7.2994610227784405E-8},{"$f":"J43-I43","v":1.0075248654914647E-8},{"$f":"L43-K43","v":2.8506886576961452E-7}]
[null,null,null,"Sulphur dioxide","Sulphur dioxide","Sulphur dioxide",8.8076666464290096E-7,2.20191666160725E-6,3.7215257423767899E-9,1.8607628711884001E-7,4.4070346101441203E-8,2.2035173050720599E-5,null,null,null,null,null,null,{"$f":"H44-G44","v":1.3211499969643492E-6},{"$f":"J44-I44","v":1.8235476137646321E-7},{"$f":"L44-K44","v":2.1991102704619159E-5}]
[null,null,"Organic emissions to air (group VOC)","Organic emissions to air (group VOC)","Organic emissions to air (group VOC)","Organic emissions to air (group VOC)",null,null,null,null,null,null,null,null,null,null,null,null,{"$f":"H45-G45","v":0},{"$f":"J45-I45","v":0},{"$f":"L45-K45","v":0}]
[null,null,null,"Group NMVOC to air","Group NMVOC to air","Group NMVOC to air",9.2378664682616502E-7,2.30946661706541E-6,3.9032991649625803E-9,1.9516495824812901E-7,4.6973915654242402E-8,2.3486957827121201E-5]
[null,null,null,null,"NMVOC (unspecified)","NMVOC (unspecified)",null,null,null,null,null,null,null,null,null,null,null,null,{"$f":"H47-G47","v":0},{"$f":"J47-I47","v":0},{"$f":"L47-K47","v":0}]
[null,null,null,"Methane","Methane","Methane",2.2382707201257898E-6,5.5956768003144696E-6,9.4574220820830004E-9,4.7287110410415001E-7,1.07403342722158E-7,5.3701671361078797E-5,null,null,null,null,null,null,{"$f":"H48-G48","v":3.3574060801886798E-6},{"$f":"J48-I48","v":4.6341368202206702E-7},{"$f":"L48-K48","v":5.3594268018356636E-5}]
[null,null,"Particles to air","Particles to air","Particles to air","Particles to air",1.4465025909827999E-7,3.6162564774569999E-7,6.11194411057756E-10,3.05597205528878E-8,2.2080661035226001E-9,1.1040330517612999E-6]
[null,null,null,"Dust (unspecified)","Dust (unspecified)","Dust (unspecified)",7.5777283939357002E-9,1.8944320984839199E-8,3.2018368109112003E-11,1.6009184054556E-9,3.85322277227585E-10,1.9266113861379301E-7,null,null,null,null,null,null,{"$f":"H50-G50","v":1.1366592590903499E-8},{"$f":"J50-I50","v":1.5689000373464879E-9},{"$f":"L50-K50","v":1.9227581633656543E-7}]
[null,null,"Radioactive emissions to air","Radioactive emissions to air","Radioactive emissions to air","Radioactive emissions to air",2.29930382633824E-12,5.7482595658456E-12,9.71530681481065E-15,4.8576534074053204E-13,1.16918018216617E-13,5.84590091083086E-11,null,null,null,null,null,null,{"$f":"H51-G51","v":3.44895573950736E-12},{"$f":"J51-I51","v":4.7605003392572137E-13},{"$f":"L51-K51","v":5.834209109009199E-11}]
[null,"Emissions to fresh water","Emissions to fresh water","Emissions to fresh water","Emissions to fresh water","Emissions to fresh water"]
[null,null,"Heavy metals to fresh water","Heavy metals to fresh water","Heavy metals to fresh water","Heavy metals to fresh water",1.06862136516858E-6,2.6715534129214498E-6,4.5152729763462298E-9,2.2576364881731199E-7,5.4338661471468698E-8,2.7169330735734302E-5,null,null,null,null,null,null,{"$f":"H53-G53","v":1.6029320477528698E-6},{"$f":"J53-I53","v":2.2124837584096576E-7},{"$f":"L53-K53","v":2.7114992074262833E-5}]
[null,null,"Inorganic emissions to fresh water","Inorganic emissions to fresh water","Inorganic emissions to fresh water","Inorganic emissions to fresh water"]
[null,null,null,"Aluminum (+III)","Aluminum (+III)","Aluminum (+III)",2.4033218525510702E-7,6.0083046313776705E-7,1.0154816820992801E-9,5.07740841049641E-8,1.2220726331084899E-8,6.1103631655424501E-6,null,null,null,null,null,null,{"$f":"H55-G55","v":3.6049827788266003E-7},{"$f":"J55-I55","v":4.9758602422864822E-8},{"$f":"L55-K55","v":6.0981424392113656E-6}]
[null,null,null,"Ammonia","Ammonia","Ammonia",2.60117110452029E-6,6.50292776130073E-6,1.0990794286843E-8,5.49539714342148E-7,1.3226776170210401E-7,6.6133880851051806E-5]
[null,null,null,"Ammonium / ammonia","Ammonium / ammonia","Ammonium / ammonia",6.1223549144770702E-10,1.53058872861927E-9,2.58689416083104E-12,1.2934470804155199E-10,3.1131753673432297E-11,1.5565876836716201E-8,{"$f":"G57+G56","v":2.6017833400117377E-6},6.5044583500293489E-6,1.0993381181003831E-8,5.4966905905018956E-7,1.3229889345577744E-7,6.614944672788852E-5,{"$f":"N57-M57","v":3.9026750100176112E-6},{"$f":"P57-O57","v":5.3867567786918571E-7},{"$f":"R57-Q57","v":6.601714783443274E-5}]
[null,null,null,"Nitrate","Nitrate","Nitrate",1.07967860486368E-9,2.6991965121592101E-9,4.5619934118677602E-12,2.2809967059338801E-10,5.4900914505316898E-11,2.7450457252658501E-8,null,null,null,null,null,null,{"$f":"H58-G58","v":1.6195179072955301E-9},{"$f":"J58-I58","v":2.2353767718152024E-10},{"$f":"L58-K58","v":2.7395556338153185E-8}]
[null,null,null,"Nitrogen","Nitrogen","Nitrogen",1.1305723806605999E-12,2.8264309516514902E-12,4.7770361744497797E-15,2.3885180872248902E-13,5.7488828002252305E-14,2.8744414001126201E-11,null,null,null,null,null,null,{"$f":"H59-G59","v":1.6958585709908902E-12},{"$f":"J59-I59","v":2.3407477254803922E-13},{"$f":"L59-K59","v":2.8686925173123948E-11}]
[null,null,null,"Phosphate","Phosphate","Phosphate",7.6141584301397003E-12,1.9035396075349298E-11,3.21722968656958E-14,1.60861484328479E-12,3.87174719513699E-13,1.9358735975685E-10,null,null,null,null,null,null,{"$f":"H60-G60","v":1.1421237645209598E-11},{"$f":"J60-I60","v":1.5764425464190943E-12},{"$f":"L60-K60","v":1.9320018503733631E-10}]
[null,null,null,"Phosphorus","Phosphorus","Phosphorus",2.2953347649295301E-7,5.7383369123238301E-7,9.6985362389038398E-10,4.8492681194519201E-8,1.16716194173718E-8,5.83580970868588E-6,null,null,null,null,null,null,{"$f":"H61-G61","v":3.4430021473942997E-7},{"$f":"J61-I61","v":4.7522827570628814E-8},{"$f":"L61-K61","v":5.824138089268508E-6}]
[null,"Emissions to sea water","Emissions to sea water","Emissions to sea water","Emissions to sea water","Emissions to sea water",null,null,null,null,null,null,null,null,null,null,null,null,{"$f":"H62-G62","v":0},{"$f":"J62-I62","v":0},{"$f":"L62-K62","v":0}]
[null,"Emissions to industrial soil","Emissions to industrial soil","Emissions to industrial soil","Emissions to industrial soil","Emissions to industrial soil"]
[null,null,"Heavy metals to industrial soil","Heavy metals to industrial soil","Heavy metals to industrial soil","Heavy metals to industrial soil",5.2911242634893801E-9,1.32278106587234E-8,2.23567216416776E-11,1.11783608208388E-9,2.6905002981282102E-10,1.3452501490641E-7,null,null,null,null,null,null,{"$f":"H64-G64","v":7.9366863952340197E-9},{"$f":"J64-I64","v":1.0954793604422023E-9},{"$f":"L64-K64","v":1.3425596487659719E-7}]

{"sheet":"Petro Transport","index":10,"n_rows":89,"n_cols":26,"rows_kept":89,"cut":false,"hidden":true,"merged":[[7,22,7,25]]}
["GaBi 4",null,null,null,null,null,null,null,null,null,null,null,null,"miles"]
[null,null,"Database:","C:\\Users\\548910\\Documents\\GaBi\\DB\\NETL_083111",null,null,null,null,null,null,null,null,null,null,"Pipe2","Tanker1","Tanker2","Water1","Water2","Rail1","Rail"]
["Balance:","Stage _2_ Foreign Crude Oil Transport","  Mass [kg]","kg","2011-09-23T13:05:39","Balance view: ","Upstreams (no sf6)",null,null,null,null,null,null,100,1000,0,0,0,0,0,0,{"$f":"O3-N3","v":900}]
["Balance object:","Stage #2: Foreign Crude Oil Transport [Stage #2 & #4: Transportation]","2011-09-20T10:03:58","{F4E6FD14-000C-46B0-AD10-8EDF1BF61079}",null,null,null,null,null,null,null,null,null,null,0,1,10,0,0,0,0,{"$f":"Q4-P4","v":9}]
["In/out aggregation","Yes","Weak point analysis","No","Last service pack:",17,null,null,null,null,null,null,null,null,0,0,0,621.37119223733396,6213.7119223733398,0,0,{"$f":"S5-R5","v":5592.3407301360057}]
[null,null,null,null,null,null,null,null,null,null,null,null,null,null,0,0,0,0,0,0.62137119223733395,6.2137119223733395,{"$f":"U6-T6","v":5.5923407301360051}]
["&Inputs"]
[null,null,null,null,null,null,null,null,null,null,null,null,null,null,null,null,null,null,null,null,null,null,"delta"]
[null,null,null,null,null,null,"pipe","pipe1","tanker","tanker1","water","water1","rail","rail1a","Pipe1","Pipe2","Tanker1","Tanker2","Water1","Water2","Rail1","Rail","Pipe","Tanker","Water","Rail"]
["Flows","Flows","Flows","Flows","Flows","Flows"]
[null,"Resources","Resources","Resources","Resources","Resources"]
[null,null,"Energy resources","Energy resources","Energy resources","Energy resources",9.8860000000000003E-2,0.98860000000000003,0,0,0,0,0,0,null,null,null,null,null,null,null,null,{"$f":"H12-G12","v":0.88973999999999998},{"$f":"J12-I12","v":0},{"$f":"L12-K12","v":0},{"$f":"M12-N12","v":0}]
[null,null,"Material resources","Material resources","Material resources","Material resources"]
[null,null,null,"Renewable resources","Renewable resources","Renewable resources"]
[null,null,null,null,"Water","Water",5.4926151869603299E-2,0.54926151869603301,0,0,0,0,0,0]
[]
["&Outputs"]
[]
[]
["Flows","Flows","Flows","Flows","Flows","Flows"]
[null,"Resources","Resources","Resources","Resources","Resources"]
[null,null,"Energy resources","Energy resources","Energy resources","Energy resources"]
[null,null,"Material resources","Material resources","Material resources","Material resources"]
[null,null,null,"Renewable resources","Renewable resources","Renewable resources"]
[null,null,null,null,"Water","Water",4.1085287642098102E-2,0.41085287642098101,0,0,0,0,0,0,{"$f":"G15-G25","v":1.3840864227505197E-2},{"$f":"H15-H25","v":0.13840864227505201},0,0,0,0,0,0,{"$f":"P25-O25","v":0.12456777804754682},{"$f":"R25-Q25","v":0},{"$f":"T25-S25","v":0},{"$f":"V25-U25","v":0}]
[null,null,null,null,null,"Water (river water)"]
[null,null,null,null,null,"Water (sea water)"]
[null,null,null,null,null,"Water (wastewater)"]
[null,"Ecoinvent","Ecoinvent","Ecoinvent","Ecoinvent","Ecoinvent"]
[null,"Production residues in life cycle","Production residues in life cycle","Production residues in life cycle","Production residues in life cycle","Production residues in life cycle"]
[null,null,"Waste for disposal","Waste for disposal","Waste for disposal","Waste for disposal"]
[null,null,null,"Waste (solid)","Waste (solid)","Waste (solid)",null,null,null,null,null,null,null,null,null,null,null,null,null,null,null,null,{"$f":"H32-G32","v":0},{"$f":"J32-I32","v":0},{"$f":"L32-K32","v":0},{"$f":"M32-N32","v":0}]
[null,"Emissions to air","Emissions to air","Emissions to air","Emissions to air","Emissions to air"]
[null,null,"Heavy metals to air","Heavy metals to air","Heavy metals to air","Heavy metals to air"]
[null,null,null,"Lead (+II)","Lead (+II)","Lead (+II)",2.9125152668186201E-10,2.9125152668186199E-9,0,0,0,0,0,0,null,null,null,null,null,null,null,null,{"$f":"H35-G35","v":2.621263740136758E-9},{"$f":"J35-I35","v":0},{"$f":"L35-K35","v":0},{"$f":"M35-N35","v":0}]
[null,null,null,"Mercury (+II)","Mercury (+II)","Mercury (+II)",5.9144947752249495E-11,5.9144947752249503E-10,0,0,1.2705626161687601E-19,1.2705626161687601E-19,8.31476319230786E-16,8.3147631923078493E-15,null,null,null,null,null,null,null,null,{"$f":"H36-G36","v":5.3230452977024555E-10},{"$f":"J36-I36","v":0},{"$f":"L36-K36","v":0},{"$f":"M36-N36","v":-7.4832868730770639E-15}]
[null,null,"Inorganic emissions to air","Inorganic emissions to air","Inorganic emissions to air","Inorganic emissions to air"]
[null,null,null,"Ammonia","Ammonia","Ammonia",3.0703286651821299E-8,3.0703286651821299E-7,0,0,4.0806502941250398E-7,1.3482674242768761E-6,6.9367995021187902E-10,6.9367995021187902E-9,null,null,null,null,null,null,null,null,{"$f":"H38-G38","v":2.7632957986639172E-7},{"$f":"J38-I38","v":0},{"$f":"L38-K38","v":9.4020239486437205E-7},{"$f":"M38-N38","v":-6.2431195519069112E-9}]
[null,null,null,"Carbon dioxide","Carbon dioxide","Carbon dioxide",6.2089816308036798E-3,6.2089816308036803E-2,2.29099581539893E-5,2.2909958153989301E-4,1.2378636470662299E-2,4.2891016113911259E-2,1.6903827503198601E-5,1.69038275031986E-4,{"$f":"G39+G40","v":6.2123405790864127E-3},{"$f":"H39+H40","v":6.2123405790864138E-2},2.29099581539893E-5,2.2909958153989301E-4,1.2378636470662299E-2,4.2891016113911259E-2,1.6903827503198601E-5,1.69038275031986E-4,{"$f":"P39-O39","v":5.5911065211777723E-2},{"$f":"R39-Q39","v":2.061896233859037E-4},{"$f":"T39-S39","v":3.051237964324896E-2},{"$f":"V39-U39","v":1.5213444752878739E-4}]
[null,null,null,"Carbon dioxide (biotic)","Carbon dioxide (biotic)","Carbon dioxide (biotic)",3.35894828273315E-6,3.3589482827331501E-5,0,0,0,0,0,0]
[null,null,null,"Carbon monoxide","Carbon monoxide","Carbon monoxide",2.2866355916641999E-6,2.2866355916641998E-5,5.2648197696641403E-8,5.2648197696641304E-7,9.8898276041634667E-6,1.5757591575412241E-5,5.1976606253435801E-8,5.1976606253435805E-7,null,null,null,null,null,null,null,null,{"$f":"H41-G41","v":2.0579720324977797E-5},{"$f":"J41-I41","v":4.7383377926977163E-7},{"$f":"L41-K41","v":5.8677639712487742E-6},{"$f":"M41-N41","v":-4.6778945628092226E-7}]
[null,null,null,"Nitrogen oxides","Nitrogen oxides","Nitrogen oxides",1.14795139915339E-5,1.14795139915339E-4,1.68250211889053E-9,1.6825021188905301E-8,2.4609790772607288E-5,7.9766783854875683E-5,4.5046390404662702E-8,4.5046390404662699E-7,null,null,null,null,null,null,null,null,{"$f":"H42-G42","v":1.0331562592380511E-4},{"$f":"J42-I42","v":1.5142519070014772E-8},{"$f":"L42-K42","v":5.5156993082268395E-5},{"$f":"M42-N42","v":-4.0541751364196428E-7}]
[null,null,null,"Nitrous oxide (laughing gas)","Nitrous oxide (laughing gas)","Nitrous oxide (laughing gas)",8.0637125814083895E-8,8.0637125814083897E-7,5.8910607747660898E-10,5.8910607747660902E-9,3.1537095161101892E-7,1.0915432861613676E-6,4.33138175239253E-10,4.3313817523925299E-9,null,null,null,null,null,null,null,null,{"$f":"H43-G43","v":7.2573413232675506E-7},{"$f":"J43-I43","v":5.3019546972894811E-9},{"$f":"L43-K43","v":7.7617233455034864E-7},{"$f":"M43-N43","v":-3.8982435771532767E-9}]
[null,null,null,"Sulphur dioxide","Sulphur dioxide","Sulphur dioxide",3.3503079803904602E-5,3.35030798039047E-4,1.6167649942665299E-10,1.61676499426653E-9,0,0,1.5934332950876099E-10,1.5934332950876101E-9,null,null,null,null,null,null,null,null,{"$f":"H44-G44","v":3.0152771823514242E-4},{"$f":"J44-I44","v":1.4550884948398771E-9},{"$f":"L44-K44","v":0},{"$f":"M44-N44","v":-1.4340899655788491E-9}]
[null,null,"Organic emissions to air (group VOC)","Organic emissions to air (group VOC)","Organic emissions to air (group VOC)","Organic emissions to air (group VOC)"]
[null,null,null,"Group NMVOC to air","Group NMVOC to air","Group NMVOC to air",6.5643345286954103E-7,6.5643345286954097E-6,0,0,0,0,8.51725674482868E-4,8.51725674482868E-4]
[null,null,null,null,"NMVOC (unspecified)","NMVOC (unspecified)",null,null,null,null,null,null,null,null,null,null,null,null,null,null,null,null,{"$f":"H47-G47","v":0},{"$f":"J47-I47","v":0},{"$f":"L47-K47","v":0},{"$f":"M47-N47","v":0}]
[null,null,null,"Methane","Methane","Methane",7.2160039295730697E-6,7.2160039295730705E-5,4.5844814119289401E-10,4.5844814119289398E-9,9.1809994889924297E-7,3.143245616744933E-6,1.33273575743525E-9,1.33273575743525E-8,null,null,null,null,null,null,null,null,{"$f":"H48-G48","v":6.4944035366157641E-5},{"$f":"J48-I48","v":4.1260332707360455E-9},{"$f":"L48-K48","v":2.2251456678456902E-6},{"$f":"M48-N48","v":-1.1994621816917249E-8}]
[null,null,"Particles to air","Particles to air","Particles to air","Particles to air"]
[null,null,null,"Dust (unspecified)","Dust (unspecified)","Dust (unspecified)",6.2740746508977702E-7,6.2740746508977702E-6,8.4125438319512097E-11,8.4125438319512102E-10,0,0,1.03952985484342E-9,1.03952985484342E-8,null,null,null,null,null,null,null,null,{"$f":"H50-G50","v":5.6466671858079927E-6},{"$f":"J50-I50","v":7.5712894487560889E-10},{"$f":"L50-K50","v":0},{"$f":"M50-N50","v":-9.3557686935907799E-9}]
[null,null,"Radioactive emissions to air","Radioactive emissions to air","Radioactive emissions to air","Radioactive emissions to air",3.9510877095187002E-10,3.9510877095186998E-9,0,0,0,0,0,0,null,null,null,null,null,null,null,null,{"$f":"H51-G51","v":3.55597893856683E-9},{"$f":"J51-I51","v":0},{"$f":"L51-K51","v":0},{"$f":"M51-N51","v":0}]
[null,"Emissions to fresh water","Emissions to fresh water","Emissions to fresh water","Emissions to fresh water","Emissions to fresh water"]
[null,null,"Heavy metals to fresh water","Heavy metals to fresh water","Heavy metals to fresh water","Heavy metals to fresh water",1.33533340617893E-6,1.33533340617893E-5,0,0,0,0,0,0]
[null,null,"Inorganic emissions to fresh water","Inorganic emissions to fresh water","Inorganic emissions to fresh water","Inorganic emissions to fresh water"]
[null,null,null,"Aluminum (+III)","Aluminum (+III)","Aluminum (+III)",3.18535310657779E-8,3.1853531065777903E-7,0,0,0,0,0,0,null,null,null,null,null,null,null,null,{"$f":"H55-G55","v":2.8668177959200114E-7},{"$f":"J55-I55","v":0},{"$f":"L55-K55","v":0},{"$f":"M55-N55","v":0}]
[null,null,null,"Ammonia","Ammonia","Ammonia",6.2986900104251396E-11,6.2986900104251404E-10,0,0,0,0,0,0]
[null,null,null,"Ammonium / ammonia","Ammonium / ammonia","Ammonium / ammonia",2.4656624971535901E-8,2.4656624971535899E-7,0,0,0,0,0,0,{"$f":"G57+G56","v":2.4719611871640152E-8},{"$f":"H57+H56","v":2.471961187164015E-7},0,0,0,0,0,0,{"$f":"P57-O57","v":2.2247650684476136E-7},{"$f":"R57-Q57","v":0},{"$f":"T57-S57","v":0},{"$f":"V57-U57","v":0}]
[null,null,null,"Nitrate","Nitrate","Nitrate",1.8249429718310101E-7,1.8249429718310101E-6,0,0,0,0,0,0,null,null,null,null,null,null,null,null,{"$f":"H58-G58","v":1.6424486746479089E-6},{"$f":"J58-I58","v":0},{"$f":"L58-K58","v":0},{"$f":"M58-N58","v":0}]
[null,null,null,"Nitrogen","Nitrogen","Nitrogen",3.63922777710213E-12,3.6392277771021297E-11,0,0,0,0,0,0,null,null,null,null,null,null,null,null,{"$f":"H59-G59","v":3.2753049993919169E-11},{"$f":"J59-I59","v":0},{"$f":"L59-K59","v":0},{"$f":"M59-N59","v":0}]
[null,null,null,"Phosphate","Phosphate","Phosphate",4.0726311807472502E-10,4.0726311807472499E-9,0,0,0,0,0,0,null,null,null,null,null,null,null,null,{"$f":"H60-G60","v":3.6653680626725248E-9},{"$f":"J60-I60","v":0},{"$f":"L60-K60","v":0},{"$f":"M60-N60","v":0}]
[null,null,null,"Phosphorus","Phosphorus","Phosphorus",3.7540146749810003E-11,3.7540146749810001E-10,0,0,0,0,0,0,null,null,null,null,null,null,null,null,{"$f":"H61-G61","v":3.3786132074829002E-10},{"$f":"J61-I61","v":0},{"$f":"L61-K61","v":0},{"$f":"M61-N61","v":0}]
[null,"Emissions to sea water","Emissions to sea water","Emissions to sea water","Emissions to sea water","Emissions to sea water"]
[null,"Emissions to industrial soil","Emissions to industrial soil","Emissions to industrial soil","Emissions to industrial soil","Emissions to industrial soil"]
[null,null,"Heavy metals to industrial soil","Heavy metals to industrial soil","Heavy metals to industrial soil","Heavy metals to industrial soil",4.5739359037849497E-9,4.5739359037849497E-8,0,0,0,0,0,0,null,null,null,null,null,null,null,null,{"$f":"H64-G64","v":4.1165423134064548E-8},{"$f":"J64-I64","v":0},{"$f":"L64-K64","v":0},{"$f":"M64-N64","v":0}]
[]
[]
[]
[]
[]
[]
[]
[]
[]
[null,null,null,null,null,null,100,1000,1,10,1000,10000,1,10]
[null,null,null,null,null,null,"Pipe","Pipe","Truck","Truck","Ocean","Ocean","Rail","Rail"]
[null,null,null,null,null,null,0.11389284341413,1.1389284341413,1.05801801268583E-2,1.14927387400312E-2,1.55769826190364E-2,4.5073920329228002E-2,1.4420288211085E-2,1.4571535379718999E-2]
[null,null,null,null,null,null,0.11389284341413,1.1389284341413,1.05801801268583E-2,1.14927387400312E-2,1.55769826190364E-2,4.5073920329228002E-2,1.4420288211085E-2,1.4571535379718999E-2]
[null,null,null,null,null,null,2.8436782657010199E-3,2.8436782657009999E-2,3.8869342293409997E-4,4.9847262705089799E-4,1.5936568076817001E-3,1.1764942220542101E-2,4.14008557449474E-4,4.3220333067317697E-4]
[null,null,null,null,null,null,0,0,0,0,0,0,0,0]
[null,null,null,null,null,null,0.111049165148429,1.11049165148429,1.01914867039242E-2,1.09942661129803E-2,1.39833258113547E-2,3.3308978108685897E-2,1.40062796536355E-2,1.41393320490458E-2]
[null,null,null,null,null,null,4.8230363956167999E-4,4.8230363956167999E-3,6.4463959319388196E-8,8.7934818745614901E-8,2.07724652439572E-8,2.0772816979174102E-8,4.3561301058343698E-10,4.3256663960246698E-9]
[null,null,null,null,null,null,1.0026405447645281E-2,0.1002640544764528,1.63104120605596E-3,1.6791457920638799E-3,2.2583234930794202E-3,5.5346326530722996E-3,2.76199100726649E-3,2.7699638473000399E-3]
[null,null,null,null,null,null,0.10054045606122219,1.0054045606122199,8.5603810308058099E-3,9.3150323550666905E-3,1.1724981545810099E-2,2.77743246827966E-2,1.1244288210241701E-2,1.1369363870936299E-2]
[null,null,null,null,null,null,6.7863127384053201E-2,0.67863127384053201,5.4616683736816796E-3,6.1433747251184497E-3,7.2908432163118304E-3,1.8735275979271701E-2,7.0085798013930197E-3,7.1215656129530397E-3]
[null,null,null,null,null,null,3.2671255863331403E-2,0.326712558633314,3.0926668433382499E-3,3.1655294062295598E-3,4.424641434076E-3,9.0109522488495096E-3,4.22729313578499E-3,4.23936935567537E-3]
[null,null,null,null,null,null,6.0109967086103999E-6,6.0109967086103998E-5,5.11493155571489E-6,5.1971643799136898E-6,8.98521349524987E-6,2.7584772323311399E-5,8.4152730636672908E-6,8.4289023079297092E-6]
[null,null,null,null,null,null,5.8840775371934397E-14,5.8840775371934404E-13,9.3088223016141205E-7,9.3105933876757401E-7,5.1168192698838897E-7,5.1168235208350003E-7,0,0]
[null,null,null,null,null,null,6.1817070151370604E-8,6.1817070151370599E-7,0,0,0,0,0,0]
[null,null,null,null,null,null,0,0,3.1030950029963999E-12,3.1030950029963998E-11,0,0,5.1430605937946104E-13,5.1430605937946102E-12]

{"sheet":"Parameters","index":11,"n_rows":127,"n_cols":19,"rows_kept":127,"cut":false,"hidden":true,"merged":[]}
["ECF"]
["Process_ECF","FT Diesel","Ethanol","Petroleum"]
["ProcessPara1","Diesel Biomass Type","Facility Type","Refinery Product"]
["ProcessPara2","Biomass Percentage","Ethanol Biomass Type"," "]
["ProcessPara3","CCS Option"," "," "]
[]
["Option_ECF"]
["Diesel Biomass Type","Biomass Percentage","CCS Option","Facility Type","Ethanol Biomass Type","Refinery Product"]
["None",0,"CCS","Lignocellulosic Combustion","Switchgrass","Diesel"]
["Short Rotation Woody Crops",0.15,"no CCS","Lignocellulosic Gasification","Corn Stover","Gasoline"]
["Switchgrass",0.3,null,"Gasification",null,"Kerosene"]
["Corn Stover",1,null,"Dry Milling","Ethanol Biomass Type 2"]
[null,null,null,"Advanced Dry Mill","Corn Grain"]
[null,null,null,"Advanced Dry Mill wCCS"]
[]
["RMA","* Change name involves changing label here, changing constants in Input code, changing calculation sheet."]
["Process_RMA","Illinois No. 6 Coal","Switchgrass","Short Rotation Woody Crops","Corn Stover","Corn Grain","Petroleum Domestic","Petroleum National Average","Powder River Basin","Uranium Fuel Assemblies","Natural Gas. Conv Onshore","Natural Gas. Associated","Natural Gas. Conv Offshore","Natural Gas. Barnett","Natural Gas. Coal Bed Methane","Natural Gas. Imported LNG","Natural Gas. Tight Gas","Natural Gas. Marecellus","Natural Gas. 2010 Avg"]
["ProcessPara1","Coal Mine Methane (scf/ton)","Biomass Yield (kg/acre-yr)",{"$f":"C18","v":"Biomass Yield (kg/acre-yr)"},{"$f":"D18","v":"Biomass Yield (kg/acre-yr)"},{"$f":"D18","v":"Biomass Yield (kg/acre-yr)"}," ","North American (fraction)",{"$f":"B18","v":"Coal Mine Methane (scf/ton)"},"European Enrichment (fraction)","Production (kg/day)",{"$f":"$K$18","v":"Production (kg/day)"},{"$f":"$K$18","v":"Production (kg/day)"},"Production (kg/day)","Production (kg/day)","Production (kg/day)","Production (kg/day)","Production (kg/day)"," "]
["ProcessPara2","Methane Capture (%)"," "," ","Corn Allocation (fraction)"," "," ","South American (fraction)"," ","US Enrichment (fraction)","Extraction Flaring (fraction)",{"$f":"$K$19","v":"Extraction Flaring (fraction)"},{"$f":"$K$19","v":"Extraction Flaring (fraction)"},"Extraction Flaring (fraction)","Extraction Flaring (fraction)","Extraction Flaring (fraction)","Extraction Flaring (fraction)","Extraction Flaring (fraction)"," "]
["ProcessPara3"," "," "," ","Yield of corn (kg/kg)"," "," ","Middle East (fraction)"," "," ","Process Flaring (fraction)",{"$f":"$K$20","v":"Process Flaring (fraction)"},{"$f":"$K$20","v":"Process Flaring (fraction)"},"Process Flaring (fraction)","Process Flaring (fraction)","Process Flaring (fraction)","Process Flaring (fraction)","Process Flaring (fraction)"," "]
["ProcessPara4"," "," "," "," "," "," ","Africa (fraction)"," "," "," "," "," "," "," "," "," "," "," "]
[]
["Process","Parameter Name","Default Value","Suggested RMT","Note"]
[{"$f":"B17","v":"Illinois No. 6 Coal"},{"$f":"B18","v":"Coal Mine Methane (scf/ton)"},422,"Coal Train"]
[null,{"$f":"B19","v":"Methane Capture (%)"},0]
[{"$f":"C17","v":"Switchgrass"},{"$f":"C18","v":"Biomass Yield (kg/acre-yr)"},3569,"Bale Truck"]
[{"$f":"D17","v":"Short Rotation Woody Crops"},{"$f":"D18","v":"Biomass Yield (kg/acre-yr)"},6214,"Container Truck"]
[{"$f":"E17","v":"Corn Stover"},{"$f":"E18","v":"Biomass Yield (kg/acre-yr)"},1001,"Bale Truck"]
[null,{"$f":"E19","v":"Corn Allocation (fraction)"},0.80649999999999999]
[null,{"$f":"E20","v":"Yield of corn (kg/kg)"},3829]
[{"$f":"F17","v":"Corn Grain"},{"$f":"F18","v":"Biomass Yield (kg/acre-yr)"},3829,"Container Truck"]
[{"$f":"G17","v":"Petroleum Domestic"},{"$f":"G18","v":" "}]
[null,{"$f":"G19","v":" "}]
[null,{"$f":"G20","v":" "}]
[{"$f":"H17","v":"Petroleum National Average"},{"$f":"H18","v":"North American (fraction)"},0.55500000000000005]
[null,{"$f":"H19","v":"South American (fraction)"},0.13200000000000001]
[null,{"$f":"H20","v":"Middle East (fraction)"},0.17199999999999999]
[null,{"$f":"H21","v":"Africa (fraction)"},0.14099999999999999]
[{"$f":"I17","v":"Powder River Basin"},{"$f":"I18","v":"Coal Mine Methane (scf/ton)"},51,"Coal Train"]
[{"$f":"J17","v":"Uranium Fuel Assemblies"},{"$f":"J18","v":"European Enrichment (fraction)"},0.52378999999999998]
[null,{"$f":"J19","v":"US Enrichment (fraction)"},0.47621000000000002,null,"don't touch"]
[{"$f":"K17","v":"Natural Gas. Conv Onshore"},{"$f":"$K$18","v":"Production (kg/day)"},1257.142857,"Natural Gas Pipeline"]
[null,{"$f":"$K$19","v":"Extraction Flaring (fraction)"},0.51]
[null,{"$f":"$K$20","v":"Process Flaring (fraction)"},1]
[{"$f":"L17","v":"Natural Gas. Associated"},{"$f":"$K$18","v":"Production (kg/day)"},2304.7619049999998,"Natural Gas Pipeline"]
[null,{"$f":"$K$19","v":"Extraction Flaring (fraction)"},0.51]
[null,{"$f":"$K$20","v":"Process Flaring (fraction)"},1]
[{"$f":"M17","v":"Natural Gas. Conv Offshore"},{"$f":"$K$18","v":"Production (kg/day)"},53352.380949999999,"Natural Gas Pipeline"]
[null,{"$f":"$K$19","v":"Extraction Flaring (fraction)"},0.51]
[null,{"$f":"$K$20","v":"Process Flaring (fraction)"},1]
[{"$f":"N17","v":"Natural Gas. Barnett"},{"$f":"$K$18","v":"Production (kg/day)"},5219.0476189999999,"Natural Gas Pipeline"]
[null,{"$f":"$K$19","v":"Extraction Flaring (fraction)"},0.15]
[null,{"$f":"$K$20","v":"Process Flaring (fraction)"},1]
[{"$f":"O17","v":"Natural Gas. Coal Bed Methane"},{"$f":"$K$18","v":"Production (kg/day)"},2000,"Natural Gas Pipeline"]
[null,{"$f":"$K$19","v":"Extraction Flaring (fraction)"},0.51]
[null,{"$f":"$K$20","v":"Process Flaring (fraction)"},1]
[{"$f":"P17","v":"Natural Gas. Imported LNG"},{"$f":"$K$18","v":"Production (kg/day)"},53352.380949999999,"Natural Gas Pipeline"]
[null,{"$f":"$K$19","v":"Extraction Flaring (fraction)"},0.51]
[null,{"$f":"$K$20","v":"Process Flaring (fraction)"},1]
[{"$f":"Q17","v":"Natural Gas. Tight Gas"},{"$f":"$K$18","v":"Production (kg/day)"},2114.2857140000001,"Natural Gas Pipeline"]
[null,{"$f":"$K$19","v":"Extraction Flaring (fraction)"},0.15]
[null,{"$f":"$K$20","v":"Process Flaring (fraction)"},1]
[{"$f":"R17","v":"Natural Gas. Marecellus"},{"$f":"$K$18","v":"Production (kg/day)"},5653.4029140000002,"Natural Gas Pipeline"]
[null,{"$f":"$K$19","v":"Extraction Flaring (fraction)"},0.15]
[null,{"$f":"$K$20","v":"Process Flaring (fraction)"},1]
[{"$f":"S17","v":"Natural Gas. 2010 Avg"},null,null,"Natural Gas Pipeline"]
[]
[]
["RMT"]
["Process_RMT","Unit","Default Value"]
["Natural Gas Pipeline","km",971]
["Coal Train","mi, round trip",400]
["Bale Truck","mi, one way",33]
["Container Truck","mi, one way",33]
["Train enclosed","mi, one way",0]
["Truck 8B enclosed","mi, one way",338]
["Ocean Freighter","mi, one way",0]
["Petroleum Pipeline","mi",394.6]
["Petroleum Water carrier","mi, one way",4309]
["Petroleum Rail","mi, one way",1.2]
["Petroleum Tanker Truck","mi, one way",2.7]
[]
["General"]
["Switch","Unit List","Numerator","Type","Per Unit","Selected Text","Based on"]
["On","US","kg","Coal","kg","Selected Output: Coal",{"$f":"\"Based on \" & Calculations!A36 & \", \" & Calculations!C36","v":"Based on IPCC 2007, 100 Year"}]
["Off","SI"]
[]
[]
["RMA Suggested RMT"]
["RMA",{"$f":"B17","v":"Illinois No. 6 Coal"},{"$f":"C17","v":"Switchgrass"},"Short Rotation Woody Crops","Corn Stover","Corn Grain","Petroleum Domestic","Petroleum National Average","Powder River Basin","Uranium Fuel Assemblies","Natural Gas. Conv Onshore","Natural Gas. Associated","Natural Gas. Conv Offshore","Natural Gas. Barnett","Natural Gas. Coal Bed Methane","Natural Gas. Imported LNG","Natural Gas. Tight Gas","Natural Gas. Marecellus",{"$f":"S17","v":"Natural Gas. 2010 Avg"}]
["Potential RMT1","Coal Train","Bale Truck","Container Truck","Bale Truck","Container Truck","Petroleum Pipeline","Petroleum Pipeline","Coal Train","Truck 8B enclosed","Natural Gas Pipeline","Natural Gas Pipeline","Natural Gas Pipeline","Natural Gas Pipeline","Natural Gas Pipeline","Natural Gas Pipeline","Natural Gas Pipeline","Natural Gas Pipeline","Natural Gas Pipeline"]
["Potential RMT2",null,null,null,null,null,"Petroleum Water Carrier","Petroleum Water Carrier",null,"Train enclosed"]
["Potential RMT3",null,null,null,null,null,"Petroleum Tanker Truck","Petroleum Tanker Truck",null,"Ocean Freighter"]
["Potential RMT4",null,null,null,null,null,"Petroleum Rail","Petroleum Rail"]
[]
[]
["Dynamic RMA","* Update will also require code changes in Inputs"]
["Type","RMA Option 1","RMA Option 2","RMA Option 3","RMA Option 4","RMA Option 5","RMA Option 6","RMA Option 7","RMA Option 8","RMA Option 9+"]
["Coal",{"$f":"B17","v":"Illinois No. 6 Coal"},{"$f":"I17","v":"Powder River Basin"}]
["Gasoline",{"$f":"G17","v":"Petroleum Domestic"},{"$f":"H17","v":"Petroleum National Average"}]
["Natural Gas",{"$f":"K17","v":"Natural Gas. Conv Onshore"},"Natural Gas. Associated","Natural Gas. Conv Offshore","Natural Gas. Barnett","Natural Gas. Coal Bed Methane","Natural Gas. Imported LNG","Natural Gas. Tight Gas","Natural Gas. Marecellus","Natural Gas. 2010 Avg"]
["Ethanol",{"$f":"F17","v":"Corn Grain"},{"$f":"E17","v":"Corn Stover"},{"$f":"C17","v":"Switchgrass"}]
["Crude Oil",{"$f":"G17","v":"Petroleum Domestic"},{"$f":"H17","v":"Petroleum National Average"}]
["Diesel",{"$f":"G17","v":"Petroleum Domestic"},{"$f":"H17","v":"Petroleum National Average"},{"$f":"B17","v":"Illinois No. 6 Coal"},{"$f":"E17","v":"Corn Stover"},{"$f":"D17","v":"Short Rotation Woody Crops"},{"$f":"C17","v":"Switchgrass"}]
["Uranium",{"$f":"J17","v":"Uranium Fuel Assemblies"}]
["Biomass",{"$f":"F17","v":"Corn Grain"},{"$f":"E17","v":"Corn Stover"},{"$f":"C17","v":"Switchgrass"},{"$f":"D17","v":"Short Rotation Woody Crops"}]
["Jet Fuel",{"$f":"G17","v":"Petroleum Domestic"},{"$f":"H17","v":"Petroleum National Average"}]
[]
[]
["Dynamic ECF","* Update will also require code changes in Inputs"]
["RMA","ECF1"]
["Corn Grain",{"$f":"D12","v":"Dry Milling"},{"$f":"D13","v":"Advanced Dry Mill"},{"$f":"D14","v":"Advanced Dry Mill wCCS"}]
["Switchgrass",{"$f":"D9","v":"Lignocellulosic Combustion"},{"$f":"D10","v":"Lignocellulosic Gasification"},{"$f":"D11","v":"Gasification"}]
["Corn Stover",{"$f":"D9","v":"Lignocellulosic Combustion"},{"$f":"D10","v":"Lignocellulosic Gasification"},{"$f":"D11","v":"Gasification"}]
[]
[]
["Dynamic ECF Based on Type","* Update will also require code changes in Inputs"]
["Type","ECF1","ECF2","ECF3"]
["Coal",{"$f":"$B$2","v":"FT Diesel"},{"$f":"$C$2","v":"Ethanol"},{"$f":"$D$2","v":"Petroleum"}]
["Gasoline","FT Diesel","Ethanol","Petroleum"]
["Natural Gas","FT Diesel","Ethanol","Petroleum"]
["Ethanol",{"$f":"C2","v":"Ethanol"}]
["Crude Oil","FT Diesel","Ethanol","Petroleum"]
["Diesel","FT Diesel","Petroleum"]
["Uranium","FT Diesel","Ethanol","Petroleum"]
["Biomass","FT Diesel","Ethanol","Petroleum"]
["Jet Fuel","FT Diesel","Ethanol","Petroleum"]

{"sheet":"Version","index":12,"n_rows":35,"n_cols":2,"rows_kept":35,"cut":false,"hidden":true,"merged":[]}
["Version","Description"]
[0.1,"Alpha version. Laying out the dashboard design"]
[0.2,"Beta version. Finished Layout, VBA and interface. Final draft"]
[0.3,"Fixed when RMT=1, there's no option list available"]
[0.4,"Fixed condition formatting issue making incorrect cell color"]
[0.5,"Fixed RMT unit color. They are not input fields. Basic protection to allow only unlocked cells to be selected"]
["0.5.1","Fixed condition formatting on XP"]
["0.5rb","Roxanne fixed the data connection and datasets to have correct references in the Data tab"]
[0.6,"Merge 0.5.1 and 0.5rb"]
["0.6.1","Corrected the Stage 2 calculation on Data tab"]
[0.7,"Deleted the empty columns on Dashboard tab to ensure the consistency between code and tab."]
[0.8,"Modified based on the review feedback"]
[null,"1) Disclaimer page"]
[null,"2) Layout and spacing changes"]
[null,"3) Name changes for easy understanding"]
[null,"4) Potential RMT List based on RMA selection"]
[null,"5) Unit Conversion"]
[null,"6) Header for ECF, RMA, RMT Sections"]
[null,"7) Auto Axis title"]
[0.9,"Design update. Typo fixed."]
["0.9rb","Roxanne's version with land use data"]
["0.9.1","Questionnaire inputs. Reorganize dashboard."]
["0.9.2","Updated unit conversion. Data input forms."]
["0.9.3","Updated all values in the data tables with new electricity profile. Updated unit conversion. Updated graph to CO2."]
["1.0.0","Updated the equations in Adv Ethanol and FT Diesel 2 for ECF selection."]
["1.0.1","Updated the header font"]
["1.0.2","Modified based on the review feedback"]
["1.0.3","Modified data and calculations for biomass in FT Diesel senarios. Limit FT Diesel to have only 2 even if there are more than one biomass recommended RMT"]
["1.0.4","Updated version based on the review. Validate datasets."]
["1.0.5","Updated GaBi datasets and parameters."]
["1.0.6","Updated GaBi datasets and parameters. Code updated."]
["1.0.7","Updated heat content values"]
["1.0.8","Debug. Formula and QA."]
["1.0.9","Updated GaBi datasets and parameters."]
["1.0.10","Updated formatting"]

{"sheet":"Cover","index":13,"n_rows":113,"n_cols":10,"rows_kept":113,"cut":false,"hidden":true,"merged":[]}
[null,"On?","Process","Parameter Name"]
[null,0,"FT Diesel","Biomass type","Short Rotation Wood Crops","All CBTL cases must have CCS"]
[null,{"$f":"IF(B2=1,2,0)","v":0},null,"Biomass percentage",0.15,"CTL cases must say \"None\" and \"0%\""]
[null,{"$f":"IF(B2=1,3,0)","v":0},null,"CCS Option","CCS"]
[null,1,"Ethanol","Advanced Gasifier Type","Lignocellulosic Combustion"]
[null,{"$f":"IF(B5=1,2,0)","v":2},null,"Biomass type","Switchgrass"]
[null,0,"Petroleum","Refinery product","Kerosene"]
[]
[]
["Forced","Option","Process","Parameter Name","Default Value","Model Value","Suggested RMT:"]
[{"$f":"IF(OR($B$2=1,$B$11=1),1,0)","v":0},0,"I6 RMA","Coal Mine Methane (scf/ton)",360,360,"Coal Train"]
[null,{"$f":"IF(B11=1,2,0)","v":0},null,"Methane Capture (%)",0,0.5]
[null,{"$f":"IF(B11=1,3,0)","v":0}]
[null,{"$f":"IF(B11=1,4,0)","v":0}]
[null,0,"Coal Bed Methane NG","H2S content (mol/kg)",3,3,"Natural Gas Pipeline"]
[null,{"$f":"IF(B15=1,2,0)","v":0},null,"NG Flaring (kg/kg)",3.0000000000000001E-3,3.0000000000000001E-3]
[null,{"$f":"IF(B15=1,3,0)","v":0},null,"Drill Depth (m)",15000,15000]
[null,{"$f":"IF(B15=1,4,0)","v":0}]
[{"$f":"IF(OR($D$100=1,B19=1),1,0)","v":1},0,"SG RMA","Biomass Yield (kg/acre-yr)",2430.1372860000001,2430.1372860000001,"Bale Truck"]
[null,{"$f":"IF(B19=1,2,0)","v":0}]
[null,{"$f":"IF(B19=1,3,0)","v":0}]
[null,{"$f":"IF(B19=1,4,0)","v":0}]
[{"$f":"IF(OR(D99=1,B23=1),1,0)","v":0},0,"SRWC RMA","Biomass Yield (kg/acre-yr)",2540.117272,2540.117272,"Container Truck"]
[null,{"$f":"IF(B23=1,2,0)","v":0}]
[null,{"$f":"IF(B23=1,3,0)","v":0}]
[null,{"$f":"IF(B23=1,4,0)","v":0}]
[{"$f":"IF(OR(D101=1,B27=1),1,0)","v":0},0,"Stover RMA","Biomass Yield (kg/acre-yr)",2979.5575600000002,2979.5575600000002,"Bale Truck"]
[null,{"$f":"IF(B27=1,2,0)","v":0},null,"Corn Allocation (%)",46,46]
[null,{"$f":"IF(B27=1,3,0)","v":0},null,"Yield of corn (kg/kg)",0.77280000000000004,0.77280000000000004]
[null,{"$f":"IF(B27=1,4,0)","v":0}]
[{"$f":"IF(OR(D102=1,B31=1),1,0)","v":0},0,"Corn Grain","Biomass Yield (kg/acre-yr)",2979.6,2979.6,"Container Truck"]
[null,{"$f":"IF(B31=1,2,0)","v":0}]
[null,{"$f":"IF(B31=1,3,0)","v":0}]
[null,{"$f":"IF(B31=1,4,0)","v":0}]
[{"$f":"IF(B35=1,1,0)","v":0},0,"PRB RMA","Coal Bed Methane (scf/ton)",1.4861E-4,1.4861E-4,"Coal Train"]
[null,{"$f":"IF(B35=1,2,0)","v":0}]
[null,{"$f":"IF(B35=1,3,0)","v":0}]
[null,{"$f":"IF(B35=1,4,0)","v":0}]
[{"$f":"IF(B39=1,1,0)","v":0},0,"Uranium","European Enrichment (%)",0.52378999999999998,0.52378999999999998]
[null,{"$f":"IF(B39=1,2,0)","v":0},null,"US Enrichment",null,{"$f":"1-F39","v":0.47621000000000002},"don't touch"]
[null,{"$f":"IF(B39=1,3,0)","v":0}]
[null,{"$f":"IF(B39=1,4,0)","v":0}]
[{"$f":"IF(OR($B$7=1,B43=1),1,0)","v":0},0,"Petroleum - Domestic","Extract for 1kg (kg)",{"$f":"SUM(E44:E46)","v":2.0000000000000027},2,"Petroleum Pipeline",null,null,42.764568577534206]
[null,{"$f":"IF(B43=1,2,0)","v":0},null,"California",{"$f":"I45*$J$43","v":0.33063800000000054},{"$f":"E44/$E$43","v":0.16531900000000005},null,null,2.3383843991947501E-2,{"$f":"I44*$J$43","v":1.0000000000000002}]
[null,{"$f":"IF(B43=1,3,0)","v":0},null,"Offshore",{"$f":"I46*$J$43","v":1.0000000000000002},{"$f":"E45/$E$43","v":0.49999999999999944},null,null,7.7315874098095498E-3]
[null,{"$f":"IF(B43=1,4,0)","v":0},null,"Onshore",{"$f":"I48*$J$43","v":0.66936200000000168},{"$f":"E46/$E$43","v":0.33468100000000039},null,null,2.3383843991947501E-2]
[{"$f":"IF($B$7=1,1,0)","v":0},0,"Petroleum - Foreign","North American",0.46,0.41677170965841148]
[null,{"$f":"IF(B47=1,2,0)","v":0},null,"South American",0.17,0.15551191620240801,null,null,1.5652256582138001E-2]
[null,{"$f":"IF(B47=1,3,0)","v":0},null,"Middle East",0.25,0.22104670230226645]
[null,{"$f":"IF(B47=1,4,0)","v":0},null,"Africa",0.12,0.20666967183691409]
[null,null,null,null,null,{"$f":"SUM(F47:F50)","v":1}]
[{"$f":"IF(B52=1,1,0)","v":0},0,"NG Onshore","production",14903,14903]
[null,{"$f":"IF(B52=1,2,0)","v":0},null,"ext flaring",0.51,0.51]
[null,{"$f":"IF(B52=1,3,0)","v":0},null,"process flare",1,1]
[{"$f":"IF(B55=1,1,0)","v":0},0,"NG Associated","production",7603,7603]
[null,{"$f":"IF(B55=1,2,0)","v":0},null,"ext flaring",0.51,0.51]
[null,{"$f":"IF(B55=1,3,0)","v":0},null,"process flare",1,1]
[{"$f":"IF(B58=1,1,0)","v":0},0,"NG Offshore","production",117703,117703]
[null,{"$f":"IF(B58=1,2,0)","v":0},null,"ext flaring",0.51,0.51]
[null,{"$f":"IF(B58=1,3,0)","v":0},null,"process flare",1,1]
[{"$f":"IF(B61=1,1,0)","v":0},0,"NG Barnett","production",5219,5219]
[null,{"$f":"IF(B61=1,2,0)","v":0},null,"ext flaring",0.15,0.15]
[null,{"$f":"IF(B61=1,3,0)","v":0},null,"process flare",1,1]
[{"$f":"IF(B64=1,1,0)","v":0},0,"NG CBM","production",388,388]
[null,{"$f":"IF(B64=1,2,0)","v":0},null,"ext flaring",0.51,0.51]
[null,{"$f":"IF(B64=1,3,0)","v":0},null,"process flare",1,1]
[{"$f":"IF(B67=1,1,0)","v":0},0,"NG Marcellus","production",19051,19051]
[null,{"$f":"IF(B67=1,2,0)","v":0},null,"ext flaring",0.51,0.51]
[null,{"$f":"IF(B67=1,3,0)","v":0},null,"process flare",1,1]
[{"$f":"IF(B70=1,1,0)","v":0},0,"NG LNG","production",117703,117703]
[null,{"$f":"IF(B70=1,2,0)","v":0},null,"ext flaring",0.51,0.51]
[null,{"$f":"IF(B70=1,3,0)","v":0},null,"process flare",1,1]
[{"$f":"IF(B73=1,1,0)","v":0},0,"NG Tight","production",2092,2092]
[null,{"$f":"IF(B73=1,2,0)","v":0},null,"ext flaring",0.15,0.15]
[null,{"$f":"IF(B73=1,3,0)","v":0},null,"process flare",1,1]
[]
[]
[]
[null,0,"Natural Gas Onshore Pipeline","Distance (km)",1450,1450]
[null,0,"Coal Train","Distance (mi)",400,400]
[null,0,"Bale Truck","Distance (one way, mi)",33,33]
[null,0,"Container Truck","Distance (one way, mi)",21,21]
[null,0,"Train enclosed","Distance (km, one way)",0,0]
[null,0,"Truck 8B enclosed","Distance (km, one way)",544.04615379999996,544.04615379999996]
[null,0,"Ocean freighter","Distance (km, one way)",0,0]
[null,1,"Petroleum Pipeline","Distance (mi)",1,1]
[null,2,"Petroleum Water carrier","Distance (km, one way)",1000,1000]
[null,3,"Petroleum Rail","Distance (mi)",400,400]
[null,4,"Petroleum Tanker","Distance (mi)",35,35]
[]
[]
[]
[]
[]
[]
[null,"Drop Down Lists"]
[]
[null,null,"None",{"$f":"IF(AND($E$2=C98,$B$2=1),1,0)","v":0},0,null,"CCS"]
[null,null,"Short Rotation Wood Crops",{"$f":"IF(OR(AND($E$2=C99,$B$2=1),AND($B$5=1,$E$6=C99)),1,0)","v":0},0.15,null,"no CCS"]
[null,null,"Switchgrass",{"$f":"IF(OR(AND($E$2=C100,$B$2=1),AND($B$5=1,$E$6=C100,OR(E5=C104,E5=C105,E5=C106))),1,0)","v":1},0.3]
[null,null,"Corn Stover",{"$f":"IF(OR(AND($E$2=C101,$B$2=1),AND($B$5=1,$E$6=C101,OR(E5=C104,E5=C105,E5=C106))),1,0)","v":0},1]
[null,null,"Corn Grain",{"$f":"IF(OR(AND($E$2=C102,$B$2=1),AND($B$5=1,OR(E5=C107,E5=C108,E5=C109))),1,0)","v":0}]
[]
[null,null,"Lignocellulosic Combustion"]
[null,null,"Lignocellulosic Gasification"]
[null,null,"Gasification"]
[null,null,"Dry Milling"]
[null,null,"Ethanol - Advanced Dry Mill"]
[null,null,"Ethanol Adv CCS"]
[]
[null,null,"Diesel"]
[null,null,"Gasoline"]
[null,null,"Kerosene"]

{"sheet":"Petro Ref","index":14,"n_rows":65,"n_cols":13,"rows_kept":65,"cut":false,"hidden":true,"merged":[]}
["GaBi 4"]
[null,null,"Database:","C:\\Users\\548910\\Documents\\GaBi\\DB\\NETL_083111"]
["Balance:","Petroleum Refinery Compare","  Mass [kg]","kg","2011-09-23T11:52:14","Balance view: ","Upstreams (sf6)"]
["Balance object:","Petroleum Refinery Compare [Gasoline]","2011-09-23T11:48:05","{6E3A615D-90FA-4380-A391-866F39C5CAE2}"]
["In/out aggregation","Yes","Weak point analysis","No","Last service pack:",17]
[]
["&Inputs"]
[null,null,null,null,null,null,"Petroleum Refinery Compare","Petroleum Refinery Compare","Petroleum Refinery Compare","Petroleum Refinery Compare"]
[null,null,null,null,null,null,null,"Stage #3: Universal-Domestic Fuel Conversion Facility (Diesel)","Stage #3: Universal-Domestic Fuel Conversion Facility (Gasoline)","Stage #3: Universal-Domestic Fuel Conversion Facility (Kerosene)"]
["Flows","Flows","Flows","Flows","Flows","Flows",{"$f":"SUM(H10:J10)","v":6.7795264548705809},2.2388773114940101,2.51184414004108,2.0288050033354899]
[null,"Resources","Resources","Resources","Resources","Resources",6.7795264548705809,2.2388773114940101,2.51184414004108,2.0288050033354899]
[null,null,"Energy resources","Energy resources","Energy resources","Energy resources",5.7484210946964005,2.22976868305703,2.1204319059389798,1.39822050570039]
[null,null,"Material resources","Material resources","Material resources","Material resources",6.6367726814607302,2.1834857372738798,2.45921466730903,1.9940722768778201]
[null,null,null,"Renewable resources","Renewable resources","Renewable resources",6.4100360048645602,2.0982734616591099,2.37136943504425,1.9403931081612]
[null,null,null,null,"Water","Water",5.7633372546516499,1.8662039685573999,2.10394499630709,1.7931882897871601]
[]
["&Outputs"]
[null,null,null,null,null,null,"Petroleum Refinery Compare","Petroleum Refinery Compare","Petroleum Refinery Compare","Petroleum Refinery Compare"]
[null,null,null,null,null,null,null,"Stage #3: Universal-Domestic Fuel Conversion Facility (Diesel)","Stage #3: Universal-Domestic Fuel Conversion Facility (Gasoline)","Stage #3: Universal-Domestic Fuel Conversion Facility (Kerosene)"]
["Flows","Flows","Flows","Flows","Flows","Flows",{"$f":"SUM(H20:J20)","v":2.6285366948033397},0.97101700298218396,1.04111022837395,0.61640946344720604]
[null,"Resources","Resources","Resources","Resources","Resources",{"$f":"SUM(H21:J21)","v":0.77330943752451897},0.28737624541147699,0.30460121567830201,0.18133197643474]
[null,null,"Energy resources","Energy resources","Energy resources","Energy resources",0,0,0,0]
[null,null,"Material resources","Material resources","Material resources","Material resources",0.77330943752451897,0.28737624541147699,0.30460121567830201,0.18133197643474]
[null,null,null,"Renewable resources","Renewable resources","Renewable resources",0.77330943752451897,0.28737624541147699,0.30460121567830201,0.18133197643474]
[null,null,null,null,"Water","Water",0.77330943752451897,0.28737624541147699,0.30460121567830201,0.18133197643474,{"$f":"H15-H25","v":1.5788277231459229},{"$f":"I15-I25","v":1.799343780628788},{"$f":"J15-J25","v":1.61185631335242}]
[null,null,null,null,null,"Water (river water)",0.77330943752451897,0.28737624541147699,0.30460121567830201,0.18133197643474]
[null,null,null,null,null,"Water (sea water)",0]
[null,null,null,null,null,"Water (wastewater)",0,0,0,0]
[null,"Ecoinvent","Ecoinvent","Ecoinvent","Ecoinvent","Ecoinvent",0,0,0,0]
[null,"Production residues in life cycle","Production residues in life cycle","Production residues in life cycle","Production residues in life cycle","Production residues in life cycle",0,0,0,0]
[null,null,"Waste for disposal","Waste for disposal","Waste for disposal","Waste for disposal",0,0,0,0]
[null,null,null,"Waste (solid)","Waste (solid)","Waste (solid)",0,0,0,0]
[null,"Emissions to air","Emissions to air","Emissions to air","Emissions to air","Emissions to air",1.826953586436918,0.67440825819166195,0.72668065571061602,0.42586467253464]
[null,null,"Heavy metals to air","Heavy metals to air","Heavy metals to air","Heavy metals to air",1.5653876870318979E-7,5.80590377389465E-8,6.1834347988604404E-8,3.6645382975638897E-8]
[null,null,null,"Lead (+II)","Lead (+II)","Lead (+II)",1.204295326963002E-8,4.4801570607910499E-9,4.73630383526772E-9,2.82649237357125E-9]
[null,null,null,"Mercury (+II)","Mercury (+II)","Mercury (+II)",1.6982734081003932E-9,6.2898747459973799E-10,6.7220133713154101E-10,3.9708459636911402E-10]
[null,null,"Inorganic emissions to air","Inorganic emissions to air","Inorganic emissions to air","Inorganic emissions to air",1.295263087414908,0.48359422368393001,0.50683853286680902,0.304830330864169]
[null,null,null,"Ammonia","Ammonia","Ammonia",9.7678898032766499E-6,3.5729966094848101E-6,3.9350454320985498E-6,2.25984776169329E-6]
[null,null,null,"Carbon dioxide","Carbon dioxide","Carbon dioxide",1.0101614599563689,0.378642231748894,0.39300617714113401,0.23851305106634099]
[null,null,null,"Carbon dioxide (biotic)","Carbon dioxide (biotic)","Carbon dioxide (biotic)",0,0,0,0]
[null,null,null,"Carbon monoxide","Carbon monoxide","Carbon monoxide",4.1118079936708341E-4,1.5254187197451699E-4,1.6236221387002701E-4,9.6276713522539404E-5]
[null,null,null,"Nitrogen oxides","Nitrogen oxides","Nitrogen oxides",2.908698621724559E-4,1.08427986483254E-4,1.14056205492425E-4,6.8385670196776903E-5]
[null,null,null,"Nitrous oxide (laughing gas)","Nitrous oxide (laughing gas)","Nitrous oxide (laughing gas)",1.585348761797733E-5,5.8280403517931001E-6,6.3437732609546097E-6,3.6816740052296199E-6]
[null,null,null,"Sulphur dioxide","Sulphur dioxide","Sulphur dioxide",1.370128658421546E-3,5.0576423895897296E-4,5.4491380389768795E-4,3.1945061556488502E-4]
[null,null,null,"Sulphur hexafluoride","Sulphur hexafluoride","Sulphur hexafluoride",1.619084672743767E-12,6.0189895922511602E-13,6.37412836862308E-13,3.79772876656343E-13]
[null,null,"Organic emissions to air (group VOC)","Organic emissions to air (group VOC)","Organic emissions to air (group VOC)","Organic emissions to air (group VOC)",1.6805316179863438E-3,6.2908367835552096E-4,6.5501567388918599E-4,3.9643226574163698E-4]
[null,null,null,"Group NMVOC to air","Group NMVOC to air","Group NMVOC to air",4.4336514712869999E-4,1.63627550950473E-4,1.76384099265188E-4,1.0335349691303899E-4]
[null,null,null,null,"NMVOC (unspecified)","NMVOC (unspecified)",0]
[null,null,null,"Methane","Methane","Methane",1.2368676357100929E-3,4.6533834726725698E-4,4.7852420902116201E-4,2.9300507942167398E-4]
[null,null,"Particles to air","Particles to air","Particles to air","Particles to air",2.279003862280804E-5,8.6729530937915597E-6,8.6541752962760796E-6,5.4629102327403996E-6]
[null,null,null,"Dust (unspecified)","Dust (unspecified)","Dust (unspecified)",1.3546201486355021E-5,5.2186514326908398E-6,5.0424862125222398E-6,3.28506384114194E-6]
[null,null,"Radioactive emissions to air","Radioactive emissions to air","Radioactive emissions to air","Radioactive emissions to air",7.2313457278520097E-9,2.6825665393801002E-9,2.8556596480299899E-9,1.6931195404419201E-9]
[null,"Emissions to fresh water","Emissions to fresh water","Emissions to fresh water","Emissions to fresh water","Emissions to fresh water",2.7914969209779181E-2,9.0926235549536501E-3,9.6971769641913605E-3,9.1251686906341709E-3]
[null,null,"Heavy metals to fresh water","Heavy metals to fresh water","Heavy metals to fresh water","Heavy metals to fresh water",6.6204098296584598E-3,2.0722534313200799E-3,2.37612343175936E-3,2.1720329665790199E-3]
[null,null,"Inorganic emissions to fresh water","Inorganic emissions to fresh water","Inorganic emissions to fresh water","Inorganic emissions to fresh water",1.9459652498371158E-2,6.2983094977121E-3,6.6600659580887504E-3,6.5012770425703099E-3]
[null,null,null,"Aluminum (+III)","Aluminum (+III)","Aluminum (+III)",9.5994361533455099E-4,4.6800062047715402E-4,2.30369069273011E-7,4.9171262578812395E-4]
[null,null,null,"Ammonia","Ammonia","Ammonia",1.6205681855186997E-2,5.0668531206246002E-3,5.8142726817263799E-3,5.3245560528360197E-3,{"$f":"H57+H56","v":5.5348537411017539E-3},{"$f":"I57+I56","v":5.8145030507956528E-3},{"$f":"J57+J56","v":5.8162686786241433E-3}]
[null,null,null,"Ammonium / ammonia","Ammonium / ammonia","Ammonium / ammonia",5.1360163822409194E-7,1.9149349972988701E-7,2.01336242971143E-7,1.2077189552306199E-7]
[null,null,null,"Nitrate","Nitrate","Nitrate",3.393646825733973E-6,1.2582277980060401E-6,1.3412154809609599E-6,7.9420354676697298E-7]
[null,null,null,"Nitrogen","Nitrogen","Nitrogen",4.3138723922887701E-10,1.69088890002787E-10,1.5642518705661301E-10,1.05873162169477E-10]
[null,null,null,"Phosphate","Phosphate","Phosphate",1.0190942057227789E-8,3.8052059540508799E-9,3.9863718442515004E-9,2.3993642589254099E-9]
[null,null,null,"Phosphorus","Phosphorus","Phosphorus",1.4297139785594641E-3,4.4701350337456502E-4,5.1295262672461405E-4,4.6974784846028501E-4]
[null,"Emissions to sea water","Emissions to sea water","Emissions to sea water","Emissions to sea water","Emissions to sea water",3.5583837787447409E-4,1.3875229003454699E-4,1.3014367963676599E-4,8.6942408203161101E-5]
[null,"Emissions to industrial soil","Emissions to industrial soil","Emissions to industrial soil","Emissions to industrial soil","Emissions to industrial soil",2.8632542540775442E-6,1.12353405681885E-6,1.03634120827794E-6,7.0337898898075396E-7]
[null,null,"Heavy metals to industrial soil","Heavy metals to industrial soil","Heavy metals to industrial soil","Heavy metals to industrial soil",8.0902877028391102E-7,3.1789762106292301E-7,2.9215269257931501E-7,1.98978456641673E-7]

{"sheet":"Sheet1","index":15,"n_rows":50,"n_cols":26,"rows_kept":50,"cut":false,"hidden":true,"merged":[[24,1,36,1],[37,1,38,1],[39,1,45,1],[46,1,47,1]]}
[null,"Fossil RMA"]
[null,null,"Process","Parameter Name","Default Value","Model Value","Suggested RMT:"]
[1,null,{"$f":"VLOOKUP($A3,Cover!$A$11:$G$50,3,0)","v":"SG RMA"},{"$f":"VLOOKUP($A3,Cover!$A$11:$G$50,4,0)","v":"Biomass Yield (kg/acre-yr)"},{"$f":"VLOOKUP($A3,Cover!$A$11:$G$50,5,0)","v":2430.1372860000001},{"$f":"VLOOKUP($A3,Cover!$A$11:$G$50,6,0)","v":2430.1372860000001},{"$f":"VLOOKUP($A3,Cover!$A$11:$G$50,7,0)","v":"Bale Truck"}]
[2,null,{"$f":"VLOOKUP($A4,Cover!$B$11:$G$50,2,0)","v":{"$error":"#N/A"}},{"$f":"VLOOKUP($A4,Cover!$B$11:$G$50,3,0)","v":{"$error":"#N/A"}},{"$f":"VLOOKUP($A4,Cover!$B$11:$G$50,4,0)","v":{"$error":"#N/A"}},{"$f":"VLOOKUP($A4,Cover!$B$11:$G$50,5,0)","v":{"$error":"#N/A"}},{"$f":"VLOOKUP($A4,Cover!$B$11:$G$50,6,0)","v":{"$error":"#N/A"}}]
[3,null,{"$f":"VLOOKUP($A5,Cover!$B$11:$G$50,2,0)","v":{"$error":"#N/A"}},{"$f":"VLOOKUP($A5,Cover!$B$11:$G$50,3,0)","v":{"$error":"#N/A"}},{"$f":"VLOOKUP($A5,Cover!$B$11:$G$50,4,0)","v":{"$error":"#N/A"}},{"$f":"VLOOKUP($A5,Cover!$B$11:$G$50,5,0)","v":{"$error":"#N/A"}},{"$f":"VLOOKUP($A5,Cover!$B$11:$G$50,6,0)","v":{"$error":"#N/A"}}]
[4,null,{"$f":"VLOOKUP($A6,Cover!$B$11:$G$50,2,0)","v":{"$error":"#N/A"}},{"$f":"VLOOKUP($A6,Cover!$B$11:$G$50,3,0)","v":{"$error":"#N/A"}},{"$f":"VLOOKUP($A6,Cover!$B$11:$G$50,4,0)","v":{"$error":"#N/A"}},{"$f":"VLOOKUP($A6,Cover!$B$11:$G$50,5,0)","v":{"$error":"#N/A"}},{"$f":"VLOOKUP($A6,Cover!$B$11:$G$50,6,0)","v":{"$error":"#N/A"}}]
[null,"Biomass RMA"]
[null,null,{"$f":"IF(VLOOKUP($A3,Cover!$A$11:$G$50,3,0)=C3,VLOOKUP($A$3,Cover!$A$15:$G$71,3,0),0)","v":"SG RMA"},{"$f":"IF(C8=0,0,VLOOKUP($A$3,Cover!$A$15:$G$71,4,0))","v":"Biomass Yield (kg/acre-yr)"},{"$f":"IF(D8=0,0,VLOOKUP($A$3,Cover!$A$15:$G$71,5,0))","v":2430.1372860000001},{"$f":"IF(E8=0,0,VLOOKUP($A$3,Cover!$A$15:$G$71,6,0))","v":2430.1372860000001},{"$f":"IF(F8=0,0,VLOOKUP($A$3,Cover!$A$15:$G$71,7,0))","v":"Bale Truck"}]
[null,null,{"$f":"IF(VLOOKUP($A4,Cover!$B$11:$G$50,2,0)=C4,VLOOKUP($A$3,Cover!$B$15:$G$71,2,0),0)","v":{"$error":"#N/A"}},{"$f":"IF(C9=0,0,VLOOKUP($A$3,Cover!$B$15:$G$71,3,0))","v":{"$error":"#N/A"}},{"$f":"IF(D9=0,0,VLOOKUP($A$3,Cover!$B$15:$G$71,4,0))","v":{"$error":"#N/A"}},{"$f":"IF(E9=0,0,VLOOKUP($A$3,Cover!$B$15:$G$71,5,0))","v":{"$error":"#N/A"}},{"$f":"IF(F9=0,0,VLOOKUP($A$3,Cover!$B$15:$G$71,6,0))","v":{"$error":"#N/A"}}]
[null,null,{"$f":"IF(VLOOKUP($A5,Cover!$B$11:$G$50,2,0)=C5,VLOOKUP($A$3,Cover!$B$15:$G$71,2,0),0)","v":{"$error":"#N/A"}},{"$f":"IF(C10=0,0,VLOOKUP($A$3,Cover!$B$15:$G$71,3,0))","v":{"$error":"#N/A"}},{"$f":"IF(D10=0,0,VLOOKUP($A$3,Cover!$B$15:$G$71,4,0))","v":{"$error":"#N/A"}},{"$f":"IF(E10=0,0,VLOOKUP($A$3,Cover!$B$15:$G$71,5,0))","v":{"$error":"#N/A"}},{"$f":"IF(F10=0,0,VLOOKUP($A$3,Cover!$B$15:$G$71,6,0))","v":{"$error":"#N/A"}}]
[null,"RMT"]
[null,null,{"$f":"VLOOKUP($A3,Cover!$B$79:$F$89,2,0)","v":"Petroleum Pipeline"},{"$f":"VLOOKUP($A3,Cover!$B$79:$F$89,3,0)","v":"Distance (mi)"},{"$f":"VLOOKUP($A3,Cover!$B$79:$F$89,4,0)","v":1},{"$f":"VLOOKUP($A3,Cover!$B$79:$F$89,5,0)","v":1}]
[null,null,{"$f":"VLOOKUP($A4,Cover!$B$79:$F$89,2,0)","v":"Petroleum Water carrier"},{"$f":"VLOOKUP($A4,Cover!$B$79:$F$89,3,0)","v":"Distance (km, one way)"},{"$f":"VLOOKUP($A4,Cover!$B$79:$F$89,4,0)","v":1000},{"$f":"VLOOKUP($A4,Cover!$B$79:$F$89,5,0)","v":1000}]
[null,null,{"$f":"VLOOKUP($A5,Cover!$B$79:$F$89,2,0)","v":"Petroleum Rail"},{"$f":"VLOOKUP($A5,Cover!$B$79:$F$89,3,0)","v":"Distance (mi)"},{"$f":"VLOOKUP($A5,Cover!$B$79:$F$89,4,0)","v":400},{"$f":"VLOOKUP($A5,Cover!$B$79:$F$89,5,0)","v":400}]
[null,null,{"$f":"VLOOKUP($A6,Cover!$B$79:$F$89,2,0)","v":"Petroleum Tanker"},{"$f":"VLOOKUP($A6,Cover!$B$79:$F$89,3,0)","v":"Distance (mi)"},{"$f":"VLOOKUP($A6,Cover!$B$79:$F$89,4,0)","v":35},{"$f":"VLOOKUP($A6,Cover!$B$79:$F$89,5,0)","v":35}]
[null,"ECF"]
[null,null,{"$f":"VLOOKUP($A$3,Cover!$B$2:$F$7,2,0)","v":"Ethanol"},{"$f":"VLOOKUP($A$3,Cover!$B$2:$F$7,3,0)","v":"Advanced Gasifier Type"},{"$f":"VLOOKUP($A$3,Cover!$B$2:$F$7,4,0)","v":"Lignocellulosic Combustion"},{"$f":"VLOOKUP($A$3,Cover!$B$2:$F$7,5,0)","v":0}]
[null,null,{"$f":"VLOOKUP($A$4,Cover!$B$2:$F$7,2,0)","v":0},{"$f":"VLOOKUP($A$4,Cover!$B$2:$F$7,3,0)","v":"Biomass type"},{"$f":"VLOOKUP($A$4,Cover!$B$2:$F$7,4,0)","v":"Switchgrass"},{"$f":"VLOOKUP($A$4,Cover!$B$2:$F$7,5,0)","v":0}]
[null,null,{"$f":"VLOOKUP($A$5,Cover!$B$2:$F$7,2,0)","v":{"$error":"#N/A"}},{"$f":"VLOOKUP($A$5,Cover!$B$2:$F$7,3,0)","v":{"$error":"#N/A"}},{"$f":"VLOOKUP($A$5,Cover!$B$2:$F$7,4,0)","v":{"$error":"#N/A"}},{"$f":"VLOOKUP($A$5,Cover!$B$2:$F$7,5,0)","v":{"$error":"#N/A"}}]
[]
[null,{"$f":"IF(C17=\"FT Diesel\", 1,0)","v":0},null,null,"RMA","RMA","RMT","RMT","ECF",null,null,null,null,null,null,"RMA","RMT","RMT","RMT","RMT","ECF"]
[null,null,null,null,{"$f":"IF(B21=1,C3,0)","v":0},{"$f":"IF(B21=1,C8,0)","v":0},{"$f":"IF(B21=1,C12,0)","v":0},{"$f":"IF(B21=1,C13,0)","v":0},{"$f":"IF(B21=1,C17,0)","v":0},null,"Stage 1","Stage 2","Stage 3","Sum",null,{"$f":"IF(B21=0,C3,0)","v":"SG RMA"},{"$f":"IF(B21=0,C12,0)","v":"Petroleum Pipeline"},{"$f":"IF(B21=0,IFERROR(C13,0),0)","v":"Petroleum Water carrier"},{"$f":"IF(B21=0,IFERROR(C14,0),0)","v":"Petroleum Rail"},{"$f":"IF(B21=0,IFERROR(C15,0),0)","v":"Petroleum Tanker"},{"$f":"IF(B21=0,IF(C17=\"Petroleum\",E17,C17),0)","v":"Ethanol"},null,"Stage 1","Stage 2","Stage 3","Sum"]
[null,null,null,"scaler (biomass)",null,null,null,{"$f":"HLOOKUP($H$22,Calculations!$F$1:$BD$33,5,0)","v":{"$error":"#N/A"}},{"$f":"HLOOKUP($I$22,Calculations!$F$1:$BD$33,5,0)","v":{"$error":"#N/A"}}]
[null,null,null,"scaler (fossil)",null,null,{"$f":"HLOOKUP($G$22,Calculations!$F$1:$BD$33,6,0)","v":{"$error":"#N/A"}},null,{"$f":"HLOOKUP($I$22,Calculations!$F$1:$BD$33,6,0)","v":{"$error":"#N/A"}},null,null,null,null,null,null,null,{"$f":"HLOOKUP($Q$22,Calculations!$F$1:$BD$33,6,0)","v":0},{"$f":"HLOOKUP($R$22,Calculations!$F$1:$BD$33,6,0)","v":3.1000000000001027E-3},{"$f":"HLOOKUP($S$22,Calculations!$F$1:$BD$33,6,0)","v":7.9999999999991189E-4},{"$f":"HLOOKUP($T$22,Calculations!$F$1:$BD$33,6,0)","v":{"$error":"#N/A"}},{"$f":"HLOOKUP($U$22,Calculations!$F$1:$BD$33,6,0)","v":{"$error":"#N/A"}}]
[null,"Air Emissions",1,"Carbon Dioxide (kg)",{"$f":"HLOOKUP($E$22,Calculations!$F$1:$BD$33,Calculations!$B8+7,0)","v":{"$error":"#N/A"}},{"$f":"HLOOKUP($F$22,Calculations!$F$1:$BD$33,Calculations!$B8+7,0)","v":{"$error":"#N/A"}},{"$f":"HLOOKUP($G$22,Calculations!$F$1:$BD$33,Calculations!$B8+7,0)","v":{"$error":"#N/A"}},{"$f":"HLOOKUP($H$22,Calculations!$F$1:$BD$33,Calculations!$B8+7,0)","v":{"$error":"#N/A"}},{"$f":"HLOOKUP($I$22,Calculations!$F$1:$BD$33,Calculations!$B8+7,0)","v":{"$error":"#N/A"}},null,{"$f":"$I$24*(1+$G$24)*E25+$I$23*(1+$H$23)*F25","v":{"$error":"#N/A"}},{"$f":"$I$24*G25+$I$23*H25","v":{"$error":"#N/A"}},{"$f":"I25","v":{"$error":"#N/A"}},{"$f":"SUM(K25:M25)","v":{"$error":"#N/A"}},null,{"$f":"HLOOKUP($P$22,Calculations!$F$1:$BD$33,Calculations!$B8+7,0)","v":{"$error":"#N/A"}},{"$f":"HLOOKUP($Q$22,Calculations!$F$1:$BD$33,Calculations!$B8+7,0)","v":0},{"$f":"IF($R$22=0,0,HLOOKUP($R$22,Calculations!$F$1:$BD$33,Calculations!$B8+7,0))","v":0},{"$f":"IF($S$22=0,0,HLOOKUP($S$22,Calculations!$F$1:$BD$33,Calculations!$B8+7,0))","v":0},{"$f":"IF($T$22=0,0,HLOOKUP($T$22,Calculations!$F$1:$BD$33,Calculations!$B8+7,FALSE))","v":{"$error":"#N/A"}},{"$f":"HLOOKUP($U$22,Calculations!$F$1:$BD$33,Calculations!$B8+7,0)","v":{"$error":"#N/A"}},null,{"$f":"$U$24*(1+$T$24)*(1+$S$24)*(1+$R$24)*(1+$Q$24)*P25","v":{"$error":"#N/A"}},{"$f":"$U$24*(1+$T$24)*(1+$S$24)*(1+$R$24)*Q25+$U$24*(1+$T$24)*(1+$S$24)*R25+$U$24*(1+$T$24)*S25+$U$24*T25","v":{"$error":"#N/A"}},{"$f":"U25","v":{"$error":"#N/A"}},{"$f":"SUM(W25:Y25)","v":{"$error":"#N/A"}}]
[null,null,2,"Methane (kg)",{"$f":"HLOOKUP($E$22,Calculations!$F$1:$BD$33,Calculations!$B9+7,0)","v":{"$error":"#N/A"}},{"$f":"HLOOKUP($F$22,Calculations!$F$1:$BD$33,Calculations!$B9+7,0)","v":{"$error":"#N/A"}},{"$f":"HLOOKUP($G$22,Calculations!$F$1:$BD$33,Calculations!$B9+7,0)","v":{"$error":"#N/A"}},{"$f":"HLOOKUP($H$22,Calculations!$F$1:$BD$33,Calculations!$B9+7,0)","v":{"$error":"#N/A"}},{"$f":"HLOOKUP($I$22,Calculations!$F$1:$BD$33,Calculations!$B9+7,0)","v":{"$error":"#N/A"}},null,{"$f":"$I$24*(1+$G$24)*E26+$I$23*(1+$H$23)*F26","v":{"$error":"#N/A"}},{"$f":"$I$24*G26+$I$23*H26","v":{"$error":"#N/A"}},{"$f":"I26","v":{"$error":"#N/A"}},{"$f":"SUM(K26:M26)","v":{"$error":"#N/A"}},null,{"$f":"HLOOKUP($P$22,Calculations!$F$1:$BD$33,Calculations!$B9+7,0)","v":{"$error":"#N/A"}},{"$f":"HLOOKUP($Q$22,Calculations!$F$1:$BD$33,Calculations!$B9+7,0)","v":0},{"$f":"IF($R$22=0,0,HLOOKUP($R$22,Calculations!$F$1:$BD$33,Calculations!$B9+7,0))","v":0},{"$f":"IF($S$22=0,0,HLOOKUP($S$22,Calculations!$F$1:$BD$33,Calculations!$B9+7,0))","v":0},{"$f":"IF($T$22=0,0,HLOOKUP($T$22,Calculations!$F$1:$BD$33,Calculations!$B9+7,FALSE))","v":{"$error":"#N/A"}},{"$f":"HLOOKUP($U$22,Calculations!$F$1:$BD$33,Calculations!$B9+7,0)","v":{"$error":"#N/A"}},null,{"$f":"$U$24*(1+$T$24)*(1+$S$24)*(1+$R$24)*(1+$Q$24)*P26","v":{"$error":"#N/A"}},{"$f":"$U$24*(1+$T$24)*(1+$S$24)*(1+$R$24)*Q26+$U$24*(1+$T$24)*(1+$S$24)*R26+$U$24*(1+$T$24)*S26+$U$24*T26","v":{"$error":"#N/A"}},{"$f":"U26","v":{"$error":"#N/A"}},{"$f":"SUM(W26:Y26)","v":{"$error":"#N/A"}}]
[null,null,3,"Nitrous Oxide (kg)",{"$f":"HLOOKUP($E$22,Calculations!$F$1:$BD$33,Calculations!$B10+7,0)","v":{"$error":"#N/A"}},{"$f":"HLOOKUP($F$22,Calculations!$F$1:$BD$33,Calculations!$B10+7,0)","v":{"$error":"#N/A"}},{"$f":"HLOOKUP($G$22,Calculations!$F$1:$BD$33,Calculations!$B10+7,0)","v":{"$error":"#N/A"}},{"$f":"HLOOKUP($H$22,Calculations!$F$1:$BD$33,Calculations!$B10+7,0)","v":{"$error":"#N/A"}},{"$f":"HLOOKUP($I$22,Calculations!$F$1:$BD$33,Calculations!$B10+7,0)","v":{"$error":"#N/A"}},null,{"$error":"#N/A"},{"$error":"#N/A"},{"$error":"#N/A"},{"$error":"#N/A"},null,{"$f":"HLOOKUP($P$22,Calculations!$F$1:$BD$33,Calculations!$B10+7,0)","v":{"$error":"#N/A"}},{"$f":"HLOOKUP($Q$22,Calculations!$F$1:$BD$33,Calculations!$B10+7,0)","v":0},{"$f":"IF($R$22=0,0,HLOOKUP($R$22,Calculations!$F$1:$BD$33,Calculations!$B10+7,0))","v":0},{"$f":"IF($S$22=0,0,HLOOKUP($S$22,Calculations!$F$1:$BD$33,Calculations!$B10+7,0))","v":0},{"$f":"IF($T$22=0,0,HLOOKUP($T$22,Calculations!$F$1:$BD$33,Calculations!$B10+7,FALSE))","v":{"$error":"#N/A"}},{"$f":"HLOOKUP($U$22,Calculations!$F$1:$BD$33,Calculations!$B10+7,0)","v":{"$error":"#N/A"}},null,{"$error":"#N/A"},{"$error":"#N/A"},{"$error":"#N/A"},{"$error":"#N/A"}]
[null,null,4,"Total GWP (kg)",{"$f":"HLOOKUP($E$22,Calculations!$F$1:$BD$33,Calculations!$B11+7,0)","v":{"$error":"#N/A"}},{"$f":"HLOOKUP($F$22,Calculations!$F$1:$BD$33,Calculations!$B11+7,0)","v":{"$error":"#N/A"}},{"$f":"HLOOKUP($G$22,Calculations!$F$1:$BD$33,Calculations!$B11+7,0)","v":{"$error":"#N/A"}},{"$f":"HLOOKUP($H$22,Calculations!$F$1:$BD$33,Calculations!$B11+7,0)","v":{"$error":"#N/A"}},{"$f":"HLOOKUP($I$22,Calculations!$F$1:$BD$33,Calculations!$B11+7,0)","v":{"$error":"#N/A"}},null,{"$error":"#N/A"},{"$error":"#N/A"},{"$error":"#N/A"},{"$error":"#N/A"},null,{"$f":"HLOOKUP($P$22,Calculations!$F$1:$BD$33,Calculations!$B11+7,0)","v":{"$error":"#N/A"}},{"$f":"HLOOKUP($Q$22,Calculations!$F$1:$BD$33,Calculations!$B11+7,0)","v":0},{"$f":"IF($R$22=0,0,HLOOKUP($R$22,Calculations!$F$1:$BD$33,Calculations!$B11+7,0))","v":0},{"$f":"IF($S$22=0,0,HLOOKUP($S$22,Calculations!$F$1:$BD$33,Calculations!$B11+7,0))","v":0},{"$f":"IF($T$22=0,0,HLOOKUP($T$22,Calculations!$F$1:$BD$33,Calculations!$B11+7,FALSE))","v":{"$error":"#N/A"}},{"$f":"HLOOKUP($U$22,Calculations!$F$1:$BD$33,Calculations!$B11+7,0)","v":{"$error":"#N/A"}},null,{"$error":"#N/A"},{"$error":"#N/A"},{"$error":"#N/A"},{"$error":"#N/A"}]
[null,null,5,"Nitrogen Oxides (kg)",{"$f":"HLOOKUP($E$22,Calculations!$F$1:$BD$33,Calculations!$B12+7,0)","v":{"$error":"#N/A"}},{"$f":"HLOOKUP($F$22,Calculations!$F$1:$BD$33,Calculations!$B12+7,0)","v":{"$error":"#N/A"}},{"$f":"HLOOKUP($G$22,Calculations!$F$1:$BD$33,Calculations!$B12+7,0)","v":{"$error":"#N/A"}},{"$f":"HLOOKUP($H$22,Calculations!$F$1:$BD$33,Calculations!$B12+7,0)","v":{"$error":"#N/A"}},{"$f":"HLOOKUP($I$22,Calculations!$F$1:$BD$33,Calculations!$B12+7,0)","v":{"$error":"#N/A"}},null,{"$error":"#N/A"},{"$error":"#N/A"},{"$error":"#N/A"},{"$error":"#N/A"},null,{"$f":"HLOOKUP($P$22,Calculations!$F$1:$BD$33,Calculations!$B12+7,0)","v":{"$error":"#N/A"}},{"$f":"HLOOKUP($Q$22,Calculations!$F$1:$BD$33,Calculations!$B12+7,0)","v":0},{"$f":"IF($R$22=0,0,HLOOKUP($R$22,Calculations!$F$1:$BD$33,Calculations!$B12+7,0))","v":0},{"$f":"IF($S$22=0,0,HLOOKUP($S$22,Calculations!$F$1:$BD$33,Calculations!$B12+7,0))","v":0},{"$f":"IF($T$22=0,0,HLOOKUP($T$22,Calculations!$F$1:$BD$33,Calculations!$B12+7,FALSE))","v":{"$error":"#N/A"}},{"$f":"HLOOKUP($U$22,Calculations!$F$1:$BD$33,Calculations!$B12+7,0)","v":{"$error":"#N/A"}},null,{"$error":"#N/A"},{"$error":"#N/A"},{"$error":"#N/A"},{"$error":"#N/A"}]
[null,null,6,"Sulfur Dioxide (kg)",{"$f":"HLOOKUP($E$22,Calculations!$F$1:$BD$33,Calculations!$B13+7,0)","v":{"$error":"#N/A"}},{"$f":"HLOOKUP($F$22,Calculations!$F$1:$BD$33,Calculations!$B13+7,0)","v":{"$error":"#N/A"}},{"$f":"HLOOKUP($G$22,Calculations!$F$1:$BD$33,Calculations!$B13+7,0)","v":{"$error":"#N/A"}},{"$f":"HLOOKUP($H$22,Calculations!$F$1:$BD$33,Calculations!$B13+7,0)","v":{"$error":"#N/A"}},{"$f":"HLOOKUP($I$22,Calculations!$F$1:$BD$33,Calculations!$B13+7,0)","v":{"$error":"#N/A"}},null,{"$error":"#N/A"},{"$error":"#N/A"},{"$error":"#N/A"},{"$error":"#N/A"},null,{"$f":"HLOOKUP($P$22,Calculations!$F$1:$BD$33,Calculations!$B13+7,0)","v":{"$error":"#N/A"}},{"$f":"HLOOKUP($Q$22,Calculations!$F$1:$BD$33,Calculations!$B13+7,0)","v":0},{"$f":"IF($R$22=0,0,HLOOKUP($R$22,Calculations!$F$1:$BD$33,Calculations!$B13+7,0))","v":0},{"$f":"IF($S$22=0,0,HLOOKUP($S$22,Calculations!$F$1:$BD$33,Calculations!$B13+7,0))","v":0},{"$f":"IF($T$22=0,0,HLOOKUP($T$22,Calculations!$F$1:$BD$33,Calculations!$B13+7,FALSE))","v":{"$error":"#N/A"}},{"$f":"HLOOKUP($U$22,Calculations!$F$1:$BD$33,Calculations!$B13+7,0)","v":{"$error":"#N/A"}},null,{"$error":"#N/A"},{"$error":"#N/A"},{"$error":"#N/A"},{"$error":"#N/A"}]
[null,null,7,"Carbon Monoxide (kg)",{"$f":"HLOOKUP($E$22,Calculations!$F$1:$BD$33,Calculations!$B14+7,0)","v":{"$error":"#N/A"}},{"$f":"HLOOKUP($F$22,Calculations!$F$1:$BD$33,Calculations!$B14+7,0)","v":{"$error":"#N/A"}},{"$f":"HLOOKUP($G$22,Calculations!$F$1:$BD$33,Calculations!$B14+7,0)","v":{"$error":"#N/A"}},{"$f":"HLOOKUP($H$22,Calculations!$F$1:$BD$33,Calculations!$B14+7,0)","v":{"$error":"#N/A"}},{"$f":"HLOOKUP($I$22,Calculations!$F$1:$BD$33,Calculations!$B14+7,0)","v":{"$error":"#N/A"}},null,{"$error":"#N/A"},{"$error":"#N/A"},{"$error":"#N/A"},{"$error":"#N/A"},null,{"$f":"HLOOKUP($P$22,Calculations!$F$1:$BD$33,Calculations!$B14+7,0)","v":{"$error":"#N/A"}},{"$f":"HLOOKUP($Q$22,Calculations!$F$1:$BD$33,Calculations!$B14+7,0)","v":0},{"$f":"IF($R$22=0,0,HLOOKUP($R$22,Calculations!$F$1:$BD$33,Calculations!$B14+7,0))","v":0},{"$f":"IF($S$22=0,0,HLOOKUP($S$22,Calculations!$F$1:$BD$33,Calculations!$B14+7,0))","v":0},{"$f":"IF($T$22=0,0,HLOOKUP($T$22,Calculations!$F$1:$BD$33,Calculations!$B14+7,FALSE))","v":{"$error":"#N/A"}},{"$f":"HLOOKUP($U$22,Calculations!$F$1:$BD$33,Calculations!$B14+7,0)","v":{"$error":"#N/A"}},null,{"$error":"#N/A"},{"$error":"#N/A"},{"$error":"#N/A"},{"$error":"#N/A"}]
[null,null,8,"Particulate Matter (kg)",{"$f":"HLOOKUP($E$22,Calculations!$F$1:$BD$33,Calculations!$B15+7,0)","v":{"$error":"#N/A"}},{"$f":"HLOOKUP($F$22,Calculations!$F$1:$BD$33,Calculations!$B15+7,0)","v":{"$error":"#N/A"}},{"$f":"HLOOKUP($G$22,Calculations!$F$1:$BD$33,Calculations!$B15+7,0)","v":{"$error":"#N/A"}},{"$f":"HLOOKUP($H$22,Calculations!$F$1:$BD$33,Calculations!$B15+7,0)","v":{"$error":"#N/A"}},{"$f":"HLOOKUP($I$22,Calculations!$F$1:$BD$33,Calculations!$B15+7,0)","v":{"$error":"#N/A"}},null,{"$error":"#N/A"},{"$error":"#N/A"},{"$error":"#N/A"},{"$error":"#N/A"},null,{"$f":"HLOOKUP($P$22,Calculations!$F$1:$BD$33,Calculations!$B15+7,0)","v":{"$error":"#N/A"}},{"$f":"HLOOKUP($Q$22,Calculations!$F$1:$BD$33,Calculations!$B15+7,0)","v":0},{"$f":"IF($R$22=0,0,HLOOKUP($R$22,Calculations!$F$1:$BD$33,Calculations!$B15+7,0))","v":0},{"$f":"IF($S$22=0,0,HLOOKUP($S$22,Calculations!$F$1:$BD$33,Calculations!$B15+7,0))","v":0},{"$f":"IF($T$22=0,0,HLOOKUP($T$22,Calculations!$F$1:$BD$33,Calculations!$B15+7,FALSE))","v":{"$error":"#N/A"}},{"$f":"HLOOKUP($U$22,Calculations!$F$1:$BD$33,Calculations!$B15+7,0)","v":{"$error":"#N/A"}},null,{"$error":"#N/A"},{"$error":"#N/A"},{"$error":"#N/A"},{"$error":"#N/A"}]
[null,null,9,"Lead (kg)",{"$f":"HLOOKUP($E$22,Calculations!$F$1:$BD$33,Calculations!$B16+7,0)","v":{"$error":"#N/A"}},{"$f":"HLOOKUP($F$22,Calculations!$F$1:$BD$33,Calculations!$B16+7,0)","v":{"$error":"#N/A"}},{"$f":"HLOOKUP($G$22,Calculations!$F$1:$BD$33,Calculations!$B16+7,0)","v":{"$error":"#N/A"}},{"$f":"HLOOKUP($H$22,Calculations!$F$1:$BD$33,Calculations!$B16+7,0)","v":{"$error":"#N/A"}},{"$f":"HLOOKUP($I$22,Calculations!$F$1:$BD$33,Calculations!$B16+7,0)","v":{"$error":"#N/A"}},null,{"$error":"#N/A"},{"$error":"#N/A"},{"$error":"#N/A"},{"$error":"#N/A"},null,{"$f":"HLOOKUP($P$22,Calculations!$F$1:$BD$33,Calculations!$B16+7,0)","v":{"$error":"#N/A"}},{"$f":"HLOOKUP($Q$22,Calculations!$F$1:$BD$33,Calculations!$B16+7,0)","v":0},{"$f":"IF($R$22=0,0,HLOOKUP($R$22,Calculations!$F$1:$BD$33,Calculations!$B16+7,0))","v":0},{"$f":"IF($S$22=0,0,HLOOKUP($S$22,Calculations!$F$1:$BD$33,Calculations!$B16+7,0))","v":0},{"$f":"IF($T$22=0,0,HLOOKUP($T$22,Calculations!$F$1:$BD$33,Calculations!$B16+7,FALSE))","v":{"$error":"#N/A"}},{"$f":"HLOOKUP($U$22,Calculations!$F$1:$BD$33,Calculations!$B16+7,0)","v":{"$error":"#N/A"}},null,{"$error":"#N/A"},{"$error":"#N/A"},{"$error":"#N/A"},{"$error":"#N/A"}]
[null,null,10,"Mercury (kg)",{"$f":"HLOOKUP($E$22,Calculations!$F$1:$BD$33,Calculations!$B17+7,0)","v":{"$error":"#N/A"}},{"$f":"HLOOKUP($F$22,Calculations!$F$1:$BD$33,Calculations!$B17+7,0)","v":{"$error":"#N/A"}},{"$f":"HLOOKUP($G$22,Calculations!$F$1:$BD$33,Calculations!$B17+7,0)","v":{"$error":"#N/A"}},{"$f":"HLOOKUP($H$22,Calculations!$F$1:$BD$33,Calculations!$B17+7,0)","v":{"$error":"#N/A"}},{"$f":"HLOOKUP($I$22,Calculations!$F$1:$BD$33,Calculations!$B17+7,0)","v":{"$error":"#N/A"}},null,{"$error":"#N/A"},{"$error":"#N/A"},{"$error":"#N/A"},{"$error":"#N/A"},null,{"$f":"HLOOKUP($P$22,Calculations!$F$1:$BD$33,Calculations!$B17+7,0)","v":{"$error":"#N/A"}},{"$f":"HLOOKUP($Q$22,Calculations!$F$1:$BD$33,Calculations!$B17+7,0)","v":0},{"$f":"IF($R$22=0,0,HLOOKUP($R$22,Calculations!$F$1:$BD$33,Calculations!$B17+7,0))","v":0},{"$f":"IF($S$22=0,0,HLOOKUP($S$22,Calculations!$F$1:$BD$33,Calculations!$B17+7,0))","v":0},{"$f":"IF($T$22=0,0,HLOOKUP($T$22,Calculations!$F$1:$BD$33,Calculations!$B17+7,FALSE))","v":{"$error":"#N/A"}},{"$f":"HLOOKUP($U$22,Calculations!$F$1:$BD$33,Calculations!$B17+7,0)","v":{"$error":"#N/A"}},null,{"$error":"#N/A"},{"$error":"#N/A"},{"$error":"#N/A"},{"$error":"#N/A"}]
[null,null,11,"Ammonia (kg)",{"$f":"HLOOKUP($E$22,Calculations!$F$1:$BD$33,Calculations!$B18+7,0)","v":{"$error":"#N/A"}},{"$f":"HLOOKUP($F$22,Calculations!$F$1:$BD$33,Calculations!$B18+7,0)","v":{"$error":"#N/A"}},{"$f":"HLOOKUP($G$22,Calculations!$F$1:$BD$33,Calculations!$B18+7,0)","v":{"$error":"#N/A"}},{"$f":"HLOOKUP($H$22,Calculations!$F$1:$BD$33,Calculations!$B18+7,0)","v":{"$error":"#N/A"}},{"$f":"HLOOKUP($I$22,Calculations!$F$1:$BD$33,Calculations!$B18+7,0)","v":{"$error":"#N/A"}},null,{"$error":"#N/A"},{"$error":"#N/A"},{"$error":"#N/A"},{"$error":"#N/A"},null,{"$f":"HLOOKUP($P$22,Calculations!$F$1:$BD$33,Calculations!$B18+7,0)","v":{"$error":"#N/A"}},{"$f":"HLOOKUP($Q$22,Calculations!$F$1:$BD$33,Calculations!$B18+7,0)","v":0},{"$f":"IF($R$22=0,0,HLOOKUP($R$22,Calculations!$F$1:$BD$33,Calculations!$B18+7,0))","v":0},{"$f":"IF($S$22=0,0,HLOOKUP($S$22,Calculations!$F$1:$BD$33,Calculations!$B18+7,0))","v":0},{"$f":"IF($T$22=0,0,HLOOKUP($T$22,Calculations!$F$1:$BD$33,Calculations!$B18+7,FALSE))","v":{"$error":"#N/A"}},{"$f":"HLOOKUP($U$22,Calculations!$F$1:$BD$33,Calculations!$B18+7,0)","v":{"$error":"#N/A"}},null,{"$error":"#N/A"},{"$error":"#N/A"},{"$error":"#N/A"},{"$error":"#N/A"}]
[null,null,12,"Radiation (kg)",{"$f":"HLOOKUP($E$22,Calculations!$F$1:$BD$33,Calculations!$B19+7,0)","v":{"$error":"#N/A"}},{"$f":"HLOOKUP($F$22,Calculations!$F$1:$BD$33,Calculations!$B19+7,0)","v":{"$error":"#N/A"}},{"$f":"HLOOKUP($G$22,Calculations!$F$1:$BD$33,Calculations!$B19+7,0)","v":{"$error":"#N/A"}},{"$f":"HLOOKUP($H$22,Calculations!$F$1:$BD$33,Calculations!$B19+7,0)","v":{"$error":"#N/A"}},{"$f":"HLOOKUP($I$22,Calculations!$F$1:$BD$33,Calculations!$B19+7,0)","v":{"$error":"#N/A"}},null,{"$error":"#N/A"},{"$error":"#N/A"},{"$error":"#N/A"},{"$error":"#N/A"},null,{"$f":"HLOOKUP($P$22,Calculations!$F$1:$BD$33,Calculations!$B19+7,0)","v":{"$error":"#N/A"}},{"$f":"HLOOKUP($Q$22,Calculations!$F$1:$BD$33,Calculations!$B19+7,0)","v":0},{"$f":"IF($R$22=0,0,HLOOKUP($R$22,Calculations!$F$1:$BD$33,Calculations!$B19+7,0))","v":0},{"$f":"IF($S$22=0,0,HLOOKUP($S$22,Calculations!$F$1:$BD$33,Calculations!$B19+7,0))","v":0},{"$f":"IF($T$22=0,0,HLOOKUP($T$22,Calculations!$F$1:$BD$33,Calculations!$B19+7,FALSE))","v":{"$error":"#N/A"}},{"$f":"HLOOKUP($U$22,Calculations!$F$1:$BD$33,Calculations!$B19+7,0)","v":{"$error":"#N/A"}},null,{"$error":"#N/A"},{"$error":"#N/A"},{"$error":"#N/A"},{"$error":"#N/A"}]
[null,null,13,"Non Methane VOC (kg)",{"$f":"HLOOKUP($E$22,Calculations!$F$1:$BD$33,Calculations!$B20+7,0)","v":{"$error":"#N/A"}},{"$f":"HLOOKUP($F$22,Calculations!$F$1:$BD$33,Calculations!$B20+7,0)","v":{"$error":"#N/A"}},{"$f":"HLOOKUP($G$22,Calculations!$F$1:$BD$33,Calculations!$B20+7,0)","v":{"$error":"#N/A"}},{"$f":"HLOOKUP($H$22,Calculations!$F$1:$BD$33,Calculations!$B20+7,0)","v":{"$error":"#N/A"}},{"$f":"HLOOKUP($I$22,Calculations!$F$1:$BD$33,Calculations!$B20+7,0)","v":{"$error":"#N/A"}},null,{"$error":"#N/A"},{"$error":"#N/A"},{"$error":"#N/A"},{"$error":"#N/A"},null,{"$f":"HLOOKUP($P$22,Calculations!$F$1:$BD$33,Calculations!$B20+7,0)","v":{"$error":"#N/A"}},{"$f":"HLOOKUP($Q$22,Calculations!$F$1:$BD$33,Calculations!$B20+7,0)","v":0},{"$f":"IF($R$22=0,0,HLOOKUP($R$22,Calculations!$F$1:$BD$33,Calculations!$B20+7,0))","v":0},{"$f":"IF($S$22=0,0,HLOOKUP($S$22,Calculations!$F$1:$BD$33,Calculations!$B20+7,0))","v":0},{"$f":"IF($T$22=0,0,HLOOKUP($T$22,Calculations!$F$1:$BD$33,Calculations!$B20+7,FALSE))","v":{"$error":"#N/A"}},{"$f":"HLOOKUP($U$22,Calculations!$F$1:$BD$33,Calculations!$B20+7,0)","v":{"$error":"#N/A"}},null,{"$error":"#N/A"},{"$error":"#N/A"},{"$error":"#N/A"},{"$error":"#N/A"}]
[null,"Solid Waste",14,"Heavy Metals to Soil (kg)",{"$f":"HLOOKUP($E$22,Calculations!$F$1:$BD$33,Calculations!$B21+7,0)","v":{"$error":"#N/A"}},{"$f":"HLOOKUP($F$22,Calculations!$F$1:$BD$33,Calculations!$B21+7,0)","v":{"$error":"#N/A"}},{"$f":"HLOOKUP($G$22,Calculations!$F$1:$BD$33,Calculations!$B21+7,0)","v":{"$error":"#N/A"}},{"$f":"HLOOKUP($H$22,Calculations!$F$1:$BD$33,Calculations!$B21+7,0)","v":{"$error":"#N/A"}},{"$f":"HLOOKUP($I$22,Calculations!$F$1:$BD$33,Calculations!$B21+7,0)","v":{"$error":"#N/A"}},null,{"$error":"#N/A"},{"$error":"#N/A"},{"$error":"#N/A"},{"$error":"#N/A"},null,{"$f":"HLOOKUP($P$22,Calculations!$F$1:$BD$33,Calculations!$B21+7,0)","v":{"$error":"#N/A"}},{"$f":"HLOOKUP($Q$22,Calculations!$F$1:$BD$33,Calculations!$B21+7,0)","v":0},{"$f":"IF($R$22=0,0,HLOOKUP($R$22,Calculations!$F$1:$BD$33,Calculations!$B21+7,0))","v":0},{"$f":"IF($S$22=0,0,HLOOKUP($S$22,Calculations!$F$1:$BD$33,Calculations!$B21+7,0))","v":0},{"$f":"IF($T$22=0,0,HLOOKUP($T$22,Calculations!$F$1:$BD$33,Calculations!$B21+7,FALSE))","v":{"$error":"#N/A"}},{"$f":"HLOOKUP($U$22,Calculations!$F$1:$BD$33,Calculations!$B21+7,0)","v":{"$error":"#N/A"}},null,{"$error":"#N/A"},{"$error":"#N/A"},{"$error":"#N/A"},{"$error":"#N/A"}]
[null,null,15,"Solid Waste (kg)",{"$f":"HLOOKUP($E$22,Calculations!$F$1:$BD$33,Calculations!$B22+7,0)","v":{"$error":"#N/A"}},{"$f":"HLOOKUP($F$22,Calculations!$F$1:$BD$33,Calculations!$B22+7,0)","v":{"$error":"#N/A"}},{"$f":"HLOOKUP($G$22,Calculations!$F$1:$BD$33,Calculations!$B22+7,0)","v":{"$error":"#N/A"}},{"$f":"HLOOKUP($H$22,Calculations!$F$1:$BD$33,Calculations!$B22+7,0)","v":{"$error":"#N/A"}},{"$f":"HLOOKUP($I$22,Calculations!$F$1:$BD$33,Calculations!$B22+7,0)","v":{"$error":"#N/A"}},null,{"$error":"#N/A"},{"$error":"#N/A"},{"$error":"#N/A"},{"$error":"#N/A"},null,{"$f":"HLOOKUP($P$22,Calculations!$F$1:$BD$33,Calculations!$B22+7,0)","v":{"$error":"#N/A"}},{"$f":"HLOOKUP($Q$22,Calculations!$F$1:$BD$33,Calculations!$B22+7,0)","v":0},{"$f":"IF($R$22=0,0,HLOOKUP($R$22,Calculations!$F$1:$BD$33,Calculations!$B22+7,0))","v":0},{"$f":"IF($S$22=0,0,HLOOKUP($S$22,Calculations!$F$1:$BD$33,Calculations!$B22+7,0))","v":0},{"$f":"IF($T$22=0,0,HLOOKUP($T$22,Calculations!$F$1:$BD$33,Calculations!$B22+7,FALSE))","v":{"$error":"#N/A"}},{"$f":"HLOOKUP($U$22,Calculations!$F$1:$BD$33,Calculations!$B22+7,0)","v":{"$error":"#N/A"}},null,{"$error":"#N/A"},{"$error":"#N/A"},{"$error":"#N/A"},{"$error":"#N/A"}]
[null,"Water Emissions",16,"Aluminum (kg)",{"$f":"HLOOKUP($E$22,Calculations!$F$1:$BD$33,Calculations!$B23+7,0)","v":{"$error":"#N/A"}},{"$f":"HLOOKUP($F$22,Calculations!$F$1:$BD$33,Calculations!$B23+7,0)","v":{"$error":"#N/A"}},{"$f":"HLOOKUP($G$22,Calculations!$F$1:$BD$33,Calculations!$B23+7,0)","v":{"$error":"#N/A"}},{"$f":"HLOOKUP($H$22,Calculations!$F$1:$BD$33,Calculations!$B23+7,0)","v":{"$error":"#N/A"}},{"$f":"HLOOKUP($I$22,Calculations!$F$1:$BD$33,Calculations!$B23+7,0)","v":{"$error":"#N/A"}},null,{"$error":"#N/A"},{"$error":"#N/A"},{"$error":"#N/A"},{"$error":"#N/A"},null,{"$f":"HLOOKUP($P$22,Calculations!$F$1:$BD$33,Calculations!$B23+7,0)","v":{"$error":"#N/A"}},{"$f":"HLOOKUP($Q$22,Calculations!$F$1:$BD$33,Calculations!$B23+7,0)","v":0},{"$f":"IF($R$22=0,0,HLOOKUP($R$22,Calculations!$F$1:$BD$33,Calculations!$B23+7,0))","v":0},{"$f":"IF($S$22=0,0,HLOOKUP($S$22,Calculations!$F$1:$BD$33,Calculations!$B23+7,0))","v":0},{"$f":"IF($T$22=0,0,HLOOKUP($T$22,Calculations!$F$1:$BD$33,Calculations!$B23+7,FALSE))","v":{"$error":"#N/A"}},{"$f":"HLOOKUP($U$22,Calculations!$F$1:$BD$33,Calculations!$B23+7,0)","v":{"$error":"#N/A"}},null,{"$error":"#N/A"},{"$error":"#N/A"},{"$error":"#N/A"},{"$error":"#N/A"}]
[null,null,17,"Ammonium/ammonia (kg)",{"$f":"HLOOKUP($E$22,Calculations!$F$1:$BD$33,Calculations!$B24+7,0)","v":{"$error":"#N/A"}},{"$f":"HLOOKUP($F$22,Calculations!$F$1:$BD$33,Calculations!$B24+7,0)","v":{"$error":"#N/A"}},{"$f":"HLOOKUP($G$22,Calculations!$F$1:$BD$33,Calculations!$B24+7,0)","v":{"$error":"#N/A"}},{"$f":"HLOOKUP($H$22,Calculations!$F$1:$BD$33,Calculations!$B24+7,0)","v":{"$error":"#N/A"}},{"$f":"HLOOKUP($I$22,Calculations!$F$1:$BD$33,Calculations!$B24+7,0)","v":{"$error":"#N/A"}},null,{"$error":"#N/A"},{"$error":"#N/A"},{"$error":"#N/A"},{"$error":"#N/A"},null,{"$f":"HLOOKUP($P$22,Calculations!$F$1:$BD$33,Calculations!$B24+7,0)","v":{"$error":"#N/A"}},{"$f":"HLOOKUP($Q$22,Calculations!$F$1:$BD$33,Calculations!$B24+7,0)","v":0},{"$f":"IF($R$22=0,0,HLOOKUP($R$22,Calculations!$F$1:$BD$33,Calculations!$B24+7,0))","v":0},{"$f":"IF($S$22=0,0,HLOOKUP($S$22,Calculations!$F$1:$BD$33,Calculations!$B24+7,0))","v":0},{"$f":"IF($T$22=0,0,HLOOKUP($T$22,Calculations!$F$1:$BD$33,Calculations!$B24+7,FALSE))","v":{"$error":"#N/A"}},{"$f":"HLOOKUP($U$22,Calculations!$F$1:$BD$33,Calculations!$B24+7,0)","v":{"$error":"#N/A"}},null,{"$error":"#N/A"},{"$error":"#N/A"},{"$error":"#N/A"},{"$error":"#N/A"}]
[null,null,18,"Heavy Metals (kg)",{"$f":"HLOOKUP($E$22,Calculations!$F$1:$BD$33,Calculations!$B25+7,0)","v":{"$error":"#N/A"}},{"$f":"HLOOKUP($F$22,Calculations!$F$1:$BD$33,Calculations!$B25+7,0)","v":{"$error":"#N/A"}},{"$f":"HLOOKUP($G$22,Calculations!$F$1:$BD$33,Calculations!$B25+7,0)","v":{"$error":"#N/A"}},{"$f":"HLOOKUP($H$22,Calculations!$F$1:$BD$33,Calculations!$B25+7,0)","v":{"$error":"#N/A"}},{"$f":"HLOOKUP($I$22,Calculations!$F$1:$BD$33,Calculations!$B25+7,0)","v":{"$error":"#N/A"}},null,{"$error":"#N/A"},{"$error":"#N/A"},{"$error":"#N/A"},{"$error":"#N/A"},null,{"$f":"HLOOKUP($P$22,Calculations!$F$1:$BD$33,Calculations!$B25+7,0)","v":{"$error":"#N/A"}},{"$f":"HLOOKUP($Q$22,Calculations!$F$1:$BD$33,Calculations!$B25+7,0)","v":0},{"$f":"IF($R$22=0,0,HLOOKUP($R$22,Calculations!$F$1:$BD$33,Calculations!$B25+7,0))","v":0},{"$f":"IF($S$22=0,0,HLOOKUP($S$22,Calculations!$F$1:$BD$33,Calculations!$B25+7,0))","v":0},{"$f":"IF($T$22=0,0,HLOOKUP($T$22,Calculations!$F$1:$BD$33,Calculations!$B25+7,FALSE))","v":{"$error":"#N/A"}},{"$f":"HLOOKUP($U$22,Calculations!$F$1:$BD$33,Calculations!$B25+7,0)","v":{"$error":"#N/A"}},null,{"$error":"#N/A"},{"$error":"#N/A"},{"$error":"#N/A"},{"$error":"#N/A"}]
[null,null,19,"Nitrate (kg)",{"$f":"HLOOKUP($E$22,Calculations!$F$1:$BD$33,Calculations!$B26+7,0)","v":{"$error":"#N/A"}},{"$f":"HLOOKUP($F$22,Calculations!$F$1:$BD$33,Calculations!$B26+7,0)","v":{"$error":"#N/A"}},{"$f":"HLOOKUP($G$22,Calculations!$F$1:$BD$33,Calculations!$B26+7,0)","v":{"$error":"#N/A"}},{"$f":"HLOOKUP($H$22,Calculations!$F$1:$BD$33,Calculations!$B26+7,0)","v":{"$error":"#N/A"}},{"$f":"HLOOKUP($I$22,Calculations!$F$1:$BD$33,Calculations!$B26+7,0)","v":{"$error":"#N/A"}},null,{"$error":"#N/A"},{"$error":"#N/A"},{"$error":"#N/A"},{"$error":"#N/A"},null,{"$f":"HLOOKUP($P$22,Calculations!$F$1:$BD$33,Calculations!$B26+7,0)","v":{"$error":"#N/A"}},{"$f":"HLOOKUP($Q$22,Calculations!$F$1:$BD$33,Calculations!$B26+7,0)","v":0},{"$f":"IF($R$22=0,0,HLOOKUP($R$22,Calculations!$F$1:$BD$33,Calculations!$B26+7,0))","v":0},{"$f":"IF($S$22=0,0,HLOOKUP($S$22,Calculations!$F$1:$BD$33,Calculations!$B26+7,0))","v":0},{"$f":"IF($T$22=0,0,HLOOKUP($T$22,Calculations!$F$1:$BD$33,Calculations!$B26+7,FALSE))","v":{"$error":"#N/A"}},{"$f":"HLOOKUP($U$22,Calculations!$F$1:$BD$33,Calculations!$B26+7,0)","v":{"$error":"#N/A"}},null,{"$error":"#N/A"},{"$error":"#N/A"},{"$error":"#N/A"},{"$error":"#N/A"}]
[null,null,20,"Nitrogen (kg)",{"$f":"HLOOKUP($E$22,Calculations!$F$1:$BD$33,Calculations!$B27+7,0)","v":{"$error":"#N/A"}},{"$f":"HLOOKUP($F$22,Calculations!$F$1:$BD$33,Calculations!$B27+7,0)","v":{"$error":"#N/A"}},{"$f":"HLOOKUP($G$22,Calculations!$F$1:$BD$33,Calculations!$B27+7,0)","v":{"$error":"#N/A"}},{"$f":"HLOOKUP($H$22,Calculations!$F$1:$BD$33,Calculations!$B27+7,0)","v":{"$error":"#N/A"}},{"$f":"HLOOKUP($I$22,Calculations!$F$1:$BD$33,Calculations!$B27+7,0)","v":{"$error":"#N/A"}},null,{"$error":"#N/A"},{"$error":"#N/A"},{"$error":"#N/A"},{"$error":"#N/A"},null,{"$f":"HLOOKUP($P$22,Calculations!$F$1:$BD$33,Calculations!$B27+7,0)","v":{"$error":"#N/A"}},{"$f":"HLOOKUP($Q$22,Calculations!$F$1:$BD$33,Calculations!$B27+7,0)","v":0},{"$f":"IF($R$22=0,0,HLOOKUP($R$22,Calculations!$F$1:$BD$33,Calculations!$B27+7,0))","v":0},{"$f":"IF($S$22=0,0,HLOOKUP($S$22,Calculations!$F$1:$BD$33,Calculations!$B27+7,0))","v":0},{"$f":"IF($T$22=0,0,HLOOKUP($T$22,Calculations!$F$1:$BD$33,Calculations!$B27+7,FALSE))","v":{"$error":"#N/A"}},{"$f":"HLOOKUP($U$22,Calculations!$F$1:$BD$33,Calculations!$B27+7,0)","v":{"$error":"#N/A"}},null,{"$error":"#N/A"},{"$error":"#N/A"},{"$error":"#N/A"},{"$error":"#N/A"}]
[null,null,21,"Phosphate (kg)",{"$f":"HLOOKUP($E$22,Calculations!$F$1:$BD$33,Calculations!$B28+7,0)","v":{"$error":"#N/A"}},{"$f":"HLOOKUP($F$22,Calculations!$F$1:$BD$33,Calculations!$B28+7,0)","v":{"$error":"#N/A"}},{"$f":"HLOOKUP($G$22,Calculations!$F$1:$BD$33,Calculations!$B28+7,0)","v":{"$error":"#N/A"}},{"$f":"HLOOKUP($H$22,Calculations!$F$1:$BD$33,Calculations!$B28+7,0)","v":{"$error":"#N/A"}},{"$f":"HLOOKUP($I$22,Calculations!$F$1:$BD$33,Calculations!$B28+7,0)","v":{"$error":"#N/A"}},null,{"$error":"#N/A"},{"$error":"#N/A"},{"$error":"#N/A"},{"$error":"#N/A"},null,{"$f":"HLOOKUP($P$22,Calculations!$F$1:$BD$33,Calculations!$B28+7,0)","v":{"$error":"#N/A"}},{"$f":"HLOOKUP($Q$22,Calculations!$F$1:$BD$33,Calculations!$B28+7,0)","v":0},{"$f":"IF($R$22=0,0,HLOOKUP($R$22,Calculations!$F$1:$BD$33,Calculations!$B28+7,0))","v":0},{"$f":"IF($S$22=0,0,HLOOKUP($S$22,Calculations!$F$1:$BD$33,Calculations!$B28+7,0))","v":0},{"$f":"IF($T$22=0,0,HLOOKUP($T$22,Calculations!$F$1:$BD$33,Calculations!$B28+7,FALSE))","v":{"$error":"#N/A"}},{"$f":"HLOOKUP($U$22,Calculations!$F$1:$BD$33,Calculations!$B28+7,0)","v":{"$error":"#N/A"}},null,{"$error":"#N/A"},{"$error":"#N/A"},{"$error":"#N/A"},{"$error":"#N/A"}]
[null,null,22,"Phosphorus (kg)",{"$f":"HLOOKUP($E$22,Calculations!$F$1:$BD$33,Calculations!$B29+7,0)","v":{"$error":"#N/A"}},{"$f":"HLOOKUP($F$22,Calculations!$F$1:$BD$33,Calculations!$B29+7,0)","v":{"$error":"#N/A"}},{"$f":"HLOOKUP($G$22,Calculations!$F$1:$BD$33,Calculations!$B29+7,0)","v":{"$error":"#N/A"}},{"$f":"HLOOKUP($H$22,Calculations!$F$1:$BD$33,Calculations!$B29+7,0)","v":{"$error":"#N/A"}},{"$f":"HLOOKUP($I$22,Calculations!$F$1:$BD$33,Calculations!$B29+7,0)","v":{"$error":"#N/A"}},null,{"$error":"#N/A"},{"$error":"#N/A"},{"$error":"#N/A"},{"$error":"#N/A"},null,{"$f":"HLOOKUP($P$22,Calculations!$F$1:$BD$33,Calculations!$B29+7,0)","v":{"$error":"#N/A"}},{"$f":"HLOOKUP($Q$22,Calculations!$F$1:$BD$33,Calculations!$B29+7,0)","v":0},{"$f":"IF($R$22=0,0,HLOOKUP($R$22,Calculations!$F$1:$BD$33,Calculations!$B29+7,0))","v":0},{"$f":"IF($S$22=0,0,HLOOKUP($S$22,Calculations!$F$1:$BD$33,Calculations!$B29+7,0))","v":0},{"$f":"IF($T$22=0,0,HLOOKUP($T$22,Calculations!$F$1:$BD$33,Calculations!$B29+7,FALSE))","v":{"$error":"#N/A"}},{"$f":"HLOOKUP($U$22,Calculations!$F$1:$BD$33,Calculations!$B29+7,0)","v":{"$error":"#N/A"}},null,{"$error":"#N/A"},{"$error":"#N/A"},{"$error":"#N/A"},{"$error":"#N/A"}]
[null,"Water",23,"Water Withdrawal (kg)",{"$f":"HLOOKUP($E$22,Calculations!$F$1:$BD$33,Calculations!$B30+7,0)","v":{"$error":"#N/A"}},{"$f":"HLOOKUP($F$22,Calculations!$F$1:$BD$33,Calculations!$B30+7,0)","v":{"$error":"#N/A"}},{"$f":"HLOOKUP($G$22,Calculations!$F$1:$BD$33,Calculations!$B30+7,0)","v":{"$error":"#N/A"}},{"$f":"HLOOKUP($H$22,Calculations!$F$1:$BD$33,Calculations!$B30+7,0)","v":{"$error":"#N/A"}},{"$f":"HLOOKUP($I$22,Calculations!$F$1:$BD$33,Calculations!$B30+7,0)","v":{"$error":"#N/A"}},null,{"$error":"#N/A"},{"$error":"#N/A"},{"$error":"#N/A"},{"$error":"#N/A"},null,{"$f":"HLOOKUP($P$22,Calculations!$F$1:$BD$33,Calculations!$B30+7,0)","v":{"$error":"#N/A"}},{"$f":"HLOOKUP($Q$22,Calculations!$F$1:$BD$33,Calculations!$B30+7,0)","v":0},{"$f":"IF($R$22=0,0,HLOOKUP($R$22,Calculations!$F$1:$BD$33,Calculations!$B30+7,0))","v":0},{"$f":"IF($S$22=0,0,HLOOKUP($S$22,Calculations!$F$1:$BD$33,Calculations!$B30+7,0))","v":0},{"$f":"IF($T$22=0,0,HLOOKUP($T$22,Calculations!$F$1:$BD$33,Calculations!$B30+7,FALSE))","v":{"$error":"#N/A"}},{"$f":"HLOOKUP($U$22,Calculations!$F$1:$BD$33,Calculations!$B30+7,0)","v":{"$error":"#N/A"}},null,{"$error":"#N/A"},{"$error":"#N/A"},{"$error":"#N/A"},{"$error":"#N/A"}]
[null,null,24,"Water Consumption (kg)",{"$f":"HLOOKUP($E$22,Calculations!$F$1:$BD$33,Calculations!$B31+7,0)","v":{"$error":"#N/A"}},{"$f":"HLOOKUP($F$22,Calculations!$F$1:$BD$33,Calculations!$B31+7,0)","v":{"$error":"#N/A"}},{"$f":"HLOOKUP($G$22,Calculations!$F$1:$BD$33,Calculations!$B31+7,0)","v":{"$error":"#N/A"}},{"$f":"HLOOKUP($H$22,Calculations!$F$1:$BD$33,Calculations!$B31+7,0)","v":{"$error":"#N/A"}},{"$f":"HLOOKUP($I$22,Calculations!$F$1:$BD$33,Calculations!$B31+7,0)","v":{"$error":"#N/A"}},null,{"$error":"#N/A"},{"$error":"#N/A"},{"$error":"#N/A"},{"$error":"#N/A"},null,{"$f":"HLOOKUP($P$22,Calculations!$F$1:$BD$33,Calculations!$B31+7,0)","v":{"$error":"#N/A"}},{"$f":"HLOOKUP($Q$22,Calculations!$F$1:$BD$33,Calculations!$B31+7,0)","v":0},{"$f":"IF($R$22=0,0,HLOOKUP($R$22,Calculations!$F$1:$BD$33,Calculations!$B31+7,0))","v":0},{"$f":"IF($S$22=0,0,HLOOKUP($S$22,Calculations!$F$1:$BD$33,Calculations!$B31+7,0))","v":0},{"$f":"IF($T$22=0,0,HLOOKUP($T$22,Calculations!$F$1:$BD$33,Calculations!$B31+7,FALSE))","v":{"$error":"#N/A"}},{"$f":"HLOOKUP($U$22,Calculations!$F$1:$BD$33,Calculations!$B31+7,0)","v":{"$error":"#N/A"}},null,{"$error":"#N/A"},{"$error":"#N/A"},{"$error":"#N/A"},{"$error":"#N/A"}]
[null,"Land Use",25,"Acreage Change",{"$f":"HLOOKUP($E$22,Calculations!$F$1:$BD$33,Calculations!$B32+7,0)","v":{"$error":"#N/A"}},{"$f":"HLOOKUP($F$22,Calculations!$F$1:$BD$33,Calculations!$B32+7,0)","v":{"$error":"#N/A"}},{"$f":"HLOOKUP($G$22,Calculations!$F$1:$BD$33,Calculations!$B32+7,0)","v":{"$error":"#N/A"}},{"$f":"HLOOKUP($H$22,Calculations!$F$1:$BD$33,Calculations!$B32+7,0)","v":{"$error":"#N/A"}},{"$f":"HLOOKUP($I$22,Calculations!$F$1:$BD$33,Calculations!$B32+7,0)","v":{"$error":"#N/A"}},null,{"$error":"#N/A"},{"$error":"#N/A"},{"$error":"#N/A"},{"$error":"#N/A"},null,{"$f":"HLOOKUP($P$22,Calculations!$F$1:$BD$33,Calculations!$B32+7,0)","v":{"$error":"#N/A"}},{"$f":"HLOOKUP($Q$22,Calculations!$F$1:$BD$33,Calculations!$B32+7,0)","v":0},{"$f":"IF($R$22=0,0,HLOOKUP($R$22,Calculations!$F$1:$BD$33,Calculations!$B32+7,0))","v":0},{"$f":"IF($S$22=0,0,HLOOKUP($S$22,Calculations!$F$1:$BD$33,Calculations!$B32+7,0))","v":0},{"$f":"IF($T$22=0,0,HLOOKUP($T$22,Calculations!$F$1:$BD$33,Calculations!$B32+7,FALSE))","v":{"$error":"#N/A"}},{"$f":"HLOOKUP($U$22,Calculations!$F$1:$BD$33,Calculations!$B32+7,0)","v":{"$error":"#N/A"}},null,{"$error":"#N/A"},{"$error":"#N/A"},{"$error":"#N/A"},{"$error":"#N/A"}]
[null,"EROI",26,"Energy Input (MJ)",{"$f":"HLOOKUP($E$22,Calculations!$F$1:$BD$33,Calculations!$B33+7,0)","v":{"$error":"#N/A"}},{"$f":"HLOOKUP($F$22,Calculations!$F$1:$BD$33,Calculations!$B33+7,0)","v":{"$error":"#N/A"}},{"$f":"HLOOKUP($G$22,Calculations!$F$1:$BD$33,Calculations!$B33+7,0)","v":{"$error":"#N/A"}},{"$f":"HLOOKUP($H$22,Calculations!$F$1:$BD$33,Calculations!$B33+7,0)","v":{"$error":"#N/A"}},{"$f":"HLOOKUP($I$22,Calculations!$F$1:$BD$33,Calculations!$B33+7,0)","v":{"$error":"#N/A"}},null,{"$error":"#N/A"},{"$error":"#N/A"},{"$error":"#N/A"},{"$error":"#N/A"},null,{"$f":"HLOOKUP($P$22,Calculations!$F$1:$BD$33,Calculations!$B33+7,0)","v":{"$error":"#N/A"}},{"$f":"HLOOKUP($Q$22,Calculations!$F$1:$BD$33,Calculations!$B33+7,0)","v":0},{"$f":"IF($R$22=0,0,HLOOKUP($R$22,Calculations!$F$1:$BD$33,Calculations!$B33+7,0))","v":0},{"$f":"IF($S$22=0,0,HLOOKUP($S$22,Calculations!$F$1:$BD$33,Calculations!$B33+7,0))","v":0},{"$f":"IF($T$22=0,0,HLOOKUP($T$22,Calculations!$F$1:$BD$33,Calculations!$B33+7,FALSE))","v":{"$error":"#N/A"}},{"$f":"HLOOKUP($U$22,Calculations!$F$1:$BD$33,Calculations!$B33+7,0)","v":{"$error":"#N/A"}},null,{"$error":"#N/A"},{"$error":"#N/A"},{"$error":"#N/A"},{"$error":"#N/A"}]

{"sheet":"I6 RMA","index":16,"n_rows":69,"n_cols":16,"rows_kept":69,"cut":false,"hidden":true,"merged":[]}
["GaBi 4"]
[null,null,"Database:","C:\\Users\\548910\\Documents\\GaBi\\DB\\NETL_083111"]
["Balance:","Stage _1_ Hard Coal Material _Illinois _6_","  Mass [kg]","kg","2011-09-22T15:22:34","Balance view: ","Upstreams (no sf6)",null,null,"base","alt","difference"]
["Balance object:","Stage #1: Hard Coal Material (Illinois #6) [Stage #1: Coal mine]","2011-08-26T13:24:39","{786EF72E-BEE3-416B-878A-AFB737B010C0}",null,null,null,null,"distance",360,400,{"$f":"K4-J4","v":40}]
["In/out aggregation","Yes","Weak point analysis","No","Last service pack:",17]
[]
["&Inputs"]
[null,null,null,null,null,null,360,400,null,null,"slope","intercept"]
[null,null,null,null,null,null,"New","New1",null,null,null,null,null,null,"  Energy ren. (net calorific value) [MJ]","MJ"]
["Flows","Flows","Flows","Flows","Flows","Flows",1.1423279611000901,1.1423279611000901]
[null,"Resources","Resources","Resources","Resources","Resources",1.1423279611000901,1.1423279611000901]
[null,null,"Energy resources","Energy resources","Energy resources","Energy resources",0.167172464085763,0.167172464085763,null,null,{"$f":"SLOPE(G12:H12,$G$8:$H$8)","v":0},{"$f":"INTERCEPT(G12:H12,$G$8:$H$8)","v":0.167172464085763}]
[null,null,"Material resources","Material resources","Material resources","Material resources",1.1412106953297101,1.1412106953297101]
[null,null,null,"Renewable resources","Renewable resources","Renewable resources",1.1412106953297101,1.1412106953297101]
[null,null,null,null,"Water","Water",1.14459435973983,1.14459435973983,null,null,{"$f":"SLOPE(G15:H15,$G$8:$H$8)","v":0},{"$f":"INTERCEPT(G15:H15,$G$8:$H$8)","v":1.14459435973983}]
[null,null,null,null,null,"Water (ground water)",0.38525415133483598,0.38525415133483698]
[null,null,null,null,null,"Water (lake water)",0,0]
[null,null,null,null,null,"Water (river water)",0,0]
[null,null,null,null,null,"Water (sea water)",5.5066344685050299E-6,5.5066344685050299E-6]
[null,null,null,null,null,"Water (surface water)",0.75595103736040903,0.75595103736040903]
[]
["&Outputs"]
[]
[null,null,null,null,null,null,"New","New1"]
["Flows","Flows","Flows","Flows","Flows","Flows",1.7448412119422101,1.74568154831369]
[null,"Resources","Resources","Resources","Resources","Resources",1.71135637862065,1.71135637862065]
[null,null,"Energy resources","Energy resources","Energy resources","Energy resources",0,0]
[null,null,"Material resources","Material resources","Material resources","Material resources",1.71135637862065,1.71135637862065]
[null,null,null,"Renewable resources","Renewable resources","Renewable resources",1.71135637862065,1.71135637862065]
[null,null,null,null,"Water","Water",1.7237756160505,1.7237756160505,{"$f":"G15-G30","v":-0.57918125631066997},{"$f":"H15-H30","v":-0.57918125631066997},{"$f":"SLOPE(I30:J30,$G$8:$H$8)","v":0},{"$f":"INTERCEPT(I30:J30,$G$8:$H$8)","v":-0.57918125631066997}]
[null,null,null,null,null,"Water (river water)",1.7085651306435601,1.7085651306435601]
[null,null,null,null,null,"Water (sea water)",0,0]
[null,null,null,null,null,"Water (wastewater)",2.7912479770827998E-3,2.7912479770827998E-3]
[null,"Ecoinvent","Ecoinvent","Ecoinvent","Ecoinvent","Ecoinvent",0,0]
[null,"Production residues in life cycle","Production residues in life cycle","Production residues in life cycle","Production residues in life cycle","Production residues in life cycle",9.1769716288524397E-7,9.1769716288524503E-7]
[null,null,"Waste for disposal","Waste for disposal","Waste for disposal","Waste for disposal",9.1769716288524397E-7,9.1769716288524503E-7]
[null,null,null,"Waste (solid)","Waste (solid)","Waste (solid)",9.1769716288524397E-7,9.1769716288524503E-7,null,null,{"$f":"SLOPE(G37:H37,$G$8:$H$8)","v":2.6469779601696886E-23},{"$f":"INTERCEPT(G37:H37,$G$8:$H$8)","v":9.1769716288523444E-7}]
[null,"Emissions to air","Emissions to air","Emissions to air","Emissions to air","Emissions to air",3.3321394129700303E-2,3.4161730501184297E-2]
[null,null,"Heavy metals to air","Heavy metals to air","Heavy metals to air","Heavy metals to air",4.0703432166225902E-9,4.0703432166226002E-9]
[null,null,null,"Lead (+II)","Lead (+II)","Lead (+II)",3.4554091144867002E-9,3.4554091144867101E-9,null,null,{"$f":"SLOPE(G40:H40,$G$8:$H$8)","v":2.4815418376590829E-25},{"$f":"INTERCEPT(G40:H40,$G$8:$H$8)","v":3.4554091144866108E-9}]
[null,null,null,"Mercury (+II)","Mercury (+II)","Mercury (+II)",6.1493410213589101E-10,6.1493410213589204E-10,null,null,{"$f":"SLOPE(G41:H41,$G$8:$H$8)","v":2.5849394142282115E-26},{"$f":"INTERCEPT(G41:H41,$G$8:$H$8)","v":6.149341021358817E-10}]
[null,null,"Inorganic emissions to air","Inorganic emissions to air","Inorganic emissions to air","Inorganic emissions to air",2.5654729131453301E-2,2.5654729131453401E-2]
[null,null,null,"Ammonia","Ammonia","Ammonia",5.3129263711894803E-8,5.3129263711894803E-8,null,null,{"$f":"SLOPE(G43:H43,$G$8:$H$8)","v":0},{"$f":"INTERCEPT(I44:J44,$G$8:$H$8)","v":2.5511711239433837E-2}]
[null,null,null,"Carbon dioxide","Carbon dioxide","Carbon dioxide",2.5511149874292899E-2,2.5511149874292899E-2,{"$f":"G45+G44","v":2.5511711239433837E-2},{"$f":"H45+H44","v":2.5511711239433837E-2},{"$f":"SLOPE(I44:J44,$G$8:$H$8)","v":0},{"$f":"INTERCEPT(I44:J44,$G$8:$H$8)","v":2.5511711239433837E-2}]
[null,null,null,"Carbon dioxide (biotic)","Carbon dioxide (biotic)","Carbon dioxide (biotic)",5.6136514093858504E-7,5.6136514093858599E-7]
[null,null,null,"Carbon monoxide","Carbon monoxide","Carbon monoxide",2.3393483886902499E-5,2.3393483886902601E-5,null,null,{"$f":"SLOPE(G46:H46,$G$8:$H$8)","v":2.541098841762901E-21},{"$f":"INTERCEPT(G46:H46,$G$8:$H$8)","v":2.3393483886901584E-5}]
[null,null,null,"Nitrogen oxides","Nitrogen oxides","Nitrogen oxides",4.2438493127344801E-5,4.2438493127344801E-5,null,null,{"$f":"SLOPE(G47:H47,$G$8:$H$8)","v":0},{"$f":"INTERCEPT(G47:H47,$G$8:$H$8)","v":4.2438493127344801E-5}]
[null,null,null,"Nitrous oxide (laughing gas)","Nitrous oxide (laughing gas)","Nitrous oxide (laughing gas)",4.4905208969024002E-7,4.4905208969024002E-7,null,null,{"$f":"SLOPE(G48:H48,$G$8:$H$8)","v":0},{"$f":"INTERCEPT(G48:H48,$G$8:$H$8)","v":4.4905208969024002E-7}]
[null,null,null,"Sulphur dioxide","Sulphur dioxide","Sulphur dioxide",7.66837336518416E-5,7.6683733651841695E-5,null,null,{"$f":"SLOPE(G49:H49,$G$8:$H$8)","v":2.3716922523120408E-21},{"$f":"INTERCEPT(G49:H49,$G$8:$H$8)","v":7.6683733651840746E-5}]
[null,null,"Organic emissions to air (group VOC)","Organic emissions to air (group VOC)","Organic emissions to air (group VOC)","Organic emissions to air (group VOC)",7.6639175838730004E-3,8.5042539553569808E-3]
[null,null,null,"Group NMVOC to air","Group NMVOC to air","Group NMVOC to air",6.3490117260985702E-6,6.3490117260985803E-6]
[null,null,null,null,"NMVOC (unspecified)","NMVOC (unspecified)",6.3490117260985702E-6,6.3490117260985803E-6,null,null,{"$f":"SLOPE(G52:H52,$G$8:$H$8)","v":2.5410988417629009E-22},{"$f":"INTERCEPT(G52:H52,$G$8:$H$8)","v":6.3490117260984787E-6}]
[null,null,null,"Methane","Methane","Methane",7.6575685721469002E-3,8.4979049436308806E-3,null,null,{"$f":"SLOPE(G53:H53,$G$8:$H$8)","v":2.1008409287099512E-5},{"$f":"INTERCEPT(G53:H53,$G$8:$H$8)","v":9.4541228791076432E-5}]
[null,null,"Particles to air","Particles to air","Particles to air","Particles to air",2.74333773040558E-6,2.7433377304055902E-6]
[null,null,null,"Dust (unspecified)","Dust (unspecified)","Dust (unspecified)",2.74333773040558E-6,2.7433377304055902E-6,null,null,{"$f":"SLOPE(G55:H55,$G$8:$H$8)","v":2.5410988417629009E-22},{"$f":"INTERCEPT(G55:H55,$G$8:$H$8)","v":2.7433377304054886E-6}]
[null,null,"Radioactive emissions to air","Radioactive emissions to air","Radioactive emissions to air","Radioactive emissions to air",6.3003657093190003E-12,6.3003657093190003E-12]
[null,"Emissions to fresh water","Emissions to fresh water","Emissions to fresh water","Emissions to fresh water","Emissions to fresh water",7.5984648772031402E-6,7.5984648772031402E-6]
[null,null,"Heavy metals to fresh water","Heavy metals to fresh water","Heavy metals to fresh water","Heavy metals to fresh water",3.56327989768243E-6,3.56327989768243E-6]
[null,null,"Inorganic emissions to fresh water","Inorganic emissions to fresh water","Inorganic emissions to fresh water","Inorganic emissions to fresh water",4.0351849795207099E-6,4.0351849795207099E-6]
[null,null,null,"Aluminum (+III)","Aluminum (+III)","Aluminum (+III)",1.13439029302665E-8,1.13439029302665E-8,null,null,{"$f":"SLOPE(G60:H60,$G$8:$H$8)","v":0},{"$f":"INTERCEPT(G60:H60,$G$8:$H$8)","v":1.13439029302665E-8}]
[null,null,null,"Ammonia","Ammonia","Ammonia",5.3043815726932601E-8,5.3043815726932701E-8]
[null,null,null,"Ammonium / ammonia","Ammonium / ammonia","Ammonium / ammonia",3.6816016939064601E-6,3.6816016939064601E-6,{"$f":"G61+G62","v":3.7346455096333926E-6},{"$f":"H61+H62","v":3.7346455096333926E-6},{"$f":"SLOPE(I62:J62,$G$8:$H$8)","v":0},{"$f":"INTERCEPT(I62:J62,$G$8:$H$8)","v":3.7346455096333926E-6}]
[null,null,null,"Nitrate","Nitrate","Nitrate",2.88825206346649E-8,2.88825206346649E-8,null,null,{"$f":"SLOPE(G63:H63,$G$8:$H$8)","v":0},{"$f":"INTERCEPT(G63:H63,$G$8:$H$8)","v":2.88825206346649E-8}]
[null,null,null,"Nitrogen","Nitrogen","Nitrogen",1.14091332650564E-7,1.14091332650564E-7,null,null,{"$f":"SLOPE(G64:H64,$G$8:$H$8)","v":0},{"$f":"INTERCEPT(G64:H64,$G$8:$H$8)","v":1.14091332650564E-7}]
[null,null,null,"Phosphate","Phosphate","Phosphate",2.8579155162335698E-10,2.8579155162335698E-10,null,null,{"$f":"SLOPE(G65:H65,$G$8:$H$8)","v":0},{"$f":"INTERCEPT(G65:H65,$G$8:$H$8)","v":2.8579155162335698E-10}]
[null,null,null,"Phosphorus","Phosphorus","Phosphorus",1.45935922120199E-7,1.45935922120199E-7,null,null,{"$f":"SLOPE(G66:H66,$G$8:$H$8)","v":0},{"$f":"INTERCEPT(G66:H66,$G$8:$H$8)","v":1.45935922120199E-7}]
[null,"Emissions to sea water","Emissions to sea water","Emissions to sea water","Emissions to sea water","Emissions to sea water",6.2974268795751903E-6,6.2974268795751903E-6]
[null,"Emissions to industrial soil","Emissions to industrial soil","Emissions to industrial soil","Emissions to industrial soil","Emissions to industrial soil",1.4862560294175099E-4,1.4862560294175099E-4]
[null,null,"Heavy metals to industrial soil","Heavy metals to industrial soil","Heavy metals to industrial soil","Heavy metals to industrial soil",1.4862560294175099E-4,1.4862560294175099E-4,null,null,{"$f":"SLOPE(G69:H69,$G$8:$H$8)","v":0},{"$f":"INTERCEPT(G69:H69,$G$8:$H$8)","v":1.4862560294175099E-4}]

{"sheet":"PRB RMA","index":17,"n_rows":69,"n_cols":12,"rows_kept":69,"cut":false,"hidden":true,"merged":[]}
["GaBi 4"]
[null,null,"Database:","C:\\Users\\548910\\Documents\\GaBi\\DB\\NETL_083111"]
["Balance:","Stage _1_ PRB Hard Coal _ _Material Acqusition_","  Mass [kg]","kg","2011-09-22T16:27:26","Balance view: ","Upstreams (no sf6)",null,null,"base","alt","difference"]
["Balance object:","Stage #1: PRB Hard Coal - (Material Acqusition) [Construction & Operation]","2011-08-26T13:24:27","{D6653DA8-96B1-46E5-9FA8-FACF1D81604A}",null,null,null,null,"distance",7,94.2,{"$f":"K4-J4","v":87.2}]
["In/out aggregation","Yes","Weak point analysis","No","Last service pack:",17]
[]
["&Inputs"]
[null,null,null,null,null,null,null,null,null,null,null,"delta p1"]
[null,null,null,null,null,null,"New","alt"]
["Flows","Flows","Flows","Flows","Flows","Flows",7.0719011449091707E-2,7.0719011449091804E-2]
[null,"Resources","Resources","Resources","Resources","Resources",7.0719011449091707E-2,7.0719011449091804E-2]
[null,null,"Energy resources","Energy resources","Energy resources","Energy resources",6.8634959074645299E-2,6.8634959074645299E-2,null,null,null,{"$f":"H12-G12","v":0}]
[null,null,"Material resources","Material resources","Material resources","Material resources",6.9209931125470095E-2,6.9209931125470206E-2]
[null,null,null,"Renewable resources","Renewable resources","Renewable resources",6.9209931125470095E-2,6.9209931125470206E-2]
[null,null,null,null,"Water","Water",6.9331579263601506E-2,6.9331579263601603E-2,null,null,null,{"$f":"H15-G15","v":0}]
[null,null,null,null,null,"Water (ground water)",3.3620663254623401E-2,3.3620663254623401E-2]
[null,null,null,null,null,"Water (lake water)",0,0]
[null,null,null,null,null,"Water (river water)",0,0]
[null,null,null,null,null,"Water (sea water)",2.28281109683968E-5,2.28281109683968E-5]
[null,null,null,null,null,"Water (surface water)",3.5566439759878297E-2,3.5566439759878402E-2]
[]
["&Outputs"]
[]
[null,null,null,null,null,null,"New","alt"]
["Flows","Flows","Flows","Flows","Flows","Flows",4.2457222160525103E-2,4.4308612160525201E-2]
[null,"Resources","Resources","Resources","Resources","Resources",3.4665746984496898E-2,3.4665746984497002E-2]
[null,null,"Energy resources","Energy resources","Energy resources","Energy resources",0,0]
[null,null,"Material resources","Material resources","Material resources","Material resources",3.4665746984496898E-2,3.4665746984497002E-2]
[null,null,null,"Renewable resources","Renewable resources","Renewable resources",3.4665746984496898E-2,3.4665746984497002E-2]
[null,null,null,null,"Water","Water",4.94051207179763E-2,4.9405120717976397E-2,{"$f":"G15-G30","v":1.9926458545625206E-2},{"$f":"H15-H30","v":1.9926458545625206E-2},null,{"$f":"J30-I30","v":0}]
[null,null,null,null,null,"Water (river water)",3.4535252053736101E-2,3.4535252053736198E-2]
[null,null,null,null,null,"Water (sea water)",0,0]
[null,null,null,null,null,"Water (wastewater)",1.30494930760793E-4,1.30494930760793E-4]
[null,"Ecoinvent","Ecoinvent","Ecoinvent","Ecoinvent","Ecoinvent",0,0]
[null,"Production residues in life cycle","Production residues in life cycle","Production residues in life cycle","Production residues in life cycle","Production residues in life cycle",1.5584756050580199E-7,1.5584756050580199E-7]
[null,null,"Waste for disposal","Waste for disposal","Waste for disposal","Waste for disposal",1.5584756050580199E-7,1.5584756050580199E-7]
[null,null,null,"Waste (solid)","Waste (solid)","Waste (solid)",1.5584756050580199E-7,1.5584756050580199E-7,null,null,null,{"$f":"H37-G37","v":0}]
[null,"Emissions to air","Emissions to air","Emissions to air","Emissions to air","Emissions to air",7.6932401993070098E-3,9.5446301993070103E-3]
[null,null,"Heavy metals to air","Heavy metals to air","Heavy metals to air","Heavy metals to air",2.22019865290859E-10,2.22019865290859E-10]
[null,null,null,"Lead (+II)","Lead (+II)","Lead (+II)",1.9342096795579201E-10,1.9342096795579201E-10,null,null,null,{"$f":"H40-G40","v":0}]
[null,null,null,"Mercury (+II)","Mercury (+II)","Mercury (+II)",2.8598897335067301E-11,2.8598897335067401E-11,null,null,null,{"$f":"H41-G41","v":1.001664023013432E-25}]
[null,null,"Inorganic emissions to air","Inorganic emissions to air","Inorganic emissions to air","Inorganic emissions to air",7.4378016042410504E-3,7.4378016042410599E-3]
[null,null,null,"Ammonia","Ammonia","Ammonia",1.58295236822639E-6,1.58295236822639E-6,null,null,null,{"$f":"H43-G43","v":0}]
[null,null,null,"Carbon dioxide","Carbon dioxide","Carbon dioxide",7.3630458569136801E-3,7.3630458569136897E-3,{"$f":"G44+G45","v":7.363841037165586E-3},{"$f":"H44+H45","v":7.3638410371655956E-3},null,{"$f":"J44-I44","v":9.540979117872439E-18}]
[null,null,null,"Carbon dioxide (biotic)","Carbon dioxide (biotic)","Carbon dioxide (biotic)",7.95180251906116E-7,7.95180251906116E-7]
[null,null,null,"Carbon monoxide","Carbon monoxide","Carbon monoxide",3.7980153113997703E-5,3.7980153113997703E-5,null,null,null,{"$f":"H46-G46","v":0}]
[null,null,null,"Nitrogen oxides","Nitrogen oxides","Nitrogen oxides",2.0872863637209601E-5,2.0872863637209601E-5,null,null,null,{"$f":"H47-G47","v":0}]
[null,null,null,"Nitrous oxide (laughing gas)","Nitrous oxide (laughing gas)","Nitrous oxide (laughing gas)",7.1271496776776802E-6,7.1271496776776802E-6,null,null,null,{"$f":"H48-G48","v":0}]
[null,null,null,"Sulphur dioxide","Sulphur dioxide","Sulphur dioxide",6.3974482783516804E-6,6.3974482783516897E-6,null,null,null,{"$f":"H49-G49","v":9.3173624197973037E-21}]
[null,null,"Organic emissions to air (group VOC)","Organic emissions to air (group VOC)","Organic emissions to air (group VOC)","Organic emissions to air (group VOC)",1.6077381206001999E-4,2.0121638120600199E-3]
[null,null,null,"Group NMVOC to air","Group NMVOC to air","Group NMVOC to air",1.75938414035659E-6,1.75938414035659E-6]
[null,null,null,null,"NMVOC (unspecified)","NMVOC (unspecified)",1.75938414035659E-6,1.75938414035659E-6,null,null,null,{"$f":"H52-G52","v":0}]
[null,null,null,"Methane","Methane","Methane",1.59840106828266E-4,2.0112301068282699E-3,null,null,null,{"$f":"H53-G53","v":1.851390000000004E-3}]
[null,null,"Particles to air","Particles to air","Particles to air","Particles to air",9.4664525599865294E-5,9.4664525599865294E-5]
[null,null,null,"Dust (unspecified)","Dust (unspecified)","Dust (unspecified)",9.4664525599865294E-5,9.4664525599865294E-5,null,null,null,{"$f":"H55-G55","v":0}]
[null,null,"Radioactive emissions to air","Radioactive emissions to air","Radioactive emissions to air","Radioactive emissions to air",3.5386204114262303E-11,3.5386204114262303E-11,null,null,null,{"$f":"H56-G56","v":0}]
[null,"Emissions to fresh water","Emissions to fresh water","Emissions to fresh water","Emissions to fresh water","Emissions to fresh water",6.5481435701610904E-5,6.5481435701610904E-5]
[null,null,"Heavy metals to fresh water","Heavy metals to fresh water","Heavy metals to fresh water","Heavy metals to fresh water",2.0550672724383999E-5,2.0550672724383999E-5]
[null,null,"Inorganic emissions to fresh water","Inorganic emissions to fresh water","Inorganic emissions to fresh water","Inorganic emissions to fresh water",4.4930762977226902E-5,4.4930762977226902E-5]
[null,null,null,"Aluminum (+III)","Aluminum (+III)","Aluminum (+III)",8.1101969512237797E-7,8.1101969512237797E-7,null,null,null,{"$f":"H60-G60","v":0}]
[null,null,null,"Ammonia","Ammonia","Ammonia",1.2682081871694999E-9,1.2682081871694999E-9]
[null,null,null,"Ammonium / ammonia","Ammonium / ammonia","Ammonium / ammonia",1.2479626175766E-5,1.24796261757661E-5,{"$f":"G61+G62","v":1.248089438395317E-5},{"$f":"H61+H62","v":1.248089438395327E-5},null,{"$f":"J62-I62","v":9.994988777600744E-20}]
[null,null,null,"Nitrate","Nitrate","Nitrate",1.4700922328833401E-6,1.4700922328833401E-6,null,null,null,{"$f":"H63-G63","v":0}]
[null,null,null,"Nitrogen","Nitrogen","Nitrogen",2.9461905405713701E-5,2.9461905405713701E-5,null,null,null,{"$f":"H64-G64","v":0}]
[null,null,null,"Phosphate","Phosphate","Phosphate",2.0854066720836998E-9,2.0854066720836998E-9,null,null,null,{"$f":"H65-G65","v":0}]
[null,null,null,"Phosphorus","Phosphorus","Phosphorus",7.0476585288217403E-7,7.0476585288217403E-7,null,null,null,{"$f":"H66-G66","v":0}]
[null,"Emissions to sea water","Emissions to sea water","Emissions to sea water","Emissions to sea water","Emissions to sea water",2.6163917401329901E-5,2.6163917401329901E-5]
[null,"Emissions to industrial soil","Emissions to industrial soil","Emissions to industrial soil","Emissions to industrial soil","Emissions to industrial soil",6.43377605777451E-6,6.4337760577745303E-6]
[null,null,"Heavy metals to industrial soil","Heavy metals to industrial soil","Heavy metals to industrial soil","Heavy metals to industrial soil",6.43377605777451E-6,6.4337760577745303E-6,null,null,null,{"$f":"H69-G69","v":2.0328790734103208E-20}]

{"sheet":"Dom Petro","index":18,"n_rows":65,"n_cols":19,"rows_kept":65,"cut":false,"hidden":true,"merged":[]}
["GaBi 4"]
[null,null,"Database:","C:\\Users\\548910\\Documents\\GaBi\\DB\\NETL_083111"]
["Balance:","Domestic Crude Oil RMA","  Mass [kg]","kg","2011-09-23T11:26:56","Balance view: ",null,"Upstreams (no sf6)"]
["Balance object:","Domestic Crude Oil RMA [Petroleum]","2011-09-23T11:22:15","{761A99A3-BDE1-427F-938B-98A390C723B4}"]
["In/out aggregation","Yes","Weak point analysis","No","Last service pack:",17]
[]
["&Inputs",null,null,null,null,null,null,null,null,null,null,null,null,null,0.16531900000000005,0.49999999999999944,0.33468100000000039]
[]
[null,null,null,null,null,null,null,null,null,null,null,null,null,null,"US Avg Mix","US Avg Mix","US Avg Mix",null,"Total"]
[null,null,null,null,null,null,null,"US Avg Mix","US Avg Mix","US Avg Mix",null,null,null,null,0.25,0.25,0.5,null,{"$f":"SUM(O10:Q10)","v":1}]
["Flows","Flows","Flows","Flows","Flows","Flows",null,1.65677481684207,1.65677481684207,1.65677481684207,null,null,null,null,{"$f":"H11*$O$10","v":0.41419370421051749},{"$f":"I11*$P$10","v":0.41419370421051749},{"$f":"J11*$Q$10","v":0.82838740842103498},null,{"$f":"SUM(O11:Q11)","v":1.65677481684207}]
[null,"Resources","Resources","Resources","Resources","Resources",null,1.65677481684207,1.65677481684207,1.65677481684207,null,null,null,null,{"$f":"H12*$O$10","v":0.41419370421051749},{"$f":"I12*$P$10","v":0.41419370421051749},{"$f":"J12*$Q$10","v":0.82838740842103498},null,1.65677481684207]
[null,null,"Energy resources","Energy resources","Energy resources","Energy resources",null,44.387900000000002,44.387900000000002,44.387900000000002,null,null,null,null,11.096975,11.096975,22.193950000000001,null,44.387900000000002]
[null,null,"Material resources","Material resources","Material resources","Material resources",null,null,null,null,null,null,null,null,0,0,0,null,0]
[null,null,null,"Renewable resources","Renewable resources","Renewable resources",null,null,null,null,null,null,null,null,0,0,0,null,0]
[null,null,null,null,"Water","Water",null,0.117739198435418,0.117739198435418,0.117739198435418,null,null,null,null,2.9434799608854499E-2,2.9434799608854499E-2,5.8869599217708998E-2,null,0.117739198435418]
[null,null,null,null,null,null,null,null,null,null,null,null,null,null,null,null,null,null,0]
["&Outputs",null,null,null,null,null,null,null,null,null,null,null,null,null,null,null,null,null,0]
[null,null,null,null,null,null,null,null,null,null,null,null,null,null,null,null,null,null,0]
[null,null,null,null,null,null,null,null,null,null,null,null,null,null,null,null,null,null,0]
["Flows","Flows","Flows","Flows","Flows","Flows",null,null,null,null,null,null,null,null,0,0,0,null,0]
[null,"Resources","Resources","Resources","Resources","Resources",null,null,null,null,null,null,null,null,0,0,0,null,0]
[null,null,"Energy resources","Energy resources","Energy resources","Energy resources",null,null,null,null,null,null,null,null,0,0,0,null,0]
[null,null,"Material resources","Material resources","Material resources","Material resources",null,null,null,null,null,null,null,null,0,0,0,null,0]
[null,null,null,"Renewable resources","Renewable resources","Renewable resources",null,null,null,null,null,null,null,null,0,0,0,null,0]
[null,null,null,null,"Water","Water",null,6.2156388115081299E-2,6.2156388115081299E-2,6.2156388115081299E-2,{"$f":"H16-H26","v":5.5582810320336698E-2},{"$f":"I16-I26","v":5.5582810320336698E-2},{"$f":"J16-J26","v":5.5582810320336698E-2},null,1.5539097028770325E-2,1.5539097028770325E-2,3.1078194057540649E-2,null,6.2156388115081299E-2]
[null,null,null,null,null,"Water (river water)",null,null,null,null,null,null,null,null,0,0,0,null,0]
[null,null,null,null,null,"Water (sea water)",null,null,null,null,null,null,null,null,0,0,0,null,0]
[null,null,null,null,null,"Water (wastewater)",null,null,null,null,null,null,null,null,0,0,0,null,0]
[null,"Ecoinvent","Ecoinvent","Ecoinvent","Ecoinvent","Ecoinvent",null,null,null,null,null,null,null,null,0,0,0,null,0]
[null,"Production residues in life cycle","Production residues in life cycle","Production residues in life cycle","Production residues in life cycle","Production residues in life cycle",null,null,null,null,null,null,null,null,0,0,0,null,0]
[null,null,"Waste for disposal","Waste for disposal","Waste for disposal","Waste for disposal",null,null,null,null,null,null,null,null,0,0,0,null,0]
[null,null,null,"Waste (solid)","Waste (solid)","Waste (solid)",null,null,null,null,null,null,null,null,0,0,0,null,0]
[null,"Emissions to air","Emissions to air","Emissions to air","Emissions to air","Emissions to air",null,null,null,null,null,null,null,null,0,0,0,null,0]
[null,null,"Heavy metals to air","Heavy metals to air","Heavy metals to air","Heavy metals to air",null,null,null,null,null,null,null,null,0,0,0,null,0]
[null,null,null,"Lead (+II)","Lead (+II)","Lead (+II)",null,1.6360193630356699E-8,1.6360193630356699E-8,1.6360193630356699E-8,null,null,null,null,4.0900484075891748E-9,4.0900484075891748E-9,8.1800968151783495E-9,null,1.6360193630356699E-8]
[null,null,null,"Mercury (+II)","Mercury (+II)","Mercury (+II)",null,4.6941386443885803E-10,4.6941386443885803E-10,4.6941386443885803E-10,null,null,null,null,1.1735346610971451E-10,1.1735346610971451E-10,2.3470693221942901E-10,null,4.6941386443885803E-10]
[null,null,"Inorganic emissions to air","Inorganic emissions to air","Inorganic emissions to air","Inorganic emissions to air",null,null,null,null,null,null,null,null,0,0,0,null,0]
[null,null,null,"Ammonia","Ammonia","Ammonia",null,2.09458364794448E-7,2.09458364794448E-7,2.09458364794448E-7,null,null,null,null,5.2364591198611999E-8,5.2364591198611999E-8,1.04729182397224E-7,null,2.09458364794448E-7]
[null,null,null,"Carbon dioxide","Carbon dioxide","Carbon dioxide",null,0.157138575306975,0.157138575306975,0.157138575306975,{"$f":"H40+H41","v":0.157138575306975},{"$f":"I40+I41","v":0.157138575306975},{"$f":"J40+J41","v":0.157138575306975},null,3.9284643826743751E-2,3.9284643826743751E-2,7.8569287653487502E-2,null,0.157138575306975]
[null,null,null,"Carbon dioxide (biotic)","Carbon dioxide (biotic)","Carbon dioxide (biotic)",null,null,null,null,null,null,null,null,0,0,0,null,0]
[null,null,null,"Carbon monoxide","Carbon monoxide","Carbon monoxide",null,4.20961136518459E-4,4.20961136518459E-4,4.20961136518459E-4,null,null,null,null,1.0524028412961475E-4,1.0524028412961475E-4,2.104805682592295E-4,null,4.20961136518459E-4]
[null,null,null,"Nitrogen oxides","Nitrogen oxides","Nitrogen oxides",null,6.9798052470982795E-4,6.9798052470982795E-4,6.9798052470982795E-4,null,null,null,null,1.7449513117745699E-4,1.7449513117745699E-4,3.4899026235491398E-4,null,6.9798052470982795E-4]
[null,null,null,"Nitrous oxide (laughing gas)","Nitrous oxide (laughing gas)","Nitrous oxide (laughing gas)",null,4.7413747353639196E-6,4.7413747353639196E-6,4.7413747353639196E-6,null,null,null,null,1.1853436838409799E-6,1.1853436838409799E-6,2.3706873676819598E-6,null,4.7413747353639196E-6]
[null,null,null,"Sulphur dioxide","Sulphur dioxide","Sulphur dioxide",null,2.6366850473700702E-4,2.6366850473700702E-4,2.6366850473700702E-4,null,null,null,null,6.5917126184251754E-5,6.5917126184251754E-5,1.3183425236850351E-4,null,2.6366850473700702E-4]
[null,null,"Organic emissions to air (group VOC)","Organic emissions to air (group VOC)","Organic emissions to air (group VOC)","Organic emissions to air (group VOC)",null,null,null,null,null,null,null,null,0,0,0,null,0]
[null,null,null,"Group NMVOC to air","Group NMVOC to air","Group NMVOC to air",null,1.8263450560966599E-4,1.8263450560966599E-4,1.8263450560966599E-4,null,null,null,null,4.5658626402416498E-5,4.5658626402416498E-5,9.1317252804832996E-5,null,1.8263450560966599E-4]
[null,null,null,null,"NMVOC (unspecified)","NMVOC (unspecified)",null,null,null,null,null,null,null,null,0,0,0,null,0]
[null,null,null,"Methane","Methane","Methane",null,8.42126780256448E-4,8.42126780256448E-4,8.42126780256448E-4,null,null,null,null,2.10531695064112E-4,2.10531695064112E-4,4.21063390128224E-4,null,8.42126780256448E-4]
[null,null,"Particles to air","Particles to air","Particles to air","Particles to air",null,null,null,null,null,null,null,null,0,0,0,null,0]
[null,null,null,"Dust (unspecified)","Dust (unspecified)","Dust (unspecified)",null,1.1257246435303E-5,1.1257246435303E-5,1.1257246435303E-5,null,null,null,null,2.81431160882575E-6,2.81431160882575E-6,5.6286232176515001E-6,null,1.1257246435303E-5]
[null,null,"Radioactive emissions to air","Radioactive emissions to air","Radioactive emissions to air","Radioactive emissions to air",null,3.28973792165596E-10,3.28973792165596E-10,3.28973792165596E-10,null,null,null,null,8.2243448041398999E-11,8.2243448041398999E-11,1.64486896082798E-10,null,3.28973792165596E-10]
[null,"Emissions to fresh water","Emissions to fresh water","Emissions to fresh water","Emissions to fresh water","Emissions to fresh water",null,null,null,null,null,null,null,null,0,0,0,null,0]
[null,null,"Heavy metals to fresh water","Heavy metals to fresh water","Heavy metals to fresh water","Heavy metals to fresh water",null,4.5918453527359098E-6,4.5918453527359098E-6,4.5918453527359098E-6,null,null,null,null,1.1479613381839775E-6,1.1479613381839775E-6,2.2959226763679549E-6,null,4.5918453527359098E-6]
[null,null,"Inorganic emissions to fresh water","Inorganic emissions to fresh water","Inorganic emissions to fresh water","Inorganic emissions to fresh water",null,null,null,null,null,null,null,null,0,0,0,null,0]
[null,null,null,"Aluminum (+III)","Aluminum (+III)","Aluminum (+III)",null,2.8801126483361199E-8,2.8801126483361199E-8,2.8801126483361199E-8,null,null,null,null,7.2002816208402998E-9,7.2002816208402998E-9,1.44005632416806E-8,null,2.8801126483361199E-8]
[null,null,null,"Ammonia","Ammonia","Ammonia",null,null,null,null,null,null,null,null,0,0,0,null,0]
[null,null,null,"Ammonium / ammonia","Ammonium / ammonia","Ammonium / ammonia",null,5.6852621987178798E-7,5.6852621987178798E-7,5.6852621987178798E-7,{"$f":"H58+H57","v":5.6852621987178798E-7},{"$f":"I58+I57","v":5.6852621987178798E-7},{"$f":"J58+J57","v":5.6852621987178798E-7},null,1.4213155496794699E-7,1.4213155496794699E-7,2.8426310993589399E-7,null,5.6852621987178798E-7]
[null,null,null,"Nitrate","Nitrate","Nitrate",null,1.0672057884596699E-7,1.0672057884596699E-7,1.0672057884596699E-7,null,null,null,null,2.6680144711491748E-8,2.6680144711491748E-8,5.3360289422983497E-8,null,1.0672057884596699E-7]
[null,null,null,"Nitrogen","Nitrogen","Nitrogen",null,0,0,0,null,null,null,null,0,0,0,null,0]
[null,null,null,"Phosphate","Phosphate","Phosphate",null,1.3500460790989601E-8,1.3500460790989601E-8,1.3500460790989601E-8,null,null,null,null,3.3751151977474002E-9,3.3751151977474002E-9,6.7502303954948004E-9,null,1.3500460790989601E-8]
[null,null,null,"Phosphorus","Phosphorus","Phosphorus",null,5.9103837128789098E-8,5.9103837128789098E-8,5.9103837128789098E-8,null,null,null,null,1.4775959282197275E-8,1.4775959282197275E-8,2.9551918564394549E-8,null,5.9103837128789098E-8]
[null,"Emissions to sea water","Emissions to sea water","Emissions to sea water","Emissions to sea water","Emissions to sea water",null,null,null,null,null,null,null,null,0,0,0,null,0]
[null,"Emissions to industrial soil","Emissions to industrial soil","Emissions to industrial soil","Emissions to industrial soil","Emissions to industrial soil",null,null,null,null,null,null,null,null,0,0,0,null,0]
[null,null,"Heavy metals to industrial soil","Heavy metals to industrial soil","Heavy metals to industrial soil","Heavy metals to industrial soil",null,7.5599640476559603E-6,7.5599640476559603E-6,7.5599640476559603E-6,null,null,null,null,1.8899910119139901E-6,1.8899910119139901E-6,3.7799820238279801E-6,null,7.5599640476559603E-6]

{"sheet":"For Petro","index":19,"n_rows":64,"n_cols":24,"rows_kept":64,"cut":false,"hidden":true,"merged":[]}
["GaBi 4"]
[null,null,"Database:","C:\\Users\\548910\\Documents\\GaBi\\DB\\NETL_083111"]
["Balance:","Crude Oil _ National Average_ 2009","  Mass [kg]","kg","2011-09-23T12:49:49","Balance view: ","Upstreams (no sf6)"]
["Balance object:","Crude Oil - National Average, 2009 [Petroleum]","2011-09-23T11:22:14","{EE4B2967-4C64-4835-BE79-1F55982178AB}"]
["In/out aggregation","Yes","Weak point analysis","No","Last service pack:",17]
[]
["&Inputs"]
[null,null,null,null,null,null,null,null,null,null,null,null,"North","South","Middle","Africa",null,"Total"]
[null,null,null,null,null,null,null,"NA","SA","ME","African",null,0.25,0.25,0.25,0.25,null,null,null,null,"NA","SA","ME","AF"]
["Flows","Flows","Flows","Flows","Flows","Flows",null,1.87740842916629,1.26644075878691,1.24945848084996,1.54221402570788,null,{"$f":"H10*$M$9","v":0.46935210729157251},{"$f":"I10*$N$9","v":0.3166101896967275},{"$f":"J10*$O$9","v":0.31236462021249001},{"$f":"K10*$P$9","v":0.38555350642697001},null,{"$f":"SUM(M10:P10)","v":1.4838804236277601},null,"Flows",1.4208871552305093,1.1136574201372973,1.1633206625839343,1.4425868322229967]
[null,"Resources","Resources","Resources","Resources","Resources",null,1.87740842916629,1.26644075878691,1.24945848084996,1.54221402570788,null,0.46935210729157251,0.3166101896967275,0.31236462021249001,0.38555350642697001,null,{"$f":"SUM(M11:P11)","v":1.4838804236277601},null,"Resources",1.4208871552305093,1.1136574201372973,1.1633206625839343,1.4425868322229967]
[null,null,"Energy resources","Energy resources","Energy resources","Energy resources",null,44.925311836466697,44.737501327748603,44.135822821740803,49.706947798165999,null,11.231327959116674,11.184375331937151,11.033955705435201,12.4267369495415,null,45.87639594603052,null,"Energy resources",1.0542018132133255,1.0412609265735644,1.0284769323917744,1.1569284691290314]
[null,null,"Material resources","Material resources","Material resources","Material resources",null,3.0971623868869401E-11,0.21451247409145099,0.21040422977155501,0.385005386389423,null,7.7429059672173503E-12,5.3628118522862749E-2,5.2601057442888753E-2,9.625134659735575E-2,null,0.20248052257085014,null,"Material resources",0.36668534201718261,7.2396493563733261E-2,0.13484373019216012,0.28565836309396508]
[null,null,null,"Renewable resources","Renewable resources","Renewable resources",null,0.28746499355557498,0.124852740971421,0.20578440940905701,0.36277877200314002,null,7.1866248388893744E-2,3.1213185242855251E-2,5.1446102352264253E-2,9.0694693000785004E-2,null,0.24522022898479826,null,"Renewable resources",0.36668534201718261,7.2396493563733261E-2,0.13484373019216012,0.28565836309396508]
[null,null,null,null,"Water","Water",null,0.28746499355557498,6.0625722459396E-2,0.13597220508414301,0.27602982463627102,null,7.1866248388893744E-2,1.5156430614849E-2,3.3993051271035753E-2,6.9007456159067754E-2,null,0.19002318643384625,null,"Water",0.36668534201718261,7.2396493563733261E-2,0.13484373019216012,0.28565836309396508]
[null,null,null,null,null,null,null,null,null,null,null,null,null,null,null,null,null,null,null,null,0,0,0,0]
["&Outputs",null,null,null,null,null,null,null,null,null,null,null,null,null,null,null,null,null,null,null,0,0,0,0]
[]
[null,null,null,null,null,null,null,"NA","SA","ME","African"]
["Flows","Flows","Flows","Flows","Flows","Flows",null,0.69873427525253695,0.210516641915583,0.112577095892731,0.65585459390334699,null,{"$f":"H20*$M$9","v":0.17468356881313424},{"$f":"I20*$N$9","v":5.2629160478895751E-2},{"$f":"J20*$O$9","v":2.8144273973182751E-2},{"$f":"K20*$P$9","v":0.16396364847583675},null,0.41942065174104948,null,"Flows",0.29905680218826231,0.66026726250289836,0.20638723018669636,0.61290271547693043]
[null,"Resources","Resources","Resources","Resources","Resources",null,9.5932252962951103E-2,5.3387948731462603E-2,0.112577095892731,0.23388766268747099,null,2.3983063240737776E-2,1.3346987182865651E-2,2.8144273973182751E-2,5.8471915671867748E-2,null,0.12394624006865393,null,"Resources",0.13282353908862263,5.3594336242936483E-2,0.10810868299912689,0.243048095617791]
[null,null,"Energy resources","Energy resources","Energy resources","Energy resources",null,0,0,0,0,null,0,0,0,0,null,0,null,"Energy resources",0,0,0,0]
[null,null,"Material resources","Material resources","Material resources","Material resources",null,9.5932252962951103E-2,5.3387948731462603E-2,0,0.23388766268747099,null,2.3983063240737776E-2,1.3346987182865651E-2,0,5.8471915671867748E-2,null,9.5801966095471175E-2,null,"Material resources",0.13282353908862263,5.3594336242936483E-2,0.10810868299912689,0.243048095617791]
[null,null,null,"Renewable resources","Renewable resources","Renewable resources",null,9.5932252962951103E-2,5.3387948731462603E-2,0,0.23388766268747099,null,2.3983063240737776E-2,1.3346987182865651E-2,0,5.8471915671867748E-2,null,9.5801966095471175E-2,null,"Renewable resources",0.13282353908862263,5.3594336242936483E-2,0.10810868299912689,0.243048095617791]
[null,null,null,null,"Water","Water",null,9.5932252962951103E-2,5.3387948731462603E-2,0.10900046912116799,0.23388766268747099,null,2.3983063240737776E-2,1.3346987182865651E-2,2.7250117280291999E-2,5.8471915671867748E-2,null,0.12305208337576318,null,"Water",0.13282353908862263,5.3594336242936483E-2,0.10810868299912689,0.243048095617791]
[null,null,null,null,null,"Water (river water)",null,0,4.0157099645845201E-4,0,0,null,0,1.00392749114613E-4,0,0,null,1.00392749114613E-4,null,"Emissions to air",0.16621255135380031,0.60667123936853184,9.8254030937660886E-2,0.36984570124725535]
[null,null,null,null,null,"Water (sea water)",null,null,null,null,null,null,0,0,0,0,null,0,null,"Heavy metals to air",9.9649913245318153E-9,1.369736575733919E-8,1.5821173399893745E-9,1.0814356597835364E-9]
[null,null,null,null,null,"Water (wastewater)",null,0,0,0,0,null,0,0,0,0,null,0,null,"Lead (+II)",9.5589816016422038E-9,1.2440074125000882E-8,1.5667313902913882E-9,1.0493157684290147E-9]
[null,"Ecoinvent","Ecoinvent","Ecoinvent","Ecoinvent","Ecoinvent",null,0,0,0,0,null,0,0,0,0,null,0,null,"Mercury (+II)",4.0600972288961813E-10,1.2572916323383163E-9,1.5385949697983436E-11,3.2119891354520508E-11]
[null,"Production residues in life cycle","Production residues in life cycle","Production residues in life cycle","Production residues in life cycle","Production residues in life cycle",null,2.4144702272535301E-4,0,0,0,null,6.0361755681338252E-5,0,0,0,null,6.0361755681338252E-5,null,"Inorganic emissions to air",0.16418293277119722,0.60474638847405271,9.7632295110751055E-2,0.34899811726627095]
[null,null,"Waste for disposal","Waste for disposal","Waste for disposal","Waste for disposal",null,2.4144702272535301E-4,0,0,0,null,6.0361755681338252E-5,0,0,0,null,6.0361755681338252E-5,null,"Ammonia",3.5838557568949434E-6,4.0963460325937281E-5,1.2470751843407626E-8,1.7662166232135665E-8]
[null,null,null,"Waste (solid)","Waste (solid)","Waste (solid)",null,2.4144702272535301E-4,0,0,0,null,6.0361755681338252E-5,0,0,0,null,6.0361755681338252E-5,null,"Carbon dioxide",0.16262454529693865,0.60022501579727094,9.7008548559698454E-2,0.34443351037781289]
[null,"Emissions to air","Emissions to air","Emissions to air","Emissions to air","Emissions to air",null,0.27746728741152898,0.150706331805366,0.118652501224969,0.38180104313901198,null,6.9366821852882246E-2,3.7676582951341499E-2,2.9663125306242249E-2,9.5450260784752994E-2,null,0.23215679089521898,null,"Carbon dioxide (biotic)",0,0,0,0]
[null,null,"Heavy metals to air","Heavy metals to air","Heavy metals to air","Heavy metals to air",null,1.16933271438888E-7,5.2962069091752799E-8,2.18950667446139E-7,2.2882203340854099E-8,null,2.9233317859722E-8,1.32405172729382E-8,5.473766686153475E-8,5.7205508352135248E-9,null,1.0293205282940847E-7,null,"Carbon monoxide",3.2232830522145372E-4,5.027929741718794E-4,1.7608601597292708E-4,8.7396978229536493E-4]
[null,null,null,"Lead (+II)","Lead (+II)","Lead (+II)",null,1.34171627262382E-8,3.4444714386785302E-9,1.58414359405265E-9,1.0425169129386099E-9,null,3.3542906815595499E-9,8.6111785966963254E-10,3.9603589851316249E-10,2.6062922823465248E-10,null,4.8720736679769972E-9,null,"Nitrogen oxides",5.3306249438323601E-4,4.0410177932889886E-4,3.1990394570821103E-4,7.207784326837811E-4]
[null,null,null,"Mercury (+II)","Mercury (+II)","Mercury (+II)",null,4.9456085033774504E-10,8.5379851822963405E-11,1.5550105499156001E-11,3.1976206192466197E-11,null,1.2364021258443626E-10,2.1344962955740851E-11,3.8875263747890003E-12,7.9940515481165493E-12,null,1.5686675346308267E-10,null,"Nitrous oxide (laughing gas)",3.7252263860711475E-6,1.7910394814027767E-5,2.2603952488732047E-6,8.9336186850880451E-6]
[null,null,"Inorganic emissions to air","Inorganic emissions to air","Inorganic emissions to air","Inorganic emissions to air",null,0.212502079527189,0.140275970443662,0.105250711366307,0.35383977883027401,null,5.3125519881797249E-2,3.5068992610915499E-2,2.6312677841576749E-2,8.8459944707568502E-2,null,0.20296713504185798,null,"Sulphur dioxide",6.9568759251087409E-4,3.5556040681404329E-3,1.2548372337069504E-4,2.960907392627824E-3]
[null,null,null,"Ammonia","Ammonia","Ammonia",null,4.0500352367734602E-6,2.3768927147234102E-8,1.26017656204103E-8,1.7650446456505398E-8,null,1.012508809193365E-6,5.9422317868085254E-9,3.150441405102575E-9,4.4126116141263496E-9,null,1.0260140939994025E-6,null,"Organic emissions to air (group VOC)",2.0213339248518519E-3,1.922045455773303E-3,6.1867960557389877E-4,2.0844903287359329E-2]
[null,null,null,"Carbon dioxide","Carbon dioxide","Carbon dioxide",null,0.19424894111784899,0.13509998000797099,9.8019918010643206E-2,0.34513434244628399,null,4.8562235279462247E-2,3.3774995001992748E-2,2.4504979502660802E-2,8.6283585611570998E-2,null,0.19312579539568681,null,"Group NMVOC to air",3.6996944400246744E-4,3.0241693331334481E-4,9.4959470100271722E-5,3.7993146711140006E-3]
[null,null,null,"Carbon dioxide (biotic)","Carbon dioxide (biotic)","Carbon dioxide (biotic)",null,0,0,0,0,null,0,0,0,0,null,0,null,"Methane",1.6513644808493866E-3,1.6196285224599637E-3,5.2372013547362676E-4,1.7045588616245319E-2]
[null,null,null,"Carbon monoxide","Carbon monoxide","Carbon monoxide",null,4.4396720311065397E-4,3.0911472972563E-4,1.7793391107547899E-4,8.7609894037774699E-4,null,1.1099180077766349E-4,7.72786824314075E-5,4.4483477768869749E-5,2.1902473509443675E-4,null,4.5177869607237748E-4,null,"Particles to air",8.2746927599509218E-6,2.7917413407836748E-6,3.0546392186312302E-6,2.6796121891349741E-6]
[null,null,null,"Nitrogen oxides","Nitrogen oxides","Nitrogen oxides",null,7.1921685586029405E-4,4.0757565126369702E-4,3.2319571402867898E-4,7.2169608358167399E-4,null,1.7980421396507351E-4,1.0189391281592426E-4,8.0798928507169745E-5,1.804240208954185E-4,null,5.4292107618358594E-4,null,"Dust (unspecified)",8.2746927599509218E-6,2.7917413407836748E-6,3.0546392186312302E-6,2.6796121891349741E-6]
[null,null,null,"Nitrous oxide (laughing gas)","Nitrous oxide (laughing gas)","Nitrous oxide (laughing gas)",null,5.5644203166090803E-6,3.4537008336767899E-6,2.2839902863264399E-6,8.9535230172553803E-6,null,1.3911050791522701E-6,8.6342520841919748E-7,5.7099757158160998E-7,2.2383807543138451E-6,null,5.0639086134669224E-6,null,"Emissions to fresh water",1.2289627868663672E-5,1.2550545223540039E-6,2.1373224424825044E-6,2.1403350619315301E-6]
[null,null,null,"Sulphur dioxide","Sulphur dioxide","Sulphur dioxide",null,8.3977621039212297E-4,5.7236711093169195E-4,1.2697298610258399E-4,2.9708939176777902E-3,null,2.0994405259803074E-4,1.4309177773292299E-4,3.1743246525645998E-5,7.4272347941944754E-4,null,1.1275025562760472E-3,null,"Heavy metals to fresh water",1.0439686673907166E-5,1.149008786146373E-6,3.6361180394185578E-7,1.3433140723094568E-6]
[null,null,"Organic emissions to air (group VOC)","Organic emissions to air (group VOC)","Organic emissions to air (group VOC)","Organic emissions to air (group VOC)",null,2.5998355416564198E-3,1.9140535213578E-3,6.2629090540109399E-4,2.0938880648229699E-2,null,6.4995888541410495E-4,4.7851338033945E-4,1.565727263502735E-4,5.2347201620574248E-3,null,6.5197651541612535E-3,null,"Inorganic emissions to fresh water",1.8499411947565186E-6,1.0604573620762992E-7,1.7737106385406458E-6,7.9702098962206922E-7]
[null,null,null,"Group NMVOC to air","Group NMVOC to air","Group NMVOC to air",null,4.86536801995072E-4,3.0528524898510399E-4,9.6154978924977498E-5,3.8163566538787701E-3,null,1.21634200498768E-4,7.6321312246275998E-5,2.4038744731244375E-5,9.5408916346969251E-4,null,1.1760834209459808E-3,null,"Aluminum (+III)",5.9267182833442114E-8,3.6953425089809213E-9,8.8894358961546865E-10,1.0555351657859723E-9]
[null,null,null,null,"NMVOC (unspecified)","NMVOC (unspecified)",null,null,null,null,null,null,0,0,0,0,null,0,null,"Ammonia",4.7011487707545436E-7,9.2370739755347789E-10,4.9425291497639566E-10,6.1497059860406073E-10]
[null,null,null,"Methane","Methane","Methane",null,2.0056832668945502E-3,1.60817309706578E-3,5.30110961748766E-4,1.7122377421872999E-2,null,5.0142081672363754E-4,4.0204327426644499E-4,1.325277404371915E-4,4.2805943554682499E-3,null,5.3165861868955241E-3,null,"Ammonium / ammonia",9.9504996278186263E-7,6.1727630717161584E-8,1.5640326178182976E-6,4.9586633837855783E-7]
[null,null,"Particles to air","Particles to air","Particles to air","Particles to air",null,2.8063691908588999E-5,1.2237345600775199E-5,9.3159330285139093E-6,2.2048329218343101E-5,null,7.0159229771472497E-6,3.0593364001937999E-6,2.3289832571284773E-6,5.5120823045857753E-6,null,1.79163249390553E-5,null,"Nitrate",2.0833017064950946E-7,2.7456268432899015E-8,3.1395562138195488E-8,2.3918450792655308E-7]
[null,null,null,"Dust (unspecified)","Dust (unspecified)","Dust (unspecified)",null,9.9206563003957194E-6,2.80512095226294E-6,3.0861675585016202E-6,2.67867498935028E-6,null,2.4801640750989299E-6,7.01280238065735E-7,7.7154188962540504E-7,6.6966874733756999E-7,null,4.6226549501276395E-6,null,"Nitrogen",2.1365246784336224E-9,7.974580474894219E-10,3.2045192988630996E-11,1.9839193681464022E-10]
[null,null,"Radioactive emissions to air","Radioactive emissions to air","Radioactive emissions to air","Radioactive emissions to air",null,3.9516071197886001E-10,3.3787247269825199E-11,5.0721618715891401E-12,9.9106803428483206E-12,null,9.8790177994715002E-11,8.4468118174562997E-12,1.268040467897285E-12,2.4776700857120801E-12,null,1.1098270036578067E-10,null,"Phosphate",9.0640861015513891E-9,5.2205398199776201E-9,3.5509201552909872E-9,5.2805678141253686E-9]
[null,"Emissions to fresh water","Emissions to fresh water","Emissions to fresh water","Emissions to fresh water","Emissions to fresh water",null,4.0795690814404298E-3,4.7132735577807899E-3,2.0737705241203599E-3,1.4609251352494201E-2,null,1.0198922703601075E-3,1.1783183894451975E-3,5.1844263103008998E-4,3.6523128381235502E-3,null,6.3689661289589453E-3,null,"Phosphorus",1.0597839063626457E-7,6.2247892835679225E-9,1.7331629673128052E-7,5.4820677801627407E-8]
[null,null,"Heavy metals to fresh water","Heavy metals to fresh water","Heavy metals to fresh water","Heavy metals to fresh water",null,5.4000921952022104E-6,1.1814774847592E-6,4.63516896548876E-7,1.95057047524205E-6,null,1.3500230488005526E-6,2.9536937118979999E-7,1.15879224137219E-7,4.876426188105125E-7,null,2.2489142629380839E-6,null,"Emissions to agricultural soil",0,0,0,0]
[null,null,"Inorganic emissions to fresh water","Inorganic emissions to fresh water","Inorganic emissions to fresh water","Inorganic emissions to fresh water",null,1.0262851829096001E-3,1.2511169954078599E-3,1.9107375896826599E-3,1.41677001834887E-2,null,2.5657129572740001E-4,3.1277924885196498E-4,4.7768439742066498E-4,3.541925045872175E-3,null,4.5889599878722051E-3,null,"Emissions to industrial soil",8.4221179705572257E-6,4.3183690762047777E-7,2.2378927466000994E-5,6.7782768226024318E-6]
[null,null,null,"Aluminum (+III)","Aluminum (+III)","Aluminum (+III)",null,3.3597349718041498E-8,3.17566896378951E-9,8.9823840488261399E-10,1.0489917339126999E-9,null,{"$f":"H55*$M$9","v":8.3993374295103744E-9},7.939172409473775E-10,2.245596012206535E-10,2.6224793347817498E-10,null,9.6800622051565807E-9,null,"Heavy metals to industrial soil",8.4221179705572257E-6,4.3183690762047777E-7,2.2378927466000994E-5,6.7782768226024318E-6]
[null,null,null,"Ammonia","Ammonia","Ammonia",null,7.6405096520512197E-9,9.2028467377628998E-10,4.9935118528676102E-10,6.1406515799450203E-10,null,1.9101274130128049E-9,2.300711684440725E-10,1.2483779632169026E-10,1.5351628949862551E-10,null,2.4185526672771929E-9]
[null,null,null,"Ammonium / ammonia","Ammonium / ammonia","Ammonium / ammonia",null,1.1857219376646401E-6,6.1671648333492996E-8,1.5801246512597499E-6,4.9593565482947495E-7,null,2.9643048441616002E-7,1.5417912083373249E-8,3.9503116281493748E-7,1.2398391370736874E-7,null,8.3086347302183949E-7]
[null,null,null,"Nitrate","Nitrate","Nitrate",null,1.3891641510910199E-7,2.6542594566298201E-8,3.1719538930525098E-8,2.3014654007005299E-7,null,3.4729103777275498E-8,6.6356486415745504E-9,7.9298847326312745E-9,5.7536635017513247E-8,null,1.0683127216899458E-7]
[null,null,null,"Nitrogen","Nitrogen","Nitrogen",null,3.23956547468535E-9,8.0621172655949496E-10,3.24149868010036E-11,1.96634360681395E-10,null,8.0989136867133751E-10,2.0155293163987374E-10,8.1037467002509001E-12,4.915859017034875E-11,null,1.068706637181811E-9]
[null,null,null,"Phosphate","Phosphate","Phosphate",null,1.2525088308579199E-8,5.2587568320635301E-9,3.5877393580048601E-9,5.2824330489279099E-9,null,3.1312720771447998E-9,1.3146892080158825E-9,8.9693483950121503E-10,1.3206082622319775E-9,null,6.6635043868938743E-9]
[null,null,null,"Phosphorus","Phosphorus","Phosphorus",null,1.2758875505651801E-7,6.24523167532878E-9,1.75099461139075E-7,5.4829604710481603E-8,null,3.1897188764129503E-8,1.561307918832195E-9,4.3774865284768751E-8,1.3707401177620401E-8,null,9.0940763145350861E-8]
[null,"Emissions to sea water","Emissions to sea water","Emissions to sea water","Emissions to sea water","Emissions to sea water",null,2.47169514876679E-2,1.7073373764401E-3,1.79696545713048E-2,2.5529229926616499E-2,null,6.179237871916975E-3,4.2683434411002499E-4,4.4924136428262E-3,6.3823074816541248E-3,null,1.7480793340507325E-2]
[null,"Emissions to industrial soil","Emissions to industrial soil","Emissions to industrial soil","Emissions to industrial soil","Emissions to industrial soil",null,3.8724592545090398E-5,1.7504445334360501E-6,9.1398396754941395E-5,2.7406797753511001E-5,null,9.6811481362725994E-6,4.3761113335901253E-7,2.2849599188735349E-5,6.8516994383777503E-6,null,3.9820057896744712E-5]
[null,null,"Heavy metals to industrial soil","Heavy metals to industrial soil","Heavy metals to industrial soil","Heavy metals to industrial soil",null,1.0541166322214899E-5,4.30698674316098E-7,2.2609173000835601E-5,6.7793886100314298E-6,null,2.6352915805537249E-6,1.076746685790245E-7,5.6522932502089003E-6,1.6948471525078575E-6,null,1.0090106651849505E-5]

{"sheet":"Uranium","index":20,"n_rows":77,"n_cols":15,"rows_kept":77,"cut":false,"hidden":true,"merged":[]}
["GaBi 4"]
[null,null,"Database:","C:\\Users\\548910\\Documents\\GaBi\\DB\\NETL_083111"]
["Balance:","Uranium RMA","  Mass [kg]","kg","2011-09-23T10:47:02","Balance view: ",null,"Upstreams (no sf6)"]
["Balance object:","Uranium RMA [Uranium]","2011-08-26T13:24:47","{220A9FF5-EBF9-4702-9009-4232F969665B}"]
["In/out aggregation","Yes","Weak point analysis","No","Last service pack:",17]
[]
["&Inputs"]
[null,null,null,null,null,null,null,null,null,null,null,"European Enrichment (%)","US Enrichment",null,"Total"]
[null,null,null,null,null,null,null,"europe","us",null,null,0.47599999999999998,0.52400000000000002,null,{"$f":"SUM(L9:M9)","v":1}]
["Flows","Flows","Flows","Flows","Flows","Flows",null,18558.254265743999,226480.466805434,null,null,{"$f":"H10*$L$9","v":8833.7290304941434},{"$f":"I10*$M$9","v":118675.76460604742},null,{"$f":"SUM(L10:M10)","v":127509.49363654156}]
[null,"Resources","Resources","Resources","Resources","Resources",null,18558.254265743999,226480.466805434,null,null,8833.7290304941434,{"$f":"I11*$M$9","v":118675.76460604742},null,127509.49363654156]
[null,null,"Energy resources","Energy resources","Energy resources","Energy resources",null,159102.26520793099,288252.927261615,null,null,75732.678238975146,151044.53388508628,null,226777.21212406142]
[null,null,"Material resources","Material resources","Material resources","Material resources",null,14585.6129380693,217948.14104857401,null,null,6942.7517585209862,114204.82590945279,null,121147.57766797378]
[null,null,null,"Renewable resources","Renewable resources","Renewable resources",null,13948.2474772037,196576.695834746,null,null,6639.3657991489608,103006.18861740691,null,109645.55441655587]
[null,null,null,null,"Water","Water",null,13378.658184370301,141496.16714795399,null,null,6368.2412957602628,74143.991585527896,null,80512.232881288161]
[]
["&Outputs"]
[]
[null,null,null,null,null,null,null,"New","New1"]
["Flows","Flows","Flows","Flows","Flows","Flows",null,28635.1948383323,194733.83204371599,null,null,{"$f":"H20*$L$9","v":13630.352743046175},102040.52799090718,null,115670.88073395335]
[null,"Resources","Resources","Resources","Resources","Resources",null,11481.271532197599,110668.62645793,null,null,5465.0852493260572,57990.360263955321,null,63455.445513281375]
[null,null,"Energy resources","Energy resources","Energy resources","Energy resources",null,0,0,null,null,0,0,null,0]
[null,null,"Material resources","Material resources","Material resources","Material resources",null,11481.271532197599,110668.62645793,null,null,5465.0852493260572,57990.360263955321,null,63455.445513281375]
[null,null,null,"Renewable resources","Renewable resources","Renewable resources",null,11481.271532197599,110668.62645793,null,null,5465.0852493260572,57990.360263955321,null,63455.445513281375]
[null,null,null,null,"Water","Water",null,11480.4666060913,110668.56899433699,{"$f":"H15-H25","v":1898.1915782790002},{"$f":"I15-I25","v":30827.598153617},5464.702104499459,57990.330153032584,null,63455.032257532046]
[null,null,null,null,null,"Water (river water)",null,null,null,null,null,0,0,null,0]
[null,null,null,null,null,"Water (sea water)",null,null,null,null,null,0,0,null,0]
[null,null,null,null,null,"Water (wastewater)",null,null,null,null,null,0,0,null,0]
[null,"Ecoinvent","Ecoinvent","Ecoinvent","Ecoinvent","Ecoinvent",null,9.8756214688825297E-2,0.131532991213589,null,null,4.700795819188084E-2,6.8923287395920643E-2,null,0.11593124558780149]
[null,"Production residues in life cycle","Production residues in life cycle","Production residues in life cycle","Production residues in life cycle","Production residues in life cycle",null,5.2696724637127099,6.6392991938105403,null,null,2.5083640927272497,3.4789927775567233,null,5.987356870283973]
[null,null,"Waste for disposal","Waste for disposal","Waste for disposal","Waste for disposal",null,2.3239826733264501,2.7430760937170202,null,null,1.1062157525033902,1.4373718731077187,null,2.5435876256111092]
[null,null,null,"Waste (solid)","Waste (solid)","Waste (solid)",null,0.91002846957525496,1.33362648432399,null,null,0.43317355151782133,0.69882027778577083,null,1.131993829303592]
[null,"Emissions to air","Emissions to air","Emissions to air","Emissions to air","Emissions to air",null,1768.95807204627,77136.427636572203,null,null,842.02404229402453,40419.488081563839,null,41261.512123857865]
[null,null,"Heavy metals to air","Heavy metals to air","Heavy metals to air","Heavy metals to air",null,5.73085546050327E-4,1.09413528253317E-2,null,null,2.7278871991995562E-4,5.7332688804738107E-3,null,6.0060576003937664E-3]
[null,null,null,"Lead (+II)","Lead (+II)","Lead (+II)",null,7.4668081708921703E-5,5.5541388888212496E-4,null,null,3.554200689344673E-5,2.910368777742335E-4,null,3.2657888466768026E-4]
[null,null,null,"Mercury (+II)","Mercury (+II)","Mercury (+II)",null,6.7785359298190696E-6,1.29844156130305E-4,null,null,3.2265831025938769E-6,6.8038337812279819E-5,null,7.1264920914873697E-5]
[null,null,"Inorganic emissions to air","Inorganic emissions to air","Inorganic emissions to air","Inorganic emissions to air",null,1324.4135350177201,31215.529298261899,null,null,630.42084266843472,16356.937352289237,null,16987.358194957673]
[null,null,null,"Ammonia","Ammonia","Ammonia",null,0.60087930720968796,0.100138825711427,null,null,0.28601855023181144,5.2472744672787751E-2,null,0.33849129490459917]
[null,null,null,"Carbon dioxide","Carbon dioxide","Carbon dioxide",null,813.40461611611397,11846.714734678901,{"$f":"H39+H40","v":813.40463806302137},{"$f":"I39+I40","v":11846.714754602302},387.18059727127024,6207.6785209717445,null,6594.8591182430146]
[null,null,null,"Carbon dioxide (biotic)","Carbon dioxide (biotic)","Carbon dioxide (biotic)",null,2.1946907388055501E-5,1.9923402666915499E-5,null,null,1.0446727916714418E-5,1.0439862997463723E-5,null,2.088659091417814E-5]
[null,null,null,"Carbon monoxide","Carbon monoxide","Carbon monoxide",null,2.4174794433339799,7.0369696978629603,null,null,1.1507202150269744,3.6873721216801916,null,4.8380923367071658]
[null,null,null,"Nitrogen oxides","Nitrogen oxides","Nitrogen oxides",null,4.0567791416013401,26.4583592855227,null,null,1.9310268714022378,13.864180265613896,null,15.795207137016135]
[null,null,null,"Nitrous oxide (laughing gas)","Nitrous oxide (laughing gas)","Nitrous oxide (laughing gas)",null,3.35116449150362E-2,0.171702968901153,null,null,1.595154297955723E-2,8.9972355704204171E-2,null,0.1059238986837614]
[null,null,null,"Sulphur dioxide","Sulphur dioxide","Sulphur dioxide",null,2.0777131338370101,74.465153314117998,null,null,0.98899145170641678,39.019740336597835,null,40.008731788304253]
[null,null,"Organic emissions to air (group VOC)","Organic emissions to air (group VOC)","Organic emissions to air (group VOC)","Organic emissions to air (group VOC)",null,12.652109454030301,27.389610927768899,null,null,6.0224041001184228,14.352156126150904,null,20.374560226269328]
[null,null,null,"Group NMVOC to air","Group NMVOC to air","Group NMVOC to air",null,1.2073788311920499,2.25925048058865,null,null,0.57471232364741576,1.1838472518284526,null,1.7585595754758683]
[null,null,null,null,"NMVOC (unspecified)","NMVOC (unspecified)",null,null,null,null,null,0,0,null,0]
[null,null,null,"Methane","Methane","Methane",null,11.4364744921895,25.122390408445799,null,null,5.443761858282202,13.164132574025599,null,18.607894432307802]
[null,null,"Particles to air","Particles to air","Particles to air","Particles to air",null,0.73509586025865603,2.7044562392558,null,null,0.34990562948312026,1.4171350693700393,null,1.7670406988531595]
[null,null,null,"Dust (unspecified)","Dust (unspecified)","Dust (unspecified)",null,0.106819986762829,1.5045707248037501,null,null,5.0846313699106603E-2,0.78839505979716507,null,0.8392413734962717]
[null,null,"Radioactive emissions to air","Radioactive emissions to air","Radioactive emissions to air","Radioactive emissions to air",null,1.01121778785039E-4,6.6716841087826898E-5,null,null,4.813396670167856E-5,3.4959624730021297E-5,null,8.3093591431699851E-5]
[null,"Emissions to fresh water","Emissions to fresh water","Emissions to fresh water","Emissions to fresh water","Emissions to fresh water",null,1069.4925296292099,670.91662287952204,null,null,509.0784441035039,351.56031038886954,null,860.63875449237344]
[null,null,"Heavy metals to fresh water","Heavy metals to fresh water","Heavy metals to fresh water","Heavy metals to fresh water",null,605.38229121937104,264.60941358830797,null,null,288.16197062042062,138.65533272027338,null,426.81730334069402]
[null,null,"Inorganic emissions to fresh water","Inorganic emissions to fresh water","Inorganic emissions to fresh water","Inorganic emissions to fresh water",null,456.65601053594497,387.523310017705,null,null,217.36826101510979,203.06221444927743,null,420.4304754643872]
[null,null,null,"Aluminum (+III)","Aluminum (+III)","Aluminum (+III)",null,1.9970791340204699E-2,1.9679535535103401E-2,null,null,9.5060966779374357E-3,1.0312076620394182E-2,null,1.9818173298331618E-2]
[null,null,null,"Ammonia","Ammonia","Ammonia",null,0.47007030931980998,0.44656882902926598,null,null,0.22375346723622955,0.23400206641133539,null,0.45775553364756494]
[null,null,null,"Ammonium / ammonia","Ammonium / ammonia","Ammonium / ammonia",null,349.469912262126,152.680861174342,{"$f":"H56+H57","v":349.9399825714458},{"$f":"I56+I57","v":153.12743000337127},166.34767823677197,80.004771255355209,null,246.35244949212716]
[null,null,null,"Nitrate","Nitrate","Nitrate",null,0.69530251130420595,1.1027535182592001,null,null,0.33096399538080201,0.5778428435678209,null,0.90880683894862291]
[null,null,null,"Nitrogen","Nitrogen","Nitrogen",null,0.425804079760217,0.91216290978995496,null,null,0.20268274196586328,0.4779733647299364,null,0.68065610669579968]
[null,null,null,"Phosphate","Phosphate","Phosphate",null,7.8188171852851902E-4,1.58934313255038E-3,null,null,3.7217569801957506E-4,8.3281580145639917E-4,null,1.2049914994759743E-3]
[null,null,null,"Phosphorus","Phosphorus","Phosphorus",null,1.7425854072184901E-2,1.55132775690318E-2,null,null,8.2947065383600135E-3,8.1289574461726639E-3,null,1.6423663984532676E-2]
[null,"Emissions to sea water","Emissions to sea water","Emissions to sea water","Emissions to sea water","Emissions to sea water",null,2.17990854175846,3.67962960284799,null,null,1.037636465877027,1.9281259118923468,null,2.9657623777693738]
[null,"Emissions to industrial soil","Emissions to industrial soil","Emissions to industrial soil","Emissions to industrial soil","Emissions to industrial soil",null,14307.9243672391,6247.4108645466604,null,null,6810.5719988058117,3273.6432930224501,null,10084.215291828263]
[null,null,"Heavy metals to industrial soil","Heavy metals to industrial soil","Heavy metals to industrial soil","Heavy metals to industrial soil",null,14307.166851566,6246.6509547553696,null,null,6810.2114213454161,3273.2451002918137,null,10083.45652163723]
[null,null,null,"Arsenic (+V)","Arsenic (+V)","Arsenic (+V)",null,null,null,null,null,0,0,null,0]
[null,null,null,"Cadmium (+II)","Cadmium (+II)","Cadmium (+II)",null,null,null,null,null,0,0,null,0]
[null,null,null,"Chromium (+III)","Chromium (+III)","Chromium (+III)",null,null,null,null,null,0,0,null,0]
[null,null,null,"Chromium (unspecified)","Chromium (unspecified)","Chromium (unspecified)",null,null,null,null,null,0,0,null,0]
[null,null,null,"Cobalt","Cobalt","Cobalt",null,null,null,null,null,0,0,null,0]
[null,null,null,"Copper (+II)","Copper (+II)","Copper (+II)",null,null,null,null,null,0,0,null,0]
[null,null,null,"Iron","Iron","Iron",null,null,null,null,null,0,0,null,0]
[null,null,null,"Lead (+II)","Lead (+II)","Lead (+II)",null,null,null,null,null,0,0,null,0]
[null,null,null,"Manganese (+II)","Manganese (+II)","Manganese (+II)",null,null,null,null,null,0,0,null,0]
[null,null,null,"Mercury (+II)","Mercury (+II)","Mercury (+II)",null,null,null,null,null,0,0,null,{"$f":"SUM(L74:M74)","v":0}]
[null,null,null,"Nickel (+II)","Nickel (+II)","Nickel (+II)",null,null,null,null,null,{"$f":"H75*$L$9","v":0},{"$f":"I75*$M$9","v":0},null,0]
[null,null,null,"Strontium","Strontium","Strontium",null,null,null,null,null,0,0,null,0]
[null,null,null,"Zinc (+II)","Zinc (+II)","Zinc (+II)",null,null,null,null,null,0,0,null,0]

{"sheet":"Stover RMA","index":21,"n_rows":82,"n_cols":17,"rows_kept":82,"cut":false,"hidden":true,"merged":[[7,14,7,16]]}
["GaBi 4"]
[null,null,"Database:","C:\\Users\\548910\\Documents\\GaBi\\DB\\Natural Gas 090511"]
["Balance:","Natural Gas RMA_RMT","  Mass [kg]","kg","2011-09-27T15:36:03","Balance view: "]
["Balance object:","Natural Gas RMA/RMT [NG 2011]","2011-09-06T11:57:15","{6FF55FB5-4F71-455F-A27A-E4033A839A20}",null,null,null,null,null,null,"BIO_YIELD",1001,1107,{"$f":"M4-L4","v":106}]
["In/out aggregation","Yes","Weak point analysis","No","Last service pack:",17,null,null,null,null,"CORN_ALLOCATION",0.80649999999999999,0.75,{"$f":"M5-L5","v":-5.6499999999999995E-2}]
[null,null,null,null,null,null,null,null,null,null,"yield_corn",3829,4196,{"$f":"M6-L6","v":367}]
["&Inputs"]
[null,null,null,null,null,null,null,null,null,null,null,null,null,null,"delta"]
[null,null,null,null,null,null,"Nom","Bio Yield","Corn Alloc","yield Corn","Nom","Bio Yield","Corn Alloc","yield Corn","Bio Yield","Corn Alloc","yield Corn"]
["Flows","Flows","Flows","Flows","Flows","Flows",91.069899324282702,96.4200763831399,91.069899324282702,78.727636875946601]
[null,"Resources","Resources","Resources","Resources","Resources",91.069899324282702,96.4200763831399,91.069899324282702,78.727636875946601]
[null,null,"Energy resources","Energy resources","Energy resources","Energy resources",2.4240949238089802,2.2418293283794699,2.51749,5.5761008981428099E-2,null,null,null,null,{"$f":"H12-$G12","v":-0.18226559542951026},{"$f":"I12-$G12","v":9.3395076191019832E-2},{"$f":"J12-$G12","v":-2.3683339148275522}]
[null,null,"Material resources","Material resources","Material resources","Material resources",91.013087114942607,96.367525400066398,null,78.671875696747406]
[null,null,null,"Renewable resources","Renewable resources","Renewable resources",90.700759921271299,96.081392420476803,null,78.362950230018001]
[null,null,null,null,"Water","Water",90.268657771470203,95.681952252259507,116.50075890981999,77.9386930929427]
[null,null,null,null,null,"Water (ground water)",2.13396037300565,2.2512446616571302,null,1.85192404065491]
[null,null,null,null,null,"Water (lake water)",1.9412892576220799E-6,1.79379123092425E-6,null,1.9067071935541301E-6]
[null,null,null,null,null,"Water (river water)",0,0,null,0]
[null,null,null,null,null,"Water (sea water)",5.7046853851373201E-5,5.3422425915796797E-5,null,5.5410325491238203E-5]
[null,null,null,null,null,"Water (surface water)",2.3679509223284501,2.46718817508888,null,2.0818699532471401,null,null,null," "]
[]
["&Outputs"]
[]
[null,null,null,null,null,null,"Nom","Bio Yield",null,"yield Corn"]
["Flows","Flows","Flows","Flows","Flows","Flows",1.05887502584718,0.97785748716828902,null,1.0405371118615401]
[null,"Resources","Resources","Resources","Resources","Resources",0.360429160618985,0.33315285686520801,null,0.35391334562876098]
[null,null,"Energy resources","Energy resources","Energy resources","Energy resources",0,0,null,0]
[null,null,"Material resources","Material resources","Material resources","Material resources",0.360429160618985,0.33315285686520801,null,0.35391334562876098]
[null,null,null,"Renewable resources","Renewable resources","Renewable resources",0.360429160618985,0.33315285686520801,null,0.35391334562876098]
[null,null,null,null,"Water","Water",0.360414706259437,0.33313949195745002,0.37793433834266899,0.35389915643164399,{"$f":"G15-G30","v":89.908243065210769},{"$f":"H15-H30","v":95.348812760302053},{"$f":"I15-I30","v":116.12282457147732},{"$f":"J15-J30","v":77.584793936511062},{"$f":"L30-$K30","v":5.4405696950912841},{"$f":"M30-$K30","v":26.214581506266555},-12.323449128699707]
[null,null,null,null,null,"Water (river water)",0.35973163824321602,0.33250829690322697,null,0.35322827941262702]
[null,null,null,null,null,"Water (sea water)"]
[null,null,null,null,null,"Water (wastewater)",0,0,null,0]
[null,"Ecoinvent","Ecoinvent","Ecoinvent","Ecoinvent","Ecoinvent",1.7991004757618699E-6,1.6624058698631799E-6,null,1.7670513580566099E-6]
[null,"Production residues in life cycle","Production residues in life cycle","Production residues in life cycle","Production residues in life cycle","Production residues in life cycle",3.2390929020126497E-4,3.2714651465104899E-4,null,3.0387158179684398E-4]
[null,null,"Waste for disposal","Waste for disposal","Waste for disposal","Waste for disposal",1.96144464951632E-4,2.0901706363170099E-4,null,1.7844576932633899E-4]
[null,null,null,"Waste (solid)","Waste (solid)","Waste (solid)",8.8313001000930802E-7,8.2239938118303899E-7,null,8.6183324105889604E-7,null,null,null,null,{"$f":"H37-$G37","v":-6.0730628826269037E-8},{"$f":"I37-$G37","v":-8.8313001000930802E-7},{"$f":"J37-$G37","v":-2.1296768950411983E-8}]
[null,"Emissions to air","Emissions to air","Emissions to air","Emissions to air","Emissions to air",0.67975715649882096,0.62719185784615095,null,0.66847111267952697]
[null,null,"Heavy metals to air","Heavy metals to air","Heavy metals to air","Heavy metals to air",2.48283025988988E-8,2.3948719696462301E-8,null,2.3835064274157399E-8]
[null,null,null,"Lead (+II)","Lead (+II)","Lead (+II)",2.3085389042785401E-9,2.25060118737623E-9,2.6045008467768801E-9,2.20637101704426E-9,null,null,null,null,{"$f":"H40-$G40","v":-5.7937716902310024E-11},2.9596194249834005E-10,-1.0216788723428003E-10]
[null,null,null,"Mercury (+II)","Mercury (+II)","Mercury (+II)",3.9995200151585998E-10,3.7702565537857298E-10,4.2815202104792598E-10,3.8891969156819201E-10,null,null,null,null,-2.2926346137287001E-11,2.8200019532065997E-11,-1.1032309947667968E-11]
[null,null,"Inorganic emissions to air","Inorganic emissions to air","Inorganic emissions to air","Inorganic emissions to air",0.25498927138722299,0.23580152070902699,null,0.25030548932253199]
[null,null,null,"Ammonia","Ammonia","Ammonia",1.56919846647112E-4,1.4503151116472801E-4,1.62802822193313E-4,1.5409447574442901E-4,null,null,null,null,{"$f":"H43-$G43","v":-1.1888335482383998E-5},{"$f":"I43-$G43","v":5.8829755462009995E-6},{"$f":"J43-$G43","v":-2.825370902682998E-6}]
[null,null,null,"Carbon dioxide","Carbon dioxide","Carbon dioxide",0.14791847305384001,0.136804925738303,0.15363272315321899,0.145195057062319,{"$f":"G44+G45","v":-0.12522671527514698},{"$f":"H44+H45","v":-0.13634026259068399},{"$f":"I44+I45","v":-0.119512175161435},{"$f":"J44+J45","v":-0.12795013126666799},{"$f":"L44-$K44","v":-1.1113547315537015E-2},{"$f":"M44-$K44","v":5.7145401137119745E-3},-2.723415991521011E-3]
[null,null,null,"Carbon dioxide (biotic)","Carbon dioxide (biotic)","Carbon dioxide (biotic)",-0.27314518832898699,-0.27314518832898699,-0.27314489831465399,-0.27314518832898699]
[null,null,null,"Carbon monoxide","Carbon monoxide","Carbon monoxide",7.7509936021022605E-5,7.3216139243994398E-5,8.3322215556001894E-5,7.4912403118727706E-5,null,null,null,null,{"$f":"H46-$G46","v":-4.293796777028207E-6},{"$f":"I46-$G46","v":5.8122795349792886E-6},-2.597532902294899E-6]
[null,null,null,"Nitrogen oxides","Nitrogen oxides","Nitrogen oxides",3.8983936468100702E-4,3.6035791471781398E-4,4.0454605353231198E-4,3.8280908044983501E-4,null,null,null,null,{"$f":"H47-$G47","v":-2.9481449963193046E-5},1.4706688851304954E-5,-7.0302842311720107E-6]
[null,null,null,"Nitrous oxide (laughing gas)","Nitrous oxide (laughing gas)","Nitrous oxide (laughing gas)",7.0239839333423705E-4,6.5382907763139901E-4,7.3739297249911901E-4,6.85694483788172E-4,null,null,null,null,-4.8569315702838047E-5,3.4994579164881958E-5,-1.6703909546065057E-5]
[null,null,null,"Sulphur dioxide","Sulphur dioxide","Sulphur dioxide",2.0731204332659901E-4,1.9241610490926001E-4,2.16585013156145E-4,2.02919296619297E-4,null,null,null,null,-1.4895938417338993E-5,9.2729698295459921E-6,-4.39274670730201E-6]
[null,null,null,"Sulphur hexafluoride","Sulphur hexafluoride","Sulphur hexafluoride",1.47304692741024E-9,1.36112581324157E-9,1.52767098631642E-9,1.4468060007805899E-9,null,null,null,null,-1.119211141686699E-10,5.4624058906180049E-11,-2.6240926629650021E-11]
[null,null,"Organic emissions to air (group VOC)","Organic emissions to air (group VOC)","Organic emissions to air (group VOC)","Organic emissions to air (group VOC)",0.108001748788299,9.8601997714009404E-2,null,0.10712089820725]
[null,null,null,"Group NMVOC to air","Group NMVOC to air","Group NMVOC to air",0.10781673969097,9.8430750605146E-2,0.109587975541555,0.10693942345832]
[null,null,null,null,"NMVOC (unspecified)","NMVOC (unspecified)",null,null,null,null,null,null,null,null,{"$f":"H53-$G53","v":0},{"$f":"I53-$G53","v":0},0]
[null,null,null,"Methane","Methane","Methane",1.7750803712248699E-4,1.6429449554923001E-4,1.8459696551719E-4,1.7412295642098399E-4,null,null,null,null,{"$f":"H54-$G54","v":-1.3213541573256981E-5},7.0889283947030038E-6,-3.385080701502998E-6]
[null,null,"Particles to air","Particles to air","Particles to air","Particles to air",1.1398763573442501E-3,1.03811314967279E-3,null,1.13281766532212E-3]
[null,null,null,"Dust (unspecified)","Dust (unspecified)","Dust (unspecified)",1.13899161071458E-3,1.0372927681776699E-3,1.1529582451225899E-3,1.13195117607611E-3,null,null,null,null,{"$f":"H56-$G56","v":-1.0169884253691014E-4},{"$f":"I56-$G56","v":1.3966634408009871E-5},-7.0404346384700042E-6]
[null,null,"Radioactive emissions to air","Radioactive emissions to air","Radioactive emissions to air","Radioactive emissions to air",1.0605777583221601E-9,9.8087972904557095E-10,1.1015549007939101E-9,1.0409122570248301E-9,null,null,null,null,{"$f":"H57-$G57","v":-7.969802927658915E-11},4.0977142471749958E-11,-1.9665501297330022E-11]
[null,"Emissions to fresh water","Emissions to fresh water","Emissions to fresh water","Emissions to fresh water","Emissions to fresh water",1.8187910044182701E-2,1.7021143326554099E-2,null,1.76759463720138E-2]
[null,null,"Heavy metals to fresh water","Heavy metals to fresh water","Heavy metals to fresh water","Heavy metals to fresh water",1.8475741949394299E-5,1.71518222642079E-5,1.9309635249908301E-5,1.80775398152503E-5]
[null,null,"Inorganic emissions to fresh water","Inorganic emissions to fresh water","Inorganic emissions to fresh water","Inorganic emissions to fresh water",1.7932637085089499E-2,1.67849778920286E-2,null,1.74254681109966E-2]
[null,null,null,"Aluminum (+III)","Aluminum (+III)","Aluminum (+III)",1.7968351377323E-6,1.6744090878483499E-6,1.8897530025288701E-6,1.75251018741802E-6,null,null,null,null,{"$f":"H61-$G61","v":-1.2242604988395006E-7},{"$f":"I61-$G61","v":9.2917864796570107E-8},{"$f":"J61-$G61","v":-4.4324950314279954E-8}]
[null,null,null,"Ammonia","Ammonia","Ammonia",1.85329285085791E-5,1.7278562313738802E-5,1.95067571198709E-5,1.8069105814138999E-5]
[null,null,null,"Ammonium / ammonia","Ammonium / ammonia","Ammonium / ammonia",4.5743798360321597E-5,4.22780246703688E-5,4.7458379029237797E-5,4.4920345707486601E-5,{"$f":"G63+G62","v":6.42767268689007E-5},{"$f":"H63+H62","v":5.9556586984107598E-5},{"$f":"I63+I62","v":6.696513614910869E-5},{"$f":"J63+J62","v":6.2989451521625593E-5},{"$f":"L63-$K63","v":-4.7201398847931025E-6},{"$f":"M63-$K63","v":2.68840928020799E-6},-1.2872753472751078E-6]
[null,null,null,"Nitrate","Nitrate","Nitrate",4.6074213668060998E-7,4.2608428287718402E-7,4.7847840852158201E-7,4.5222950958505099E-7,null,null,null,null,{"$f":"H64-$G64","v":-3.4657853803425959E-8},{"$f":"I64-$G64","v":1.7736271840972027E-8},-8.5126270955589898E-9]
[null,null,null,"Nitrogen","Nitrogen","Nitrogen",1.0522639552758001E-5,1.11299129114366E-5,1.3536224667612201E-5,9.1060751905102907E-6,null,null,null,null,{"$f":"H65-$G65","v":6.0727335867859983E-7},3.0135851148541999E-6,-1.4165643622477099E-6]
[null,null,null,"Phosphate","Phosphate","Phosphate",7.20018245518886E-8,6.6585882657951298E-8,7.4773843183464998E-8,7.0671381565231402E-8,null,null,null,null,{"$f":"H66-$G66","v":-5.4159418939373021E-9},2.7720186315763982E-9,-1.3304429866571978E-9]
[null,null,null,"Phosphorus","Phosphorus","Phosphorus",1.04342773778476E-4,9.7675726943857095E-5,1.1056328437156301E-4,1.01382463820084E-4,null,null,null,null,{"$f":"H67-$G67","v":-6.6670468346189017E-6},6.2205105930870078E-6,-2.9603099583920003E-6]
[null,"Emissions to sea water","Emissions to sea water","Emissions to sea water","Emissions to sea water","Emissions to sea water",1.2522032653908901E-4,1.16734210624424E-4,null,1.22091437560943E-4]
[null,"Emissions to industrial soil","Emissions to industrial soil","Emissions to industrial soil","Emissions to industrial soil","Emissions to industrial soil",4.9869967973735502E-5,4.6085999230262901E-5,null,4.8977110517875703E-5]
[null,null,"Heavy metals to industrial soil","Heavy metals to industrial soil","Heavy metals to industrial soil","Heavy metals to industrial soil",4.7008522972539299E-5,4.34381303027895E-5,4.8754103083608999E-5,4.6169989749516101E-5,null,null,null,null,{"$f":"H70-$G70","v":-3.5703926697497988E-6},{"$f":"I70-$G70","v":1.7455801110697E-6},{"$f":"J70-$G70","v":-8.3853322302319814E-7}]
[null,null,null,"Cadmium (+II)","Cadmium (+II)","Cadmium (+II)"]
[null,null,null,"Chromium (+III)","Chromium (+III)","Chromium (+III)"]
[null,null,null,"Chromium (unspecified)","Chromium (unspecified)","Chromium (unspecified)"]
[null,null,null,"Cobalt","Cobalt","Cobalt"]
[null,null,null,"Copper (+II)","Copper (+II)","Copper (+II)"]
[null,null,null,"Iron","Iron","Iron"]
[null,null,null,"Lead (+II)","Lead (+II)","Lead (+II)"]
[null,null,null,"Manganese (+II)","Manganese (+II)","Manganese (+II)"]
[null,null,null,"Mercury (+II)","Mercury (+II)","Mercury (+II)"]
[null,null,null,"Nickel (+II)","Nickel (+II)","Nickel (+II)"]
[null,null,null,"Strontium","Strontium","Strontium"]
[null,null,null,"Zinc (+II)","Zinc (+II)","Zinc (+II)"]

{"sheet":"SRWC RMA","index":22,"n_rows":82,"n_cols":12,"rows_kept":82,"cut":false,"hidden":true,"merged":[]}
["GaBi 4"]
[null,null,"Database:","C:\\Users\\548910\\Documents\\GaBi\\DB\\NETL_083111"]
["Balance:","Stage _1_ SRWC Biomass Production","  Mass [kg]","kg","2011-09-23T09:38:55","Balance view: ","Upstreams (no sf6)",null,null,"base","alt","difference"]
["Balance object:","Stage #1: SRWC Biomass Production [Stage #1: Material Aquisition]","2011-08-26T13:23:38","{DE273783-D297-41B0-BF0F-A589D269CDF9}",null,null,null,null,"Yield Rate",6214,7620,{"$f":"K4-J4","v":1406}]
["In/out aggregation","Yes","Weak point analysis","No","Last service pack:",17]
[]
["&Inputs"]
[null,null,null,null,null,null,null,null,null,null,null,"delta p1"]
[null,null,null,null,null,null,"New","alt"]
["Flows","Flows","Flows","Flows","Flows","Flows",432.85307950705902,352.993738734327]
[null,"Resources","Resources","Resources","Resources","Resources",432.85307950705902,352.993738734327]
[null,null,"Energy resources","Energy resources","Energy resources","Energy resources",1.7056066503632299,1.4092486431115101,null,null,null,{"$f":"H12-G12","v":-0.29635800725171979}]
[null,null,"Material resources","Material resources","Material resources","Material resources",432.81203868024699,352.95967157428902]
[null,null,null,"Renewable resources","Renewable resources","Renewable resources",432.66945959408298,352.84279690369101]
[null,null,null,null,"Water","Water",432.455434117859,352.66826221743798,null,null,null,{"$f":"H15-G15","v":-79.787171900421015}]
[null,null,null,null,null,"Water (ground water)",43.945775910576202,35.844244356537601]
[null,null,null,null,null,"Water (lake water)",9.8862424842793992E-7,8.06208803114333E-7]
[null,null,null,null,null,"Water (river water)",0,0]
[null,null,null,null,null,"Water (sea water)",1.2190213694421299E-4,9.9409432935871502E-5]
[null,null,null,null,null,"Water (surface water)",44.033078272383001,35.908339683016798]
[]
["&Outputs"]
[]
[null,null,null,null,null,null,"New","alt"]
["Flows","Flows","Flows","Flows","Flows","Flows",0.571699120592424,0.468217631724197]
[null,"Resources","Resources","Resources","Resources","Resources",0.18618154715814,0.15182836404733399]
[null,null,"Energy resources","Energy resources","Energy resources","Energy resources",0,0]
[null,null,"Material resources","Material resources","Material resources","Material resources",0.18618154715814,0.15182836404733399]
[null,null,null,"Renewable resources","Renewable resources","Renewable resources",0.18618154715814,0.15182836404733399]
[null,null,null,null,"Water","Water",0.18617448482943899,0.151822604820228,{"$f":"G15-G30","v":432.26925963302955},{"$f":"H15-H30","v":352.51643961261777},null,{"$f":"J30-I30","v":-79.752820020411775}]
[null,null,null,null,null,"Water (river water)",0.185818602927938,0.151532388266956]
[null,null,null,null,null,"Water (sea water)"]
[null,null,null,null,null,"Water (wastewater)",0,0]
[null,"Ecoinvent","Ecoinvent","Ecoinvent","Ecoinvent","Ecoinvent",9.1621294905588001E-7,7.4715843378388898E-7]
[null,"Production residues in life cycle","Production residues in life cycle","Production residues in life cycle","Production residues in life cycle","Production residues in life cycle",3.5530100189250899E-3,3.5410349879083699E-3]
[null,null,"Waste for disposal","Waste for disposal","Waste for disposal","Waste for disposal",3.49062313728697E-3,3.4901593865305099E-3]
[null,null,null,"Waste (solid)","Waste (solid)","Waste (solid)",2.4036162306595502E-6,1.9601143382307701E-6,null,null,null,{"$f":"H37-G37","v":-4.435018924287801E-7}]
[null,"Emissions to air","Emissions to air","Emissions to air","Emissions to air","Emissions to air",0.36943878064966401,0.30263331436845098]
[null,null,"Heavy metals to air","Heavy metals to air","Heavy metals to air","Heavy metals to air",1.2617454748528101E-7,1.2391945056111899E-7]
[null,null,null,"Lead (+II)","Lead (+II)","Lead (+II)",1.5306854409918001E-8,1.5142189428263999E-8,null,null,null,{"$f":"H40-G40","v":-1.646649816540018E-10}]
[null,null,null,"Mercury (+II)","Mercury (+II)","Mercury (+II)",1.0912852742866299E-9,1.05697222939386E-9,null,null,null,{"$f":"H41-G41","v":-3.4313044892769969E-11}]
[null,null,"Inorganic emissions to air","Inorganic emissions to air","Inorganic emissions to air","Inorganic emissions to air",0.16781592625971001,0.13821122584956899]
[null,null,null,"Ammonia","Ammonia","Ammonia",7.5831702259889996E-5,6.1839658509574305E-5,null,null,null,{"$f":"H43-G43","v":-1.3992043750315691E-5}]
[null,null,null,"Carbon dioxide","Carbon dioxide","Carbon dioxide",0.113695945344494,9.4060355782305802E-2,{"$f":"G44+G45","v":-0.84622549860471197},{"$f":"H44+H45","v":-0.86586108816690022},null,{"$f":"J44-I44","v":-1.9635589562188249E-2}]
[null,null,null,"Carbon dioxide (biotic)","Carbon dioxide (biotic)","Carbon dioxide (biotic)",-0.95992144394920598,-0.95992144394920598]
[null,null,null,"Carbon monoxide","Carbon monoxide","Carbon monoxide",2.34771064417931E-4,2.027797838031E-4,null,null,null,{"$f":"H46-G46","v":-3.1991280614830999E-5}]
[null,null,null,"Nitrogen oxides","Nitrogen oxides","Nitrogen oxides",2.09235857474872E-4,1.7287697388638701E-4,null,null,null,{"$f":"H47-G47","v":-3.6358883588484992E-5}]
[null,null,null,"Nitrous oxide (laughing gas)","Nitrous oxide (laughing gas)","Nitrous oxide (laughing gas)",4.5104880788569802E-4,3.6789356003216902E-4,null,null,null,{"$f":"H48-G48","v":-8.3155247853529E-5}]
[null,null,null,"Sulphur dioxide","Sulphur dioxide","Sulphur dioxide",1.43028781337247E-4,1.1969312983689701E-4,null,null,null,{"$f":"H49-G49","v":-2.3335651500349999E-5}]
[null,null,"Organic emissions to air (group VOC)","Organic emissions to air (group VOC)","Organic emissions to air (group VOC)","Organic emissions to air (group VOC)",4.5001329320509903E-2,3.66991528184148E-2]
[null,null,null,"Group NMVOC to air","Group NMVOC to air","Group NMVOC to air",4.4854612875549198E-2,3.6578289292470298E-2]
[null,null,null,null,"NMVOC (unspecified)","NMVOC (unspecified)",null,null,null,null,null,{"$f":"H52-G52","v":0}]
[null,null,null,"Methane","Methane","Methane",1.35005595170392E-4,1.11113785739302E-4,null,null,null,{"$f":"H53-G53","v":-2.3891809431090004E-5}]
[null,null,"Particles to air","Particles to air","Particles to air","Particles to air",6.7032648372932803E-4,5.4696349191050205E-4]
[null,null,null,"Dust (unspecified)","Dust (unspecified)","Dust (unspecified)",6.6923842660465596E-4,5.4607619703219302E-4,null,null,null,{"$f":"H55-G55","v":-1.2316222957246294E-4}]
[null,null,"Radioactive emissions to air","Radioactive emissions to air","Radioactive emissions to air","Radioactive emissions to air",5.6193021870639601E-10,4.5824598150151502E-10,null,null,null,{"$f":"H56-G56","v":-1.0368423720488099E-10}]
[null,"Emissions to fresh water","Emissions to fresh water","Emissions to fresh water","Emissions to fresh water","Emissions to fresh water",1.2250882525199101E-2,9.9907411427554195E-3]
[null,null,"Heavy metals to fresh water","Heavy metals to fresh water","Heavy metals to fresh water","Heavy metals to fresh water",2.8782167050309298E-5,2.3515919187607201E-5]
[null,null,"Inorganic emissions to fresh water","Inorganic emissions to fresh water","Inorganic emissions to fresh water","Inorganic emissions to fresh water",1.2070922548219299E-2,9.8437097773920908E-3]
[null,null,null,"Aluminum (+III)","Aluminum (+III)","Aluminum (+III)",5.2200087137666696E-6,4.2568417516202204E-6,null,null,null,{"$f":"H60-G60","v":-9.631669621464492E-7}]
[null,null,null,"Ammonia","Ammonia","Ammonia",5.6270087228002797E-5,4.5929615940277E-5]
[null,null,null,"Ammonium / ammonia","Ammonium / ammonia","Ammonium / ammonia",2.21255564806025E-5,1.8043071912134399E-5,{"$f":"G61+G62","v":7.8395643708605297E-5},{"$f":"H61+H62","v":6.3972687852411399E-5},null,{"$f":"J62-I62","v":-1.4422955856193897E-5}]
[null,null,null,"Nitrate","Nitrate","Nitrate",2.4519432429823898E-7,1.9995243191460099E-7,null,null,null,{"$f":"H63-G63","v":-4.5241892383637985E-8}]
[null,null,null,"Nitrogen","Nitrogen","Nitrogen",8.1713724232057899E-6,6.6636362516799001E-6,null,null,null,{"$f":"H64-G64","v":-1.5077361715258897E-6}]
[null,null,null,"Phosphate","Phosphate","Phosphate",3.5509459518346598E-8,2.89574516334653E-8,null,null,null,{"$f":"H65-G65","v":-6.5520078848812979E-9}]
[null,null,null,"Phosphorus","Phosphorus","Phosphorus",7.3882460468024396E-5,6.0254599345277099E-5,null,null,null,{"$f":"H66-G66","v":-1.3627861122747297E-5}]
[null,"Emissions to sea water","Emissions to sea water","Emissions to sea water","Emissions to sea water","Emissions to sea water",2.48274450435976E-4,2.0246423031616199E-4]
[null,"Emissions to industrial soil","Emissions to industrial soil","Emissions to industrial soil","Emissions to industrial soil","Emissions to industrial soil",2.57095771113056E-5,2.0965788998642099E-5]
[null,null,"Heavy metals to industrial soil","Heavy metals to industrial soil","Heavy metals to industrial soil","Heavy metals to industrial soil",2.40226825702102E-5,1.9590150851874798E-5,null,null,null,{"$f":"H69-G69","v":-4.4325317183354017E-6}]
[null,null,null,"Arsenic (+V)","Arsenic (+V)","Arsenic (+V)"]
[null,null,null,"Cadmium (+II)","Cadmium (+II)","Cadmium (+II)"]
[null,null,null,"Chromium (+III)","Chromium (+III)","Chromium (+III)"]
[null,null,null,"Chromium (unspecified)","Chromium (unspecified)","Chromium (unspecified)"]
[null,null,null,"Cobalt","Cobalt","Cobalt"]
[null,null,null,"Copper (+II)","Copper (+II)","Copper (+II)"]
[null,null,null,"Iron","Iron","Iron"]
[null,null,null,"Lead (+II)","Lead (+II)","Lead (+II)"]
[null,null,null,"Manganese (+II)","Manganese (+II)","Manganese (+II)"]
[null,null,null,"Mercury (+II)","Mercury (+II)","Mercury (+II)"]
[null,null,null,"Nickel (+II)","Nickel (+II)","Nickel (+II)"]
[null,null,null,"Strontium","Strontium","Strontium"]
[null,null,null,"Zinc (+II)","Zinc (+II)","Zinc (+II)"]

{"sheet":"Corn RMA","index":23,"n_rows":82,"n_cols":12,"rows_kept":82,"cut":false,"hidden":true,"merged":[]}
["GaBi 4"]
[null,null,"Database:","C:\\Users\\548910\\Documents\\GaBi\\DB\\NETL_083111"]
["Balance:","Stage _1_ Corn Grain _ Biomass","  Mass [kg]","kg","2011-09-23T09:56:36","Balance view: ","Upstreams (sf6)",null,null,"base","alt","difference"]
["Balance object:","Stage #1: Corn Grain - Biomass [Unit Processes]","2011-09-23T09:52:15","{1942AC5C-A798-4F1E-ACE2-8CDB37460258}",null,null,null,null,"Yield Rate",3829,4196,{"$f":"K4-J4","v":367}]
["In/out aggregation","Yes","Weak point analysis","No","Last service pack:",17]
[]
["&Inputs"]
[null,null,null,null,null,null,null,null,null,null,null,"delta p1"]
[null,null,null,null,null,null,"New","alt"]
["Flows","Flows","Flows","Flows","Flows","Flows",375.02074184169101,354.54022279393502]
[null,"Resources","Resources","Resources","Resources","Resources",375.02074184169101,354.54022279393502]
[null,null,"Energy resources","Energy resources","Energy resources","Energy resources",1.34299731644964,1.2708333354182799,null,null,null,{"$f":"H12-G12","v":-7.2163981031360125E-2}]
[null,null,"Material resources","Material resources","Material resources","Material resources",374.98899699606102,354.51017307723203]
[null,null,null,"Renewable resources","Renewable resources","Renewable resources",374.88799841578202,354.41465149717698]
[null,null,null,null,"Water","Water",374.65304456197703,354.19252920677297,null,null,null,{"$f":"H15-G15","v":-20.460515355204052}]
[null,null,null,null,null,"Water (ground water)",8.5721832645140505,8.1044865216254305]
[null,null,null,null,null,"Water (lake water)",1.0353807158315899E-6,9.7883534284228907E-7]
[null,null,null,null,null,"Water (river water)",0,0]
[null,null,null,null,null,"Water (sea water)",4.9315154876547301E-5,4.6621900324013001E-5]
[null,null,null,null,null,"Water (surface water)",8.6901671334387292,8.2155699786085705]
[]
["&Outputs"]
[]
[null,null,null,null,null,null,"New","alt"]
["Flows","Flows","Flows","Flows","Flows","Flows",0.54962608005096503,0.51973836631425996]
[null,"Resources","Resources","Resources","Resources","Resources",0.19513106038460801,0.18447434404584201]
[null,null,"Energy resources","Energy resources","Energy resources","Energy resources",0,0]
[null,null,"Material resources","Material resources","Material resources","Material resources",0.19513106038460801,0.18447434404584201]
[null,null,null,"Renewable resources","Renewable resources","Renewable resources",0.19513106038460801,0.18447434404584201]
[null,null,null,null,"Water","Water",0.19512311753855599,0.18446683498340699,{"$f":"G15-G30","v":374.45792144443845},{"$f":"H15-H30","v":354.00806237178955},null,{"$f":"J30-I30","v":-20.449859072648906}]
[null,null,null,null,null,"Water (river water)",0.194758109592612,0.184121761260819]
[null,null,null,null,null,"Water (sea water)"]
[null,null,null,null,null,"Water (wastewater)",0,0]
[null,"Ecoinvent","Ecoinvent","Ecoinvent","Ecoinvent","Ecoinvent",9.5954476188108297E-7,9.0714102707043399E-7]
[null,"Production residues in life cycle","Production residues in life cycle","Production residues in life cycle","Production residues in life cycle","Production residues in life cycle",8.83633478873141E-4,8.7680579528645402E-4]
[null,null,"Waste for disposal","Waste for disposal","Waste for disposal","Waste for disposal",8.1357157746382797E-4,8.1057019302194103E-4]
[null,null,null,"Waste (solid)","Waste (solid)","Waste (solid)",6.4047233062662105E-7,6.0549413731970399E-7,null,null,null,{"$f":"H37-G37","v":-3.4978193306917064E-8}]
[null,"Emissions to air","Emissions to air","Emissions to air","Emissions to air","Emissions to air",0.33806501681704798,0.31968986205328798]
[null,null,"Heavy metals to air","Heavy metals to air","Heavy metals to air","Heavy metals to air",3.9049277247623597E-8,3.8270157170429797E-8]
[null,null,null,"Lead (+II)","Lead (+II)","Lead (+II)",4.23236442899518E-9,4.1724303382405902E-9,null,null,null,{"$f":"H40-G40","v":-5.9934090754589765E-11}]
[null,null,null,"Mercury (+II)","Mercury (+II)","Mercury (+II)",4.0404513402963402E-10,3.9273199267684199E-10,null,null,null,{"$f":"H41-G41","v":-1.1313141352792022E-11}]
[null,null,"Inorganic emissions to air","Inorganic emissions to air","Inorganic emissions to air","Inorganic emissions to air",0.14088798517917001,0.13328118312505799]
[null,null,null,"Ammonia","Ammonia","Ammonia",8.4606464248248998E-5,7.9985841123758101E-5,null,null,null,{"$f":"H43-G43","v":-4.6206231244908961E-6}]
[null,null,null,"Carbon dioxide","Carbon dioxide","Carbon dioxide",8.2160604872030502E-2,7.7760006488327899E-2,{"$f":"G44+G45","v":-0.19098458345695649},{"$f":"H44+H45","v":-0.19538518184065909},null,{"$f":"J44-I44","v":-4.400598383702603E-3}]
[null,null,null,"Carbon dioxide (biotic)","Carbon dioxide (biotic)","Carbon dioxide (biotic)",-0.27314518832898699,-0.27314518832898699]
[null,null,null,"Carbon monoxide","Carbon monoxide","Carbon monoxide",8.3257612867846593E-5,7.9439821140064496E-5,null,null,null,{"$f":"H46-G46","v":-3.8177917277820971E-6}]
[null,null,null,"Nitrogen oxides","Nitrogen oxides","Nitrogen oxides",2.11494812900648E-4,2.00089139223499E-4,null,null,null,{"$f":"H47-G47","v":-1.1405673677149008E-5}]
[null,null,null,"Nitrous oxide (laughing gas)","Nitrous oxide (laughing gas)","Nitrous oxide (laughing gas)",5.0228933637717996E-4,4.7486223888303E-4,null,null,null,{"$f":"H48-G48","v":-2.7427097494149967E-5}]
[null,null,null,"Sulphur dioxide","Sulphur dioxide","Sulphur dioxide",1.3318858300847501E-4,1.26111409820143E-4,null,null,null,{"$f":"H49-G49","v":-7.0771731883320025E-6}]
[null,null,null,"Sulphur hexafluoride","Sulphur hexafluoride","Sulphur hexafluoride",7.8564863580368102E-10,7.4274191128121797E-10,null,null,null,{"$f":"H50-G50","v":-4.2906724522463049E-11}]
[null,null,"Organic emissions to air (group VOC)","Organic emissions to air (group VOC)","Organic emissions to air (group VOC)","Organic emissions to air (group VOC)",2.5838630460653898E-2,2.44275806218541E-2]
[null,null,null,"Group NMVOC to air","Group NMVOC to air","Group NMVOC to air",2.57321672323369E-2,2.4326853252920801E-2]
[null,null,null,null,"NMVOC (unspecified)","NMVOC (unspecified)",null,null,null,null,null,{"$f":"H53-G53","v":0}]
[null,null,null,"Methane","Methane","Methane",1.01900399230808E-4,9.6400874357272401E-5,null,null,null,{"$f":"H54-G54","v":-5.4995248735355945E-6}]
[null,null,"Particles to air","Particles to air","Particles to air","Particles to air",2.0468744127232299E-4,1.93529543871232E-4]
[null,null,null,"Dust (unspecified)","Dust (unspecified)","Dust (unspecified)",2.0413953948804399E-4,1.9301156471375101E-4,null,null,null,{"$f":"H56-G56","v":-1.1127974774292985E-5}]
[null,null,"Radioactive emissions to air","Radioactive emissions to air","Radioactive emissions to air","Radioactive emissions to air",5.8917725679433301E-10,5.5700044759474001E-10,null,null,null,{"$f":"H57-G57","v":-3.2176809199592994E-11}]
[null,"Emissions to fresh water","Emissions to fresh water","Emissions to fresh water","Emissions to fresh water","Emissions to fresh water",1.5424536996822299E-2,1.45821756924715E-2]
[null,null,"Heavy metals to fresh water","Heavy metals to fresh water","Heavy metals to fresh water","Heavy metals to fresh water",1.1976589706307999E-5,1.1325373861803301E-5]
[null,null,"Inorganic emissions to fresh water","Inorganic emissions to fresh water","Inorganic emissions to fresh water","Inorganic emissions to fresh water",1.52807391358085E-2,1.44462132760882E-2]
[null,null,null,"Aluminum (+III)","Aluminum (+III)","Aluminum (+III)",1.33339083351383E-6,1.2605701977141799E-6,null,null,null,{"$f":"H61-G61","v":-7.2820635799650096E-8}]
[null,null,null,"Ammonia","Ammonia","Ammonia",1.39733643720025E-5,1.3212950029906399E-5]
[null,null,null,"Ammonium / ammonia","Ammonium / ammonia","Ammonium / ammonia",2.4658415550879101E-5,2.3311742502666201E-5,{"$f":"G63+G62","v":3.8631779922881598E-5},{"$f":"H63+H62","v":3.65246925325726E-5},null,{"$f":"J63-I63","v":-2.1070873903089975E-6}]
[null,null,null,"Nitrate","Nitrate","Nitrate",2.5502275804772E-7,2.4109516913856401E-7,null,null,null,{"$f":"H64-G64","v":-1.392758890915599E-8}]
[null,null,null,"Nitrogen","Nitrogen","Nitrogen",4.30413839813239E-5,4.0690759641903903E-5,null,null,null,{"$f":"H65-G65","v":-2.3506243394199965E-6}]
[null,null,null,"Phosphate","Phosphate","Phosphate",3.9857712858606898E-8,3.7680958737510202E-8,null,null,null,{"$f":"H66-G66","v":-2.1767541210966952E-9}]
[null,null,null,"Phosphorus","Phosphorus","Phosphorus",8.9197433884136498E-5,8.4326374498226096E-5,null,null,null,{"$f":"H67-G67","v":-4.8710593859104022E-6}]
[null,"Emissions to sea water","Emissions to sea water","Emissions to sea water","Emissions to sea water","Emissions to sea water",9.4138545941806003E-5,8.8997346080193002E-5]
[null,"Emissions to industrial soil","Emissions to industrial soil","Emissions to industrial soil","Emissions to industrial soil","Emissions to industrial soil",2.6734282910351899E-5,2.5274240265503801E-5]
[null,null,"Heavy metals to industrial soil","Heavy metals to industrial soil","Heavy metals to industrial soil","Heavy metals to industrial soil",2.5106108685234501E-5,2.3734985717412601E-5,null,null,null,{"$f":"H70-G70","v":-1.3711229678219001E-6}]
[null,null,null,"Cadmium (+II)","Cadmium (+II)","Cadmium (+II)"]
[null,null,null,"Chromium (+III)","Chromium (+III)","Chromium (+III)"]
[null,null,null,"Chromium (unspecified)","Chromium (unspecified)","Chromium (unspecified)"]
[null,null,null,"Cobalt","Cobalt","Cobalt"]
[null,null,null,"Copper (+II)","Copper (+II)","Copper (+II)"]
[null,null,null,"Iron","Iron","Iron"]
[null,null,null,"Lead (+II)","Lead (+II)","Lead (+II)"]
[null,null,null,"Manganese (+II)","Manganese (+II)","Manganese (+II)"]
[null,null,null,"Mercury (+II)","Mercury (+II)","Mercury (+II)"]
[null,null,null,"Nickel (+II)","Nickel (+II)","Nickel (+II)"]
[null,null,null,"Strontium","Strontium","Strontium"]
[null,null,null,"Zinc (+II)","Zinc (+II)","Zinc (+II)"]

{"sheet":"SG RMA","index":24,"n_rows":82,"n_cols":12,"rows_kept":82,"cut":false,"hidden":true,"merged":[]}
["GaBi 4"]
[null,null,"Database:","C:\\Users\\548910\\Documents\\GaBi\\DB\\NETL_083111"]
["Balance:","Stage _1_ Switchgrass Biomass","  Mass [kg]","kg","2011-09-23T09:34:12","Balance view: ","Upstreams (no sf6)",null,null,"base","alt","difference"]
["Balance object:","Stage #1: Switchgrass Biomass [Stage #1: Material Aquisition]","2011-08-26T13:24:24","{77C38181-64A9-4B43-9D8C-7F24858C2DAF}",null,null,null,null,"Yield Rate",3569,5271,{"$f":"K4-J4","v":1702}]
["In/out aggregation","Yes","Weak point analysis","No","Last service pack:",17]
[]
["&Inputs"]
[null,null,null,null,null,null,null,null,null,null,null,"delta p1"]
[null,null,null,null,null,null,"New","alt"]
["Flows","Flows","Flows","Flows","Flows","Flows",772.86742014592096,523.31447626965496]
[null,"Resources","Resources","Resources","Resources","Resources",772.86742014592096,523.31447626965496]
[null,null,"Energy resources","Energy resources","Energy resources","Energy resources",1.7487404852152599,1.1953067974342499,null,null,null,{"$f":"H12-G12","v":-0.55343368778100999}]
[null,null,"Material resources","Material resources","Material resources","Material resources",772.82603661423798,523.28608881218895]
[null,null,null,"Renewable resources","Renewable resources","Renewable resources",772.76589706363598,523.24499886305898]
[null,null,null,null,"Water","Water",772.44621731384098,523.02854334664505,null,null,null,{"$f":"H15-G15","v":-249.41767396719592}]
[null,null,null,null,null,"Water (ground water)",76.445452420206806,51.765646381101199]
[null,null,null,null,null,"Water (lake water)",9.5704157342010107E-7,6.4801392061019499E-7]
[null,null,null,null,null,"Water (river water)",0,0]
[null,null,null,null,null,"Water (sea water)",5.0544257418021702E-5,3.4223573273557098E-5]
[null,null,null,null,null,"Water (surface water)",76.552104651911804,51.8335157470448]
[]
["&Outputs"]
[]
[null,null,null,null,null,null,"New","alt"]
["Flows","Flows","Flows","Flows","Flows","Flows",0.64512768089864403,0.43804408781545501]
[null,"Resources","Resources","Resources","Resources","Resources",0.21228371512024599,0.14373754112391601]
[null,null,"Energy resources","Energy resources","Energy resources","Energy resources",0,0]
[null,null,"Material resources","Material resources","Material resources","Material resources",0.21228371512024599,0.14373754112391601]
[null,null,null,"Renewable resources","Renewable resources","Renewable resources",0.21228371512024599,0.14373754112391601]
[null,null,null,null,"Water","Water",0.21227310819596201,0.14373035916360999,{"$f":"G15-G30","v":772.233944205645},{"$f":"H15-H30","v":522.8848129874815},null,{"$f":"J30-I30","v":-249.34913121816351}]
[null,null,null,null,null,"Water (river water)",0.21193602280722601,0.143502118269586]
[null,null,null,null,null,"Water (sea water)"]
[null,null,null,null,null,"Water (wastewater)",0,0]
[null,"Ecoinvent","Ecoinvent","Ecoinvent","Ecoinvent","Ecoinvent",8.8694353162653902E-7,6.0055045804877997E-7]
[null,"Production residues in life cycle","Production residues in life cycle","Production residues in life cycle","Production residues in life cycle","Production residues in life cycle",1.3149768271544101E-3,1.2843233620527699E-3]
[null,null,"Waste for disposal","Waste for disposal","Waste for disposal","Waste for disposal",1.22113709439431E-3,1.2207843739630701E-3]
[null,null,null,"Waste (solid)","Waste (solid)","Waste (solid)",9.8612014770663395E-7,6.6770305580819103E-7,null,null,null,{"$f":"H37-G37","v":-3.1841709189844292E-7}]
[null,"Emissions to air","Emissions to air","Emissions to air","Emissions to air","Emissions to air",0.42161183453062501,0.28630710908302798]
[null,null,"Heavy metals to air","Heavy metals to air","Heavy metals to air","Heavy metals to air",5.2003875732316301E-8,4.8081836185275302E-8]
[null,null,null,"Lead (+II)","Lead (+II)","Lead (+II)",6.13323609693779E-9,5.7808032485249698E-9,null,null,null,{"$f":"H40-G40","v":-3.5243284841282018E-10}]
[null,null,null,"Mercury (+II)","Mercury (+II)","Mercury (+II)",5.4240133375039103E-10,4.6950856178460698E-10,null,null,null,{"$f":"H41-G41","v":-7.2892771965784053E-11}]
[null,null,"Inorganic emissions to air","Inorganic emissions to air","Inorganic emissions to air","Inorganic emissions to air",0.187548269410548,0.12782145145651]
[null,null,null,"Ammonia","Ammonia","Ammonia",1.16277208525442E-4,7.8731428045399597E-5,null,null,null,{"$f":"H43-G43","v":-3.7545780480042405E-5}]
[null,null,null,"Carbon dioxide","Carbon dioxide","Carbon dioxide",0.108299996422135,7.4152069626939404E-2,{"$f":"G44+G45","v":-1.219388962106825},{"$f":"H44+H45","v":-1.2535368889020206},null,{"$f":"J44-I44","v":-3.4147926795195627E-2}]
[null,null,null,"Carbon dioxide (biotic)","Carbon dioxide (biotic)","Carbon dioxide (biotic)",-1.32768895852896,-1.32768895852896]
[null,null,null,"Carbon monoxide","Carbon monoxide","Carbon monoxide",1.20184957868544E-4,8.8310843364063996E-5,null,null,null,{"$f":"H46-G46","v":-3.1874114504480008E-5}]
[null,null,null,"Nitrogen oxides","Nitrogen oxides","Nitrogen oxides",2.8070485103059398E-4,1.91441661198944E-4,null,null,null,{"$f":"H47-G47","v":-8.9263189831649981E-5}]
[null,null,null,"Nitrous oxide (laughing gas)","Nitrous oxide (laughing gas)","Nitrous oxide (laughing gas)",6.9008386909980002E-4,4.6729926538424199E-4,null,null,null,{"$f":"H48-G48","v":-2.2278460371555803E-4}]
[null,null,null,"Sulphur dioxide","Sulphur dioxide","Sulphur dioxide",1.4259556201792601E-4,9.8421714395101003E-5,null,null,null,{"$f":"H49-G49","v":-4.4173847622825009E-5}]
[null,null,"Organic emissions to air (group VOC)","Organic emissions to air (group VOC)","Organic emissions to air (group VOC)","Organic emissions to air (group VOC)",1.57743805113437E-4,1.07554278269301E-4]
[null,null,null,"Group NMVOC to air","Group NMVOC to air","Group NMVOC to air",1.76238123079409E-5,1.193310303742E-5]
[null,null,null,null,"NMVOC (unspecified)","NMVOC (unspecified)",null,null,null,null,null,{"$f":"H52-G52","v":0}]
[null,null,null,"Methane","Methane","Methane",1.3420347562180201E-4,9.1492851727367804E-5,null,null,null,{"$f":"H53-G53","v":-4.2710623894434205E-5}]
[null,null,"Particles to air","Particles to air","Particles to air","Particles to air",1.1622112013849199E-4,7.8890498153458098E-5]
[null,null,null,"Dust (unspecified)","Dust (unspecified)","Dust (unspecified)",1.15475159562869E-4,7.8385407412726198E-5,null,null,null,{"$f":"H55-G55","v":-3.7089752150142798E-5}]
[null,null,"Radioactive emissions to air","Radioactive emissions to air","Radioactive emissions to air","Radioactive emissions to air",7.8400145290931501E-10,5.3084826132296402E-10,null,null,null,{"$f":"H56-G56","v":-2.53153191586351E-10}]
[null,"Emissions to fresh water","Emissions to fresh water","Emissions to fresh water","Emissions to fresh water","Emissions to fresh water",9.7729585579323496E-3,6.6174790664302796E-3]
[null,null,"Heavy metals to fresh water","Heavy metals to fresh water","Heavy metals to fresh water","Heavy metals to fresh water",1.6453942638265001E-5,1.1168207587919001E-5]
[null,null,"Inorganic emissions to fresh water","Inorganic emissions to fresh water","Inorganic emissions to fresh water","Inorganic emissions to fresh water",9.5907535926514093E-3,6.4939385726416601E-3]
[null,null,null,"Aluminum (+III)","Aluminum (+III)","Aluminum (+III)",2.1192517409208701E-6,1.4349477259242199E-6,null,null,null,{"$f":"H60-G60","v":-6.8430401499665021E-7}]
[null,null,null,"Ammonia","Ammonia","Ammonia",2.2348330649296399E-5,1.51578932081738E-5]
[null,null,null,"Ammonium / ammonia","Ammonium / ammonia","Ammonium / ammonia",3.36148777568356E-5,2.27606713553683E-5,{"$f":"G61+G62","v":5.5963208406131998E-5},{"$f":"H61+H62","v":3.79185645635421E-5},null,{"$f":"J62-I62","v":-1.8044643842589898E-5}]
[null,null,null,"Nitrate","Nitrate","Nitrate",3.3953104783376101E-7,2.29896852536273E-7,null,null,null,{"$f":"H63-G63","v":-1.0963419529748801E-7}]
[null,null,null,"Nitrogen","Nitrogen","Nitrogen",1.4186658131324299E-5,9.6058021003028897E-6,null,null,null,{"$f":"H64-G64","v":-4.5808560310214095E-6}]
[null,null,null,"Phosphate","Phosphate","Phosphate",5.2686830563439599E-8,3.5674311948570601E-8,null,null,null,{"$f":"H65-G65","v":-1.7012518614868999E-8}]
[null,null,null,"Phosphorus","Phosphorus","Phosphorus",5.6473159729927703E-5,3.8240805973142399E-5,null,null,null,{"$f":"H66-G66","v":-1.8232353756785303E-5}]
[null,"Emissions to sea water","Emissions to sea water","Emissions to sea water","Emissions to sea water","Emissions to sea water",1.17770554528659E-4,7.9742574295728198E-5]
[null,"Emissions to industrial soil","Emissions to industrial soil","Emissions to industrial soil","Emissions to industrial soil","Emissions to industrial soil",2.5538364625640701E-5,1.7292055273935101E-5]
[null,null,"Heavy metals to industrial soil","Heavy metals to industrial soil","Heavy metals to industrial soil","Heavy metals to industrial soil",2.3413477390045702E-5,1.5853291748259E-5,null,null,null,{"$f":"H69-G69","v":-7.5601856417867013E-6}]
[null,null,null,"Arsenic (+V)","Arsenic (+V)","Arsenic (+V)"]
[null,null,null,"Cadmium (+II)","Cadmium (+II)","Cadmium (+II)"]
[null,null,null,"Chromium (+III)","Chromium (+III)","Chromium (+III)"]
[null,null,null,"Chromium (unspecified)","Chromium (unspecified)","Chromium (unspecified)"]
[null,null,null,"Cobalt","Cobalt","Cobalt"]
[null,null,null,"Copper (+II)","Copper (+II)","Copper (+II)"]
[null,null,null,"Iron","Iron","Iron"]
[null,null,null,"Lead (+II)","Lead (+II)","Lead (+II)"]
[null,null,null,"Manganese (+II)","Manganese (+II)","Manganese (+II)"]
[null,null,null,"Mercury (+II)","Mercury (+II)","Mercury (+II)"]
[null,null,null,"Nickel (+II)","Nickel (+II)","Nickel (+II)"]
[null,null,null,"Strontium","Strontium","Strontium"]
[null,null,null,"Zinc (+II)","Zinc (+II)","Zinc (+II)"]

{"sheet":"Coal TrainRMT","index":25,"n_rows":77,"n_cols":16,"rows_kept":77,"cut":false,"hidden":true,"merged":[]}
["GaBi 4"]
[null,null,"Database:","C:\\Users\\548910\\Documents\\GaBi\\DB\\NETL_083111"]
["Balance:","Stage _2_ Raw Material Transport","  Mass [kg]","kg","2011-09-22T16:33:30","Balance view: ","Upstreams (no sf6)",null,null,"base","alt","difference"]
["Balance object:","Stage #2: Raw Material Transport [Stage #2: Train transport]","2011-08-26T13:24:36","{2D1041A8-88A2-40BD-830B-40777A174417}",null,null,null,null,"distance",400,700,300]
["In/out aggregation","Yes","Weak point analysis","No","Last service pack:",17]
[]
["&Inputs"]
[null,null,null,null,null,null,400,700,null,null,null,"delta p1"]
[null,null,null,null,null,null,"New","New1",null,null,null,null,null,null,"  Energy ren. (net calorific value) [MJ]","MJ"]
["Flows","Flows","Flows","Flows","Flows","Flows",6.6053260102476499E-3,9.6597108734844499E-3]
[null,"Resources","Resources","Resources","Resources","Resources",6.6053260102476499E-3,9.6597108734844499E-3]
[null,null,"Energy resources","Energy resources","Energy resources","Energy resources",6.0447039886258498E-2,0.101892947743925,null,null,null,{"$f":"H12-G12","v":4.1445907857666504E-2}]
[null,null,"Material resources","Material resources","Material resources","Material resources",5.1339622329769604E-3,7.1926809202335403E-3]
[null,null,null,"Renewable resources","Renewable resources","Renewable resources",5.1339622329769604E-3,7.1926809202335403E-3]
[null,null,null,null,"Water","Water",1.13441181987318E-2,1.80272073167758E-2,null,null,null,{"$f":"H15-G15","v":6.6830891180439996E-3}]
[null,null,null,null,null,"Water (ground water)",8.1979777499981599E-4,1.1230336887211899E-3]
[null,null,null,null,null,"Water (lake water)",0,0]
[null,null,null,null,null,"Water (river water)",0,0]
[null,null,null,null,null,"Water (sea water)",1.0400946361061001E-5,1.75303307935128E-5]
[null,null,null,null,null,"Water (surface water)",4.3037635116160902E-3,6.0521169007188404E-3]
[]
["&Outputs"]
[]
[null,null,null,null,null,null,"New","New1"]
["Flows","Flows","Flows","Flows","Flows","Flows",1.0165101554556699,1.0272710298816801]
[null,"Resources","Resources","Resources","Resources","Resources",1.0037118472095601,1.00514472627915]
[null,null,"Energy resources","Energy resources","Energy resources","Energy resources",1,1]
[null,null,"Material resources","Material resources","Material resources","Material resources",3.71184720956304E-3,5.1447262791531802E-3]
[null,null,null,"Renewable resources","Renewable resources","Renewable resources",3.71184720956304E-3,5.1447262791531802E-3]
[null,null,null,null,"Water","Water",3.7502036448182402E-3,5.2118520338362397E-3,4.8177142506343152E-3,2.0479546410803601E-3,null,{"$f":"J30-I30","v":-2.7697596095539552E-3}]
[null,null,null,null,null,"Water (river water)",3.71184720956304E-3,5.1447262791531802E-3]
[null,null,null,null,null,"Water (sea water)",0,0]
[null,null,null,null,null,"Water (wastewater)",0,0]
[null,"Ecoinvent","Ecoinvent","Ecoinvent","Ecoinvent","Ecoinvent",0,0]
[null,"Production residues in life cycle","Production residues in life cycle","Production residues in life cycle","Production residues in life cycle","Production residues in life cycle",9.0481910629581203E-7,1.3728855747054499E-6]
[null,null,"Waste for disposal","Waste for disposal","Waste for disposal","Waste for disposal",9.0481910629581203E-7,1.3728855747054499E-6]
[null,null,null,"Waste (solid)","Waste (solid)","Waste (solid)",9.0481910629581203E-7,1.3728855747054499E-6,null,null,null,{"$f":"H37-G37","v":4.6806646840963787E-7}]
[null,"Emissions to air","Emissions to air","Emissions to air","Emissions to air","Emissions to air",1.27712335878139E-2,2.2080031066102498E-2]
[null,null,"Heavy metals to air","Heavy metals to air","Heavy metals to air","Heavy metals to air",1.3925900158564701E-10,1.86266754559122E-10]
[null,null,null,"Lead (+II)","Lead (+II)","Lead (+II)",1.28331932935817E-10,1.7124796175812001E-10,null,null,null,{"$f":"H40-G40","v":4.2916028822303013E-11}]
[null,null,null,"Mercury (+II)","Mercury (+II)","Mercury (+II)",1.0927068649830101E-11,1.50187928010012E-11,null,null,null,{"$f":"H41-G41","v":4.0917241511710994E-12}]
[null,null,"Inorganic emissions to air","Inorganic emissions to air","Inorganic emissions to air","Inorganic emissions to air",1.27215854339162E-2,2.1994033284277799E-2]
[null,null,null,"Ammonia","Ammonia","Ammonia",4.45066411081205E-7,7.7792149886964402E-7,null,null,null,{"$f":"H43-G43","v":3.3285508778843902E-7}]
[null,null,null,"Carbon dioxide","Carbon dioxide","Carbon dioxide",1.26440187324443E-2,2.18624924002692E-2,1.26440187324443E-2,2.18624924002692E-2,null,{"$f":"J44-I44","v":9.2184736678249009E-3}]
[null,null,null,"Carbon dioxide (biotic)","Carbon dioxide (biotic)","Carbon dioxide (biotic)",0,0]
[null,null,null,"Carbon monoxide","Carbon monoxide","Carbon monoxide",3.7673710311660601E-5,6.3645144589250395E-5,null,null,null,{"$f":"H46-G46","v":2.5971434277589793E-5}]
[null,null,null,"Nitrogen oxides","Nitrogen oxides","Nitrogen oxides",3.1335859305224101E-5,5.4373950058879003E-5,null,null,null,{"$f":"H47-G47","v":2.3038090753654902E-5}]
[null,null,null,"Nitrous oxide (laughing gas)","Nitrous oxide (laughing gas)","Nitrous oxide (laughing gas)",3.0590976902223898E-7,5.3056261396095799E-7,null,null,null,{"$f":"H48-G48","v":2.2465284493871901E-7}]
[null,null,null,"Sulphur dioxide","Sulphur dioxide","Sulphur dioxide",7.8061556748408105E-6,1.2213305247556799E-5,null,null,null,{"$f":"H49-G49","v":4.4071495727159889E-6}]
[null,null,"Organic emissions to air (group VOC)","Organic emissions to air (group VOC)","Organic emissions to air (group VOC)","Organic emissions to air (group VOC)",8.5019935884334701E-6,1.4431488152182499E-5]
[null,null,null,"Group NMVOC to air","Group NMVOC to air","Group NMVOC to air",2.5091015699817501E-6,4.3384598116904996E-6]
[null,null,null,null,"NMVOC (unspecified)","NMVOC (unspecified)",2.5091015699817501E-6,4.3384598116904996E-6,null,null,null,{"$f":"H52-G52","v":1.8293582417087496E-6}]
[null,null,null,"Methane","Methane","Methane",6.88445269579842E-6,1.16180562519701E-5,null,null,null,{"$f":"H53-G53","v":4.7336035561716805E-6}]
[null,null,"Particles to air","Particles to air","Particles to air","Particles to air",4.1145982525133803E-5,7.1566054952142201E-5]
[null,null,null,"Dust (unspecified)","Dust (unspecified)","Dust (unspecified)",4.1145982525133803E-5,7.1566054952142201E-5,null,null,null,{"$f":"H55-G55","v":3.0420072427008398E-5}]
[null,null,"Radioactive emissions to air","Radioactive emissions to air","Radioactive emissions to air","Radioactive emissions to air",3.8525164975184997E-11,5.2453649549845303E-11,null,null,null,{"$f":"H56-G56","v":1.3928484574660306E-11}]
[null,"Emissions to fresh water","Emissions to fresh water","Emissions to fresh water","Emissions to fresh water","Emissions to fresh water",8.5732391859883601E-6,1.4938532835053699E-5]
[null,null,"Heavy metals to fresh water","Heavy metals to fresh water","Heavy metals to fresh water","Heavy metals to fresh water",7.0810029512696299E-6,1.2333413905395999E-5]
[null,null,"Inorganic emissions to fresh water","Inorganic emissions to fresh water","Inorganic emissions to fresh water","Inorganic emissions to fresh water",1.4922362347187401E-6,2.6051189296577501E-6]
[null,null,null,"Aluminum (+III)","Aluminum (+III)","Aluminum (+III)",3.0370396676439101E-9,4.1490125142518896E-9,null,null,null,{"$f":"H60-G60","v":1.1119728466079795E-9}]
[null,null,null,"Ammonia","Ammonia","Ammonia",7.6863017552047798E-10,1.15744288175537E-9]
[null,null,null,"Ammonium / ammonia","Ammonium / ammonia","Ammonium / ammonia",3.5782852113333498E-9,5.3001189273354003E-9,4.3469153868538281E-9,6.4575618090907703E-9,null,{"$f":"J62-I62","v":2.1106464222369422E-9}]
[null,null,null,"Nitrate","Nitrate","Nitrate",1.1982046128572E-8,1.7023386390950701E-8,null,null,null,{"$f":"H63-G63","v":5.0413402623787003E-9}]
[null,null,null,"Nitrogen","Nitrogen","Nitrogen",7.9443648414168103E-11,1.1125230827311301E-10,null,null,null,{"$f":"H64-G64","v":3.1808659858944903E-11}]
[null,null,null,"Phosphate","Phosphate","Phosphate",1.3484490552670299E-10,1.8254402995426199E-10,null,null,null,{"$f":"H65-G65","v":4.7699124427558995E-11}]
[null,null,null,"Phosphorus","Phosphorus","Phosphorus",1.47265594498172E-6,2.57719517260523E-6,null,null,null,{"$f":"H66-G66","v":1.1045392276235099E-6}]
[null,"Emissions to sea water","Emissions to sea water","Emissions to sea water","Emissions to sea water","Emissions to sea water",1.7582084024771301E-5,2.9936929577383201E-5]
[null,"Emissions to industrial soil","Emissions to industrial soil","Emissions to industrial soil","Emissions to industrial soil","Emissions to industrial soil",1.4515972489588299E-8,2.4188435929623002E-8]
[null,null,"Heavy metals to industrial soil","Heavy metals to industrial soil","Heavy metals to industrial soil","Heavy metals to industrial soil",1.4515972489588299E-8,2.4188435929623002E-8,null,null,null,{"$f":"H69-G69","v":9.6724634400347022E-9}]
[]
[]
[]
[]
[]
[]
[]
[null,null,null,null,null,null,null,null,null,null,{"$f":"SLOPE(G73:H73,$G$8:$H$8)","v":{"$error":"#DIV/0!"}},{"$f":"INTERCEPT(G73:H73,$G$8:$H$8)","v":{"$error":"#DIV/0!"}}]

{"sheet":"NG Pipeline RMT","index":26,"n_rows":69,"n_cols":12,"rows_kept":69,"cut":false,"hidden":true,"merged":[]}
["GaBi 4"]
[null,null,"Database:","C:\\Users\\548910\\Documents\\GaBi\\DB\\Natural Gas 090511"]
["Balance:","STAGE _2_ DOMESTIC PIPELINE TRANSPORT V 3_0","  Mass [kg]","kg","2011-09-29T15:28:37","Balance view: ","Upstreams (no sf6)",null,null,"base","alt","difference"]
["Balance object:","STAGE #2: DOMESTIC PIPELINE TRANSPORT V 3.0 [UNIT PROCESSES]","2011-09-06T13:25:54","{632FA7FF-701D-4FD3-9128-0E56F6BED64F}",null,null,null,null,"distance",971.37,500,{"$f":"K4-J4","v":-471.37}]
["In/out aggregation","Yes","Weak point analysis","No","Last service pack:",17]
[]
["&Inputs"]
[null,null,null,null,null,null,null,null,null,null,null,"delta p1"]
[null,null,null,null,null,null,"New","New1"]
["Flows","Flows","Flows","Flows","Flows","Flows",2.89308957440115E-2,2.8985633923068101E-2]
[null,"Resources","Resources","Resources","Resources","Resources",2.89308957440115E-2,2.8985633923068101E-2]
[null,null,"Energy resources","Energy resources","Energy resources","Energy resources",9.2146399999999996E-3,9.0851999999999999E-3,null,null,null,{"$f":"H12-G12","v":-1.2943999999999976E-4}]
[null,null,"Material resources","Material resources","Material resources","Material resources"]
[null,null,null,"Renewable resources","Renewable resources","Renewable resources"]
[null,null,null,null,"Water","Water",1.4389789887873801E-2,1.4370605128038699E-2,null,null,null,{"$f":"H15-G15","v":-1.9184759835101303E-5}]
[null,null,null,null,null,"Water (ground water)"]
[null,null,null,null,null,"Water (lake water)"]
[null,null,null,null,null,"Water (river water)"]
[null,null,null,null,null,"Water (sea water)"]
[null,null,null,null,null,"Water (surface water)"]
[]
["&Outputs"]
[]
[]
["Flows","Flows","Flows","Flows","Flows","Flows"]
[null,"Resources","Resources","Resources","Resources","Resources"]
[null,null,"Energy resources","Energy resources","Energy resources","Energy resources"]
[null,null,"Material resources","Material resources","Material resources","Material resources"]
[null,null,null,"Renewable resources","Renewable resources","Renewable resources"]
[null,null,null,null,"Water","Water",9.4295029343560502E-3,9.4266486124994896E-3,{"$f":"G15-G30","v":4.9602869535177504E-3},{"$f":"H15-H30","v":4.9439565155392096E-3},null,{"$f":"J30-I30","v":-1.6330437978540752E-5}]
[null,null,null,null,null,"Water (river water)"]
[null,null,null,null,null,"Water (sea water)"]
[null,null,null,null,null,"Water (wastewater)"]
[null,"Ecoinvent","Ecoinvent","Ecoinvent","Ecoinvent","Ecoinvent"]
[null,"Production residues in life cycle","Production residues in life cycle","Production residues in life cycle","Production residues in life cycle","Production residues in life cycle"]
[null,null,"Waste for disposal","Waste for disposal","Waste for disposal","Waste for disposal"]
[null,null,null,"Waste (solid)","Waste (solid)","Waste (solid)",null,null,null,null,null,{"$f":"H37-G37","v":0}]
[null,"Emissions to air","Emissions to air","Emissions to air","Emissions to air","Emissions to air"]
[null,null,"Heavy metals to air","Heavy metals to air","Heavy metals to air","Heavy metals to air"]
[null,null,null,"Lead (+II)","Lead (+II)","Lead (+II)",1.1231697993851601E-9,1.1231051962773301E-9,null,null,null,{"$f":"H40-G40","v":-6.4603107829971034E-14}]
[null,null,null,"Mercury (+II)","Mercury (+II)","Mercury (+II)",3.5119856761708703E-11,3.5104568215696302E-11,null,null,null,{"$f":"H41-G41","v":-1.5288546012400969E-14}]
[null,null,"Inorganic emissions to air","Inorganic emissions to air","Inorganic emissions to air","Inorganic emissions to air"]
[null,null,null,"Ammonia","Ammonia","Ammonia",1.35204096868747E-8,7.0930209952251201E-9,null,null,null,{"$f":"H43-G43","v":-6.4273886916495795E-9}]
[null,null,null,"Carbon dioxide","Carbon dioxide","Carbon dioxide",2.6806107654003E-2,1.41239651777447E-2,{"$f":"G44+G45","v":2.6806116258080569E-2},{"$f":"H44+H45","v":1.412397276280091E-2},null,{"$f":"J44-I44","v":-1.2682143495279659E-2}]
[null,null,null,"Carbon dioxide (biotic)","Carbon dioxide (biotic)","Carbon dioxide (biotic)",8.6040775675972199E-9,7.5850562098201802E-9]
[null,null,null,"Carbon monoxide","Carbon monoxide","Carbon monoxide",4.2356357236378698E-6,3.5331697740656401E-6,null,null,null,{"$f":"H46-G46","v":-7.0246594957222972E-7}]
[null,null,null,"Nitrogen oxides","Nitrogen oxides","Nitrogen oxides",5.2924183847712304E-6,3.26410566082356E-6,null,null,null,{"$f":"H47-G47","v":-2.0283127239476704E-6}]
[null,null,null,"Nitrous oxide (laughing gas)","Nitrous oxide (laughing gas)","Nitrous oxide (laughing gas)",3.3479175156470998E-8,2.94170306456954E-8,null,null,null,{"$f":"H48-G48","v":-4.0621445107755974E-9}]
[null,null,null,"Sulphur dioxide","Sulphur dioxide","Sulphur dioxide",2.13774220580731E-6,2.0709280908779899E-6,null,null,null,{"$f":"H49-G49","v":-6.6814114929320182E-8}]
[null,null,"Organic emissions to air (group VOC)","Organic emissions to air (group VOC)","Organic emissions to air (group VOC)","Organic emissions to air (group VOC)"]
[null,null,null,"Group NMVOC to air","Group NMVOC to air","Group NMVOC to air",1.08040287619878E-7,1.02158860117018E-7]
[null,null,null,null,"NMVOC (unspecified)","NMVOC (unspecified)",null,null,null,null,null,{"$f":"H52-G52","v":0}]
[null,null,null,"Methane","Methane","Methane",5.2220126832374604E-3,2.6887449120735602E-3,null,null,null,{"$f":"H53-G53","v":-2.5332677711639002E-3}]
[null,null,"Particles to air","Particles to air","Particles to air","Particles to air"]
[null,null,null,"Dust (unspecified)","Dust (unspecified)","Dust (unspecified)",4.4137253432362299E-7,4.4122463470316599E-7,null,null,null,{"$f":"H55-G55","v":-1.4789962045699396E-10}]
[null,null,"Radioactive emissions to air","Radioactive emissions to air","Radioactive emissions to air","Radioactive emissions to air",1.68600951191334E-13,1.4433304907224E-13,null,null,null,{"$f":"H56-G56","v":-2.4267902119094008E-14}]
[null,"Emissions to fresh water","Emissions to fresh water","Emissions to fresh water","Emissions to fresh water","Emissions to fresh water"]
[null,null,"Heavy metals to fresh water","Heavy metals to fresh water","Heavy metals to fresh water","Heavy metals to fresh water",2.1293655089765799E-7,1.9215488317625799E-7]
[null,null,"Inorganic emissions to fresh water","Inorganic emissions to fresh water","Inorganic emissions to fresh water","Inorganic emissions to fresh water"]
[null,null,null,"Aluminum (+III)","Aluminum (+III)","Aluminum (+III)",1.5288401556084799E-10,1.5090583683297599E-10,null,null,null,{"$f":"H60-G60","v":-1.9781787278719941E-12}]
[null,null,null,"Ammonia","Ammonia","Ammonia",2.42590232104445E-9,2.4249008480388201E-9]
[null,null,null,"Ammonium / ammonia","Ammonium / ammonia","Ammonium / ammonia",4.7436112361522997E-8,4.7431861653620699E-8,{"$f":"G61+G62","v":4.986201468256745E-8},{"$f":"H61+H62","v":4.9856762501659516E-8},null,{"$f":"J62-I62","v":-5.2521809079336541E-12}]
[null,null,null,"Nitrate","Nitrate","Nitrate",3.6026628395533901E-10,3.49410475342938E-10,null,null,null,{"$f":"H63-G63","v":-1.0855808612401007E-11}]
[null,null,null,"Nitrogen","Nitrogen","Nitrogen",1.46697674582282E-9,1.4669123084525599E-9,null,null,null,{"$f":"H64-G64","v":-6.4437370260097747E-14}]
[null,null,null,"Phosphate","Phosphate","Phosphate",2.0209914110289298E-12,1.9409604802660702E-12,null,null,null,{"$f":"H65-G65","v":-8.0030930762859631E-14}]
[null,null,null,"Phosphorus","Phosphorus","Phosphorus",1.6662855003127899E-8,1.30670576489562E-8,null,null,null,{"$f":"H66-G66","v":-3.5957973541716988E-9}]
[null,"Emissions to sea water","Emissions to sea water","Emissions to sea water","Emissions to sea water","Emissions to sea water"]
[null,"Emissions to industrial soil","Emissions to industrial soil","Emissions to industrial soil","Emissions to industrial soil","Emissions to industrial soil"]
[null,null,"Heavy metals to industrial soil","Heavy metals to industrial soil","Heavy metals to industrial soil","Heavy metals to industrial soil",1.92154573357486E-6,1.9215159560628499E-6,null,null,null,{"$f":"H69-G69","v":-2.9777512010154092E-11}]

{"sheet":"Bale Truck RMT","index":27,"n_rows":82,"n_cols":12,"rows_kept":82,"cut":false,"hidden":true,"merged":[]}
["GaBi 4"]
[null,null,"Database:","C:\\Users\\548910\\Documents\\GaBi\\DB\\NETL_083111"]
["Balance:","Stage _2_ Tractor_trailer _Bale_ Transport","  Mass [kg]","kg","2011-09-23T09:37:21","Balance view: ","Upstreams (no sf6)",null,null,"base","alt","difference"]
["Balance object:","Stage #2: Tractor-trailer (Bale) Transport [Stage #2: Material Transport]","2011-08-26T13:24:14","{73CAD8F1-1CB6-4BB7-925C-EC0520313BB0}",null,null,null,null,"distance",33,100,{"$f":"K4-J4","v":67}]
["In/out aggregation","Yes","Weak point analysis","No","Last service pack:",17]
[]
["&Inputs"]
[null,null,null,null,null,null,null,null,null,null,null,"delta p1"]
[null,null,null,null,null,null,"New","alt"]
["Flows","Flows","Flows","Flows","Flows","Flows",4.9905757953611803E-3,2.1245256665139399E-2]
[null,"Resources","Resources","Resources","Resources","Resources",4.9905757953611803E-3,2.1245256665139399E-2]
[null,null,"Energy resources","Energy resources","Energy resources","Energy resources",7.4550000000000005E-2,0.20485999999999999,null,null,null,{"$f":"H12-G12","v":0.13030999999999998}]
[null,null,"Material resources","Material resources","Material resources","Material resources"]
[null,null,null,"Renewable resources","Renewable resources","Renewable resources"]
[null,null,null,null,"Water","Water",7.5603753891614897E-3,1.3151318415240001E-2,null,null,null,{"$f":"H15-G15","v":5.590943026078511E-3}]
[null,null,null,null,null,"Water (ground water)"]
[null,null,null,null,null,"Water (lake water)"]
[null,null,null,null,null,"Water (river water)"]
[null,null,null,null,null,"Water (sea water)"]
[null,null,null,null,null,"Water (surface water)"]
[]
["&Outputs"]
[]
[]
["Flows","Flows","Flows","Flows","Flows","Flows"]
[null,"Resources","Resources","Resources","Resources","Resources"]
[null,null,"Energy resources","Energy resources","Energy resources","Energy resources"]
[null,null,"Material resources","Material resources","Material resources","Material resources"]
[null,null,null,"Renewable resources","Renewable resources","Renewable resources"]
[null,null,null,null,"Water","Water",1.20891269280908E-6,5.3931526089636697E-4,{"$f":"G15-G30","v":7.5591664764686805E-3},{"$f":"H15-H30","v":1.2612003154343633E-2},null,{"$f":"J30-I30","v":5.052836677874953E-3}]
[null,null,null,null,null,"Water (river water)"]
[null,null,null,null,null,"Water (sea water)"]
[null,null,null,null,null,"Water (wastewater)"]
[null,"Ecoinvent","Ecoinvent","Ecoinvent","Ecoinvent","Ecoinvent"]
[null,"Production residues in life cycle","Production residues in life cycle","Production residues in life cycle","Production residues in life cycle","Production residues in life cycle",1.27052667254803E-7,1.8150381036400501E-7]
[null,null,"Waste for disposal","Waste for disposal","Waste for disposal","Waste for disposal",1.27052667254803E-7,1.8150381036400501E-7]
[null,null,null,"Waste (solid)","Waste (solid)","Waste (solid)",1.27052667254803E-7,1.8150381036400501E-7,null,null,null,{"$f":"H37-G37","v":5.4451143109202007E-8}]
[null,"Emissions to air","Emissions to air","Emissions to air","Emissions to air","Emissions to air"]
[null,null,"Heavy metals to air","Heavy metals to air","Heavy metals to air","Heavy metals to air"]
[null,null,null,"Lead (+II)","Lead (+II)","Lead (+II)",6.0531437703870904E-10,6.4609270189942095E-10,null,null,null,{"$f":"H40-G40","v":4.0778324860711906E-11}]
[null,null,null,"Mercury (+II)","Mercury (+II)","Mercury (+II)",3.38965898541681E-11,3.7281300231599702E-11,null,null,null,{"$f":"H41-G41","v":3.3847103774316023E-12}]
[null,null,"Inorganic emissions to air","Inorganic emissions to air","Inorganic emissions to air","Inorganic emissions to air"]
[null,null,null,"Ammonia","Ammonia","Ammonia",1.9105656114626099E-8,4.21965766344472E-8,null,null,null,{"$f":"H43-G43","v":2.3090920519821101E-8}]
[null,null,null,"Carbon dioxide","Carbon dioxide","Carbon dioxide",2.4035524019111101E-3,6.2391247461435701E-3,{"$f":"G44+G45","v":2.4038316208840243E-3},{"$f":"H44+H45","v":6.2397204190900654E-3},null,{"$f":"J44-I44","v":3.8358887982060412E-3}]
[null,null,null,"Carbon dioxide (biotic)","Carbon dioxide (biotic)","Carbon dioxide (biotic)",2.7921897291433899E-7,5.9567294649543897E-7]
[null,null,null,"Carbon monoxide","Carbon monoxide","Carbon monoxide",5.7714966871557E-6,1.21487310667536E-5,null,null,null,{"$f":"H46-G46","v":6.3772343795979002E-6}]
[null,null,null,"Nitrogen oxides","Nitrogen oxides","Nitrogen oxides",1.9342370722273901E-6,4.4492662387875404E-6,null,null,null,{"$f":"H47-G47","v":2.5150291665601503E-6}]
[null,null,null,"Nitrous oxide (laughing gas)","Nitrous oxide (laughing gas)","Nitrous oxide (laughing gas)",6.3518332506998903E-8,1.51158206474733E-7,null,null,null,{"$f":"H48-G48","v":8.7639873967734095E-8}]
[null,null,null,"Sulphur dioxide","Sulphur dioxide","Sulphur dioxide",3.6107383782738802E-6,8.3698105034671103E-6,null,null,null,{"$f":"H49-G49","v":4.7590721251932297E-6}]
[null,null,"Organic emissions to air (group VOC)","Organic emissions to air (group VOC)","Organic emissions to air (group VOC)","Organic emissions to air (group VOC)"]
[null,null,null,"Group NMVOC to air","Group NMVOC to air","Group NMVOC to air",2.6527095644705302E-6,7.7177152263475001E-6]
[null,null,null,null,"NMVOC (unspecified)","NMVOC (unspecified)",null,null,null,null,null,{"$f":"H52-G52","v":0}]
[null,null,null,"Methane","Methane","Methane",7.0063117640115697E-6,1.86074415408359E-5,null,null,null,{"$f":"H53-G53","v":1.160112977682433E-5}]
[null,null,"Particles to air","Particles to air","Particles to air","Particles to air",3.2448880683807099E-7,5.7001281810342798E-7]
[null,null,null,"Dust (unspecified)","Dust (unspecified)","Dust (unspecified)",1.8014788446406501E-7,2.2913286610518599E-7,null,null,null,{"$f":"H55-G55","v":4.898498164112098E-8}]
[null,null,"Radioactive emissions to air","Radioactive emissions to air","Radioactive emissions to air","Radioactive emissions to air",1.22681884562351E-11,2.4874981311263299E-11,null,null,null,{"$f":"H56-G56","v":1.2606792855028199E-11}]
[null,"Emissions to fresh water","Emissions to fresh water","Emissions to fresh water","Emissions to fresh water","Emissions to fresh water"]
[null,null,"Heavy metals to fresh water","Heavy metals to fresh water","Heavy metals to fresh water","Heavy metals to fresh water",2.92327726478473E-6,8.7823934184739103E-6]
[null,null,"Inorganic emissions to fresh water","Inorganic emissions to fresh water","Inorganic emissions to fresh water","Inorganic emissions to fresh water"]
[null,null,null,"Aluminum (+III)","Aluminum (+III)","Aluminum (+III)",6.4950059814498497E-7,1.9672116553794399E-6,null,null,null,{"$f":"H60-G60","v":1.3177110572344548E-6}]
[null,null,null,"Ammonia","Ammonia","Ammonia",7.0321054192752699E-6,2.1293998484271298E-5]
[null,null,null,"Ammonium / ammonia","Ammonium / ammonia","Ammonium / ammonia",1.39549607042348E-8,1.7311770678960699E-8,{"$f":"G61+G62","v":7.0460603799795044E-6},{"$f":"H61+H62","v":2.1311310254950261E-5},null,{"$f":"J62-I62","v":1.4265249874970756E-5}]
[null,null,null,"Nitrate","Nitrate","Nitrate",1.94122595568646E-7,2.0004233717286801E-7,null,null,null,{"$f":"H63-G63","v":5.919741604222009E-9}]
[null,null,null,"Nitrogen","Nitrogen","Nitrogen",9.0448840328179296E-9,9.0510828185753095E-9,null,null,null,{"$f":"H64-G64","v":6.198785757379912E-12}]
[null,null,null,"Phosphate","Phosphate","Phosphate",2.7113463297873898E-10,3.1288210323237999E-10,null,null,null,{"$f":"H65-G65","v":4.1747470253641013E-11}]
[null,null,null,"Phosphorus","Phosphorus","Phosphorus",6.2665438688384097E-7,1.8851574860803899E-6,null,null,null,{"$f":"H66-G66","v":1.2585030991965489E-6}]
[null,"Emissions to sea water","Emissions to sea water","Emissions to sea water","Emissions to sea water","Emissions to sea water"]
[null,"Emissions to industrial soil","Emissions to industrial soil","Emissions to industrial soil","Emissions to industrial soil","Emissions to industrial soil"]
[null,null,"Heavy metals to industrial soil","Heavy metals to industrial soil","Heavy metals to industrial soil","Heavy metals to industrial soil",1.9743465126926401E-8,4.8754032062855898E-8,null,null,null,{"$f":"H69-G69","v":2.9010566935929497E-8}]
[null,null,null,"Arsenic (+V)","Arsenic (+V)","Arsenic (+V)"]
[null,null,null,"Cadmium (+II)","Cadmium (+II)","Cadmium (+II)"]
[null,null,null,"Chromium (+III)","Chromium (+III)","Chromium (+III)"]
[null,null,null,"Chromium (unspecified)","Chromium (unspecified)","Chromium (unspecified)"]
[null,null,null,"Cobalt","Cobalt","Cobalt"]
[null,null,null,"Copper (+II)","Copper (+II)","Copper (+II)"]
[null,null,null,"Iron","Iron","Iron"]
[null,null,null,"Lead (+II)","Lead (+II)","Lead (+II)"]
[null,null,null,"Manganese (+II)","Manganese (+II)","Manganese (+II)"]
[null,null,null,"Mercury (+II)","Mercury (+II)","Mercury (+II)"]
[null,null,null,"Nickel (+II)","Nickel (+II)","Nickel (+II)"]
[null,null,null,"Strontium","Strontium","Strontium"]
[null,null,null,"Zinc (+II)","Zinc (+II)","Zinc (+II)",1.02496326116226E-10,1.7165673581395799E-10]

{"sheet":"Cont Truck RMT","index":28,"n_rows":82,"n_cols":12,"rows_kept":82,"cut":false,"hidden":true,"merged":[]}
["GaBi 4"]
[null,null,"Database:","C:\\Users\\548910\\Documents\\GaBi\\DB\\NETL_083111"]
["Balance:","Stage _2_ Tractor_trailer _Container_ Transport","  Mass [kg]","kg","2011-09-23T09:42:07","Balance view: ","Upstreams (no sf6)",null,null,"base","alt","difference"]
["Balance object:","Stage #2: Tractor-trailer (Container) Transport [Stage #2: Material Transport]","2011-08-26T13:24:12","{0AFDBEDA-F51B-4774-909E-9C0CC511466F}",null,null,null,null,"distance",21,100,{"$f":"K4-J4","v":79}]
["In/out aggregation","Yes","Weak point analysis","No","Last service pack:",17]
[]
["&Inputs"]
[null,null,null,null,null,null,null,null,null,null,null,"delta p1"]
[null,null,null,null,null,null,"New","alt"]
["Flows","Flows","Flows","Flows","Flows","Flows",5.1077776113264599E-3,5.4302553765430903E-3]
[null,"Resources","Resources","Resources","Resources","Resources",5.1077776113264599E-3,5.4302553765430903E-3]
[null,null,"Energy resources","Energy resources","Energy resources","Energy resources",5.2789999999999997E-2,0.19833000000000001,null,null,null,{"$f":"H12-G12","v":0.14554}]
[null,null,"Material resources","Material resources","Material resources","Material resources"]
[null,null,null,"Renewable resources","Renewable resources","Renewable resources"]
[null,null,null,null,"Water","Water",7.0724984611051601E-3,1.4529928755335601E-2,null,null,null,{"$f":"H15-G15","v":7.4574302942304405E-3}]
[null,null,null,null,null,"Water (ground water)"]
[null,null,null,null,null,"Water (lake water)"]
[null,null,null,null,null,"Water (river water)"]
[null,null,null,null,null,"Water (sea water)"]
[null,null,null,null,null,"Water (surface water)"]
[]
["&Outputs"]
[]
[]
["Flows","Flows","Flows","Flows","Flows","Flows"]
[null,"Resources","Resources","Resources","Resources","Resources"]
[null,null,"Energy resources","Energy resources","Energy resources","Energy resources"]
[null,null,"Material resources","Material resources","Material resources","Material resources"]
[null,null,null,"Renewable resources","Renewable resources","Renewable resources"]
[null,null,null,null,"Water","Water",4.6162903641467902E-4,2.2755684514266898E-3,{"$f":"G15-G30","v":6.6108694246904808E-3},{"$f":"H15-H30","v":1.2254360303908911E-2},null,{"$f":"J30-I30","v":5.64349087921843E-3}]
[null,null,null,null,null,"Water (river water)"]
[null,null,null,null,null,"Water (sea water)"]
[null,null,null,null,null,"Water (wastewater)"]
[null,"Ecoinvent","Ecoinvent","Ecoinvent","Ecoinvent","Ecoinvent"]
[null,"Production residues in life cycle","Production residues in life cycle","Production residues in life cycle","Production residues in life cycle","Production residues in life cycle",1.27052667254803E-7,1.8150381036400501E-7]
[null,null,"Waste for disposal","Waste for disposal","Waste for disposal","Waste for disposal",1.27052667254803E-7,1.8150381036400501E-7]
[null,null,null,"Waste (solid)","Waste (solid)","Waste (solid)",1.27052667254803E-7,1.8150381036400501E-7,null,null,null,{"$f":"H37-G37","v":5.4451143109202007E-8}]
[null,"Emissions to air","Emissions to air","Emissions to air","Emissions to air","Emissions to air"]
[null,null,"Heavy metals to air","Heavy metals to air","Heavy metals to air","Heavy metals to air"]
[null,null,null,"Lead (+II)","Lead (+II)","Lead (+II)",5.1971320174857104E-10,5.6525833195808703E-10,null,null,null,{"$f":"H40-G40","v":4.554513020951599E-11}]
[null,null,null,"Mercury (+II)","Mercury (+II)","Mercury (+II)",2.9582814526496801E-11,3.33631825378897E-11,null,null,null,{"$f":"H41-G41","v":3.7803680113928988E-12}]
[null,null,"Inorganic emissions to air","Inorganic emissions to air","Inorganic emissions to air","Inorganic emissions to air"]
[null,null,null,"Ammonia","Ammonia","Ammonia",1.54441976955515E-8,4.1234344429756599E-8,null,null,null,{"$f":"H43-G43","v":2.57901467342051E-8}]
[null,null,null,"Carbon dioxide","Carbon dioxide","Carbon dioxide",1.91344931630799E-3,6.1973830591183802E-3,{"$f":"G44+G45","v":1.9137864857526137E-3},{"$f":"H44+H45","v":6.198073674602813E-3},null,{"$f":"J44-I44","v":4.2842871888501988E-3}]
[null,null,null,"Carbon dioxide (biotic)","Carbon dioxide (biotic)","Carbon dioxide (biotic)",3.3716944462363303E-7,6.9061548443279302E-7]
[null,null,null,"Carbon monoxide","Carbon monoxide","Carbon monoxide",6.8743544710114598E-6,1.39970592703748E-5,null,null,null,{"$f":"H46-G46","v":7.1227047993633404E-6}]
[null,null,null,"Nitrogen oxides","Nitrogen oxides","Nitrogen oxides",1.9146398507755999E-6,4.7236647742607401E-6,null,null,null,{"$f":"H47-G47","v":2.8090249234851402E-6}]
[null,null,null,"Nitrous oxide (laughing gas)","Nitrous oxide (laughing gas)","Nitrous oxide (laughing gas)",4.8507838983955302E-8,1.4639242558824099E-7,null,null,null,{"$f":"H48-G48","v":9.7884586604285692E-8}]
[null,null,null,"Sulphur dioxide","Sulphur dioxide","Sulphur dioxide",4.3694104691707998E-6,9.6847970221686303E-6,null,null,null,{"$f":"H49-G49","v":5.3153865529978305E-6}]
[null,null,"Organic emissions to air (group VOC)","Organic emissions to air (group VOC)","Organic emissions to air (group VOC)","Organic emissions to air (group VOC)"]
[null,null,null,"Group NMVOC to air","Group NMVOC to air","Group NMVOC to air",1.7221453846824799E-6,7.3792277481706304E-6]
[null,null,null,null,"NMVOC (unspecified)","NMVOC (unspecified)",null,null,null,null,null,{"$f":"H52-G52","v":0}]
[null,null,null,"Methane","Methane","Methane",5.1856022123621099E-6,1.8142852616044698E-5,null,null,null,{"$f":"H53-G53","v":1.2957250403682589E-5}]
[null,null,"Particles to air","Particles to air","Particles to air","Particles to air",8.8196548057624204E-7,1.15619016000679E-6]
[null,null,null,"Dust (unspecified)","Dust (unspecified)","Dust (unspecified)",7.2473193099919301E-7,7.7944303977514702E-7,null,null,null,{"$f":"H55-G55","v":5.4711108775954006E-8}]
[null,null,"Radioactive emissions to air","Radioactive emissions to air","Radioactive emissions to air","Radioactive emissions to air",2.90299865765137E-11,4.3110457612729598E-11,null,null,null,{"$f":"H56-G56","v":1.4080471036215898E-11}]
[null,"Emissions to fresh water","Emissions to fresh water","Emissions to fresh water","Emissions to fresh water","Emissions to fresh water"]
[null,null,"Heavy metals to fresh water","Heavy metals to fresh water","Heavy metals to fresh water","Heavy metals to fresh water",1.8497464078827201E-6,8.3937672582721894E-6]
[null,null,"Inorganic emissions to fresh water","Inorganic emissions to fresh water","Inorganic emissions to fresh water","Inorganic emissions to fresh water"]
[null,null,null,"Aluminum (+III)","Aluminum (+III)","Aluminum (+III)",3.9319978532209297E-7,1.8649454218890501E-6,null,null,null,{"$f":"H60-G60","v":1.471745636566957E-6}]
[null,null,null,"Ammonia","Ammonia","Ammonia",4.23989025586701E-6,2.0168935377219301E-5]
[null,null,null,"Ammonium / ammonia","Ammonium / ammonia","Ammonium / ammonia",1.39056924337563E-8,1.7654898609088802E-8,{"$f":"G61+G62","v":4.2537959483007661E-6},{"$f":"H61+H62","v":2.0186590275828388E-5},null,{"$f":"J62-I62","v":1.5932794327527621E-5}]
[null,null,null,"Nitrate","Nitrate","Nitrate",1.8795521548500101E-7,1.94566948632254E-7,null,null,null,{"$f":"H63-G63","v":6.6117331472529895E-9}]
[null,null,null,"Nitrogen","Nitrogen","Nitrogen",8.6029083852130199E-9,8.6098317815375504E-9,null,null,null,{"$f":"H64-G64","v":6.9233963245305448E-12}]
[null,null,null,"Phosphate","Phosphate","Phosphate",3.19543349914134E-10,3.6617091431543399E-10,null,null,null,{"$f":"H65-G65","v":4.6627564401299993E-11}]
[null,null,null,"Phosphorus","Phosphorus","Phosphorus",3.79921420695795E-7,1.7855379514819899E-6,null,null,null,{"$f":"H66-G66","v":1.405616530786195E-6}]
[null,"Emissions to sea water","Emissions to sea water","Emissions to sea water","Emissions to sea water","Emissions to sea water"]
[null,"Emissions to industrial soil","Emissions to industrial soil","Emissions to industrial soil","Emissions to industrial soil","Emissions to industrial soil"]
[null,null,"Heavy metals to industrial soil","Heavy metals to industrial soil","Heavy metals to industrial soil","Heavy metals to industrial soil",1.53672019667136E-8,4.7768975532988803E-8,null,null,null,{"$f":"H69-G69","v":3.2401773566275206E-8}]
[null,null,null,"Arsenic (+V)","Arsenic (+V)","Arsenic (+V)",2.02465479292618E-14,2.5169484137934699E-14]
[null,null,null,"Cadmium (+II)","Cadmium (+II)","Cadmium (+II)",1.1913893193669201E-12,1.2412716433211199E-12]
[null,null,null,"Chromium (+III)","Chromium (+III)","Chromium (+III)",2.2689738311619799E-11,2.26901950765408E-11]
[null,null,null,"Chromium (unspecified)","Chromium (unspecified)","Chromium (unspecified)",4.8407816879469501E-11,6.0244774786926895E-11]
[null,null,null,"Cobalt","Cobalt","Cobalt",8.4713339809625098E-13,1.05820579613575E-12]
[null,null,null,"Copper (+II)","Copper (+II)","Copper (+II)",2.3160514616880101E-11,2.3275058520300301E-11]
[null,null,null,"Iron","Iron","Iron",6.8561736001846397E-11,8.5299236702899405E-11]
[null,null,null,"Lead (+II)","Lead (+II)","Lead (+II)",3.4047160431506098E-11,3.4050827660218698E-11]
[null,null,null,"Manganese (+II)","Manganese (+II)","Manganese (+II)",1.1258372314395599E-11,1.3741540116744699E-11]
[null,null,null,"Mercury (+II)","Mercury (+II)","Mercury (+II)",2.2782293467377402E-13,2.28052307160218E-13]
[null,null,null,"Nickel (+II)","Nickel (+II)","Nickel (+II)",2.9352086008500402E-11,3.26906388165927E-11]
[null,null,null,"Strontium","Strontium","Strontium",1.6786541976815699E-8,2.1194084802295699E-8]
[null,null,null,"Zinc (+II)","Zinc (+II)","Zinc (+II)",9.6134358677802396E-11,9.7396893787676797E-11]

{"sheet":"Adv Ethanol","index":29,"n_rows":66,"n_cols":17,"rows_kept":66,"cut":false,"hidden":true,"merged":[]}
["GaBi 4"]
[null,null,"Database:","C:\\Users\\548910\\Documents\\GaBi\\DB\\NETL_083111"]
["Balance:","Combustion Systems","  Mass [kg]","kg","2011-09-26T10:25:14","Balance view: ","Upstreams (no sf6)"]
["Balance object:","Combustion Systems [Ethanol]","2011-09-26T10:25:14","{A4376FA1-F5A7-4034-B29E-B717E6CAD2F9}"]
["In/out aggregation","Yes","Weak point analysis","No","Last service pack:",17]
[]
["&Inputs"]
[null,null,null,null,null,null,"Lignocellulosic Combustion","Lignocellulosic Combustion","Lignocellulosic Gasification","Lignocellulosic Gasification","Gasification","Gasification","Dry Milling","Advanced Dry Mill","Advanced Dry Mill wCCS"]
[null,null,null,null,null,null,"Corn Stover","Switchgrass","Corn Stover","Switchgrass","Corn Stover","Switchgrass","Corn Grain","Corn Grain","Corn Grain"]
[null,null,null,null,null,null,{"$f":"IF(AND(Dashboard!$M$3=\"Ethanol\",Dashboard!$M$7='Adv Ethanol'!G$8,Dashboard!$M$8='Adv Ethanol'!G$9),1,0)","v":0},{"$f":"IF(AND(Dashboard!$M$3=\"Ethanol\",Dashboard!$M$7='Adv Ethanol'!H$8,Dashboard!$M$8='Adv Ethanol'!H$9),1,0)","v":0},{"$f":"IF(AND(Dashboard!$M$3=\"Ethanol\",Dashboard!$M$7='Adv Ethanol'!I$8,Dashboard!$M$8='Adv Ethanol'!I$9),1,0)","v":0},{"$f":"IF(AND(Dashboard!$M$3=\"Ethanol\",Dashboard!$M$7='Adv Ethanol'!J$8,Dashboard!$M$8='Adv Ethanol'!J$9),1,0)","v":0},{"$f":"IF(AND(Dashboard!$M$3=\"Ethanol\",Dashboard!$M$7='Adv Ethanol'!K$8,Dashboard!$M$8='Adv Ethanol'!K$9),1,0)","v":0},{"$f":"IF(AND(Dashboard!$M$3=\"Ethanol\",Dashboard!$M$7='Adv Ethanol'!L$8,Dashboard!$M$8='Adv Ethanol'!L$9),1,0)","v":0},{"$f":"IF(AND(Dashboard!$M$3=\"Ethanol\",Dashboard!$M$7='Adv Ethanol'!M$8,Dashboard!$M$8='Adv Ethanol'!M$9),1,0)","v":0},{"$f":"IF(AND(Dashboard!$M$3=\"Ethanol\",Dashboard!$M$7='Adv Ethanol'!N$8,Dashboard!$M$8='Adv Ethanol'!N$9),1,0)","v":0},{"$f":"IF(AND(Dashboard!$M$3=\"Ethanol\",Dashboard!$M$7='Adv Ethanol'!O$8,Dashboard!$M$8='Adv Ethanol'!O$9),1,0)","v":0},null,1]
[null,null,null,null,null,"Biomass",3.5762400697292498,3.4663218418867499,3.57624000871124,3.4663218644775999,2.97336,2.8866369999999999,2.02673436014845,2.0267343601485401,2.0267343601485401,null,2]
["Flows","Flows","Flows","Flows","Flows","Flows",-1.2040744229750699,-1.2040744229750699,-2.77664806548818,-2.7766480654881902,0.24282323781392001,0.24282323781392001,2.6617359185337399,-339.30562960632898,-337.91830269113598,null,3]
[null,"Resources","Resources","Resources","Resources","Resources",-1.2040744229750699,-1.2040744229750699,-2.77664806548818,-2.7766480654881902,0.24282323781392001,0.24282323781392001,2.6617359185337399,-339.30562960632898,-337.91830269113598,null,4]
[null,null,"Energy resources","Energy resources","Energy resources","Energy resources",-6.1993999999999998,-0.189303144481585,-15.989000000000001,-15.989000000000001,2.0922999999999998,2.0922999999999998,16.388000000000002,24.436,15.64,null,5]
[null,null,"Material resources","Material resources","Material resources","Material resources",-1.0147712784934799,-1.0147712784934799,-2.31030944101972,-2.3103094410197298,0.19267999178282899,0.19267999178282899,2.54487892155929,-339.92994604171599,-338.33436063939803,null,6]
[null,null,null,"Renewable resources","Renewable resources","Renewable resources",-1.0147712784934799,-1.0147712784934799,-2.31030944101972,-2.3103094410197298,0.19267999178282899,0.19267999178282899,2.54487892155929,-339.92994604171599,-338.33436063939803,null,7]
[null,null,null,null,"Water","Water",-0.93432999999999999,-0.93432999999999999,-2.31030944101972,-2.3103094410197298,0.19267999178282899,0.19267999178282899,2.9177,-339.92994604171599,-338.33436063939803,null,8]
[null,null,null,null,null,"ccs?",0,0,0,0,0,0,0,0,1,null,9]
["&Outputs",null,null,null,null,"Gasoline",3.6910600000000002E-2,3.6910600000000002E-2,3.6910565200000002E-2,3.6910565200000002E-2,0,0,0,4.6932506032999997E-2,4.6932506032999997E-2,null,10]
[null,null,null,null,null,null,null,null,null,null,null,null,null,null,null,null,11]
[null,null,null,null,null,null,"Corn Stover","Switchgrass","Corn Stover","Switchgrass","Corn Stover","Switchgrass","Corn Grain","Corn Grain","Corn Grain",null,12]
["Flows","Flows","Flows","Flows","Flows","Flows",3.3489295950588498,3.3489295950588498,0.43163041949609898,0.43163041949609499,0.12763507551060199,0.12763507551060199,3.9840318612797598,5.2518105103518202,5.1940906946323802,null,13]
[null,"Resources","Resources","Resources","Resources","Resources",4.0453677906057602E-4,4.0453677906057602E-4,3.07971987030478E-6,3.07971987030478E-6,5.1616313764980298E-2,5.1616313764980298E-2,2.1265059198678702,2.7294302004251998,4.12849485787169,null,14]
[null,null,"Energy resources","Energy resources","Energy resources","Energy resources",0,0,0,0,0,0,0,0,0,null,15]
[null,null,"Material resources","Material resources","Material resources","Material resources",4.0453677906057602E-4,4.0453677906057602E-4,3.07971987030478E-6,3.07971987030478E-6,5.1616313764980298E-2,5.1616313764980298E-2,2.1265059198678702,2.7294302004251998,4.12849485787169,null,16]
[null,null,null,"Renewable resources","Renewable resources","Renewable resources",4.0453677906057602E-4,4.0453677906057602E-4,3.07971987030478E-6,3.07971987030478E-6,5.1616313764980298E-2,5.1616313764980298E-2,2.1265059198678702,2.7294302004251998,4.12849485787169,null,17]
[null,null,null,null,"Water","Water",4.0453677906057602E-4,4.0453677906057602E-4,3.07971987030478E-6,3.07971987030478E-6,5.1616313764980298E-2,5.1616313764980298E-2,2.1265059198678702,2.7294302004251998,4.12849485787169,null,18]
[null,null,null,null,null,"Water (feed water)",0,0,0,0,5.161323404511E-2,5.161323404511E-2,1.85699121107112,2.7282593606172099,4.1276526854101103,null,19]
[null,null,null,null,null,"Water (river water)",0,0,0,0,0,0,3.82731539019422E-5,1.1677600881213699E-3,8.3817100381841701E-4,null,20]
[null,null,null,null,null,"Water (sea water)",4.0453677906057602E-4,4.0453677906057602E-4,3.07971987030478E-6,3.07971987030478E-6,3.07971987030478E-6,3.07971987030478E-6,0.26947643564284601,3.07971987030478E-6,4.00145775741788E-6,null,21]
[null,"Ecoinvent","Ecoinvent","Ecoinvent","Ecoinvent","Ecoinvent",0,0,0,0,0,0,0,0,0,null,22]
[null,"Production residues in life cycle","Production residues in life cycle","Production residues in life cycle","Production residues in life cycle","Production residues in life cycle",0.44272450431599197,0.44272450431599197,0.442717654082738,0.442717654082738,3.14987781767E-2,3.14987781767E-2,8.7972411919262799E-6,-1.59316851810848E-3,-1.48103937420521E-3,null,23]
[null,null,"Waste for disposal","Waste for disposal","Waste for disposal","Waste for disposal",0.44272450431599197,0.44272450431599197,0.442717654082738,0.442717654082738,3.14987781767E-2,3.14987781767E-2,8.7972411919262799E-6,-1.59316851810848E-3,-1.48103937420521E-3,null,24]
[null,null,null,"Waste (solid)","Waste (solid)","Waste (solid)",0.44272450431599197,0.44272450431599197,0.442717654082738,0.442717654082738,3.14987781767E-2,3.14987781767E-2,8.7972411919262799E-6,-1.59316851810848E-3,-1.48103937420521E-3,null,25]
[null,"Emissions to air","Emissions to air","Emissions to air","Emissions to air","Emissions to air",2.9043005012015399,2.9043005012015399,-1.2026290940922999E-2,-1.20262909409268E-2,4.3976302766783999E-2,4.3976302766783999E-2,1.85700643826863,1.61301321339488,1.0661705948418001,null,26]
[null,null,"Heavy metals to air","Heavy metals to air","Heavy metals to air","Heavy metals to air",-2.6778061300008799E-8,-2.6778061300008799E-8,-6.5746970490882099E-8,-6.5746970490882298E-8,3.17426175998747E-9,3.17426175998747E-9,1.8441593898535201E-8,3.0742139177734802E-8,3.6389021880102899E-8,null,27]
[null,null,null,"Lead (+II)","Lead (+II)","Lead (+II)",-2.0459601282639401E-8,-2.0459601282639401E-8,-5.2002670646876997E-8,-5.2002670646877202E-8,2.9474796409726799E-9,2.9474796409726799E-9,1.5680225805667701E-8,2.6570347622701599E-8,3.0283757565609599E-8,null,28]
[null,null,null,"Mercury (+II)","Mercury (+II)","Mercury (+II)",-6.3184600173694604E-9,-6.3184600173694604E-9,-1.3744299844005E-8,-1.37442998440051E-8,2.26782119014794E-10,2.26782119014794E-10,2.7613680928675398E-9,4.1717915550332499E-9,6.10526431449332E-9,null,29]
[null,null,"Inorganic emissions to air","Inorganic emissions to air","Inorganic emissions to air","Inorganic emissions to air",2.9047767745796498,2.9047767745796498,-1.06114588477557E-2,-1.06114588477595E-2,4.3771563650677497E-2,4.3771563650677497E-2,1.8512413584851399,1.6083270885322301,1.06396962637138,null,30]
[null,null,null,"Ammonia","Ammonia","Ammonia",-2.86167755535582E-6,-2.86167755535582E-6,-6.6343367193216498E-6,-6.6343367193216701E-6,1.5707017194021601E-5,1.5707017194021601E-5,1.45046259142694E-6,-2.9066324120013601E-4,-2.8972297020271999E-4,null,31]
[null,null,null,"Carbon dioxide","Carbon dioxide","Carbon dioxide",-0.56249106823030603,-0.56249106823030603,-1.2515794418667301,-1.2515794418667401,4.24931710580988E-2,4.24931710580988E-2,0.94861297509839004,1.5991085532176299,1.0569522445644199,null,32]
[null,null,null,"Carbon dioxide (biotic)","Carbon dioxide (biotic)","Carbon dioxide (biotic)",3.47040621967454,3.47040621967454,1.2502734205535899,1.2502734205535899,5.0856232360026703E-5,5.0856232360026703E-5,0.896452482623327,2.2454755178554198E-3,6.3743148610582599E-4,null,33]
[null,null,null,"Carbon monoxide","Carbon monoxide","Carbon monoxide",-1.8772563668310901E-4,-1.8772563668310901E-4,-1.91660122867793E-4,-1.91660122867795E-4,6.5166311886190206E-5,6.5166311886190206E-5,8.0769759056506301E-4,1.5513912738750601E-3,-2.47825569097719E-4,null,34]
[null,null,null,"Nitrogen oxides","Nitrogen oxides","Nitrogen oxides",-1.12378077422402E-3,-1.12378077422402E-3,-2.4711725913115199E-3,-2.4711725913115299E-3,9.4037862817071202E-5,9.4037862817071202E-5,1.47997031503499E-3,1.6963153681715901E-4,3.2142636541178702E-4,null,35]
[null,null,null,"Nitrous oxide (laughing gas)","Nitrous oxide (laughing gas)","Nitrous oxide (laughing gas)",5.7278284205657797E-5,5.7278284205657797E-5,4.8056794771609699E-5,4.8056794771609597E-5,6.4836344035037005E-5,6.4836344035037005E-5,1.12664534382632E-5,6.5421219087912996E-5,6.6498301753374904E-5,null,36]
[null,null,null,"Sulphur dioxide","Sulphur dioxide","Sulphur dioxide",-1.8812870603244301E-3,-1.8812870603244301E-3,-6.6840272784873499E-3,-6.6840272784873698E-3,9.8778882428628904E-4,9.8778882428628904E-4,3.8755159417937601E-3,5.4772790081622303E-3,6.5295741929923198E-3,null,37]
[null,null,"Organic emissions to air (group VOC)","Organic emissions to air (group VOC)","Organic emissions to air (group VOC)","Organic emissions to air (group VOC)",-4.6024540768200499E-4,-4.6024540768200499E-4,-1.2811937352675E-3,-1.28119373526751E-3,1.8151496934350501E-4,1.8151496934350501E-4,5.0314905822141298E-3,2.4010955158002998E-3,1.42793685023274E-3,null,38]
[null,null,null,"Group NMVOC to air","Group NMVOC to air","Group NMVOC to air",2.6472999999999999E-5,2.6472999999999999E-5,-1.28208083888037E-6,-1.28208083888045E-6,5.3210119214030199E-6,5.3210119214030199E-6,6.15743017741226E-4,3.8585004326836101E-5,2.6529813450564299E-5,null,39]
[null,null,null,null,"NMVOC (unspecified)","NMVOC (unspecified)",2.6472999999999999E-5,2.6472999999999999E-5,-1.28208083888037E-6,-1.28208083888045E-6,5.3210119214030199E-6,5.3210119214030199E-6,6.15743017741226E-4,3.8585004326836101E-5,2.6529813450564299E-5,null,40]
[null,null,null,"Methane","Methane","Methane",-4.9160995240679303E-4,-4.9160995240679303E-4,-1.2799116544286199E-3,-1.2799116544286301E-3,1.7619395742210199E-4,1.7619395742210199E-4,4.4157475644729096E-3,2.3625105114734699E-3,1.4014070367821701E-3,null,41]
[null,null,"Particles to air","Particles to air","Particles to air","Particles to air",-1.59780288201178E-5,-1.59780288201178E-5,-1.3352299426714099E-4,-1.3352299426714199E-4,2.32207643892013E-5,2.32207643892013E-5,7.3356126897532897E-4,2.2849825030831199E-3,7.7297334775991899E-4,null,42]
[null,null,null,"Dust (unspecified)","Dust (unspecified)","Dust (unspecified)",-1.59780288201178E-5,-1.59780288201178E-5,-1.3352299426714099E-4,-1.3352299426714199E-4,2.32207643892013E-5,2.32207643892013E-5,7.3356126897532897E-4,2.2849825030831199E-3,7.7297334775991899E-4,null,43]
[null,null,"Radioactive emissions to air","Radioactive emissions to air","Radioactive emissions to air","Radioactive emissions to air",-2.3163547256865599E-8,-2.3163547256865599E-8,-4.9616662246378298E-8,-4.9616662246378397E-8,2.08112002452652E-10,2.08112002452652E-10,9.4907077510887193E-9,1.6101634294273999E-8,2.1883406649700001E-8,null,44]
[null,"Emissions to fresh water","Emissions to fresh water","Emissions to fresh water","Emissions to fresh water","Emissions to fresh water",4.8791531850728498E-5,4.8791531850728498E-5,-1.4430558884483401E-4,-1.4430558884483401E-4,1.27118195178721E-5,1.27118195178721E-5,1.8523026818795401E-4,0.90940694900575902,1.083031543722E-4,null,45]
[null,null,"Heavy metals to fresh water","Heavy metals to fresh water","Heavy metals to fresh water","Heavy metals to fresh water",4.62449200022273E-5,4.62449200022273E-5,-9.9186269078026999E-5,-9.9186269078027297E-5,3.6072474376841099E-6,3.6072474376841099E-6,1.4272468964442701E-4,0.90843851908725104,7.7565881565125905E-5,null,46]
[null,null,"Inorganic emissions to fresh water","Inorganic emissions to fresh water","Inorganic emissions to fresh water","Inorganic emissions to fresh water",2.5466118485012001E-6,2.5466118485012001E-6,-4.5119319766806898E-5,-4.5119319766807101E-5,9.1045720801879799E-6,9.1045720801879799E-6,4.2505578543526102E-5,9.6842991850814902E-4,3.07372728070738E-5,null,47]
[null,null,null,"Aluminum (+III)","Aluminum (+III)","Aluminum (+III)",-1.9920124639701299E-6,-1.9920124639701299E-6,-4.2519335990968797E-6,-4.2519335990968899E-6,1.7788839668908099E-8,1.7788839668908099E-8,8.0968786809458498E-7,1.34748985374458E-6,1.85700972116538E-6,null,48]
[null,null,null,"Ammonia","Ammonia","Ammonia",3.3170072173009799E-7,3.3170072173009799E-7,3.2532820143227898E-7,3.2532820143227898E-7,3.5621924066460798E-7,3.5621924066460798E-7,1.54264174749281E-8,4.6687849976613301E-8,4.3608728053169201E-8,null,49]
[null,null,null,"Ammonium / ammonia","Ammonium / ammonia","Ammonium / ammonia",-1.9661630162596101E-6,-1.9661630162596101E-6,-4.2816688427611898E-6,-4.2816688427612E-6,6.1363246211747898E-8,6.1363246211747898E-8,8.3912222484188096E-7,1.5350248153513499E-6,1.96618098759716E-6,null,50]
[null,null,null,"Nitrate","Nitrate","Nitrate",-1.34895902646657E-5,-1.34895902646657E-5,-3.7130262132989298E-5,-3.7130262132989399E-5,8.4923094842166906E-6,8.4923094842166906E-6,8.3720063714610002E-6,1.2350007374875399E-5,1.9030099820826602E-5,null,51]
[null,null,null,"Nitrogen","Nitrogen","Nitrogen",2.4461830081403499E-8,2.4461830081403499E-8,2.3980422755756901E-8,2.3980422755756901E-8,9.2568489142399398E-11,9.2568489142399398E-11,4.83533169951416E-6,2.8098519105555001E-6,4.83595875762946E-6,null,52]
[null,null,null,"Phosphate","Phosphate","Phosphate",9.4422718910383104E-8,9.4422718910383104E-8,6.3714579656437994E-8,6.3714579656437901E-8,4.57209914880578E-8,4.57209914880578E-8,1.12322320539687E-8,2.4615010256898101E-8,2.79693657841137E-8,null,53]
[null,null,null,"Phosphorus","Phosphorus","Phosphorus",1.9543792322674801E-5,1.9543792322674801E-5,1.3152160419595101E-7,1.3152160419595101E-7,1.31077709448824E-7,1.31077709448824E-7,2.76227717300855E-5,9.5031624169338795E-4,2.97644542601797E-6,null,54]
[null,"Emissions to sea water","Emissions to sea water","Emissions to sea water","Emissions to sea water","Emissions to sea water",1.4502896508348899E-3,1.4502896508348899E-3,1.0796438167718801E-3,1.0796438167718801E-3,5.30515796105659E-4,5.30515796105659E-4,3.25204942404761E-4,1.5494448231022401E-3,7.9611797094313204E-4,null,55]
[null,"Emissions to industrial soil","Emissions to industrial soil","Emissions to industrial soil","Emissions to industrial soil","Emissions to industrial soil",9.71579569886398E-7,9.71579569886398E-7,6.3840648673712303E-7,6.3840648673712197E-7,4.5318651365023802E-7,4.5318651365023802E-7,2.7069147073268899E-7,3.87122097965882E-6,1.86016778412143E-6,null,56]
[null,null,"Heavy metals to industrial soil","Heavy metals to industrial soil","Heavy metals to industrial soil","Heavy metals to industrial soil",9.71579569886398E-7,9.71579569886398E-7,6.3840648673712303E-7,6.3840648673712197E-7,4.5318651365023802E-7,4.5318651365023802E-7,2.7069147073268899E-7,3.87122097965882E-6,1.86016778412143E-6,null,57]

{"sheet":"FT Diesel 2","index":30,"n_rows":77,"n_cols":22,"rows_kept":77,"cut":false,"hidden":true,"merged":[]}
["GaBi 4"]
[null,null,"Database:","C:\\Documents and Settings\\548910\\My Documents\\GaBi\\DB\\NETL_060811"]
["Balance:","FT Diesel Comparison","  Mass [kg]","kg","2011-06-17T12:11:27","Balance view: ","UP Upstreams2"]
["Balance object:","FT Diesel Comparison [FT Diesel]","2011-06-09T15:10:04","{74D94929-34DC-4046-A8D4-18BED35002E3}"]
["In/out aggregation","Yes","Weak point analysis","No","Last service pack:",16]
[]
["&Inputs"]
[null,null,null,null,null,null,"FT Diesel Comparison","FT Diesel Comparison","FT Diesel Comparison","FT Diesel Comparison","FT Diesel Comparison","FT Diesel Comparison","FT Diesel Comparison","FT Diesel Comparison","FT Diesel Comparison","FT Diesel Comparison","FT Diesel Comparison","FT Diesel Comparison","FT Diesel Comparison","FT Diesel Comparison","FT Diesel Comparison"]
[null,null,null,null,null,null,null,"15% CS CBTL","15% SG CBTL","15% SRWC CBTL","30% CS CBTL","30% SG CBTL","30% SRWC CBTL","CS BTL","CS BTL CCS","I6 CTL w/CCS","I6 CTL w/o CCS","SG BTL","SG BTL w/CCS","SRWC BTL","SRWC BTL CCS"]
[]
[null,null,null,null,null,null,null,{"$f":"IF(AND(Dashboard!$M$3=\"FT Diesel\",'FT Diesel 2'!H12=Dashboard!$M7,'FT Diesel 2'!H13=Dashboard!$M8,'FT Diesel 2'!H14=Dashboard!$M9),1,0)","v":0},{"$f":"IF(AND(Dashboard!$M$3=\"FT Diesel\",'FT Diesel 2'!I12=Dashboard!$M7,'FT Diesel 2'!I13=Dashboard!$M8,'FT Diesel 2'!I14=Dashboard!$M9),1,0)","v":0},{"$f":"IF(AND(Dashboard!$M$3=\"FT Diesel\",'FT Diesel 2'!J12=Dashboard!$M7,'FT Diesel 2'!J13=Dashboard!$M8,'FT Diesel 2'!J14=Dashboard!$M9),1,0)","v":0},{"$f":"IF(AND(Dashboard!$M$3=\"FT Diesel\",'FT Diesel 2'!K12=Dashboard!$M7,'FT Diesel 2'!K13=Dashboard!$M8,'FT Diesel 2'!K14=Dashboard!$M9),1,0)","v":0},{"$f":"IF(AND(Dashboard!$M$3=\"FT Diesel\",'FT Diesel 2'!L12=Dashboard!$M7,'FT Diesel 2'!L13=Dashboard!$M8,'FT Diesel 2'!L14=Dashboard!$M9),1,0)","v":0},{"$f":"IF(AND(Dashboard!$M$3=\"FT Diesel\",'FT Diesel 2'!M12=Dashboard!$M7,'FT Diesel 2'!M13=Dashboard!$M8,'FT Diesel 2'!M14=Dashboard!$M9),1,0)","v":0},{"$f":"IF(AND(Dashboard!$M$3=\"FT Diesel\",'FT Diesel 2'!N12=Dashboard!$M7,'FT Diesel 2'!N13=Dashboard!$M8,'FT Diesel 2'!N14=Dashboard!$M9),1,0)","v":0},{"$f":"IF(AND(Dashboard!$M$3=\"FT Diesel\",'FT Diesel 2'!O12=Dashboard!$M7,'FT Diesel 2'!O13=Dashboard!$M8,'FT Diesel 2'!O14=Dashboard!$M9),1,0)","v":0},{"$f":"IF(AND(Dashboard!$M$3=\"FT Diesel\",'FT Diesel 2'!P12=Dashboard!$M7,'FT Diesel 2'!P13=Dashboard!$M8,'FT Diesel 2'!P14=Dashboard!$M9),1,0)","v":0},{"$f":"IF(AND(Dashboard!$M$3=\"FT Diesel\",'FT Diesel 2'!Q12=Dashboard!$M7,'FT Diesel 2'!Q13=Dashboard!$M8,'FT Diesel 2'!Q14=Dashboard!$M9),1,0)","v":0},{"$f":"IF(AND(Dashboard!$M$3=\"FT Diesel\",'FT Diesel 2'!R12=Dashboard!$M7,'FT Diesel 2'!R13=Dashboard!$M8,'FT Diesel 2'!R14=Dashboard!$M9),1,0)","v":0},{"$f":"IF(AND(Dashboard!$M$3=\"FT Diesel\",'FT Diesel 2'!S12=Dashboard!$M7,'FT Diesel 2'!S13=Dashboard!$M8,'FT Diesel 2'!S14=Dashboard!$M9),1,0)","v":0},{"$f":"IF(AND(Dashboard!$M$3=\"FT Diesel\",'FT Diesel 2'!T12=Dashboard!$M7,'FT Diesel 2'!T13=Dashboard!$M8,'FT Diesel 2'!T14=Dashboard!$M9),1,0)","v":0},{"$f":"IF(AND(Dashboard!$M$3=\"FT Diesel\",'FT Diesel 2'!U12=Dashboard!$M7,'FT Diesel 2'!U13=Dashboard!$M8,'FT Diesel 2'!U14=Dashboard!$M9),1,0)","v":0},1]
[null,null,null,null,null,"Biomass type",null,"Corn Stover","Switchgrass","Short Rotation Woody Crops","Corn Stover","Switchgrass","Short Rotation Woody Crops","Corn Stover","Corn Stover","None","None","Switchgrass","Switchgrass","Short Rotation Woody Crops","Short Rotation Woody Crops",2]
[null,null,null,null,null,"Biomass percent",null,0.15,0.15,0.15,0.3,0.3,0.3,1,1,0,0,1,1,1,1,3]
[null,null,null,null,null,"CCS Option",null,"CCS","CCS","CCS","CCS","CCS","CCS","no CCS","CCS","CCS","no CCS","no CCS","CCS","no CCS","CCS",4]
[null,null,null,null,null,null,null,1,1,1,1,1,1,1,1,1,1,1,1,1,1,5]
[null,null,null,null,null,null,null,null,null,null,null,null,null,null,null,null,null,null,null,null,null,6]
["Flows","Flows","Flows","Flows","Flows","Flows",-15.293237602859699,-0.17800216551685499,-0.17804772229881899,-0.178050840786867,-0.17805326767917601,-0.17804816229273199,-0.17805157411952699,-0.16480557811777999,-0.17756367923716901,-0.39915361240407299,-0.39898738482102902,-0.17691359658354799,-0.17774280835343401,-0.17713618889739499,-0.177684817873001,7]
[null,"Resources","Resources","Resources","Resources","Resources",-15.293237602859699,-0.17800216551685499,-0.17804772229881899,-0.178050840786867,-0.17805326767917601,-0.17804816229273199,-0.17805157411952699,-0.16480557811777999,-0.17756367923716901,-0.39915361240407299,-0.39898738482102902,-0.17691359658354799,-0.17774280835343401,-0.17713618889739499,-0.177684817873001,8]
[null,null,"Energy resources","Energy resources","Energy resources","Energy resources",-0.223202970528429,-6.7573315323212002,-6.7588386299353296,-6.7589597225012099,-6.7590477156671804,-6.7588531740601496,-6.7589839630223496,-6.2739827959514303,-6.7437174298726603,-7.5276767839546999,-7.5274441284756,-6.7297811768023799,-6.7473690166865197,-6.7345145138149398,-6.7454521247447499,9]
[null,null,"Material resources","Material resources","Material resources","Material resources",-13.226348155504599,-2.9738600546576E-2,-2.9742654319480501E-2,-2.9743258036728198E-2,-2.9743602517261301E-2,-2.9742686691710499E-2,-2.9743311991141701E-2,-2.7277011565093601E-2,-2.9615624153514299E-2,-0.24895939376428999,-0.24887504334294,-2.93540802702493E-2,-2.9690334834293099E-2,-2.9444090027402298E-2,-2.96860682271586E-2,10]
[null,null,null,"Renewable resources","Renewable resources","Renewable resources",-13.226348155504599,-2.9738600546576E-2,-2.9742654319480501E-2,-2.9743258036728198E-2,-2.9743602517261301E-2,-2.9742686691710499E-2,-2.9743311991141701E-2,-2.7277011565093601E-2,-2.9615624153514299E-2,-0.24895939376428999,-0.24887504334294,-2.93540802702493E-2,-2.9690334834293099E-2,-2.9444090027402298E-2,-2.96860682271586E-2,11]
[null,null,null,null,"Water","Water",-13.226348155504599,-0.67462759255474303,-0.67465117795470797,-0.67466546127801597,-0.674671834302637,-0.67465121262921401,-0.67466551906960504,-0.62786500891517605,-0.67343720619197001,-0.91074162649783996,-0.91158077992237496,-0.67301477004178301,-0.67351549445028802,-0.67315027520982995,-0.67351092440698002,12]
[null,null,null,null,null,null,null,null,null,null,null,null,null,null,null,null,null,null,null,null,null,13]
[null,null,null,null,null,"Biomass",0.74668524452964902,1.7320002497245299,0.108188484696532,0.10334154923019299,1.7320002497245299,0.22897257941351101,0.21871471523388,1.36338359661174,1.37712416900277,0,0,1.1111111111111101,1.3382514581937801,1.26554418703215,1.2782986982116999,14]
[null,null,null,null,null,"Coal",3.7009975888154201,3.5345314320930998,0.55193206238696302,3.15533880439572E-4,3.5345314320930998,0.48043806066224498,0.48034022377917901,0,0,4.1517417827298004,4.2526872469475698,0,0,0,0,15]
[null,null,null,null,null,null,null,null,null,null,null,null,null,null,null,null,null,null,null,null,null,16]
[null,null,null,null,null,null,null,null,null,null,null,null,null,null,null,null,null,null,null,null,null,17]
[null,null,null,null,null,null,null,null,null,null,null,null,null,null,null,null,null,null,null,null,null,18]
["&Outputs",null,null,null,null,null,null,null,null,null,null,null,null,null,null,null,null,null,null,null,null,19]
[null,null,null,null,null,null,"FT Diesel Comparison","FT Diesel Comparison","FT Diesel Comparison","FT Diesel Comparison","FT Diesel Comparison","FT Diesel Comparison","FT Diesel Comparison","FT Diesel Comparison","FT Diesel Comparison","FT Diesel Comparison","FT Diesel Comparison","FT Diesel Comparison","FT Diesel Comparison","FT Diesel Comparison","FT Diesel Comparison",20]
[null,null,null,null,null,null,null,"15% CS CBTL","15% SG CBTL","15% SRWC CBTL","30% CS CBTL","30% SG CBTL","30% SRWC CBTL","CS BTL","CS BTL CCS","I6 CTL w/CCS","I6 CTL w/o CCS","SG BTL","SG BTL w/CCS","SRWC BTL","SRWC BTL CCS",21]
["Flows","Flows","Flows","Flows","Flows","Flows",-0.40067781762840998,0.56962105187881895,0.51784830753473698,0.37697584865216099,0.37603437446036497,0.51728627050911702,0.376039108176495,0.50858636021581605,0.52804518516413301,0.45812316474578502,4.89783548425814,0.52767745911959896,0.52759299191833398,0.52711351330983003,0.60166855569455002,22]
[null,"Resources","Resources","Resources","Resources","Resources",-11.9208751703244,-1.2877221463781501E-2,-1.28775451803569E-2,-1.2877824106737599E-2,-1.28779504944555E-2,-1.28775474421838E-2,-1.2877827876497799E-2,-1.1915290088074499E-2,-1.28417514468602E-2,-2.82164845479537E-2,-2.8198503962461999E-2,-1.27919280100372E-2,-1.28555741227971E-2,-1.28089522982309E-2,-1.2855276017695301E-2,23]
[null,null,"Energy resources","Energy resources","Energy resources","Energy resources",0,0,0,0,0,0,0,0,0,0,0,0,0,0,0,24]
[null,null,"Material resources","Material resources","Material resources","Material resources",-11.9208751703244,-1.2877221463781501E-2,-1.28775451803569E-2,-1.2877824106737599E-2,-1.28779504944555E-2,-1.28775474421838E-2,-1.2877827876497799E-2,-1.1915290088074499E-2,-1.28417514468602E-2,-2.82164845479537E-2,-2.8198503962461999E-2,-1.27919280100372E-2,-1.28555741227971E-2,-1.28089522982309E-2,-1.2855276017695301E-2,25]
[null,null,null,"Renewable resources","Renewable resources","Renewable resources",-11.9208751703244,-1.2877221463781501E-2,-1.28775451803569E-2,-1.2877824106737599E-2,-1.28779504944555E-2,-1.28775474421838E-2,-1.2877827876497799E-2,-1.1915290088074499E-2,-1.28417514468602E-2,-2.82164845479537E-2,-2.8198503962461999E-2,-1.27919280100372E-2,-1.28555741227971E-2,-1.28089522982309E-2,-1.2855276017695301E-2,26]
[null,null,null,null,"Water","Water",-11.9208751703244,5.2626441000531701E-3,6.5494225979521497E-3,6.5264393150538799E-3,6.5498915782894896E-3,6.5634090531507304E-3,6.54975037482107E-3,3.5595429850850901E-3,6.0577215673485903E-3,9.3946958296143093E-2,9.3878735652275502E-2,4.5682563908193601E-3,6.5088658495739199E-3,5.1004905486595796E-3,4.6654738543154203E-3,27]
[null,null,null,null,null,"Water (feed water)",-11.694642158776199,0,0,0,0,0,0,0,0,0,0,0,0,0,0,28]
[null,null,null,null,null,"Water (river water)",0,1.1817037524905301E-3,1.1817330698066901E-3,1.1817581294162401E-3,1.1817691259377199E-3,1.1817330712482401E-3,1.1817581318188399E-3,1.1020337086101099E-3,1.18001723281624E-3,1.1938719429259901E-3,1.1964039790669E-3,1.18063443501345E-3,1.17975786982527E-3,1.18040236127794E-3,1.1797576798318801E-3,29]
[null,null,null,null,null,"Water (sea water)",-0.22623301154820999,-1.4058925216272E-2,-1.40592782501636E-2,-1.40595822361539E-2,-1.40597196203932E-2,-1.4059280513432099E-2,-1.40595860083167E-2,-1.3017323796684599E-2,-1.40217686796765E-2,-2.94103564908797E-2,-2.9394907941528901E-2,-1.39725624450506E-2,-1.40353319926223E-2,-1.3989354659508801E-2,-1.40350336975272E-2,30]
[null,"Ecoinvent","Ecoinvent","Ecoinvent","Ecoinvent","Ecoinvent",0,0,0,0,0,0,0,0,0,0,0,0,0,0,0,31]
[null,"Production residues in life cycle","Production residues in life cycle","Production residues in life cycle","Production residues in life cycle","Production residues in life cycle",5.5421392845720003,0.358280461889873,0.358282797510034,0.38741431212924499,0.38741201279395598,0.35828279750974701,0.38741431212876598,0.40257365513163601,0.43287218726035098,0.36462131190243102,0.373497957927103,0.43287187387134501,0.432871866369408,0.43287187174085101,0.432871866407254,32]
[null,null,"Waste for disposal","Waste for disposal","Waste for disposal","Waste for disposal",5.5421392845720003,0.358280461889873,0.358282797510034,0.38741431212924499,0.38741201279395598,0.35828279750974701,0.38741431212876598,0.40257365513163601,0.43287218726035098,0.36462131190243102,0.373497957927103,0.43287187387134501,0.432871866369408,0.43287187174085101,0.432871866407254,33]
[null,null,null,"Waste (solid)","Waste (solid)","Waste (solid)",5.5421392845720003,0.358280461889873,0.358282797510034,0.38741431212924499,0.38741201279395598,0.35828279750974701,0.38741431212876598,0.40257365513163601,0.43287218726035098,0.36462131190243102,0.373497957927103,0.43287187387134501,0.432871866369408,0.43287187174085101,0.432871866407254,34]
[null,"Emissions to air","Emissions to air","Emissions to air","Emissions to air","Emissions to air",6.0159168030826997,0.22682353496920599,0.17504887481788101,5.0346558196002998E-3,4.0961934184486999E-3,0.17448684026073699,4.0979194581136297E-3,0.120317665238317,0.11059444567011301,0.12520462678734501,4.5560208252555103,0.11017356401119301,0.110157278738835,0.109627861463402,0.18423251717399899,35]
[null,null,"Heavy metals to air","Heavy metals to air","Heavy metals to air","Heavy metals to air",3.9923651618613801E-7,3.93403012086048E-8,3.8923899747003997E-8,6.1114579344311796E-8,3.7426466752699202E-8,3.8920009064280602E-8,6.1108094789347003E-8,7.7305553891500907E-9,6.0681037000680597E-9,4.0150869738742102E-8,4.2053262080280198E-8,7.5652280714082508E-9,5.6402495333375001E-9,7.0418615929999998E-9,6.1530351739045298E-9,36]
[null,null,null,"Lead (+II)","Lead (+II)","Lead (+II)",8.90340582153205E-8,6.2735438743760099E-9,5.8777009094763601E-9,5.88468526218051E-9,5.8783484172525598E-9,5.8739108684758804E-9,5.8783684455870301E-9,7.9534793148915894E-9,6.3261949323903099E-9,5.3412091739364101E-9,6.3464404508226204E-9,7.8105552863085993E-9,5.8991120054239396E-9,7.2918760432180299E-9,6.3986332309806201E-9,37]
[null,null,null,"Mercury (+II)","Mercury (+II)","Mercury (+II)",3.10202457970818E-7,3.3066757334228798E-8,3.3046198837527597E-8,5.5229894082131297E-8,3.1548118335446597E-8,3.3046098195804803E-8,5.5229726343760001E-8,-2.2292392574149401E-10,-2.5809123232225E-10,3.4809660564805701E-8,3.5706821629457602E-8,-2.4532721490034999E-10,-2.58862472086447E-10,-2.5001445021802601E-10,-2.45598057076089E-10,38]
[null,null,"Inorganic emissions to air","Inorganic emissions to air","Inorganic emissions to air","Inorganic emissions to air",6.0233851611474396,0.22731854905899099,0.17554424474347999,5.5013210699060896E-3,4.5627254207829104E-3,0.17498221309280901,4.5645895526036E-3,0.120679405666339,0.11102773505208,0.12624026003880701,4.5570449862709603,0.110602461815846,0.110591774034471,0.110058265929096,0.18466662940127099,39]
[null,null,null,"Ammonia","Ammonia","Ammonia",-1.43587627696694E-5,-1.0175139494481599E-6,-1.0185946346741699E-6,-1.0186007110854999E-6,-1.01861041004944E-6,-1.0185946486088E-6,-1.0186007343101801E-6,-9.4396153820856303E-7,-1.0160481479923399E-6,-1.11384889080493E-6,-1.11401348095187E-6,-1.0131356221006601E-6,-1.0165505044879299E-6,-1.0141408290200799E-6,-1.0165486679267601E-6,40]
[null,null,null,"Carbon dioxide","Carbon dioxide","Carbon dioxide",6.0257264541431299,0.22709245618002499,0.17537205597738101,5.2770741761926599E-3,4.3385095820689702E-3,0.17481003935931899,4.3403677135611402E-3,0.12108453095619399,0.111494576624073,0.12667886188379399,4.5574713052131504,0.111052855383351,0.111063292314106,0.11051436237229099,0.18513616640762401,41]
[null,null,null,"Carbon dioxide (biotic)","Carbon dioxide (biotic)","Carbon dioxide (biotic)",-1.81702358731595E-4,-1.3365770197369999E-5,-1.3367052534613499E-5,-1.33674992885688E-5,-1.3367700692314699E-5,-1.3367052785818599E-5,-1.33674997072494E-5,-9.9152163915506106E-6,-1.28827665053752E-5,-1.51103636058665E-5,-1.36966954771952E-5,-1.13521267872035E-5,-1.33307327861804E-5,-1.18811822945361E-5,-1.3330699677752899E-5,42]
[null,null,null,"Carbon monoxide","Carbon monoxide","Carbon monoxide",-5.3040359832504395E-4,-3.6928097109840198E-5,-3.78948711741065E-5,-3.7879488692111898E-5,-3.7895641718307001E-5,-3.7904101972449197E-5,-3.7894873554738697E-5,-2.1003981488620099E-5,-3.4781365942552097E-5,-6.2955570348716196E-5,-5.6228153816061102E-5,-2.6504308809566002E-5,-3.7185522771036099E-5,-2.93787023299565E-5,-3.5968918596982502E-5,43]
[null,null,null,"Nitrogen oxides","Nitrogen oxides","Nitrogen oxides",-3.6554816612293199E-3,-2.3255661870225799E-4,-2.3308928012215401E-4,-2.3308605553469899E-4,-2.3309190094689499E-4,-2.3309138609522E-4,-2.33089565535147E-4,-2.1184200270341801E-4,-2.3173582458914599E-4,-4.4640047623845298E-4,-4.4444893864583999E-4,-2.2853819660152399E-4,-2.32570849861133E-4,-2.2964727960939001E-4,-2.3229328604404301E-4,44]
[null,null,null,"Nitrous oxide (laughing gas)","Nitrous oxide (laughing gas)","Nitrous oxide (laughing gas)",2.81327665861081E-5,2.2655914943385398E-6,2.2584420059220598E-6,2.2585068471882802E-6,2.2583637161982899E-6,2.2583722909919399E-6,2.25839065413726E-6,2.4743269058898101E-6,2.2674506361193101E-6,3.68891243711433E-7,3.69648134138023E-7,2.2817430132483299E-6,2.26355061974499E-6,2.2767500905910202E-6,2.2727389338888001E-6,45]
[null,null,null,"Sulphur dioxide","Sulphur dioxide","Sulphur dioxide",2.0125968857038399E-3,5.07697041448773E-4,4.55301876936762E-4,5.0734178551226799E-4,5.0733308321180203E-4,4.5529825108369602E-4,5.0733574234576595E-4,-1.63892957555437E-4,-1.8869129095230299E-4,8.6637403928368405E-5,8.8827030525210894E-5,-1.8526589908016199E-4,-1.89676423625802E-4,-1.8645021597275699E-4,-1.8919854210234599E-4,46]
[null,null,null,"Sulphur hexafluoride","Sulphur hexafluoride","Sulphur hexafluoride",-7.6266918674607305E-8,-1.75401849697871E-9,-1.7543785288251299E-9,-1.75441956809961E-9,-1.75444649533805E-9,-1.75438238745099E-9,-1.75442599922579E-9,-1.4970837796754799E-9,-1.7264920448052399E-9,-2.78810752350198E-8,-2.78194249925625E-8,-1.64361734659087E-9,-1.75070631501037E-9,-1.6722497306132499E-9,-1.7501977544114399E-9,47]
[null,null,"Organic emissions to air (group VOC)","Organic emissions to air (group VOC)","Organic emissions to air (group VOC)","Organic emissions to air (group VOC)",-1.3292337689020699E-2,-8.77171122509101E-4,-8.7732294251677701E-4,-8.7733960160471601E-4,-8.7735026795547903E-4,-8.7732434003514302E-4,-8.7734193083207897E-4,-8.1259753838143001E-4,-8.7504604948590602E-4,-1.42241477014824E-3,-1.4215908666169699E-3,-8.7220241195122203E-4,-8.7582324687627503E-4,-8.73173543873542E-4,-8.7563905623380797E-4,48]
[null,null,null,"Group NMVOC to air","Group NMVOC to air","Group NMVOC to air",-2.5344712927612601E-3,-2.78702136292146E-4,-2.78710244609559E-4,-2.7871618016666997E-4,-2.78718800937094E-4,-2.7871024974829598E-4,-2.7871618873134298E-4,-2.5927264699976101E-4,-2.7818879403094301E-4,-3.14063284477287E-4,-3.1431520078504399E-4,-2.7794820079907499E-4,-2.7824072779514801E-4,-2.7802700612294999E-4,-2.7824005051789799E-4,49]
[null,null,null,null,"NMVOC (unspecified)","NMVOC (unspecified)",-2.5344712927612601E-3,-2.78702136292146E-4,-2.78710244609559E-4,-2.7871618016666997E-4,-2.78718800937094E-4,-2.7871024974829598E-4,-2.7871618873134298E-4,-2.5927264699976101E-4,-2.7818879403094301E-4,-3.14063284477287E-4,-3.1431520078504399E-4,-2.7794820079907499E-4,-2.7824072779514801E-4,-2.7802700612294999E-4,-2.7824005051789799E-4,50]
[null,null,null,"Methane","Methane","Methane",-1.07578663962594E-2,-7.0004323950015996E-4,-7.0018958807215395E-4,-7.0020247505307297E-4,-7.0021147064502302E-4,-7.0019098055785296E-4,-7.0020479589254898E-4,-6.4789057221550396E-4,-6.9825738889704703E-4,-1.21085197660336E-3,-1.20990294511811E-3,-6.9561058679922503E-4,-6.9898873155887099E-4,-6.96516441132755E-4,-6.9880520421374101E-4,51]
[null,null,"Particles to air","Particles to air","Particles to air","Particles to air",5.8235810823711199E-3,3.8211774098356001E-4,3.8191414160766002E-4,4.10613285310495E-4,4.1078088774620399E-4,3.8191263654375102E-4,4.1061077683824499E-4,4.5084941475031598E-4,4.4175064604454401E-4,3.8674144151215899E-4,3.9738786587436301E-4,4.43297082477517E-4,4.4132235943532098E-4,4.4276207887628899E-4,4.4152072437069498E-4,52]
[null,null,null,"Dust (unspecified)","Dust (unspecified)","Dust (unspecified)",5.8235810823711199E-3,3.8211774098356001E-4,3.8191414160766002E-4,4.10613285310495E-4,4.1078088774620399E-4,3.8191263654375102E-4,4.1061077683824499E-4,4.5084941475031598E-4,4.4175064604454401E-4,3.8674144151215899E-4,3.9738786587436301E-4,4.43297082477517E-4,4.4132235943532098E-4,4.4276207887628899E-4,4.4152072437069498E-4,53]
[null,null,"Radioactive emissions to air","Radioactive emissions to air","Radioactive emissions to air","Radioactive emissions to air",-6.9461464528195605E-10,-4.8560278232218798E-11,-4.85895869566104E-11,-4.8590914239110303E-11,-4.8591684306673503E-11,-4.8589590645085699E-11,-4.8590920386648702E-11,-3.4946325563929398E-11,-4.6629687474351303E-11,-7.3695221058133506E-11,-6.7975273052651195E-11,-4.0407823645736202E-11,-4.8444519308202902E-11,-4.2558787239445901E-11,-4.8444033173158601E-11,54]
[null,"Emissions to fresh water","Emissions to fresh water","Emissions to fresh water","Emissions to fresh water","Emissions to fresh water",-1.00088837038312E-2,-7.24587447247999E-4,-7.2462141771706704E-4,-7.1405685920669399E-4,-7.1462500057086604E-4,-7.2462150121636198E-4,-7.1405699837398301E-4,-6.4266548022340504E-4,-7.0256409668871295E-4,-7.6950382838952901E-4,-7.6770185877202298E-4,-7.0234909776987803E-4,-7.0256593970537899E-4,-7.0240924330297095E-4,-7.0255493464635302E-4,55]
[null,null,"Heavy metals to fresh water","Heavy metals to fresh water","Heavy metals to fresh water","Heavy metals to fresh water",-9.7291970246025494E-3,-6.9671814405609304E-4,-6.9674662359278899E-4,-6.9631416485553999E-4,-6.9634450997388495E-4,-6.9674669589274603E-4,-6.9631428535702497E-4,-6.4757875363533296E-4,-6.9470519820534395E-4,-7.1411867713554004E-4,-7.1504439004899199E-4,-6.9457485907266901E-4,-6.9469565129933895E-4,-6.9460894919395801E-4,-6.9468612228329603E-4,56]
[null,null,"Inorganic emissions to fresh water","Inorganic emissions to fresh water","Inorganic emissions to fresh water","Inorganic emissions to fresh water",-2.7968667922867099E-4,-2.7869303191905901E-5,-2.7874794124277999E-5,-1.7742694351154299E-5,-1.8280490596981199E-5,-2.78748053236153E-5,-1.7742713016957601E-5,4.9132734119275403E-6,-7.8588984833686194E-6,-5.5385151253989103E-5,-5.2657468723030503E-5,-7.7742386972091004E-6,-7.8702884060400904E-6,-7.8002941090130005E-6,-7.8688123630566403E-6,57]
[null,null,null,"Aluminum (+III)","Aluminum (+III)","Aluminum (+III)",-2.2743177454045101E-7,-7.8331751872419593E-9,-7.8363873965818094E-9,-7.8366148389969806E-9,-7.8367500790927907E-9,-7.8363964890761193E-9,-7.8366299933499101E-9,-5.7385257401716703E-9,-7.5389467941461604E-9,-6.9414643456877599E-8,-6.8576779594044401E-8,-6.5970572471635103E-9,-7.8142060129508004E-9,-6.9226540737350997E-9,-7.81300763702239E-9,58]
[null,null,null,"Ammonia","Ammonia","Ammonia",-5.6748403176406105E-7,-3.6666514751640498E-8,-3.7402574560701199E-8,-3.7390100490785598E-8,-3.7403787440873201E-8,-3.7410564876594698E-8,-3.7403417855958403E-8,-3.4187640544617998E-8,-3.7209983233567302E-8,-6.2281051460650994E-8,-6.27267834726276E-8,-3.6829473438141497E-8,-3.7327448990231501E-8,-3.6970352266849398E-8,-3.6274338380820897E-8,59]
[null,null,null,"Ammonium / ammonia","Ammonium / ammonia","Ammonium / ammonia",1.84296440085839E-3,1.2437914393999001E-4,1.2437904777616601E-4,1.3451436064520101E-4,1.3397799934017601E-4,1.2437904478005701E-4,1.3451435565162099E-4,1.4673968821912099E-4,1.4414488805820599E-4,9.8155118436128497E-5,1.0112066364744E-4,1.44213311260262E-4,1.44127948405588E-4,1.4419048742196999E-4,1.4412834327646001E-4,60]
[null,null,null,"Nitrate","Nitrate","Nitrate",-1.17043387077855E-6,-6.6005605739012899E-8,-6.6020478439125694E-8,-6.6022019039118003E-8,-6.6022815305661195E-8,-6.60204980875435E-8,-6.6022051786904004E-8,-5.6604170469762603E-8,-6.5019890713960399E-8,-1.9918970901807799E-7,-1.9660181797334999E-7,-6.2062815347437002E-8,-6.5880080368693699E-8,-6.3084427750655604E-8,-6.5877490739251703E-8,61]
[null,null,null,"Nitrogen","Nitrogen","Nitrogen",-1.7225974262489801E-6,-3.4961152122750202E-8,-3.4969881409745703E-8,-3.4970919974445397E-8,-3.4971590042235199E-8,-3.4969974084598997E-8,-3.4971074434529397E-8,-2.6277360761007699E-8,-3.3764356514420703E-8,-6.6247492553496399E-7,-6.5928246296985897E-7,-2.9963613002572097E-8,-3.4877484471303297E-8,-3.1277360849838603E-8,-3.4865270076707802E-8,62]
[null,null,null,"Phosphate","Phosphate","Phosphate",3.1073349604023197E-8,2.03337681524371E-9,2.0332668818067301E-9,2.0332190855884502E-9,2.0331975773004199E-9,2.0332667770758099E-9,2.0332189110346698E-9,3.2359578546021899E-9,2.27454254055188E-9,1.31968803501891E-9,2.0822325623157901E-9,3.0834357229568098E-9,2.0371124767075901E-9,2.8037080837490701E-9,2.03712628007114E-9,63]
[null,null,null,"Phosphorus","Phosphorus","Phosphorus",-2.1189942063333301E-3,-1.52105014060911E-4,-1.5210964584552001E-4,-1.52112868561097E-4,-1.52114288191867E-4,-1.5210964593691199E-4,-1.52112868713419E-4,-1.4170684306753301E-4,-1.5186252790685899E-4,-1.52548229048682E-4,-1.52793026759023E-4,-1.5185518043415899E-4,-1.5185437470426199E-4,-1.51855330444126E-4,-1.5185436265896299E-4,64]
[null,"Emissions to sea water","Emissions to sea water","Emissions to sea water","Emissions to sea water","Emissions to sea water",-2.54387860459158E-2,-1.8247101852687699E-3,-1.82476098503026E-3,-1.82479980340973E-3,-1.8248168720244799E-3,-1.8247609869185501E-3,-1.82479980655692E-3,-1.6987340407267301E-3,-1.8215719844378801E-3,-1.84123254099109E-3,-1.8434717118732001E-3,-1.8207409155400101E-3,-1.8216934637084799E-3,-1.8209995345946201E-3,-1.82169321483504E-3,65]
[null,"Emissions to industrial soil","Emissions to industrial soil","Emissions to industrial soil","Emissions to industrial soil","Emissions to industrial soil",-2.4110652089460501E-3,-5.6425883961745703E-5,-5.64372100744559E-5,-5.64385273304631E-5,-5.6439384988635602E-5,-5.6437331048427199E-5,-5.6438728956352899E-5,-4.8270545111627898E-5,-5.5560238344372298E-5,-8.7555302665682404E-4,-8.7362139136097801E-4,-5.2960739592394599E-5,-5.6319663698757798E-5,-5.3858818294464102E-5,-5.6303719526548199E-5,66]
[null,null,"Heavy metals to industrial soil","Heavy metals to industrial soil","Heavy metals to industrial soil","Heavy metals to industrial soil",-2.4110652089460501E-3,-5.6425883961745703E-5,-5.64372100744559E-5,-5.64385273304631E-5,-5.6439384988635602E-5,-5.6437331048427199E-5,-5.6438728956352899E-5,-4.8270545111627898E-5,-5.5560238344372298E-5,-8.7555302665682404E-4,-8.7362139136097801E-4,-5.2960739592394599E-5,-5.6319663698757798E-5,-5.3858818294464102E-5,-5.6303719526548199E-5,67]

{"sheet":"onshore RMA","index":31,"n_rows":70,"n_cols":17,"rows_kept":70,"cut":false,"hidden":true,"merged":[[7,14,7,16]]}
["GaBi 4"]
[null,null,"Database:","C:\\Users\\548910\\Documents\\GaBi\\DB\\Natural Gas 090511"]
["Balance:","Natural Gas RMA_RMT","  Mass [kg]","kg","2011-09-27T15:36:03","Balance view: ","Upstreams (sf6)",null,null,null,null,"Onshore N","Onshore V"]
["Balance object:","Natural Gas RMA/RMT [NG 2011]","2011-09-06T11:57:15","{6FF55FB5-4F71-455F-A27A-E4033A839A20}",null,null,null,null,null,null,"prod",1257.142857,1634.2857140000001,{"$f":"M4-L4","v":377.14285700000005}]
["In/out aggregation","Yes","Weak point analysis","No","Last service pack:",17,null,null,null,null,"ext",0.51,0.25,{"$f":"M5-L5","v":-0.26}]
[null,null,null,null,null,null,null,null,null,null,"process",1,0.75,{"$f":"M6-L6","v":-0.25}]
["&Inputs"]
[null,null,null,null,null,null,null,null,null,null,null,null,null,null,"delta"]
[null,null,null,null,null,null,"Onshore","Onshore (prod)","Onshore (ext)","Onshore (proc)","nom","prod 1","ext 1","process 1","prod","ext","process"]
["Flows","Flows","Flows","Flows","Flows","Flows",1.92439374760711,1.89189375968809,1.92439374760711,1.92439374760711]
[null,"Resources","Resources","Resources","Resources","Resources",1.92439374760711,1.89189375968809,1.92439374760711,1.92439374760711]
[null,null,"Energy resources","Energy resources","Energy resources","Energy resources",64.743473194796593,64.483442470084796,64.743473194796593,64.743473194796593,null,null,null,null,{"$f":"H12-$G12","v":-0.26003072471179678},{"$f":"I12-$G12","v":0},{"$f":"J12-$G12","v":0}]
[null,null,"Material resources","Material resources","Material resources","Material resources",0.78872592770637795,0.76299802433415997,0.78872592770637795,0.78872592770637795]
[null,null,null,"Renewable resources","Renewable resources","Renewable resources",0.78548526100131899,0.76050404603342503,0.78548526100131899,0.78548526100131899]
[null,null,null,null,"Water","Water",0.78501864285857703,0.76012449502774304,0.78501864285857703,0.78501864285857703]
[null,null,null,null,null,"Water (ground water)",0.41231920737537098,0.39559666364986901,0.41231920737537098,0.41231920737537098]
[null,null,null,null,null,"Water (lake water)",2.76456883805625E-7,2.1265914140195401E-7,2.76456883805625E-7,2.76456883805625E-7]
[null,null,null,null,null,"Water (river water)"]
[null,null,null,null,null,"Water (sea water)",2.5411331069901999E-6,1.9565550375880199E-6,2.5411331069901999E-6,2.5411331069901999E-6]
[null,null,null,null,null,"Water (surface water)",0.37091709110228299,0.36315667574844601,0.37091709110228299,0.37091709110228299]
[]
["&Outputs"]
[]
[null,null,null,null,null,null,"Onshore","Onshore (prod)","Onshore (ext)","Onshore (proc)"]
["Flows","Flows","Flows","Flows","Flows","Flows",1.4948549302222001,1.4733718806234299,1.4831999390069699,1.49467304576521]
[null,"Resources","Resources","Resources","Resources","Resources",1.29817253313584,1.29068135451771,1.29817253313584,1.29817253313584]
[null,null,"Energy resources","Energy resources","Energy resources","Energy resources",0,0,0,0]
[null,null,"Material resources","Material resources","Material resources","Material resources",1.29817253313584,1.29068135451771,1.29817253313584,1.29817253313584]
[null,null,null,"Renewable resources","Renewable resources","Renewable resources",1.29817253313584,1.29068135451771,1.29817253313584,1.29817253313584]
[null,null,null,null,"Water","Water",1.2981725013121199,1.29068132405819,1.2981725013121199,1.2981725013121199,{"$f":"G15-G30","v":-0.51315385845354289},{"$f":"H15-H30","v":-0.53055682903044699},{"$f":"I15-I30","v":-0.51315385845354289},{"$f":"J15-J30","v":-0.51315385845354289},{"$f":"L30-$K30","v":-1.7402970576904098E-2},{"$f":"M30-$K30","v":0},{"$f":"N30-$K30","v":0}]
[null,null,null,null,null,"Water (river water)",3.4386883531248302E-2,2.7051622348808001E-2,3.4386883531248302E-2,3.4386883531248302E-2]
[null,null,null,null,null,"Water (sea water)"]
[null,null,null,null,null,"Water (wastewater)",1.2632425915759999,1.2632119892440801,1.2632425915759999,1.2632425915759999]
[null,"Ecoinvent","Ecoinvent","Ecoinvent","Ecoinvent","Ecoinvent",6.4786419660203704E-7,4.9835707433975296E-7,6.4786419660203704E-7,6.4786419660203704E-7]
[null,"Production residues in life cycle","Production residues in life cycle","Production residues in life cycle","Production residues in life cycle","Production residues in life cycle",5.4955844786735097E-7,4.3947084889276702E-7,5.4955844786735097E-7,5.4955844786735097E-7]
[null,null,"Waste for disposal","Waste for disposal","Waste for disposal","Waste for disposal",2.5406757914261701E-7,1.95984876957358E-7,2.5406757914261701E-7,2.5406757914261701E-7]
[null,null,null,"Waste (solid)","Waste (solid)","Waste (solid)",1.5085743594935601E-7,1.16044181506605E-7,1.5085743594935601E-7,1.5085743594935601E-7,null,null,null,null,{"$f":"H37-$G37","v":-3.4813254442751007E-8},{"$f":"I37-$G37","v":0},{"$f":"J37-$G37","v":0}]
[null,"Emissions to air","Emissions to air","Emissions to air","Emissions to air","Emissions to air",0.19048861295570299,0.17650485281709499,0.17883362174047801,0.19030672849871499]
[null,null,"Heavy metals to air","Heavy metals to air","Heavy metals to air","Heavy metals to air",1.15203087789543E-7,8.8620195310086998E-8,1.15203087789543E-7,1.15203087789543E-7]
[null,null,null,"Lead (+II)","Lead (+II)","Lead (+II)",1.9198852804804101E-8,1.47689700164769E-8,1.9198852804804101E-8,1.9198852804804101E-8,null,null,null,null,{"$f":"H40-$G40","v":-4.4298827883272007E-9},0,0]
[null,null,null,"Mercury (+II)","Mercury (+II)","Mercury (+II)",5.2696897444453599E-10,4.05366672944314E-10,5.2696897444453599E-10,5.2696897444453599E-10,null,null,null,null,-1.2160230150022199E-10,0,0]
[null,null,"Inorganic emissions to air","Inorganic emissions to air","Inorganic emissions to air","Inorganic emissions to air",0.17045255040277599,0.15946865666862201,0.152269708621424,0.17016754634412301]
[null,null,null,"Ammonia","Ammonia","Ammonia",3.20819566931879E-9,2.4732717648400601E-9,3.20819566931879E-9,3.20819566931879E-9,null,null,null,null,{"$f":"H43-$G43","v":-7.3492390447872991E-10},{"$f":"I43-$G43","v":0},{"$f":"J43-$G43","v":0}]
[null,null,null,"Carbon dioxide","Carbon dioxide","Carbon dioxide",0.16586513355569399,0.154954281598743,0.14768290566803399,0.16558013245817499,{"$f":"G44+G45","v":0.16586525950778613},{"$f":"H44+H45","v":0.15495437848496774},{"$f":"I44+I45","v":0.14768303162012614},{"$f":"J44+J45","v":0.16558025841026713},{"$f":"L44-$K44","v":-1.0910881022818397E-2},{"$f":"M44-$K44","v":-1.8182227887659996E-2},{"$f":"N44-$K44","v":-2.8500109751899982E-4}]
[null,null,null,"Carbon dioxide (biotic)","Carbon dioxide (biotic)","Carbon dioxide (biotic)",1.2595209215297601E-7,9.6886224738986606E-8,1.2595209215297601E-7,1.2595209215297601E-7]
[null,null,null,"Carbon monoxide","Carbon monoxide","Carbon monoxide",3.6232377691312298E-4,3.4812285512720101E-4,3.6232377691312298E-4,3.6232377691312298E-4,null,null,null,null,{"$f":"H46-$G46","v":-1.4200921785921972E-5},0,0]
[null,null,null,"Nitrogen oxides","Nitrogen oxides","Nitrogen oxides",3.9422339926151601E-3,3.9251993359368303E-3,3.9422339926151601E-3,3.9422339926151601E-3,null,null,null,null,-1.7034656678329742E-5,0,0]
[null,null,null,"Nitrous oxide (laughing gas)","Nitrous oxide (laughing gas)","Nitrous oxide (laughing gas)",4.8816241237013504E-6,4.5186652656772199E-6,4.2677304327606501E-6,4.8786629906358399E-6,null,null,null,null,-3.6295885802413049E-7,-6.1389369094070033E-7,-2.9611330655105359E-9]
[null,null,null,"Sulphur dioxide","Sulphur dioxide","Sulphur dioxide",2.53476694072783E-5,1.9630734350375498E-5,2.53476694072783E-5,2.53476694072783E-5,null,null,null,null,-5.7169350569028011E-6,0,0]
[null,null,null,"Sulphur hexafluoride","Sulphur hexafluoride","Sulphur hexafluoride",2.0847665083294599E-10,1.6036666095336001E-10,2.0847665083294599E-10,2.0847665083294599E-10,null,null,null,null,-4.8109989879585984E-11,0,0]
[null,null,"Organic emissions to air (group VOC)","Organic emissions to air (group VOC)","Organic emissions to air (group VOC)","Organic emissions to air (group VOC)",1.9649832217317701E-2,1.6725631583108799E-2,2.6177682783443599E-2,1.97529518189824E-2]
[null,null,null,"Group NMVOC to air","Group NMVOC to air","Group NMVOC to air",3.3053973353576699E-3,2.7729618885995698E-3,4.5331847172390798E-3,3.3113089881085201E-3]
[null,null,null,null,"NMVOC (unspecified)","NMVOC (unspecified)",null,null,null,null,null,null,null,null,{"$f":"H53-$G53","v":0},0,0]
[null,null,null,"Methane","Methane","Methane",1.63433825791728E-2,1.3951860229039799E-2,2.1643445763417202E-2,1.64405905280866E-2,null,null,null,null,-2.3915223501330008E-3,5.3000631842444017E-3,9.7207948913800163E-5]
[null,null,"Particles to air","Particles to air","Particles to air","Particles to air",4.3496613739759201E-5,3.5650129403406901E-5,4.3496613739759201E-5,4.3496613739759201E-5]
[null,null,null,"Dust (unspecified)","Dust (unspecified)","Dust (unspecified)",9.8063637525597597E-6,7.5434265369056402E-6,9.8063637525597597E-6,9.8063637525597597E-6,null,null,null,null,{"$f":"H56-$G56","v":-2.2629372156541195E-6},0,0]
[null,null,"Radioactive emissions to air","Radioactive emissions to air","Radioactive emissions to air","Radioactive emissions to air",2.9819654377991202E-12,2.3183657284071399E-12,2.9819654377991202E-12,2.9819654377991202E-12,null,null,null,null,-6.6359970939198028E-13,0,0]
[null,"Emissions to fresh water","Emissions to fresh water","Emissions to fresh water","Emissions to fresh water","Emissions to fresh water",6.1815814046816001E-3,6.1762643907365203E-3,6.1815814046816001E-3,6.1815814046816001E-3]
[null,null,"Heavy metals to fresh water","Heavy metals to fresh water","Heavy metals to fresh water","Heavy metals to fresh water",2.98148684774839E-6,2.29377457167975E-6,2.98148684774839E-6,2.98148684774839E-6]
[null,null,"Inorganic emissions to fresh water","Inorganic emissions to fresh water","Inorganic emissions to fresh water","Inorganic emissions to fresh water",2.0069517886172898E-3,2.0046655972124901E-3,2.0069517886172898E-3,2.0069517886172898E-3]
[null,null,null,"Aluminum (+III)","Aluminum (+III)","Aluminum (+III)",7.1869110625414404E-10,5.5498054775488205E-10,7.1869110625414404E-10,7.1869110625414404E-10,null,null,null,null,{"$f":"H61-$G61","v":-1.6371055849926199E-10},{"$f":"I61-$G61","v":0},{"$f":"J61-$G61","v":0}]
[null,null,null,"Ammonia","Ammonia","Ammonia",4.0736953798110698E-8,3.1336341528567997E-8,4.0736953798110698E-8,4.0736953798110698E-8]
[null,null,null,"Ammonium / ammonia","Ammonium / ammonia","Ammonium / ammonia",1.6340912352997999E-7,1.2594504523492399E-7,1.6340912352997999E-7,1.6340912352997999E-7,{"$f":"G63+G62","v":2.0414607732809069E-7},{"$f":"H63+H62","v":1.5728138676349198E-7},{"$f":"I63+I62","v":2.0414607732809069E-7},{"$f":"J63+J62","v":2.0414607732809069E-7},{"$f":"L63-$K63","v":-4.6864690564598708E-8},{"$f":"M63-$K63","v":0},{"$f":"N63-$K63","v":0}]
[null,null,null,"Nitrate","Nitrate","Nitrate",2.91364097966402E-9,2.39238453256073E-9,2.91364097966402E-9,2.91364097966402E-9,null,null,null,null,{"$f":"H64-$G64","v":-5.2125644710329003E-10},0,0]
[null,null,null,"Nitrogen","Nitrogen","Nitrogen",5.01420917500868E-9,3.8570864867384904E-9,5.01420917500868E-9,5.01420917500868E-9,null,null,null,null,-1.1571226882701896E-9,0,0]
[null,null,null,"Phosphate","Phosphate","Phosphate",1.5390651574219901E-11,1.20480874912467E-11,1.5390651574219901E-11,1.5390651574219901E-11,null,null,null,null,-3.3425640829732014E-12,0,0]
[null,null,null,"Phosphorus","Phosphorus","Phosphorus",3.97971723172796E-7,3.0613215724012002E-7,3.97971723172796E-7,3.97971723172796E-7,null,null,null,null,-9.1839565932675989E-8,0,0]
[null,"Emissions to sea water","Emissions to sea water","Emissions to sea water","Emissions to sea water","Emissions to sea water",4.4319218285803402E-6,3.4145961296487401E-6,4.4319218285803402E-6,4.4319218285803402E-6]
[null,"Emissions to industrial soil","Emissions to industrial soil","Emissions to industrial soil","Emissions to industrial soil","Emissions to industrial soil",6.5733815023709001E-6,5.0564738413724896E-6,6.5733815023709001E-6,6.5733815023709001E-6]
[null,null,"Heavy metals to industrial soil","Heavy metals to industrial soil","Heavy metals to industrial soil","Heavy metals to industrial soil",6.5627905556771899E-6,5.0483074688471702E-6,6.5627905556771899E-6,6.5627905556771899E-6,null,null,null,null,{"$f":"H70-$G70","v":-1.5144830868300198E-6},{"$f":"I70-$G70","v":0},{"$f":"J70-$G70","v":0}]

{"sheet":"assoc RMA","index":32,"n_rows":70,"n_cols":17,"rows_kept":70,"cut":false,"hidden":true,"merged":[[7,14,7,16]]}
["GaBi 4"]
[null,null,"Database:","C:\\Users\\548910\\Documents\\GaBi\\DB\\Natural Gas 090511"]
["Balance:","Natural Gas RMA_RMT","  Mass [kg]","kg","2011-09-27T15:36:03","Balance view: ",null,null,null,null,null,"Assoc N","Assoc V"]
["Balance object:","Natural Gas RMA/RMT [NG 2011]","2011-09-06T11:57:15","{6FF55FB5-4F71-455F-A27A-E4033A839A20}",null,null,null,null,null,null,"prod",2304.7619049999998,2996.1904760000002,{"$f":"M4-L4","v":691.42857100000037}]
["In/out aggregation","Yes","Weak point analysis","No","Last service pack:",17,null,null,null,null,"ext",0.51,0.25,{"$f":"M5-L5","v":-0.26}]
[null,null,null,null,null,null,null,null,null,null,"prod",1,0.75,{"$f":"M6-L6","v":-0.25}]
["&Inputs"]
[null,null,null,null,null,null,null,null,null,null,null,null,null,null,"delta"]
[null,null,null,null,null,null,"Associated","Associated (prod)","Associated (ext)","Associated (proc)","nom","prod 1","ext 1","process 1","prod","ext","process"]
["Flows","Flows","Flows","Flows","Flows","Flows",1.83069280953653,1.81981611501783,1.83069280953653,1.83069280953653]
[null,"Resources","Resources","Resources","Resources","Resources",1.83069280953653,1.81981611501783,1.83069280953653,1.83069280953653]
[null,null,"Energy resources","Energy resources","Energy resources","Energy resources",63.6599709268298,63.649979186985902,63.6599709268298,63.6599709268298,null,null,null,null,{"$f":"H12-$G12","v":-9.9917398438975624E-3},{"$f":"I12-$G12","v":0},{"$f":"J12-$G12","v":0}]
[null,null,"Material resources","Material resources","Material resources","Material resources",0.72307609110496296,0.71249815002601602,0.72307609110496296,0.72307609110496296]
[null,null,null,"Renewable resources","Renewable resources","Renewable resources",0.72174074762142204,0.71146980497258405,0.72174074762142204,0.72174074762142204]
[null,null,null,null,"Water","Water",0.72149629850810404,0.71126115322030303,0.72149629850810404,0.72149629850810404]
[null,null,null,null,null,"Water (ground water)",0.36964832793150998,0.36277291023192898,0.36964832793150998,0.36964832793150998]
[null,null,null,null,null,"Water (lake water)",1.1366431949341501E-7,8.7434091932602095E-8,1.1366431949341501E-7,1.1366431949341501E-7]
[null,null,null,null,null,"Water (river water)"]
[null,null,null,null,null,"Water (sea water)",1.04946648411003E-6,8.0911917384850996E-7,1.04946648411003E-6,1.04946648411003E-6]
[null,null,null,null,null,"Water (surface water)",0.35111485566289402,0.34792418694910798,0.35111485566289402,0.35111485566289402]
[]
["&Outputs"]
[]
[null,null,null,null,null,null,"Associated","Associated (proc)","Associated (prod)","Associated (ext)"]
["Flows","Flows","Flows","Flows","Flows","Flows",1.42012378963337,1.4158863878607799,1.42006305783776,1.41994190517639]
[null,"Resources","Resources","Resources","Resources","Resources",1.2790573085053201,1.27597733557135,1.2790573085053201,1.2790573085053201]
[null,null,"Energy resources","Energy resources","Energy resources","Energy resources",0,0,0,0]
[null,null,"Material resources","Material resources","Material resources","Material resources",1.2790573085053201,1.27597733557135,1.2790573085053201,1.2790573085053201]
[null,null,null,"Renewable resources","Renewable resources","Renewable resources",1.2790573085053201,1.27597733557135,1.2790573085053201,1.2790573085053201]
[null,null,null,null,"Water","Water",1.2790572801626201,1.27597730778953,1.2790572801626201,1.2790572801626201,{"$f":"G15-G30","v":-0.55756098165451606},{"$f":"H15-H30","v":-0.56471615456922697},{"$f":"I15-I30","v":-0.55756098165451606},{"$f":"J15-J30","v":-0.55756098165451606},{"$f":"L30-$K30","v":-7.1551729147109056E-3},{"$f":"M30-$K30","v":0},0]
[null,null,null,null,null,"Water (river water)",1.5669513091497798E-2,1.26536450876429E-2,1.5669513091497798E-2,1.5669513091497798E-2]
[null,null,null,null,null,"Water (sea water)"]
[null,null,null,null,null,"Water (wastewater)",1.26316450367039,1.2631519216243901,1.26316450367039,1.26316450367039]
[null,"Ecoinvent","Ecoinvent","Ecoinvent","Ecoinvent","Ecoinvent",2.6636718904309703E-7,2.04897837759652E-7,2.6636718904309703E-7,2.6636718904309703E-7]
[null,"Production residues in life cycle","Production residues in life cycle","Production residues in life cycle","Production residues in life cycle","Production residues in life cycle",2.68648154480297E-7,2.23386007828526E-7,2.68648154480297E-7,2.68648154480297E-7]
[null,null,"Waste for disposal","Waste for disposal","Waste for disposal","Waste for disposal",1.0585807086420599E-7,8.1977562898479102E-8,1.0585807086420599E-7,1.0585807086420599E-7]
[null,null,null,"Waste (solid)","Waste (solid)","Waste (solid)",6.2024528243474601E-8,4.7711175579865497E-8,6.2024528243474601E-8,6.2024528243474601E-8,null,null,null,null,{"$f":"H37-$G37","v":-1.4313352663609104E-8},{"$f":"I37-$G37","v":0},{"$f":"J37-$G37","v":0}]
[null,"Emissions to air","Emissions to air","Emissions to air","Emissions to air","Emissions to air",0.13489339341583301,0.133739299322677,0.13483266162021301,0.13471150895884501]
[null,null,"Heavy metals to air","Heavy metals to air","Heavy metals to air","Heavy metals to air",4.7371577292120299E-8,3.6442110312727097E-8,4.7371577292120299E-8,4.7371577292120299E-8]
[null,null,null,"Lead (+II)","Lead (+II)","Lead (+II)",7.8951302662960105E-9,6.0737988331188003E-9,7.8951302662960105E-9,7.8951302662960105E-9,null,null,null,null,{"$f":"H40-$G40","v":-1.8213314331772102E-9},0,0]
[null,null,null,"Mercury (+II)","Mercury (+II)","Mercury (+II)",2.16676638984891E-10,1.66680261055288E-10,2.16676638984891E-10,2.16676638984891E-10,null,null,null,null,-4.9996377929602999E-11,0,0]
[null,null,"Inorganic emissions to air","Inorganic emissions to air","Inorganic emissions to air","Inorganic emissions to air",0.12769965039280301,0.126581810505486,0.12760490329171501,0.127414646334151]
[null,null,null,"Ammonia","Ammonia","Ammonia",1.33289189716602E-9,1.03073040166381E-9,1.33289189716602E-9,1.33289189716602E-9,null,null,null,null,{"$f":"H43-$G43","v":-3.0216149550220995E-10},{"$f":"I43-$G43","v":0},{"$f":"J43-$G43","v":0}]
[null,null,null,"Carbon dioxide","Carbon dioxide","Carbon dioxide",0.123299105726674,0.122211183267107,0.123204361824462,0.123014104629155,{"$f":"G44+G453","v":0.123299105726674},{"$f":"H44+H453","v":0.122211183267107},{"$f":"I44+I453","v":0.123204361824462},{"$f":"J44+J453","v":0.123014104629155},{"$f":"L44-$K44","v":-1.0879224595670006E-3},{"$f":"M44-$K44","v":-9.4743902212007791E-5},{"$f":"N44-$K44","v":-2.8500109751899982E-4}]
[null,null,null,"Carbon dioxide (biotic)","Carbon dioxide (biotic)","Carbon dioxide (biotic)",5.1784779768426797E-8,3.9834445982360401E-8,5.1784779768426797E-8,5.1784779768426797E-8]
[null,null,null,"Carbon monoxide","Carbon monoxide","Carbon monoxide",3.2608731483739999E-4,3.2024865353084199E-4,3.2608731483739999E-4,3.2608731483739999E-4,null,null,null,null,{"$f":"H46-$G46","v":-5.8386613065579971E-6},0,0]
[null,null,null,"Nitrogen oxides","Nitrogen oxides","Nitrogen oxides",3.8987666952099201E-3,3.8917629533178301E-3,3.8987666952099201E-3,3.8987666952099201E-3,null,null,null,null,-7.0037418920900797E-6,0,0]
[null,null,null,"Nitrous oxide (laughing gas)","Nitrous oxide (laughing gas)","Nitrous oxide (laughing gas)",3.4638301709103099E-6,3.4280545327069101E-6,3.4606312953829098E-6,3.4608690378448002E-6,null,null,null,null,-3.5775638203399794E-8,-3.1988755274000594E-9,-2.9611330655096888E-9]
[null,null,null,"Sulphur dioxide","Sulphur dioxide","Sulphur dioxide",1.0759778318109699E-5,8.4092796665411006E-6,1.0759778318109699E-5,1.0759778318109699E-5,null,null,null,null,-2.3504986515685989E-6,0,0]
[null,null,null,"Sulphur hexafluoride","Sulphur hexafluoride","Sulphur hexafluoride",8.5714491445286505E-11,6.5934230656351102E-11,8.5714491445286505E-11,8.5714491445286505E-11,null,null,null,null,-1.9780260788935403E-11,0,0]
[null,null,"Organic emissions to air (group VOC)","Organic emissions to air (group VOC)","Organic emissions to air (group VOC)","Organic emissions to air (group VOC)",7.0005888732653301E-3,6.9954443947826102E-3,7.0346041787337299E-3,7.1037084749299801E-3]
[null,null,null,"Group NMVOC to air","Group NMVOC to air","Group NMVOC to air",1.0020771467849801E-3,1.0011771280509401E-3,1.0084748978397701E-3,1.0079887995358299E-3]
[null,null,null,null,"NMVOC (unspecified)","NMVOC (unspecified)",null,null,null,null,null,null,null,null,{"$f":"H53-$G53","v":0},0,0]
[null,null,null,"Methane","Methane","Methane",5.9980790711633E-3,5.9939344531624297E-3,6.0256966255769102E-3,6.0952870200771002E-3,null,null,null,null,-4.1446180008702926E-6,2.7617554413610253E-5,9.7207948913800163E-5]
[null,null,"Particles to air","Particles to air","Particles to air","Particles to air",2.3474756259785199E-5,2.0248700572851799E-5,2.3474756259785199E-5,2.3474756259785199E-5]
[null,null,null,"Dust (unspecified)","Dust (unspecified)","Dust (unspecified)",4.0320316471548103E-6,3.10163260972705E-6,4.0320316471548103E-6,4.0320316471548103E-6,null,null,null,null,{"$f":"H56-$G56","v":-9.3039903742776034E-7},0,0]
[null,null,"Radioactive emissions to air","Radioactive emissions to air","Radioactive emissions to air","Radioactive emissions to air",1.2886594633459701E-12,1.0158226711519101E-12,1.2886594633459701E-12,1.2886594633459701E-12,null,null,null,null,-2.7283679219405998E-13,0,0]
[null,"Emissions to fresh water","Emissions to fresh water","Emissions to fresh water","Emissions to fresh water","Emissions to fresh water",6.1680139914473296E-3,6.1658279190179802E-3,6.1680139914473296E-3,6.1680139914473296E-3]
[null,null,"Heavy metals to fresh water","Heavy metals to fresh water","Heavy metals to fresh water","Heavy metals to fresh water",1.22665288792225E-6,9.4390229490742601E-7,1.22665288792225E-6,1.22665288792225E-6]
[null,null,"Inorganic emissions to fresh water","Inorganic emissions to fresh water","Inorganic emissions to fresh water","Inorganic emissions to fresh water",2.0011181188466401E-3,2.0001781589274298E-3,2.0011181188466401E-3,2.0011181188466401E-3]
[null,null,null,"Aluminum (+III)","Aluminum (+III)","Aluminum (+III)",3.0095122050004002E-10,2.3364217410192898E-10,3.0095122050004002E-10,3.0095122050004002E-10,null,null,null,null,{"$f":"H61-$G61","v":-6.7309046398111046E-11},{"$f":"I61-$G61","v":0},{"$f":"J61-$G61","v":0}]
[null,null,null,"Ammonia","Ammonia","Ammonia",1.67494313591404E-8,1.28844011911311E-8,1.67494313591404E-8,1.67494313591404E-8]
[null,null,null,"Ammonium / ammonia","Ammonium / ammonia","Ammonium / ammonia",6.7812114208617705E-8,5.2408884219418703E-8,6.7812114208617705E-8,6.7812114208617705E-8,{"$f":"G63+G62","v":8.4561545567758102E-8},{"$f":"H63+H62","v":6.5293285410549805E-8},{"$f":"I63+I62","v":8.4561545567758102E-8},{"$f":"J63+J62","v":8.4561545567758102E-8},{"$f":"L63-$K63","v":-1.9268260157208297E-8},{"$f":"M63-$K63","v":0},{"$f":"N63-$K63","v":0}]
[null,null,null,"Nitrate","Nitrate","Nitrate",1.5835520064320301E-9,1.3692391685490201E-9,1.5835520064320301E-9,1.5835520064320301E-9,null,null,null,null,{"$f":"H64-$G64","v":-2.1431283788300999E-10},0,0]
[null,null,null,"Nitrogen","Nitrogen","Nitrogen",2.06158165951677E-9,1.5858345517733401E-9,2.06158165951677E-9,2.06158165951677E-9,null,null,null,null,-4.7574710774342987E-10,0,0]
[null,null,null,"Phosphate","Phosphate","Phosphate",6.8614378756830903E-12,5.4871538770702702E-12,6.8614378756830903E-12,6.8614378756830903E-12,null,null,null,null,-1.3742839986128201E-12,0,0]
[null,null,null,"Phosphorus","Phosphorus","Phosphorus",1.6362489709074201E-7,1.2586536794850501E-7,1.6362489709074201E-7,1.6362489709074201E-7,null,null,null,null,-3.7759529142237003E-8,0,0]
[null,"Emissions to sea water","Emissions to sea water","Emissions to sea water","Emissions to sea water","Emissions to sea water",1.83601399501005E-6,1.4177439500044501E-6,1.83601399501005E-6,1.83601399501005E-6]
[null,"Emissions to industrial soil","Emissions to industrial soil","Emissions to industrial soil","Emissions to industrial soil","Emissions to industrial soil",2.7026914331786999E-6,2.0790199420314E-6,2.7026914331786999E-6,2.7026914331786999E-6]
[null,null,"Heavy metals to industrial soil","Heavy metals to industrial soil","Heavy metals to industrial soil","Heavy metals to industrial soil",2.69828726726073E-6,2.0756126316412101E-6,2.69828726726073E-6,2.69828726726073E-6,null,null,null,null,{"$f":"H70-$G70","v":-6.2267463561951988E-7},{"$f":"I70-$G70","v":0},{"$f":"J70-$G70","v":0}]

{"sheet":"offshore RMA","index":33,"n_rows":75,"n_cols":17,"rows_kept":75,"cut":false,"hidden":true,"merged":[[7,14,7,16]]}
["GaBi 4"]
[null,null,"Database:","C:\\Users\\548910\\Documents\\GaBi\\DB\\Natural Gas 090511"]
["Balance:","Natural Gas RMA_RMT","  Mass [kg]","kg","2011-09-27T15:36:03","Balance view: ",null,null,null,null,null,"Off N","Off V"]
["Balance object:","Natural Gas RMA/RMT [NG 2011]","2011-09-06T11:57:15","{6FF55FB5-4F71-455F-A27A-E4033A839A20}",null,null,null,null,null,null,"prod",53352.380949999999,69358.095239999995,{"$f":"M4-L4","v":16005.714289999996}]
["In/out aggregation","Yes","Weak point analysis","No","Last service pack:",17,null,null,null,null,"ext",0.51,0.25,{"$f":"M5-L5","v":-0.26}]
[null,null,null,null,null,null,null,null,null,null,"prod",1,0.75,{"$f":"M6-L6","v":-0.25}]
["&Inputs"]
[null,null,null,null,null,null,null,null,null,null,null,null,null,null,"delta"]
[null,null,null,null,null,null,"Offshore","Offshore (prod)","Offshore (ext)","Offshore (proc)","nom","prod 1","ext 1","process 1","prod","ext","process"]
["Flows","Flows","Flows","Flows","Flows","Flows",1.11415698954764,1.1131776320906299,1.11415698954764,1.11415698954764]
[null,"Resources","Resources","Resources","Resources","Resources",1.11415698954764,1.1131776320906299,1.11415698954764,1.11415698954764]
[null,null,"Energy resources","Energy resources","Energy resources","Energy resources",63.747195373251103,63.740856319690202,63.747195373251103,63.747195373251103,null,null,null,null,{"$f":"H12-$G12","v":-6.3390535609002541E-3},{"$f":"I12-$G12","v":0},{"$f":"J12-$G12","v":0}]
[null,null,"Material resources","Material resources","Material resources","Material resources",6.5424606870968802E-3,5.7289424849453997E-3,6.5424606870968802E-3,6.5424606870968802E-3]
[null,null,null,"Renewable resources","Renewable resources","Renewable resources",6.4177257931793503E-3,5.6278180186927502E-3,6.4177257931793503E-3,6.4177257931793503E-3]
[null,null,null,null,"Water","Water",6.2870369639161303E-3,5.4998822686652899E-3,6.2870369639161303E-3,6.2870369639161303E-3]
[null,null,null,null,null,"Water (ground water)",4.8934696846465002E-3,4.36469970949063E-3,4.8934696846465002E-3,4.8934696846465002E-3]
[null,null,null,null,null,"Water (lake water)",8.7416186147385096E-9,6.7243220108525596E-9,8.7416186147385096E-9,8.7416186147385096E-9]
[null,null,null,null,null,"Water (river water)"]
[null,null,null,null,null,"Water (sea water)",4.0402541773172301E-7,3.8554094932138997E-7,4.0402541773172301E-7,4.0402541773172301E-7]
[null,null,null,null,null,"Water (surface water)",1.12899903552473E-3,8.8361324367359898E-4,1.12899903552473E-3,1.12899903552473E-3]
[]
["&Outputs"]
[]
[null,null,null,null,null,null,"Offshore","Offshore (prod)","Offshore (ext)","Offshore (proc)"]
["Flows","Flows","Flows","Flows","Flows","Flows",0.91616024501332105,0.91557023764843704,0.91586143413297505,0.91297776533887998]
[null,"Resources","Resources","Resources","Resources","Resources",0.730662383501127,0.73042551396280597,0.730662383501127,0.730662383501127]
[null,null,"Energy resources","Energy resources","Energy resources","Energy resources",0,0,0,0]
[null,null,"Material resources","Material resources","Material resources","Material resources",0.730662383501127,0.73042551396280597,0.730662383501127,0.730662383501127]
[null,null,null,"Renewable resources","Renewable resources","Renewable resources",0.730662383501127,0.73042551396280597,0.730662383501127,0.730662383501127]
[null,null,null,null,"Water","Water",0.730662356891706,0.73042548739652002,0.730662356891706,0.730662356891706,{"$f":"G15-G30","v":-0.72437531992778992},{"$f":"H15-H30","v":-0.72492560512785476},{"$f":"I15-I30","v":-0.72437531992778992},{"$f":"J15-J30","v":-0.72437531992778992},{"$f":"L30-$K30","v":-5.5028520006483728E-4},{"$f":"M30-$K30","v":0},0]
[null,null,null,null,null,"Water (river water)",3.652419432795E-3,3.4204770957397901E-3,3.652419432795E-3,3.652419432795E-3]
[null,null,null,null,null,"Water (sea water)"]
[null,null,null,null,null,"Water (wastewater)",0.72699277959678898,0.72699181194530305,0.72699277959678898,0.72699277959678898]
[null,"Ecoinvent","Ecoinvent","Ecoinvent","Ecoinvent","Ecoinvent",2.04855880684956E-8,1.5758144766691301E-8,2.04855880684956E-8,2.04855880684956E-8]
[null,"Production residues in life cycle","Production residues in life cycle","Production residues in life cycle","Production residues in life cycle","Production residues in life cycle",1.2985725965483901E-7,1.2637626908723901E-7,1.2985725965483901E-7,1.2985725965483901E-7]
[null,null,"Waste for disposal","Waste for disposal","Waste for disposal","Waste for disposal",3.32898756906166E-8,3.1453289732426001E-8,3.32898756906166E-8,3.32898756906166E-8]
[null,null,null,"Waste (solid)","Waste (solid)","Waste (solid)",2.2413790205528701E-8,2.1312988557827401E-8,2.2413790205528701E-8,2.2413790205528701E-8,null,null,null,null,{"$f":"H37-$G37","v":-1.1008016477012997E-9},{"$f":"I37-$G37","v":0},{"$f":"J37-$G37","v":0}]
[null,"Emissions to air","Emissions to air","Emissions to air","Emissions to air","Emissions to air",0.133959006475387,0.133606125115174,0.133660195595041,0.13077652680094501]
[null,null,"Heavy metals to air","Heavy metals to air","Heavy metals to air","Heavy metals to air",3.6681233643427301E-9,2.8275673085975998E-9,3.6681233643427301E-9,3.6681233643427301E-9]
[null,null,null,"Lead (+II)","Lead (+II)","Lead (+II)",6.10522400816994E-10,4.7044867457192499E-10,6.10522400816994E-10,6.10522400816994E-10,null,null,null,null,{"$f":"H40-$G40","v":-1.4007372624506901E-10},0,0]
[null,null,null,"Mercury (+II)","Mercury (+II)","Mercury (+II)",1.6787071310971501E-11,1.29419836856294E-11,1.6787071310971501E-11,1.6787071310971501E-11,null,null,null,null,-3.8450876253421009E-12,0,0]
[null,null,"Inorganic emissions to air","Inorganic emissions to air","Inorganic emissions to air","Inorganic emissions to air",0.131402154990611,0.131120869344625,0.13093598295671199,0.126415364811749]
[null,null,null,"Ammonia","Ammonia","Ammonia",4.3805103731539399E-10,4.1481260534645499E-10,4.3805103731539399E-10,4.3805103731539399E-10,null,null,null,null,{"$f":"H43-$G43","v":-2.3238431968938995E-11},{"$f":"I43-$G43","v":0},{"$f":"J43-$G43","v":0}]
[null,null,null,"Carbon dioxide","Carbon dioxide","Carbon dioxide",0.131199612911752,0.130920634656047,0.130733456616871,0.126212874544606,{"$f":"G44+G45","v":0.13119962990956668},{"$f":"H44+H45","v":0.1309206507347935},{"$f":"I44+I45","v":0.13073347361468568},{"$f":"J44+J45","v":0.12621289154242069},{"$f":"L44-$K44","v":-2.7897917477318068E-4},{"$f":"M44-$K44","v":-4.6615629488100385E-4},{"$f":"N44-$K44","v":-4.9867383671459986E-3}]
[null,null,null,"Carbon dioxide (biotic)","Carbon dioxide (biotic)","Carbon dioxide (biotic)",1.69978146773332E-8,1.6078746487549299E-8,1.69978146773332E-8,1.69978146773332E-8]
[null,null,null,"Carbon monoxide","Carbon monoxide","Carbon monoxide",2.8744681312672899E-5,2.8295645497118101E-5,2.8744681312672899E-5,2.8744681312672899E-5,null,null,null,null,{"$f":"H46-$G46","v":-4.4903581555479839E-7},{"$f":"I46-$G46","v":0},0]
[null,null,null,"Nitrogen oxides","Nitrogen oxides","Nitrogen oxides",1.17072432838076E-4,1.16533793792698E-4,1.17072432838076E-4,1.17072432838076E-4,null,null,null,null,{"$f":"H47-$G47","v":-5.3863904537800316E-7},0,0]
[null,null,null,"Nitrous oxide (laughing gas)","Nitrous oxide (laughing gas)","Nitrous oxide (laughing gas)",6.2200411112170102E-6,6.2107687243081501E-6,6.2043020934141304E-6,6.1682293954149103E-6,null,null,null,null,{"$f":"H48-$G48","v":-9.2723869088600551E-9},-1.5739017802879755E-8,-5.1811715802099874E-8]
[null,null,null,"Sulphur dioxide","Sulphur dioxide","Sulphur dioxide",3.8840705899247098E-6,3.7033000290801799E-6,3.8840705899247098E-6,3.8840705899247098E-6,null,null,null,null,{"$f":"H49-$G49","v":-1.8077056084452993E-7},0,0]
[null,null,null,"Sulphur hexafluoride","Sulphur hexafluoride","Sulphur hexafluoride",6.5921552622602401E-12,5.07090834127998E-12,6.5921552622602401E-12,6.5921552622602401E-12,null,null,null,null,{"$f":"H50-$G50","v":-1.5212469209802601E-12},0,0]
[null,null,"Organic emissions to air (group VOC)","Organic emissions to air (group VOC)","Organic emissions to air (group VOC)","Organic emissions to air (group VOC)",2.46951509364995E-3,2.4003119452980898E-3,2.63687624720301E-3,4.2738255980699904E-3]
[null,null,null,"Group NMVOC to air","Group NMVOC to air","Group NMVOC to air",2.6695457095216501E-4,2.5435484556372102E-4,2.9843260655792E-4,3.7039229748180301E-4]
[null,null,null,null,"NMVOC (unspecified)","NMVOC (unspecified)",null,null,null,null,null,null,null,null,{"$f":"H53-$G53","v":0},0,0]
[null,null,null,"Methane","Methane","Methane",2.2025180162520402E-3,2.14592227185025E-3,2.3384011341993399E-3,3.9033907941424398E-3,null,null,null,null,-5.6595744401790205E-5,1.3588311794729977E-4,1.7008727778903996E-3]
[null,null,"Particles to air","Particles to air","Particles to air","Particles to air",6.8961846699598801E-6,6.6480773607072403E-6,6.8961846699598801E-6,6.8961846699598801E-6]
[null,null,null,"Dust (unspecified)","Dust (unspecified)","Dust (unspecified)",3.1209498037101297E-7,2.4054048035341402E-7,3.1209498037101297E-7,3.1209498037101297E-7,null,null,null,null,{"$f":"H56-$G56","v":-7.1554500017598956E-8},0,0]
[null,null,"Radioactive emissions to air","Radioactive emissions to air","Radioactive emissions to air","Radioactive emissions to air",5.1647429205914304E-13,4.9549114454232502E-13,5.1647429205914304E-13,5.1647429205914304E-13,null,null,null,null,-2.0983147516818017E-14,0,0]
[null,"Emissions to fresh water","Emissions to fresh water","Emissions to fresh water","Emissions to fresh water","Emissions to fresh water",5.1537797358256199E-2,5.1537629233276101E-2,5.1537797358256199E-2,5.1537797358256199E-2]
[null,null,"Heavy metals to fresh water","Heavy metals to fresh water","Heavy metals to fresh water","Heavy metals to fresh water",3.8255572598766001E-7,3.6081013458121402E-7,3.8255572598766001E-7,3.8255572598766001E-7]
[null,null,"Inorganic emissions to fresh water","Inorganic emissions to fresh water","Inorganic emissions to fresh water","Inorganic emissions to fresh water",4.98427121461502E-2,4.9842639856348403E-2,4.98427121461502E-2,4.98427121461502E-2]
[null,null,null,"Aluminum (+III)","Aluminum (+III)","Aluminum (+III)",5.7680132334986099E-11,5.2503573710212001E-11,5.7680132334986099E-11,5.7680132334986099E-11,null,null,null,null,{"$f":"H61-$G61","v":-5.1765586247740972E-12},{"$f":"I61-$G61","v":0},{"$f":"J61-$G61","v":0}]
[null,null,null,"Ammonia","Ammonia","Ammonia",1.30062563041941E-9,1.0033765038624401E-9,1.30062563041941E-9,1.30062563041941E-9]
[null,null,null,"Ammonium / ammonia","Ammonium / ammonia","Ammonium / ammonia",6.2609927061667803E-9,5.0763715101041199E-9,6.2609927061667803E-9,6.2609927061667803E-9,{"$f":"G63+G62","v":7.5616183365861895E-9},{"$f":"H63+H62","v":6.0797480139665604E-9},{"$f":"I63+I62","v":7.5616183365861895E-9},{"$f":"J63+J62","v":7.5616183365861895E-9},{"$f":"L63-$K63","v":-1.481870322619629E-9},{"$f":"M63-$K63","v":0},{"$f":"N63-$K63","v":0}]
[null,null,null,"Nitrate","Nitrate","Nitrate",8.6997081590453095E-10,8.5348858909089598E-10,8.6997081590453095E-10,8.6997081590453095E-10,null,null,null,null,{"$f":"H64-$G64","v":-1.6482226813634971E-11},{"$f":"I64-$G64","v":0},0]
[null,null,null,"Nitrogen","Nitrogen","Nitrogen",1.5926554688430401E-10,1.2267711003089399E-10,1.5926554688430401E-10,1.5926554688430401E-10,null,null,null,null,{"$f":"H65-$G65","v":-3.658843685341002E-11},0,0]
[null,null,null,"Phosphate","Phosphate","Phosphate",2.35440543168488E-12,2.24871292723561E-12,2.35440543168488E-12,2.35440543168488E-12,null,null,null,null,{"$f":"H66-$G66","v":-1.0569250444926997E-13},0,0]
[null,null,null,"Phosphorus","Phosphorus","Phosphorus",6.8746736248389495E-7,6.8456337815031003E-7,6.8746736248389495E-7,6.8746736248389495E-7,null,null,null,null,{"$f":"H67-$G67","v":-2.9039843335849265E-9},0,0]
[null,"Emissions to sea water","Emissions to sea water","Emissions to sea water","Emissions to sea water","Emissions to sea water",6.9776591985571699E-7,6.6559789007630401E-7,6.9776591985571699E-7,6.9776591985571699E-7]
[null,"Emissions to industrial soil","Emissions to industrial soil","Emissions to industrial soil","Emissions to industrial soil","Emissions to industrial soil",2.0956978317109999E-7,1.6160487786804601E-7,2.0956978317109999E-7,2.0956978317109999E-7]
[null,null,"Heavy metals to industrial soil","Heavy metals to industrial soil","Heavy metals to industrial soil","Heavy metals to industrial soil",2.0796224592842099E-7,1.6007400611620501E-7,2.0796224592842099E-7,2.0796224592842099E-7,null,null,null,null,{"$f":"H70-$G70","v":-4.7888239812215981E-8},{"$f":"I70-$G70","v":0},{"$f":"J70-$G70","v":0}]
[]
[]
[]
[]
[null,null,null,{"$f":"VLOOKUP(\"Ammonium / ammonia\",'offshore RMA'!$F$9:$Q$70,12,FALSE)","v":0}]

{"sheet":"barnett RMA","index":34,"n_rows":70,"n_cols":17,"rows_kept":70,"cut":false,"hidden":true,"merged":[[7,14,7,16]]}
["GaBi 4"]
[null,null,"Database:","C:\\Users\\548910\\Documents\\GaBi\\DB\\Natural Gas 090511"]
["Balance:","Natural Gas RMA_RMT","  Mass [kg]","kg","2011-09-27T15:36:03","Balance view: ",null,null,null,null,null,"Barnett N","Barnett V"]
["Balance object:","Natural Gas RMA/RMT [NG 2011]","2011-09-06T11:57:15","{6FF55FB5-4F71-455F-A27A-E4033A839A20}",null,null,null,null,null,null,"prod",5219.0476189999999,6784.7619050000003,{"$f":"M4-L4","v":1565.7142860000004}]
["In/out aggregation","Yes","Weak point analysis","No","Last service pack:",17,null,null,null,null,"ext",0.15,0.25,{"$f":"M5-L5","v":0.1}]
[null,null,null,null,null,null,null,null,null,null,"prod",1,0.75,{"$f":"M6-L6","v":-0.25}]
["&Inputs"]
[null,null,null,null,null,null,null,null,null,null,null,null,null,null,"delta"]
[null,null,null,null,null,null,"Shale","Shale (prod)","Shale (ext)","Shale (proc)","nom","prod 1","ext 1","process 1","prod","ext","process"]
["Flows","Flows","Flows","Flows","Flows","Flows",3.7722777226108399,3.7560784894926198,3.7722777226108399,3.7722777226108399]
[null,"Resources","Resources","Resources","Resources","Resources",3.7722777226108399,3.7560784894926198,3.7722777226108399,3.7722777226108399]
[null,null,"Energy resources","Energy resources","Energy resources","Energy resources",64.262010668053406,64.113556840923096,64.262010668053406,64.262010668053406,null,null,null,null,{"$f":"H12-$G12","v":-0.14845382713031086},{"$f":"I12-$G12","v":0},{"$f":"J12-$G12","v":0}]
[null,null,"Material resources","Material resources","Material resources","Material resources",2.6441614472616699,2.6318190299354201,2.6441614472616699,2.6441614472616699]
[null,null,null,"Renewable resources","Renewable resources","Renewable resources",2.64201431280605,2.6300301034443399,2.64201431280605,2.64201431280605]
[null,null,null,null,"Water","Water",2.63686900303686,2.6249265622921101,2.63686900303686,2.63686900303686]
[null,null,null,null,null,"Water (ground water)",0.95789117988518302,0.94986889332609004,0.95789117988518302,0.95789117988518302]
[null,null,null,null,null,"Water (lake water)",9.0660770603014104E-6,9.0354714431305608E-6,9.0660770603014104E-6,9.0660770603014104E-6]
[null,null,null,null,null,"Water (river water)"]
[null,null,null,null,null,"Water (sea water)",3.7399099393650099E-6,3.4594709782903299E-6,3.7399099393650099E-6,3.7399099393650099E-6]
[null,null,null,null,null,"Water (surface water)",1.6741004862836,1.67037759120208,1.6741004862836,1.6741004862836]
[]
["&Outputs"]
[]
[null,null,null,null,null,null,"Shale","Shale (prod)","Shale (ext)","Shale (proc)"]
["Flows","Flows","Flows","Flows","Flows","Flows",1.5995204180587299,1.5902416298828299,1.60212779284333,1.59858993420841]
[null,"Resources","Resources","Resources","Resources","Resources",1.4223123201760399,1.4187185857223299,1.4223123201760399,1.4223123201760399]
[null,null,"Energy resources","Energy resources","Energy resources","Energy resources",0,0,0,0]
[null,null,"Material resources","Material resources","Material resources","Material resources",1.4223123201760399,1.4187185857223299,1.4223123201760399,1.4223123201760399]
[null,null,null,"Renewable resources","Renewable resources","Renewable resources",1.4223123201760399,1.4187185857223299,1.4223123201760399,1.4223123201760399]
[null,null,null,null,"Water","Water",1.4223122378846,1.4187185040853401,1.4223122378846,1.4223122378846,{"$f":"G15-G30","v":1.21455676515226},{"$f":"H15-H30","v":1.20620805820677},{"$f":"I15-I30","v":1.21455676515226},{"$f":"J15-J30","v":1.21455676515226},{"$f":"L30-$K30","v":-8.3487069454899476E-3},{"$f":"M30-$K30","v":0},0]
[null,null,null,null,null,"Water (river water)",1.03512677777463,1.031607841412,1.03512677777463,1.03512677777463]
[null,null,null,null,null,"Water (sea water)"]
[null,null,null,null,null,"Water (wastewater)",0.36937260319257298,0.36935792237128001,0.36937260319257298,0.36937260319257298]
[null,"Ecoinvent","Ecoinvent","Ecoinvent","Ecoinvent","Ecoinvent",2.1245941204842001E-5,2.1174218326008399E-5,2.1245941204842001E-5,2.1245941204842001E-5]
[null,"Production residues in life cycle","Production residues in life cycle","Production residues in life cycle","Production residues in life cycle","Production residues in life cycle",3.29946436777969E-6,3.2466521712578301E-6,3.29946436777969E-6,3.29946436777969E-6]
[null,null,"Waste for disposal","Waste for disposal","Waste for disposal","Waste for disposal",2.1299969786077599E-6,2.10213303107052E-6,2.1299969786077599E-6,2.1299969786077599E-6]
[null,null,null,"Waste (solid)","Waste (solid)","Waste (solid)",5.7370101696087003E-7,5.5700009467424103E-7,5.7370101696087003E-7,5.7370101696087003E-7,null,null,null,null,{"$f":"H37-$G37","v":-1.6700922286629008E-8},{"$f":"I37-$G37","v":0},{"$f":"J37-$G37","v":0}]
[null,"Emissions to air","Emissions to air","Emissions to air","Emissions to air","Emissions to air",0.17029001393304,0.164608851215712,0.17289738871764301,0.16935953008272001]
[null,null,"Heavy metals to air","Heavy metals to air","Heavy metals to air","Heavy metals to air",6.04653229764064E-8,4.7712742714676303E-8,6.04653229764064E-8,6.04653229764064E-8]
[null,null,null,"Lead (+II)","Lead (+II)","Lead (+II)",9.4523973347755697E-9,7.3272547886114503E-9,9.4523973347755697E-9,9.4523973347755697E-9,null,null,null,null,{"$f":"H40-$G40","v":-2.1251425461641194E-9},0,0]
[null,null,null,"Mercury (+II)","Mercury (+II)","Mercury (+II)",8.4967862041255701E-10,7.9134248896669798E-10,8.4967862041255701E-10,8.4967862041255701E-10,null,null,null,null,-5.8336131445859034E-11,0,0]
[null,null,"Inorganic emissions to air","Inorganic emissions to air","Inorganic emissions to air","Inorganic emissions to air",0.14673244456850601,0.14398824519823,0.15080018535849299,0.14527442183119499]
[null,null,null,"Ammonia","Ammonia","Ammonia",2.5879381313498E-8,2.5526817118861499E-8,2.5879381313498E-8,2.5879381313498E-8,null,null,null,null,{"$f":"H43-$G43","v":-3.5256419463650132E-10},{"$f":"I43-$G43","v":0},{"$f":"J43-$G43","v":0}]
[null,null,null,"Carbon dioxide","Carbon dioxide","Carbon dioxide",0.14123201179179401,0.13852276710399899,0.14529961524569099,0.13977400420303701,{"$f":"G44+G45","v":0.14123251078989282},{"$f":"H44+H45","v":0.13852325215836286},{"$f":"I44+I45","v":0.1453001142437898},{"$f":"J44+J45","v":0.13977450320113582},{"$f":"L44-$K44","v":-2.7092586315299594E-3},{"$f":"M44-$K44","v":4.0676034538969785E-3},-1.4580075887569988E-3]
[null,null,null,"Carbon dioxide (biotic)","Carbon dioxide (biotic)","Carbon dioxide (biotic)",4.9899809881247897E-7,4.8505436385737E-7,4.9899809881247897E-7,4.9899809881247897E-7]
[null,null,null,"Carbon monoxide","Carbon monoxide","Carbon monoxide",2.6188602667108501E-4,2.5507343488840001E-4,2.6188602667108501E-4,2.6188602667108501E-4,null,null,null,null,{"$f":"H46-$G46","v":-6.8125917826850047E-6},{"$f":"I46-$G46","v":0},0]
[null,null,null,"Nitrogen oxides","Nitrogen oxides","Nitrogen oxides",2.9918749584486501E-3,2.9837029423036999E-3,2.9918749584486501E-3,2.9918749584486501E-3,null,null,null,null,{"$f":"H47-$G47","v":-8.1720161449502608E-6},0,0]
[null,null,null,"Nitrous oxide (laughing gas)","Nitrous oxide (laughing gas)","Nitrous oxide (laughing gas)",4.20074883115838E-6,4.1121918099771902E-6,4.3380849218192196E-6,4.1856002772812203E-6,null,null,null,null,{"$f":"H48-$G48","v":-8.8557021181189811E-8},1.3733609066083964E-7,-1.5148553877159704E-8]
[null,null,null,"Sulphur dioxide","Sulphur dioxide","Sulphur dioxide",1.15588867936109E-4,1.1284628929382601E-4,1.15588867936109E-4,1.15588867936109E-4,null,null,null,null,{"$f":"H49-$G49","v":-2.7425786422829963E-6},0,0]
[null,null,null,"Sulphur hexafluoride","Sulphur hexafluoride","Sulphur hexafluoride",6.83672878859822E-9,6.8136490388003199E-9,6.83672878859822E-9,6.83672878859822E-9,null,null,null,null,{"$f":"H50-$G50","v":-2.3079749797900141E-11},0,0]
[null,null,"Organic emissions to air (group VOC)","Organic emissions to air (group VOC)","Organic emissions to air (group VOC)","Organic emissions to air (group VOC)",1.9401531834154599E-2,1.6500867539542399E-2,1.7941165828769999E-2,1.99290707211453E-2]
[null,null,null,"Group NMVOC to air","Group NMVOC to air","Group NMVOC to air",3.3016688230813902E-3,2.7662733386839798E-3,3.0269966417597002E-3,3.33191163494366E-3]
[null,null,null,null,"NMVOC (unspecified)","NMVOC (unspecified)",null,null,null,null,null,null,null,null,{"$f":"H53-$G53","v":0},0,0]
[null,null,null,"Methane","Methane","Methane",1.6099256524816901E-2,1.3734104210667701E-2,1.4913562700753899E-2,1.6596552599945299E-2,null,null,null,null,-2.3651523141492003E-3,-1.1856938240630017E-3,4.972960751283978E-4]
[null,null,"Particles to air","Particles to air","Particles to air","Particles to air",2.4763003736625199E-5,2.0998818881682499E-5,2.4763003736625199E-5,2.4763003736625199E-5]
[null,null,null,"Dust (unspecified)","Dust (unspecified)","Dust (unspecified)",5.6713205740458597E-6,4.58572432103511E-6,5.6713205740458597E-6,5.6713205740458597E-6,null,null,null,null,{"$f":"H56-$G56","v":-1.0855962530107498E-6},0,0]
[null,null,"Radioactive emissions to air","Radioactive emissions to air","Radioactive emissions to air","Radioactive emissions to air",7.92472623803232E-12,7.6063783170067203E-12,7.92472623803232E-12,7.92472623803232E-12,null,null,null,null,-3.1834792102559968E-13,0,0]
[null,"Emissions to fresh water","Emissions to fresh water","Emissions to fresh water","Emissions to fresh water","Emissions to fresh water",6.67294835400582E-3,6.6703976290559399E-3,6.67294835400582E-3,6.67294835400582E-3]
[null,null,"Heavy metals to fresh water","Heavy metals to fresh water","Heavy metals to fresh water","Heavy metals to fresh water",1.33851333468821E-5,1.30552179321349E-5,1.33851333468821E-5,1.33851333468821E-5]
[null,null,"Inorganic emissions to fresh water","Inorganic emissions to fresh water","Inorganic emissions to fresh water","Inorganic emissions to fresh water",2.53513281602911E-3,2.5340360640708401E-3,2.53513281602911E-3,2.53513281602911E-3]
[null,null,null,"Aluminum (+III)","Aluminum (+III)","Aluminum (+III)",1.6223982607801999E-8,1.6145445930931001E-8,1.6223982607801999E-8,1.6223982607801999E-8,null,null,null,null,{"$f":"H61-$G61","v":-7.8536676870997547E-11},{"$f":"I61-$G61","v":0},{"$f":"J61-$G61","v":0}]
[null,null,null,"Ammonia","Ammonia","Ammonia",2.6128143208503701E-8,2.16183983577733E-8,2.6128143208503701E-8,2.6128143208503701E-8]
[null,null,null,"Ammonium / ammonia","Ammonium / ammonia","Ammonium / ammonia",5.3097995657711299E-6,5.2918269668239399E-6,5.3097995657711299E-6,5.3097995657711299E-6,{"$f":"G63+G62","v":5.3359277089796336E-6},{"$f":"H63+H62","v":5.3134453651817131E-6},{"$f":"I63+I62","v":5.3359277089796336E-6},{"$f":"J63+J62","v":5.3359277089796336E-6},{"$f":"L63-$K63","v":-2.2482343797920497E-8},{"$f":"M63-$K63","v":0},0]
[null,null,null,"Nitrate","Nitrate","Nitrate",3.6037404839733399E-8,3.5787343087282399E-8,3.6037404839733399E-8,3.6037404839733399E-8,null,null,null,null,{"$f":"H64-$G64","v":-2.5006175245100026E-10},{"$f":"I64-$G64","v":0},0]
[null,null,null,"Nitrogen","Nitrogen","Nitrogen",1.6420509046049001E-7,1.6364998533164599E-7,1.6420509046049001E-7,1.6420509046049001E-7,null,null,null,null,{"$f":"H65-$G65","v":-5.5510512884401238E-10},0,0]
[null,null,null,"Phosphate","Phosphate","Phosphate",1.9069609995976999E-10,1.89092575558464E-10,1.9069609995976999E-10,1.9069609995976999E-10,null,null,null,null,{"$f":"H66-$G66","v":-1.6035244013059939E-12},0,0]
[null,null,null,"Phosphorus","Phosphorus","Phosphorus",2.2503085600565901E-7,1.80972767268173E-7,2.2503085600565901E-7,2.2503085600565901E-7,null,null,null,null,{"$f":"H67-$G67","v":-4.4058088737486002E-8},0,0]
[null,"Emissions to sea water","Emissions to sea water","Emissions to sea water","Emissions to sea water","Emissions to sea water",5.4349109112071103E-6,4.9468704303613101E-6,5.4349109112071103E-6,5.4349109112071103E-6]
[null,"Emissions to industrial soil","Emissions to industrial soil","Emissions to industrial soil","Emissions to industrial soil","Emissions to industrial soil",2.1515527916168999E-4,2.1442757480403E-4,2.1515527916168999E-4,2.1515527916168999E-4]
[null,null,"Heavy metals to industrial soil","Heavy metals to industrial soil","Heavy metals to industrial soil","Heavy metals to industrial soil",2.1511187942062899E-4,2.1438533820113001E-4,2.1511187942062899E-4,2.1511187942062899E-4,null,null,null,null,{"$f":"H70-$G70","v":-7.2654121949897892E-7},{"$f":"I70-$G70","v":0},{"$f":"J70-$G70","v":0}]

{"sheet":"cbm RMA","index":35,"n_rows":70,"n_cols":17,"rows_kept":70,"cut":false,"hidden":true,"merged":[[7,14,7,16]]}
["GaBi 4"]
[null,null,"Database:","C:\\Users\\548910\\Documents\\GaBi\\DB\\Natural Gas 090511"]
["Balance:","Natural Gas RMA_RMT","  Mass [kg]","kg","2011-09-27T15:36:03","Balance view: ",null,null,null,null,null,"CBM N","CBM V"]
["Balance object:","Natural Gas RMA/RMT [NG 2011]","2011-09-06T11:57:15","{6FF55FB5-4F71-455F-A27A-E4033A839A20}",null,null,null,null,null,null,"prod",2000,2600,{"$f":"M4-L4","v":600}]
["In/out aggregation","Yes","Weak point analysis","No","Last service pack:",17,null,null,null,null,"ext",0.51,0.25,{"$f":"M5-L5","v":-0.26}]
[null,null,null,null,null,null,null,null,null,null,"prod",1,0.75,{"$f":"M6-L6","v":-0.25}]
["&Inputs"]
[null,null,null,null,null,null,null,null,null,null,null,null,null,null,"delta"]
[null,null,null,null,null,null,"CBM","CBM (prod)","CBM (ext)","CBM (proc)","nom","prod 1","ext 1","process 1","prod","ext","process"]
["Flows","Flows","Flows","Flows","Flows","Flows",1.2532499111895601,1.21996609883263,1.2532499111895601,1.2532499111895601]
[null,"Resources","Resources","Resources","Resources","Resources",1.2532499111895601,1.21996609883263,1.2532499111895601,1.2532499111895601]
[null,null,"Energy resources","Energy resources","Energy resources","Energy resources",63.753570004191502,63.721978477258602,63.753570004191502,63.753570004191502,null,null,null,null,{"$f":"H12-$G12","v":-3.1591526932899683E-2},{"$f":"I12-$G12","v":0},{"$f":"J12-$G12","v":0}]
[null,null,"Material resources","Material resources","Material resources","Material resources",0.14285375392938299,0.11051010397281601,0.14285375392938299,0.14285375392938299]
[null,null,null,"Renewable resources","Renewable resources","Renewable resources",0.138781063002655,0.107376107040181,0.138781063002655,0.138781063002655]
[null,null,null,null,"Water","Water",0.138217427192939,0.10692192705992,0.138217427192939,0.138217427192939]
[null,null,null,null,null,"Water (ground water)",9.3682694472114303E-2,7.2660068072441603E-2,9.3682694472114303E-2,9.3682694472114303E-2]
[null,null,null,null,null,"Water (lake water)",3.4754579674472E-7,2.67342920572862E-7,3.4754579674472E-7,3.4754579674472E-7]
[null,null,null,null,null,"Water (river water)"]
[null,null,null,null,null,"Water (sea water)",3.1925200983807398E-6,2.4576219539230498E-6,3.1925200983807398E-6,3.1925200983807398E-6]
[null,null,null,null,null,"Water (surface water)",4.2294206588395798E-2,3.2538255856976901E-2,4.2294206588395798E-2,4.2294206588395798E-2]
[]
["&Outputs"]
[]
[null,null,null,null,null,null,"CBM","CBM (prod)","CBM (ext)","CBM (proc)"]
["Flows","Flows","Flows","Flows","Flows","Flows",6.3694055187754897,6.3563997006356301,6.3692639325625002,6.3692236343184998]
[null,"Resources","Resources","Resources","Resources","Resources",6.1131713553464397,6.1037538736542301,6.1131713553464397,6.1131713553464397]
[null,null,"Energy resources","Energy resources","Energy resources","Energy resources",0,0,0,0]
[null,null,"Material resources","Material resources","Material resources","Material resources",6.1131713553464397,6.1037538736542301,6.1131713553464397,6.1131713553464397]
[null,null,null,"Renewable resources","Renewable resources","Renewable resources",6.1131713553464397,6.1037538736542301,6.1131713553464397,6.1131713553464397]
[null,null,null,null,"Water","Water",6.1131713220026302,6.1037538420253998,6.1131713220026302,6.1131713220026302,{"$f":"G15-G30","v":-5.9749538948096914},{"$f":"H15-H30","v":-5.9968319149654796},{"$f":"I15-I30","v":-5.9749538948096914},{"$f":"J15-J30","v":-5.9749538948096914},{"$f":"L30-$K30","v":-2.1878020155788214E-2},{"$f":"M30-$K30","v":0},0]
[null,null,null,null,null,"Water (river water)",4.2560460274522399E-2,3.3338989072907298E-2,4.2560460274522399E-2,4.2560460274522399E-2]
[null,null,null,null,null,"Water (sea water)"]
[null,null,null,null,null,"Water (wastewater)",6.06992820021346,6.0698897287104803,6.06992820021346,6.06992820021346]
[null,"Ecoinvent","Ecoinvent","Ecoinvent","Ecoinvent","Ecoinvent",8.1445784706429496E-7,6.2650603620330404E-7,8.1445784706429496E-7,8.1445784706429496E-7]
[null,"Production residues in life cycle","Production residues in life cycle","Production residues in life cycle","Production residues in life cycle","Production residues in life cycle",6.7222748668161405E-7,5.3383164795820804E-7,6.7222748668161405E-7,6.7222748668161405E-7]
[null,null,"Waste for disposal","Waste for disposal","Waste for disposal","Waste for disposal",3.1878830441200699E-7,2.4577005022965798E-7,3.1878830441200699E-7,3.1878830441200699E-7]
[null,null,null,"Waste (solid)","Waste (solid)","Waste (solid)",1.89649348029068E-7,1.4588411386851399E-7,1.89649348029068E-7,1.89649348029068E-7,null,null,null,null,{"$f":"H37-$G37","v":-4.3765234160554007E-8},{"$f":"I37-$G37","v":0},{"$f":"J37-$G37","v":0}]
[null,"Emissions to air","Emissions to air","Emissions to air","Emissions to air","Emissions to air",0.145397592171671,0.14181945221114101,0.14525600595868601,0.14521570771468301]
[null,null,"Heavy metals to air","Heavy metals to air","Heavy metals to air","Heavy metals to air",1.4482402511338E-7,1.11405531707616E-7,1.4482402511338E-7,1.4482402511338E-7]
[null,null,null,"Lead (+II)","Lead (+II)","Lead (+II)",2.4135007910061602E-8,1.85660124042331E-8,2.4135007910061602E-8,2.4135007910061602E-8,null,null,null,null,{"$f":"H40-$G40","v":-5.5689955058285019E-9},0,0]
[null,null,null,"Mercury (+II)","Mercury (+II)","Mercury (+II)",6.6246868178285701E-10,5.0959721702591202E-10,6.6246868178285701E-10,6.6246868178285701E-10,null,null,null,null,-1.5287146475694499E-10,0,0]
[null,null,"Inorganic emissions to air","Inorganic emissions to air","Inorganic emissions to air","Inorganic emissions to air",0.13782490850237,0.134370470589146,0.13760402118795001,0.137539904443717]
[null,null,null,"Ammonia","Ammonia","Ammonia",4.0271108768785897E-9,3.10320653973616E-9,4.0271108768785897E-9,4.0271108768785897E-9,null,null,null,null,{"$f":"H43-$G43","v":-9.239043371424297E-10},{"$f":"I43-$G43","v":0},{"$f":"J43-$G43","v":0}]
[null,null,null,"Carbon dioxide","Carbon dioxide","Carbon dioxide",0.13315760021033801,0.12979464056162801,0.13293672035357099,0.13287259911281801,{"$f":"G44+G45","v":0.133157758550111},{"$f":"H44+H45","v":0.12979476236145338},{"$f":"I44+I45","v":0.13293687869334397},{"$f":"J44+J45","v":0.132872757452591},{"$f":"L44-$K44","v":-3.3629961886576243E-3},{"$f":"M44-$K44","v":-2.208798567670256E-4},-2.8500109751999902E-4]
[null,null,null,"Carbon dioxide (biotic)","Carbon dioxide (biotic)","Carbon dioxide (biotic)",1.5833977297431899E-7,1.21799825364861E-7,1.5833977297431899E-7,1.5833977297431899E-7]
[null,null,null,"Carbon monoxide","Carbon monoxide","Carbon monoxide",3.7814766118330001E-4,3.6029507379367202E-4,3.7814766118330001E-4,3.7814766118330001E-4,null,null,null,null,{"$f":"H46-$G46","v":-1.785258738962799E-5},{"$f":"I46-$G46","v":0},0]
[null,null,null,"Nitrogen oxides","Nitrogen oxides","Nitrogen oxides",3.9612154671929203E-3,3.9398004702239399E-3,3.9612154671929203E-3,3.9612154671929203E-3,null,null,null,null,{"$f":"H47-$G47","v":-2.1414996968980443E-5},0,0]
[null,null,null,"Nitrous oxide (laughing gas)","Nitrous oxide (laughing gas)","Nitrous oxide (laughing gas)",3.7881000909243301E-6,3.6774929326977999E-6,3.7806424376948702E-6,3.7851389578588302E-6,null,null,null,null,{"$f":"H48-$G48","v":-1.1060715822653025E-7},-7.4576532294599002E-9,-2.961133065499948E-9]
[null,null,null,"Sulphur dioxide","Sulphur dioxide","Sulphur dioxide",3.17179684684445E-5,2.4530964396260401E-5,3.17179684684445E-5,3.17179684684445E-5,null,null,null,null,{"$f":"H49-$G49","v":-7.1870040721840987E-6},0,0]
[null,null,null,"Sulphur hexafluoride","Sulphur hexafluoride","Sulphur hexafluoride",2.6208492525135E-10,2.01603795111551E-10,2.6208492525135E-10,2.6208492525135E-10,null,null,null,null,{"$f":"H50-$G50","v":-6.0481130139799004E-11},0,0]
[null,null,"Organic emissions to air (group VOC)","Organic emissions to air (group VOC)","Organic emissions to air (group VOC)","Organic emissions to air (group VOC)",7.1021400468763698E-3,7.0735606821728603E-3,7.1814411483118101E-3,7.2052596485410198E-3]
[null,null,null,"Group NMVOC to air","Group NMVOC to air","Group NMVOC to air",1.02024210618339E-3,1.0151501737415199E-3,1.0351574126423E-3,1.02615375893424E-3]
[null,null,null,null,"NMVOC (unspecified)","NMVOC (unspecified)",null,null,null,null,null,null,null,null,{"$f":"H53-$G53","v":0},0,0]
[null,null,null,"Methane","Methane","Methane",6.0805750477516303E-3,6.0573928966896201E-3,6.1449608427281604E-3,6.17778299666544E-3,null,null,null,null,-2.3182151062010187E-5,6.4385794976530054E-5,9.7207948913809704E-5]
[null,null,"Particles to air","Particles to air","Particles to air","Particles to air",5.2239839140049099E-5,4.2375687402029497E-5,5.2239839140049099E-5,5.2239839140049099E-5]
[null,null,null,"Dust (unspecified)","Dust (unspecified)","Dust (unspecified)",1.2327922363402099E-5,9.4830870063227894E-6,1.2327922363402099E-5,1.2327922363402099E-5,null,null,null,null,{"$f":"H56-$G56","v":-2.8448353570793099E-6},0,0]
[null,null,"Radioactive emissions to air","Radioactive emissions to air","Radioactive emissions to air","Radioactive emissions to air",3.7214051137187699E-12,2.88716547897921E-12,3.7214051137187699E-12,3.7214051137187699E-12,null,null,null,null,-8.3423963473955984E-13,0,0]
[null,"Emissions to fresh water","Emissions to fresh water","Emissions to fresh water","Emissions to fresh water","Emissions to fresh water",0.110821255408683,0.11081457116258001,0.110821255408683,0.110821255408683]
[null,null,"Heavy metals to fresh water","Heavy metals to fresh water","Heavy metals to fresh water","Heavy metals to fresh water",1.9773327189679299E-4,1.9686871932108601E-4,1.9773327189679299E-4,1.9773327189679299E-4]
[null,null,"Inorganic emissions to fresh water","Inorganic emissions to fresh water","Inorganic emissions to fresh water","Inorganic emissions to fresh water",5.6934029211359899E-2,5.6931155142164999E-2,5.6934029211359899E-2,5.6934029211359899E-2]
[null,null,null,"Aluminum (+III)","Aluminum (+III)","Aluminum (+III)",9.0111144280346999E-10,6.95303883528665E-10,9.0111144280346999E-10,9.0111144280346999E-10,null,null,null,null,{"$f":"H61-$G61","v":-2.0580755927480499E-10},{"$f":"I61-$G61","v":0},{"$f":"J61-$G61","v":0}]
[null,null,null,"Ammonia","Ammonia","Ammonia",5.1211921751918301E-8,3.9394009183425701E-8,5.1211921751918301E-8,5.1211921751918301E-8]
[null,null,null,"Ammonium / ammonia","Ammonium / ammonia","Ammonium / ammonia",2.0515481075836499E-7,1.5805711232604099E-7,2.0515481075836499E-7,2.0515481075836499E-7,{"$f":"G63+G62","v":2.5636673251028332E-7},{"$f":"H63+H62","v":1.9745112150946668E-7},{"$f":"I63+I62","v":2.5636673251028332E-7},{"$f":"J63+J62","v":2.5636673251028332E-7},{"$f":"L63-$K63","v":-5.8915611000816634E-8},{"$f":"M63-$K63","v":0},0]
[null,null,null,"Nitrate","Nitrate","Nitrate",3.4944695919463302E-9,2.8391757726715701E-9,3.4944695919463302E-9,3.4944695919463302E-9,null,null,null,null,{"$f":"H64-$G64","v":-6.5529381927476007E-10},{"$f":"I64-$G64","v":0},0]
[null,null,null,"Nitrogen","Nitrogen","Nitrogen",6.3035744557707004E-9,4.8489059332425003E-9,6.3035744557707004E-9,6.3035744557707004E-9,null,null,null,null,{"$f":"H65-$G65","v":-1.4546685225282001E-9},0,0]
[null,null,null,"Phosphate","Phosphate","Phosphate",1.9115222979651999E-11,1.4913142417820399E-11,1.9115222979651999E-11,1.9115222979651999E-11,null,null,null,null,{"$f":"H66-$G66","v":-4.2020805618316002E-12},0,0]
[null,null,null,"Phosphorus","Phosphorus","Phosphorus",5.0030723946179802E-7,3.8485178513600498E-7,5.0030723946179802E-7,5.0030723946179802E-7,null,null,null,null,{"$f":"H67-$G67","v":-1.1545545432579304E-7},0,0]
[null,"Emissions to sea water","Emissions to sea water","Emissions to sea water","Emissions to sea water","Emissions to sea water",5.5655133212769898E-6,4.2865895853617402E-6,5.5655133212769898E-6,5.5655133212769898E-6]
[null,"Emissions to industrial soil","Emissions to industrial soil","Emissions to industrial soil","Emissions to industrial soil","Emissions to industrial soil",8.2636500383177106E-6,6.3566804071760196E-6,8.2636500383177106E-6,8.2636500383177106E-6]
[null,null,"Heavy metals to industrial soil","Heavy metals to industrial soil","Heavy metals to industrial soil","Heavy metals to industrial soil",8.2503574232658693E-6,6.3464358282218801E-6,8.2503574232658693E-6,8.2503574232658693E-6,null,null,null,null,{"$f":"H70-$G70","v":-1.9039215950439892E-6},{"$f":"I70-$G70","v":0},{"$f":"J70-$G70","v":0}]

{"sheet":"Marc RMA","index":36,"n_rows":70,"n_cols":17,"rows_kept":70,"cut":false,"hidden":true,"merged":[[7,14,7,16]]}
["GaBi 4"]
[null,null,"Database:","C:\\Documents and Settings\\548910\\My Documents\\GaBi\\DB\\Natural Gas 050311"]
["Balance:","Natural Gas RMA_RMT","  Mass [kg]","kg","2011-05-18T16:00:19","Balance view: ",null,null,null,null,null,"Marc N","Marc V"]
["Balance object:","Natural Gas RMA/RMT [NG 2011]","2011-05-05T07:32:33","{6FF55FB5-4F71-455F-A27A-E4033A839A20}",null,null,null,null,null,null,"prod",5653.4029140000002,8575.7773429999997,{"$f":"M4-L4","v":2922.3744289999995}]
["In/out aggregation","Yes","Weak point analysis","No","Last service pack:",16,null,null,null,null,"ext",0.15,0.25,{"$f":"M5-L5","v":0.1}]
[null,null,null,null,null,null,null,null,null,null,"prod",1,0.75,{"$f":"M6-L6","v":-0.25}]
["&Inputs"]
[null,null,null,null,null,null,null,null,null,null,null,null,null,null,"delta"]
[null,null,null,null,null,null,"marcshale nominal","marcshale prod","marcshale ext","marcshale process","nom","prod 1","ext 1","process 1","prod","ext","process"]
["Flows","Flows","Flows","Flows","Flows","Flows",2.08904374983512,2.0594997828181301,2.08904374983512,2.08904374983512]
[null,"Resources","Resources","Resources","Resources","Resources",2.08904374983512,2.0594997828181301,2.08904374983512,2.08904374983512]
[null,null,"Energy resources","Energy resources","Energy resources","Energy resources",64.393177982870696,64.183376269823597,64.393177982870696,64.393177982870696,null,null,null,null,{"$f":"H12-$G12","v":-0.20980171304709927},{"$f":"I12-$G12","v":0},{"$f":"J12-$G12","v":0}]
[null,null,"Material resources","Material resources","Material resources","Material resources",0.96482800390411305,0.94076128251737201,0.96482800390411305,0.96482800390411305]
[null,null,null,"Renewable resources","Renewable resources","Renewable resources",0.96260364494329198,0.93923540028547703,0.96260364494329198,0.96260364494329198]
[null,null,null,null,"Water","Water",0.96154484254492401,0.93825804333173901,0.96154484254492401,0.96154484254492401]
[null,null,null,null,null,"Water",0.96154484254492401,0.93825804333173901,0.96154484254492401,0.96154484254492401]
[null,null,null,null,null,"Water (ground water)",6.5139763425701006E-2,4.9496949672216101E-2,6.5139763425701006E-2,6.5139763425701006E-2]
[null,null,null,null,null,"Water (river water)"]
[null,null,null,null,null,"Water (sea water)",3.5474932931331799E-6,3.00065986789986E-6,3.5474932931331799E-6,3.5474932931331799E-6]
[null,null,null,null,null,"Water (surface water)",0.14924761454499699,0.14198826847765,0.14924761454499699,0.14924761454499699]
[]
["&Outputs"]
[]
[null,null,null,null,null,null,"marcshale nominal","marcshale prod","marcshale ext","marcshale process"]
["Flows","Flows","Flows","Flows","Flows","Flows",0.32251993896412001,0.30695469009076498,0.324938504449298,0.32233805450713199]
[null,"Resources","Resources","Resources","Resources","Resources",0.14687281348320599,0.139865320254843,0.14687281348320599,0.14687281348320599]
[null,null,"Energy resources","Energy resources","Energy resources","Energy resources",0,0,0,0]
[null,null,"Material resources","Material resources","Material resources","Material resources",0.14687281348320599,0.139865320254843,0.14687281348320599,0.14687281348320599]
[null,null,null,"Renewable resources","Renewable resources","Renewable resources",0.14687281348320599,0.139865320254843,0.14687281348320599,0.14687281348320599]
[null,null,null,null,"Water","Water",0.146872774607263,0.139865282655011,0.146872774607263,0.146872774607263,{"$f":"G15-G30","v":0.814672067937661},{"$f":"H15-H30","v":0.79839276067672804},{"$f":"I15-I30","v":0.814672067937661},{"$f":"J15-J30","v":0.814672067937661},{"$f":"L30-$AM31","v":0.79839276067672804},{"$f":"M30-$AM31","v":0.814672067937661},{"$f":"N30-$AM31","v":0.814672067937661}]
[null,null,null,null,null,"Water (feed water)",2.2882554825263402E-6,2.20135867035804E-6,2.2882554825263402E-6,2.2882554825263402E-6]
[null,null,null,null,null,"Water (river water)",0.14388150663397101,0.13701986366902499,0.14388150663397101,0.14388150663397101]
[null,null,null,null,null,"Water (sea water)"]
[null,"Ecoinvent","Ecoinvent","Ecoinvent","Ecoinvent","Ecoinvent",8.79893764018745E-6,8.6590837933829205E-6,8.79893764018745E-6,8.79893764018745E-6]
[null,"Production residues in life cycle","Production residues in life cycle","Production residues in life cycle","Production residues in life cycle","Production residues in life cycle",9.87178271806655E-7,8.8419873498525697E-7,9.87178271806655E-7,9.87178271806655E-7]
[null,null,"Waste for disposal","Waste for disposal","Waste for disposal","Waste for disposal",5.2670269515407403E-7,4.72370237873812E-7,5.2670269515407403E-7,5.2670269515407403E-7]
[null,null,null,"Waste (solid)","Waste (solid)","Waste (solid)",2.4532611055695398E-7,2.1276065494566699E-7,2.4532611055695398E-7,2.4532611055695398E-7,null,null,null,null,{"$f":"H37-$G37","v":-3.2565455611286986E-8},{"$f":"I37-$G37","v":0},{"$f":"J37-$G37","v":0}]
[null,"Emissions to air","Emissions to air","Emissions to air","Emissions to air","Emissions to air",0.16741191790130999,0.15886174940294401,0.16983048338648701,0.167230033444322]
[null,null,"Heavy metals to air","Heavy metals to air","Heavy metals to air","Heavy metals to air",7.3684858653403904E-8,4.8818352521869202E-8,7.3684858653403904E-8,7.3684858653403904E-8]
[null,null,null,"Lead (+II)","Lead (+II)","Lead (+II)",1.21963119362444E-8,8.0524548445811399E-9,1.21963119362444E-8,1.21963119362444E-8,null,null,null,null,{"$f":"H40-$G40","v":-4.1438570916632599E-9},0,0]
[null,null,null,"Mercury (+II)","Mercury (+II)","Mercury (+II)",4.0534261394862701E-10,2.9159184818072398E-10,4.0534261394862701E-10,4.0534261394862701E-10,null,null,null,null,-1.1375076576790303E-10,0,0]
[null,null,"Inorganic emissions to air","Inorganic emissions to air","Inorganic emissions to air","Inorganic emissions to air",0.14787293623096201,0.143365483833549,0.15164611741511999,0.14758793217231]
[null,null,null,"Ammonia","Ammonia","Ammonia",6.5531951560630099E-9,5.8657233246565903E-9,6.5531951560630099E-9,6.5531951560630099E-9,null,null,null,null,{"$f":"H43-$G43","v":-6.8747183140641962E-10},{"$f":"I43-$G43","v":0},{"$f":"J43-$G43","v":0}]
[null,null,null,"Carbon dioxide","Carbon dioxide","Carbon dioxide",0.143065963916958,0.13862664290939899,0.146839017710021,0.142780962819438,{"$f":"G44+G45","v":0.14306617070815017},{"$f":"H44+H45","v":0.13862682251142916},{"$f":"I44+I45","v":0.14683922450121317},{"$f":"J44+J45","v":0.14278116961063017},{"$f":"L44-$AM45","v":0.13862682251142916},{"$f":"M44-$AM45","v":0.14683922450121317},{"$f":"N44-$AM45","v":0.14278116961063017}]
[null,null,null,"Carbon dioxide (biotic)","Carbon dioxide (biotic)","Carbon dioxide (biotic)",2.06791192181514E-7,1.79602030173395E-7,2.06791192181514E-7,2.06791192181514E-7]
[null,null,null,"Carbon monoxide","Carbon monoxide","Carbon monoxide",3.4381988732547501E-4,3.3053588111975498E-4,3.4381988732547501E-4,3.4381988732547501E-4,null,null,null,null,{"$f":"H46-$G46","v":-1.3284006205720037E-5},{"$f":"I46-$G46","v":0},0]
[null,null,null,"Nitrogen oxides","Nitrogen oxides","Nitrogen oxides",3.9313693718638397E-3,3.9154345974570402E-3,3.9313693718638397E-3,3.9313693718638397E-3,null,null,null,null,{"$f":"H47-$G47","v":-1.5934774406799537E-5},0,0]
[null,null,null,"Nitrous oxide (laughing gas)","Nitrous oxide (laughing gas)","Nitrous oxide (laughing gas)",1.10468512956465E-5,1.09016026554302E-5,1.1174242390591101E-5,1.1043890162581E-5,null,null,null,null,{"$f":"H48-$G48","v":-1.4524864021630018E-7},1.273910949446009E-7,-2.9611330654995244E-9]
[null,null,null,"Sulphur dioxide","Sulphur dioxide","Sulphur dioxide",2.9951474848573499E-5,2.4603667014797499E-5,2.9951474848573499E-5,2.9951474848573499E-5,null,null,null,null,{"$f":"H49-$G49","v":-5.3478078337759997E-6},0,0]
[null,null,null,"Sulphur hexafluoride","Sulphur hexafluoride","Sulphur hexafluoride",9.3296476902734396E-10,8.8796111266250898E-10,9.3296476902734396E-10,9.3296476902734396E-10,null,null,null,null,{"$f":"H50-$G50","v":-4.5003656364834979E-11},0,0]
[null,null,"Organic emissions to air (group VOC)","Organic emissions to air (group VOC)","Organic emissions to air (group VOC)","Organic emissions to air (group VOC)",1.86893277435384E-2,1.47173918761959E-2,1.7334712044557801E-2,1.8792447345202998E-2]
[null,null,null,"Group NMVOC to air","Group NMVOC to air","Group NMVOC to air",3.1584993074795301E-3,2.4253993752422699E-3,2.9037171175903499E-3,3.1644109602303699E-3]
[null,null,null,null,"NMVOC (unspecified)","NMVOC (unspecified)",null,null,null,null,null,null,null,null,{"$f":"H53-$G53","v":0},0,0]
[null,null,null,"Methane","Methane","Methane",1.55301000411765E-2,1.2291491264032299E-2,1.4430266532085101E-2,1.5627307990090301E-2,null,null,null,null,-3.2386087771442001E-3,-1.099833509091399E-3,9.7207948913801898E-5]
[null,null,"Particles to air","Particles to air","Particles to air","Particles to air",3.1574478579593503E-5,2.42346207739885E-5,3.1574478579593503E-5,3.1574478579593503E-5]
[null,null,null,"Dust (unspecified)","Dust (unspecified)","Dust (unspecified)",6.33797789419941E-6,4.2211524888440996E-6,6.33797789419941E-6,6.33797789419941E-6,null,null,null,null,{"$f":"H56-$G56","v":-2.1168254053553104E-6},0,0]
[null,null,"Radioactive emissions to air","Radioactive emissions to air","Radioactive emissions to air","Radioactive emissions to air",4.4764333774284501E-12,3.8556805283834097E-12,4.4764333774284501E-12,4.4764333774284501E-12,null,null,null,null,-6.2075284904504036E-13,0,0]
[null,"Emissions to fresh water","Emissions to fresh water","Emissions to fresh water","Emissions to fresh water","Emissions to fresh water",8.1899681344594199E-3,8.1849944258997106E-3,8.1899681344594199E-3,8.1899681344594199E-3]
[null,null,"Heavy metals to fresh water","Heavy metals to fresh water","Heavy metals to fresh water","Heavy metals to fresh water",4.6992774779697998E-6,4.0559689462587097E-6,4.6992774779697998E-6,4.6992774779697998E-6]
[null,null,"Inorganic emissions to fresh water","Inorganic emissions to fresh water","Inorganic emissions to fresh water","Inorganic emissions to fresh water",4.2157143472067299E-5,4.0018565338432801E-5,4.2157143472067299E-5,4.2157143472067299E-5]
[null,null,null,"Aluminum (+III)","Aluminum (+III)","Aluminum (+III)",2.49124832649851E-9,2.33810812138859E-9,2.49124832649851E-9,2.49124832649851E-9,null,null,null,null,{"$f":"H61-$G61","v":-1.5314020510992003E-10},{"$f":"I61-$G61","v":0},{"$f":"J61-$G61","v":0}]
[null,null,null,"Ammonia","Ammonia","Ammonia",8.4620252076707096E-6,8.4532315678205103E-6,8.4620252076707096E-6,8.4620252076707096E-6]
[null,null,null,"Ammonium / ammonia","Ammonium / ammonia","Ammonium / ammonia",7.2609311371119504E-7,6.91047990861743E-7,7.2609311371119504E-7,7.2609311371119504E-7,{"$f":"G63+G62","v":9.1881183213819052E-6},{"$f":"H63+H62","v":9.1442795586822533E-6},{"$f":"I63+I62","v":9.1881183213819052E-6},{"$f":"J63+J62","v":9.1881183213819052E-6},{"$f":"L63-$AM64","v":9.1442795586822533E-6},{"$f":"M63-$AM64","v":9.1881183213819052E-6},{"$f":"N63-$AM64","v":9.1881183213819052E-6}]
[null,null,null,"Nitrate","Nitrate","Nitrate",6.9615167308055398E-9,6.4739164198907998E-9,6.9615167308055398E-9,6.9615167308055398E-9,null,null,null,null,{"$f":"H64-$G64","v":-4.8760031091473994E-10},{"$f":"I64-$G64","v":0},0]
[null,null,null,"Nitrogen","Nitrogen","Nitrogen",2.2416785895843299E-8,2.13343755281587E-8,2.2416785895843299E-8,2.2416785895843299E-8,null,null,null,null,{"$f":"H65-$G65","v":-1.082410367684599E-9},0,0]
[null,null,null,"Phosphate","Phosphate","Phosphate",3.7699324017455398E-11,3.4572580367247402E-11,3.7699324017455398E-11,3.7699324017455398E-11,null,null,null,null,{"$f":"H66-$G66","v":-3.1267436502079961E-12},0,0]
[null,null,null,"Phosphorus","Phosphorus","Phosphorus",6.4507035842300997E-7,5.5916062790187503E-7,6.4507035842300997E-7,6.4507035842300997E-7,null,null,null,null,{"$f":"H67-$G67","v":-8.5909730521134936E-8},0,0]
[null,"Emissions to sea water","Emissions to sea water","Emissions to sea water","Emissions to sea water","Emissions to sea water",6.0768232700197002E-6,5.1251835735569996E-6,6.0768232700197002E-6,6.0768232700197002E-6]
[null,"Emissions to industrial soil","Emissions to industrial soil","Emissions to industrial soil","Emissions to industrial soil","Emissions to industrial soil",2.9376505962722499E-5,2.7957540976788699E-5,2.9376505962722499E-5,2.9376505962722499E-5]
[null,null,"Heavy metals to industrial soil","Heavy metals to industrial soil","Heavy metals to industrial soil","Heavy metals to industrial soil",2.9359005500497001E-5,2.7942308540455102E-5,2.9359005500497001E-5,2.9359005500497001E-5,null,null,null,null,{"$f":"H70-$G70","v":-1.4166969600418997E-6},{"$f":"I70-$G70","v":0},{"$f":"J70-$G70","v":0}]

{"sheet":"LNG RMA","index":37,"n_rows":70,"n_cols":17,"rows_kept":70,"cut":false,"hidden":true,"merged":[[7,14,7,16]]}
["GaBi 4"]
[null,null,"Database:","C:\\Users\\548910\\Documents\\GaBi\\DB\\Natural Gas 090511"]
["Balance:","Natural Gas RMA_RMT","  Mass [kg]","kg","2011-09-27T15:36:03","Balance view: ",null,null,null,null,null,"LNG N","LNG V"]
["Balance object:","Natural Gas RMA/RMT [NG 2011]","2011-09-06T11:57:15","{6FF55FB5-4F71-455F-A27A-E4033A839A20}",null,null,null,null,null,null,"prod",53352.380949999999,69358.095239999995,{"$f":"M4-L4","v":16005.714289999996}]
["In/out aggregation","Yes","Weak point analysis","No","Last service pack:",17,null,null,null,null,"ext",0.51,0.25,{"$f":"M5-L5","v":-0.26}]
[null,null,null,null,null,null,null,null,null,null,"prod",1,0.75,{"$f":"M6-L6","v":-0.25}]
["&Inputs"]
[null,null,null,null,null,null,null,null,null,null,null,null,null,null,"delta"]
[null,null,null,null,null,null,"LNG","LNG (prod)","LNG (ext)","LNG (proc)","nom","prod 1","ext 1","process 1","prod","ext","process"]
["Flows","Flows","Flows","Flows","Flows","Flows",1.70478187532656,1.70364683243454,1.70478187532656,1.70478187532656]
[null,"Resources","Resources","Resources","Resources","Resources",1.70478187532656,1.70364683243454,1.70478187532656,1.70478187532656]
[null,null,"Energy resources","Energy resources","Energy resources","Energy resources",74.732765332287002,74.725418578893695,74.732765332287002,74.732765332287002,null,null,null,null,{"$f":"H12-$G12","v":-7.3467533933069262E-3},{"$f":"I12-$G12","v":0},{"$f":"J12-$G12","v":0}]
[null,null,"Material resources","Material resources","Material resources","Material resources",0.40033232314032302,0.399389482459029,0.40033232314032302,0.40033232314032302]
[null,null,null,"Renewable resources","Renewable resources","Renewable resources",0.39215967181723099,0.39124419484061301,0.39215967181723099,0.39215967181723099]
[null,null,null,null,"Water","Water",0.381341243349683,0.38042895709544999,0.381341243349683,0.381341243349683]
[null,null,null,null,null,"Water (ground water)",0.20024464833463099,0.19963182142411801,0.20024464833463099,0.20024464833463099]
[null,null,null,null,null,"Water (lake water)",1.31121946673934E-6,1.3088814867037201E-6,1.31121946673934E-6,1.31121946673934E-6]
[null,null,null,null,null,"Water (river water)"]
[null,null,null,null,null,"Water (sea water)",1.3955198853546E-4,1.3953056564800301E-4,1.3955198853546E-4,1.3955198853546E-4]
[null,null,null,null,null,"Water (surface water)",0.179088813226668,0.17880441921080201,0.179088813226668,0.179088813226668]
[]
["&Outputs"]
[]
[null,null,null,null,null,null,"LNG","LNG (prod)","LNG (ext)","LNG (proc)"]
["Flows","Flows","Flows","Flows","Flows","Flows",1.8865019765637701,1.8858181775495599,1.8861556646375399,1.8828135878913901]
[null,"Resources","Resources","Resources","Resources","Resources",1.08572995140284,1.0854554274485,1.08572995140284,1.08572995140284]
[null,null,"Energy resources","Energy resources","Energy resources","Energy resources",0,0,0,0]
[null,null,"Material resources","Material resources","Material resources","Material resources",1.08572995140284,1.0854554274485,1.08572995140284,1.08572995140284]
[null,null,null,"Renewable resources","Renewable resources","Renewable resources",1.08572995140284,1.0854554274485,1.08572995140284,1.08572995140284]
[null,null,null,null,"Water","Water",1.0857262091855899,1.08545168527586,1.0857262091855899,1.0857262091855899,{"$f":"G15-G30","v":-0.70438496583590693},{"$f":"H15-H30","v":-0.70502272818041001},{"$f":"I15-I30","v":-0.70438496583590693},{"$f":"J15-J30","v":-0.70438496583590693},{"$f":"L30-$K30","v":-6.3776234450307889E-4},{"$f":"M30-$K30","v":0},0]
[null,null,null,null,null,"Water (river water)",0.16868725645663901,0.16841844296019801,0.16868725645663901,0.16868725645663901]
[null,null,null,null,null,"Water (sea water)"]
[null,null,null,null,null,"Water (wastewater)",0.91446531919344098,0.91446419771737597,0.91446531919344098,0.91446531919344098]
[null,"Ecoinvent","Ecoinvent","Ecoinvent","Ecoinvent","Ecoinvent",3.07278346779317E-6,3.0673045173811098E-6,3.07278346779317E-6,3.07278346779317E-6]
[null,"Production residues in life cycle","Production residues in life cycle","Production residues in life cycle","Production residues in life cycle","Production residues in life cycle",5.1254788355474003E-4,5.1254384920181701E-4,5.1254788355474003E-4,5.1254788355474003E-4]
[null,null,"Waste for disposal","Waste for disposal","Waste for disposal","Waste for disposal",4.3770453820549099E-4,4.3770240966311598E-4,4.3770453820549099E-4,4.3770453820549099E-4]
[null,null,null,"Waste (solid)","Waste (solid)","Waste (solid)",1.36081990301521E-5,1.36069232374548E-5,1.36081990301521E-5,1.36081990301521E-5,null,null,null,null,{"$f":"H37-$G37","v":-1.2757926972992845E-9},{"$f":"I37-$G37","v":0},{"$f":"J37-$G37","v":0}]
[null,"Emissions to air","Emissions to air","Emissions to air","Emissions to air","Emissions to air",0.73992496046170797,0.739515982637858,0.73957864853547595,0.73623657178933399]
[null,null,"Heavy metals to air","Heavy metals to air","Heavy metals to air","Heavy metals to air",9.4833047191749596E-8,9.38588705271178E-8,9.4833047191749596E-8,9.4833047191749596E-8]
[null,null,null,"Lead (+II)","Lead (+II)","Lead (+II)",4.6246742864627298E-9,4.4623334711140102E-9,4.6246742864627298E-9,4.6246742864627298E-9,null,null,null,null,{"$f":"H40-$G40","v":-1.6234081534871959E-10},0,0]
[null,null,null,"Mercury (+II)","Mercury (+II)","Mercury (+II)",2.9430295482555302E-10,2.89846625455881E-10,2.9430295482555302E-10,2.9430295482555302E-10,null,null,null,null,-4.4563293696720278E-12,0,0]
[null,null,"Inorganic emissions to air","Inorganic emissions to air","Inorganic emissions to air","Inorganic emissions to air",0.72402491231402999,0.72369891155471899,0.72348463434681398,0.71824538745015198]
[null,null,null,"Ammonia","Ammonia","Ammonia",6.5723060551843896E-4,6.5723057858586495E-4,6.5723060551843896E-4,6.5723060551843896E-4,null,null,null,null,{"$f":"H43-$G43","v":-2.6932574009527754E-11},{"$f":"I43-$G43","v":0},{"$f":"J43-$G43","v":0}]
[null,null,null,"Carbon dioxide","Carbon dioxide","Carbon dioxide",0.71696420490065904,0.71664087833036005,0.71642394517444496,0.711184740084846,{"$f":"G44+G453","v":0.71696420490065904},{"$f":"H44+H453","v":0.71664087833036005},{"$f":"I44+I453","v":0.71642394517444496},{"$f":"J44+J453","v":0.711184740084846},{"$f":"L44-$K44","v":-3.2332657029898737E-4},{"$f":"M44-$K44","v":-5.4025972621407625E-4},-5.7794648158130402E-3]
[null,null,null,"Carbon dioxide (biotic)","Carbon dioxide (biotic)","Carbon dioxide (biotic)",1.95109196757507E-5,1.9509854506119701E-5,1.95109196757507E-5,1.95109196757507E-5]
[null,null,null,"Carbon monoxide","Carbon monoxide","Carbon monoxide",6.310726055076E-4,6.3055218785061195E-4,6.310726055076E-4,6.310726055076E-4,null,null,null,null,{"$f":"H46-$G46","v":-5.2041765698804341E-7},{"$f":"I46-$G46","v":0},0]
[null,null,null,"Nitrogen oxides","Nitrogen oxides","Nitrogen oxides",1.57905237006627E-3,1.5784281052298201E-3,1.57905237006627E-3,1.57905237006627E-3,null,null,null,null,{"$f":"H47-$G47","v":-6.2426483644992953E-7},0,0]
[null,null,null,"Nitrous oxide (laughing gas)","Nitrous oxide (laughing gas)","Nitrous oxide (laughing gas)",8.2981783829899496E-6,8.2874319932752992E-6,8.2799373819728395E-6,8.2381303182071699E-6,null,null,null,null,{"$f":"H48-$G48","v":-1.074638971465037E-8},-1.8241001017110133E-8,-6.0048064782779705E-8]
[null,null,null,"Sulphur dioxide","Sulphur dioxide","Sulphur dioxide",8.9149379162272702E-5,8.8939872061796199E-5,8.9149379162272702E-5,8.9149379162272702E-5,null,null,null,null,{"$f":"H49-$G49","v":-2.0950710047650282E-7},0,0]
[null,null,null,"Sulphur hexafluoride","Sulphur hexafluoride","Sulphur hexafluoride",9.8887727638687E-10,9.8711420152537503E-10,9.8887727638687E-10,9.8887727638687E-10,null,null,null,null,{"$f":"H50-$G50","v":-1.7630748614949655E-12},0,0]
[null,null,"Organic emissions to air (group VOC)","Organic emissions to air (group VOC)","Organic emissions to air (group VOC)","Organic emissions to air (group VOC)",7.68724655881138E-3,7.6070423989785503E-3,7.88121259979448E-3,9.7783827503148298E-3]
[null,null,null,"Group NMVOC to air","Group NMVOC to air","Group NMVOC to air",3.2255226203659998E-4,3.0794959708606301E-4,3.5903426407082699E-4,4.4243316556350599E-4]
[null,null,null,null,"NMVOC (unspecified)","NMVOC (unspecified)",null,null,null,null,null,null,null,null,{"$f":"H53-$G53","v":0},0,0]
[null,null,null,"Methane","Methane","Methane",6.5912240992302999E-3,6.5256315035469399E-3,6.7487081381791703E-3,8.5624793872068408E-3,null,null,null,null,-6.5592595683360011E-5,1.5748403894887044E-4,1.9712552879765409E-3]
[null,null,"Particles to air","Particles to air","Particles to air","Particles to air",1.7348096160834701E-5,1.7060547996323201E-5,1.7348096160834701E-5,1.7348096160834701E-5]
[null,null,null,"Dust (unspecified)","Dust (unspecified)","Dust (unspecified)",3.4805336799108499E-6,3.3976043812756199E-6,3.4805336799108499E-6,3.4805336799108499E-6,null,null,null,null,{"$f":"H56-$G56","v":-8.2929298635230092E-8},0,0]
[null,null,"Radioactive emissions to air","Radioactive emissions to air","Radioactive emissions to air","Radioactive emissions to air",1.00328884952504E-10,1.0030456617861401E-10,1.00328884952504E-10,1.00328884952504E-10,null,null,null,null,-2.4318773889994442E-14,0,0]
[null,"Emissions to fresh water","Emissions to fresh water","Emissions to fresh water","Emissions to fresh water","Emissions to fresh water",6.0087202112899203E-2,6.0087007261608399E-2,6.0087202112899203E-2,6.0087202112899203E-2]
[null,null,"Heavy metals to fresh water","Heavy metals to fresh water","Heavy metals to fresh water","Heavy metals to fresh water",3.6876154438990999E-6,3.6624130227613499E-6,3.6876154438990999E-6,3.6876154438990999E-6]
[null,null,"Inorganic emissions to fresh water","Inorganic emissions to fresh water","Inorganic emissions to fresh water","Inorganic emissions to fresh water",5.7854575615000001E-2,5.78544918335109E-2,5.7854575615000001E-2,5.7854575615000001E-2]
[null,null,null,"Aluminum (+III)","Aluminum (+III)","Aluminum (+III)",1.0786589654681099E-8,1.0780590194465501E-8,1.0786589654681099E-8,1.0786589654681099E-8,null,null,null,null,{"$f":"H61-$G61","v":-5.9994602155986849E-12},{"$f":"I61-$G61","v":0},{"$f":"J61-$G61","v":0}]
[null,null,null,"Ammonia","Ammonia","Ammonia",4.6102782901964797E-8,4.5758280996714398E-8,4.6102782901964797E-8,4.6102782901964797E-8]
[null,null,null,"Ammonium / ammonia","Ammonium / ammonia","Ammonium / ammonia",7.9145205699232398E-7,7.9007912021107704E-7,7.9145205699232398E-7,7.9145205699232398E-7,{"$f":"G63+G62","v":8.3755483989428882E-7},{"$f":"H63+H62","v":8.3583740120779142E-7},{"$f":"I63+I62","v":8.3755483989428882E-7},{"$f":"J63+J62","v":8.3755483989428882E-7},{"$f":"L63-$K63","v":-1.7174386864974021E-9},{"$f":"M63-$K63","v":0},0]
[null,null,null,"Nitrate","Nitrate","Nitrate",7.9951251342465595E-8,7.9932148986788895E-8,7.9951251342465595E-8,7.9951251342465595E-8,null,null,null,null,{"$f":"H64-$G64","v":-1.9102355676699411E-11},{"$f":"I64-$G64","v":0},0]
[null,null,null,"Nitrogen","Nitrogen","Nitrogen",2.38527050719155E-8,2.38103002838774E-8,2.38527050719155E-8,2.38527050719155E-8,null,null,null,null,{"$f":"H65-$G65","v":-4.2404788038099449E-11},0,0]
[null,null,null,"Phosphate","Phosphate","Phosphate",8.2266141932977601E-9,8.2264916991812102E-9,8.2266141932977601E-9,8.2266141932977601E-9,null,null,null,null,{"$f":"H66-$G66","v":-1.2249411654985221E-13},0,0]
[null,null,null,"Phosphorus","Phosphorus","Phosphorus",9.0626490173927697E-7,9.0289927995486596E-7,9.0626490173927697E-7,9.0626490173927697E-7,null,null,null,null,{"$f":"H67-$G67","v":-3.3656217844110141E-9},0,0]
[null,"Emissions to sea water","Emissions to sea water","Emissions to sea water","Emissions to sea water","Emissions to sea water",2.1243174187765901E-4,2.1239446019520101E-4,2.1243174187765901E-4,2.1243174187765901E-4]
[null,"Emissions to industrial soil","Emissions to industrial soil","Emissions to industrial soil","Emissions to industrial soil","Emissions to industrial soil",3.1810177416986899E-5,3.1754587678327403E-5,3.1810177416986899E-5,3.1810177416986899E-5]
[null,null,"Heavy metals to industrial soil","Heavy metals to industrial soil","Heavy metals to industrial soil","Heavy metals to industrial soil",3.1291171820536398E-5,3.12356709346449E-5,3.1291171820536398E-5,3.1291171820536398E-5,null,null,null,null,{"$f":"H70-$G70","v":-5.5500885891498228E-8},{"$f":"I70-$G70","v":0},{"$f":"J70-$G70","v":0}]

{"sheet":"tight RMA","index":38,"n_rows":70,"n_cols":17,"rows_kept":70,"cut":false,"hidden":true,"merged":[[7,14,7,16]]}
["GaBi 4"]
[null,null,"Database:","C:\\Users\\548910\\Documents\\GaBi\\DB\\Natural Gas 090511"]
["Balance:","Natural Gas RMA_RMT","  Mass [kg]","kg","2011-09-27T15:36:03","Balance view: ",null,null,null,null,null,"Tight N","Tight V"]
["Balance object:","Natural Gas RMA/RMT [NG 2011]","2011-09-06T11:57:15","{6FF55FB5-4F71-455F-A27A-E4033A839A20}",null,null,null,null,null,null,"prod",2114.2857140000001,2748.5714290000001,{"$f":"M4-L4","v":634.28571499999998}]
["In/out aggregation","Yes","Weak point analysis","No","Last service pack:",17,null,null,null,null,"ext",0.15,0.25,{"$f":"M5-L5","v":0.1}]
[null,null,null,null,null,null,null,null,null,null,"prod",1,0.75,{"$f":"M6-L6","v":-0.25}]
["&Inputs"]
[null,null,null,null,null,null,null,null,null,null,null,null,null,null,"delta"]
[null,null,null,null,null,null,"Tight","Tight (prod)","Tight (ext)","Tight (proc)","nom","prod 1","ext 1","process 1","prod","ext","process"]
["Flows","Flows","Flows","Flows","Flows","Flows",2.68198279775878,2.6585507649311602,2.68198279775878,2.68198279775878]
[null,"Resources","Resources","Resources","Resources","Resources",2.68198279775878,2.6585507649311602,2.68198279775878,2.68198279775878]
[null,null,"Energy resources","Energy resources","Energy resources","Energy resources",64.283029321083305,64.129254874718399,64.283029321083305,64.283029321083305,null,null,null,null,{"$f":"H12-$G12","v":-0.15377444636490623},{"$f":"I12-$G12","v":0},{"$f":"J12-$G12","v":0}]
[null,null,"Material resources","Material resources","Material resources","Material resources",1.5582334420375299,1.53882307895135,1.5582334420375299,1.5582334420375299]
[null,null,null,"Renewable resources","Renewable resources","Renewable resources",1.5557872958747101,1.5369402702991899,1.5557872958747101,1.5557872958747101]
[null,null,null,null,"Water","Water",1.55541332230573,1.53663198435033,1.55541332230573,1.55541332230573]
[null,null,null,null,null,"Water (ground water)",0.94010958795217303,0.92749329968567396,0.94010958795217303,0.94010958795217303]
[null,null,null,null,null,"Water (lake water)",2.08572319648684E-7,1.6044024583690499E-7,2.08572319648684E-7,2.08572319648684E-7]
[null,null,null,null,null,"Water (river water)"]
[null,null,null,null,null,"Water (sea water)",1.9191075311323602E-6,1.47807382484256E-6,1.9191075311323602E-6,1.9191075311323602E-6]
[null,null,null,null,null,"Water (surface water)",0.61395891907836497,0.60810408988617304,0.61395891907836497,0.61395891907836497]
[]
["&Outputs"]
[]
[null,null,null,null,null,null,"Tight","Tight (prod)","Tight (ext)","Tight (proc)"]
["Flows","Flows","Flows","Flows","Flows","Flows",0.55925375849168102,0.54718973120700098,0.56183932830247896,0.55907187403469305]
[null,"Resources","Resources","Resources","Resources","Resources",0.39522302575686102,0.38957132165887698,0.39522302575686102,0.39522302575686102]
[null,null,"Energy resources","Energy resources","Energy resources","Energy resources",0,0,0,0]
[null,null,"Material resources","Material resources","Material resources","Material resources",0.39522302575686102,0.38957132165887698,0.39522302575686102,0.39522302575686102]
[null,null,null,"Renewable resources","Renewable resources","Renewable resources",0.39522302575686102,0.38957132165887698,0.39522302575686102,0.39522302575686102]
[null,null,null,null,"Water","Water",0.39522299538473099,0.38957129231596099,0.39522299538473099,0.39522299538473099,{"$f":"G15-G30","v":1.160190326920999},{"$f":"H15-H30","v":1.1470606920343691},{"$f":"I15-I30","v":1.160190326920999},{"$f":"J15-J30","v":1.160190326920999},{"$f":"L30-$K30","v":-1.3129634886629882E-2},{"$f":"M30-$K30","v":0},0]
[null,null,null,null,null,"Water (river water)",2.65817326029196E-2,2.1047660089382102E-2,2.65817326029196E-2,2.65817326029196E-2]
[null,null,null,null,null,"Water (sea water)"]
[null,null,null,null,null,"Water (wastewater)",0.36823157779362198,0.36820848992807897,0.36823157779362198,0.36823157779362198]
[null,"Ecoinvent","Ecoinvent","Ecoinvent","Ecoinvent","Ecoinvent",4.8877979250328501E-7,3.7598445566232399E-7,4.8877979250328501E-7,4.8877979250328501E-7]
[null,"Production residues in life cycle","Production residues in life cycle","Production residues in life cycle","Production residues in life cycle","Production residues in life cycle",4.3241874364101801E-7,3.49363384000246E-7,4.3241874364101801E-7,4.3241874364101801E-7]
[null,null,"Waste for disposal","Waste for disposal","Waste for disposal","Waste for disposal",1.9226415516006499E-7,1.4844378153180299E-7,1.9226415516006499E-7,1.9226415516006499E-7]
[null,null,null,"Waste (solid)","Waste (solid)","Waste (solid)",1.1381407805469101E-7,8.7549290785818596E-8,1.1381407805469101E-7,1.1381407805469101E-7,null,null,null,null,{"$f":"H37-$G37","v":-2.626478726887241E-8},{"$f":"I37-$G37","v":0},{"$f":"J37-$G37","v":0}]
[null,"Emissions to air","Emissions to air","Emissions to air","Emissions to air","Emissions to air",0.157588485436916,0.15118228145808499,0.160174055247714,0.15740660097992801]
[null,null,"Heavy metals to air","Heavy metals to air","Heavy metals to air","Heavy metals to air",8.6917320895464497E-8,6.6861913058992902E-8,8.6917320895464497E-8,8.6917320895464497E-8]
[null,null,null,"Lead (+II)","Lead (+II)","Lead (+II)",1.4485196004079699E-8,1.11430801656198E-8,1.4485196004079699E-8,1.4485196004079699E-8,null,null,null,null,{"$f":"H40-$G40","v":-3.3421158384598998E-9},0,0]
[null,null,null,"Mercury (+II)","Mercury (+II)","Mercury (+II)",3.9757694697134198E-10,3.0583434400496902E-10,3.9757694697134198E-10,3.9757694697134198E-10,null,null,null,null,-9.1742602966372958E-11,0,0]
[null,null,"Inorganic emissions to air","Inorganic emissions to air","Inorganic emissions to air","Inorganic emissions to air",0.13780083366051199,0.134328891854714,0.14183455671668699,0.13751582960185901]
[null,null,null,"Ammonia","Ammonia","Ammonia",2.4261932494152099E-9,1.8717314411494699E-9,2.4261932494152099E-9,2.4261932494152099E-9,null,null,null,null,{"$f":"H43-$G43","v":-5.5446180826573991E-10},{"$f":"I43-$G43","v":0},{"$f":"J43-$G43","v":0}]
[null,null,null,"Carbon dioxide","Carbon dioxide","Carbon dioxide",0.133291842956692,0.129874845365957,0.137325429825292,0.133006841859173,{"$f":"G44+G453","v":0.133291842956692},{"$f":"H44+H453","v":0.129874845365957},{"$f":"I44+I453","v":0.137325429825292},{"$f":"J44+J453","v":0.133006841859173},{"$f":"L44-$K44","v":-3.4169975907349937E-3},{"$f":"M44-$K44","v":4.0335868686000032E-3},-2.8500109751899982E-4]
[null,null,null,"Carbon dioxide (biotic)","Carbon dioxide (biotic)","Carbon dioxide (biotic)",9.5024293348475094E-8,7.3095610246782596E-8,9.5024293348475094E-8,9.5024293348475094E-8]
[null,null,null,"Carbon monoxide","Carbon monoxide","Carbon monoxide",3.4721315779490401E-4,3.3649930194604898E-4,3.4721315779490401E-4,3.4721315779490401E-4,null,null,null,null,{"$f":"H46-$G46","v":-1.0713855848855033E-5},{"$f":"I46-$G46","v":0},0]
[null,null,null,"Nitrogen oxides","Nitrogen oxides","Nitrogen oxides",3.9241081122845601E-3,3.91125635105119E-3,3.9241081122845601E-3,3.9241081122845601E-3,null,null,null,null,{"$f":"H47-$G47","v":-1.2851761233370097E-5},0,0]
[null,null,null,"Nitrous oxide (laughing gas)","Nitrous oxide (laughing gas)","Nitrous oxide (laughing gas)",3.79003410550238E-6,3.6782020913379601E-6,3.9262216808530999E-6,3.78707297243688E-6,null,null,null,null,{"$f":"H48-$G48","v":-1.1183201416441991E-7},1.3618757535071992E-7,-2.961133065499948E-9]
[null,null,null,"Sulphur dioxide","Sulphur dioxide","Sulphur dioxide",1.9264513012875E-5,1.4951383272406999E-5,1.9264513012875E-5,1.9264513012875E-5,null,null,null,null,{"$f":"H49-$G49","v":-4.3131297404680002E-6},0,0]
[null,null,null,"Sulphur hexafluoride","Sulphur hexafluoride","Sulphur hexafluoride",1.5728478147327701E-10,1.2098829986243401E-10,1.5728478147327701E-10,1.5728478147327701E-10,null,null,null,null,{"$f":"H50-$G50","v":-3.6296481610842998E-11},0,0]
[null,null,"Organic emissions to air (group VOC)","Organic emissions to air (group VOC)","Organic emissions to air (group VOC)","Organic emissions to air (group VOC)",1.9481934287192401E-2,1.6604757996844001E-2,1.8033781041814901E-2,1.9585053888857E-2]
[null,null,null,"Group NMVOC to air","Group NMVOC to air","Group NMVOC to air",3.3060659284260699E-3,2.7750332798818899E-3,3.0336907777246199E-3,3.3119775811769202E-3]
[null,null,null,null,"NMVOC (unspecified)","NMVOC (unspecified)",null,null,null,null,null,null,null,null,{"$f":"H53-$G53","v":0},0,0]
[null,null,null,"Methane","Methane","Methane",1.6175074449220901E-2,1.3829114015525199E-2,1.4999296354544899E-2,1.6272282398134701E-2,null,null,null,null,-2.345960433695702E-3,-1.175778094676002E-3,9.7207948913800163E-5]
[null,null,"Particles to air","Particles to air","Particles to air","Particles to air",3.5147491196092299E-5,2.92277274393963E-5,3.5147491196092299E-5,3.5147491196092299E-5]
[null,null,null,"Dust (unspecified)","Dust (unspecified)","Dust (unspecified)",7.3984649647436703E-6,5.6911966980060803E-6,7.3984649647436703E-6,7.3984649647436703E-6,null,null,null,null,{"$f":"H56-$G56","v":-1.70726826673759E-6},0,0]
[null,null,"Radioactive emissions to air","Radioactive emissions to air","Radioactive emissions to air","Radioactive emissions to air",2.2758561720242999E-12,1.7752047541131199E-12,2.2758561720242999E-12,2.2758561720242999E-12,null,null,null,null,-5.0065141791117999E-13,0,0]
[null,"Emissions to fresh water","Emissions to fresh water","Emissions to fresh water","Emissions to fresh water","Emissions to fresh water",6.43301736993818E-3,6.4290059598471503E-3,6.43301736993818E-3,6.43301736993818E-3]
[null,null,"Heavy metals to fresh water","Heavy metals to fresh water","Heavy metals to fresh water","Heavy metals to fresh water",3.4180420109171502E-6,2.8991989173236402E-6,3.4180420109171502E-6,3.4180420109171502E-6]
[null,null,"Inorganic emissions to fresh water","Inorganic emissions to fresh water","Inorganic emissions to fresh water","Inorganic emissions to fresh water",2.4429671052483099E-3,2.4412422929070399E-3,2.4429671052483099E-3,2.4429671052483099E-3]
[null,null,null,"Aluminum (+III)","Aluminum (+III)","Aluminum (+III)",5.4449340751281104E-10,4.2098231780063498E-10,5.4449340751281104E-10,5.4449340751281104E-10,null,null,null,null,{"$f":"H61-$G61","v":-1.2351108971217606E-10},{"$f":"I61-$G61","v":0},{"$f":"J61-$G61","v":0}]
[null,null,null,"Ammonia","Ammonia","Ammonia",3.0734147387055298E-8,2.3641875049726999E-8,3.0734147387055298E-8,3.0734147387055298E-8]
[null,null,null,"Ammonium / ammonia","Ammonium / ammonia","Ammonium / ammonia",1.2354513256758099E-7,9.5280436767246199E-8,1.2354513256758099E-7,1.2354513256758099E-7,{"$f":"G63+G62","v":1.5427927995463629E-7},{"$f":"H63+H62","v":1.189223118169732E-7},{"$f":"I63+I62","v":1.5427927995463629E-7},{"$f":"J63+J62","v":1.5427927995463629E-7},{"$f":"L63-$K63","v":-3.5356968137663083E-8},{"$f":"M63-$K63","v":0},0]
[null,null,null,"Nitrate","Nitrate","Nitrate",2.3589933480643401E-9,1.9657325077654202E-9,2.3589933480643401E-9,2.3589933480643401E-9,null,null,null,null,{"$f":"H64-$G64","v":-3.9326084029891987E-10},{"$f":"I64-$G64","v":0},0]
[null,null,null,"Nitrogen","Nitrogen","Nitrogen",3.7829623250447503E-9,2.9099735241447899E-9,3.7829623250447503E-9,3.7829623250447503E-9,null,null,null,null,{"$f":"H65-$G65","v":-8.7298880089996044E-10},0,0]
[null,null,null,"Phosphate","Phosphate","Phosphate",1.1833966064824399E-11,9.3121755578139894E-12,1.1833966064824399E-11,1.1833966064824399E-11,null,null,null,null,{"$f":"H66-$G66","v":-2.52179050701041E-12},0,0]
[null,null,null,"Phosphorus","Phosphorus","Phosphorus",3.0024900335843998E-7,2.30960834220045E-7,3.0024900335843998E-7,3.0024900335843998E-7,null,null,null,null,{"$f":"H67-$G67","v":-6.9288169138394975E-8},0,0]
[null,"Emissions to sea water","Emissions to sea water","Emissions to sea water","Emissions to sea water","Emissions to sea water",3.3494272280558298E-6,2.5819079744469701E-6,3.3494272280558298E-6,3.3494272280558298E-6]
[null,"Emissions to industrial soil","Emissions to industrial soil","Emissions to industrial soil","Emissions to industrial soil","Emissions to industrial soil",4.9593022018582603E-6,3.8148743780199702E-6,4.9593022018582603E-6,4.9593022018582603E-6]
[null,null,"Heavy metals to industrial soil","Heavy metals to industrial soil","Heavy metals to industrial soil","Heavy metals to industrial soil",4.9512911452121698E-6,3.8086925363027898E-6,4.9512911452121698E-6,4.9512911452121698E-6,null,null,null,null,{"$f":"H70-$G70","v":-1.14259860890938E-6},{"$f":"I70-$G70","v":0},{"$f":"J70-$G70","v":0}]

{"sheet":"mix RMA","index":39,"n_rows":70,"n_cols":17,"rows_kept":70,"cut":false,"hidden":true,"merged":[[7,14,7,16]]}
["GaBi 4",null,"2009 Avg"]
[null,null,"Database:","C:\\Users\\548910\\Documents\\GaBi\\DB\\Natural Gas 090511"]
["Balance:","Natural Gas RMA_RMT","  Mass [kg]","kg","2011-09-27T15:36:03","Balance view: ",null,null,null,null,null,"Mix N","Mix V"]
["Balance object:","Natural Gas RMA/RMT [NG 2011]","2011-09-06T11:57:15","{6FF55FB5-4F71-455F-A27A-E4033A839A20}",null,null,null,null,null,null,"prod",1,0,{"$f":"M4-L4","v":-1}]
["In/out aggregation","Yes","Weak point analysis","No","Last service pack:",17,null,null,null,null,"ext",1,0,{"$f":"M5-L5","v":-1}]
[null,null,null,null,null,null,null,null,null,null,"prod",1,0,{"$f":"M6-L6","v":-1}]
["&Inputs"]
[null,null,null,null,null,null,null,null,null,null,null,null,null,null,"delta"]
[null,null,null,null,null,null,"Mix","Mix (prod)","Mix (ext)","Mix (proc)","nom","prod 1","ext 1","process 1","prod","ext","process"]
["Flows","Flows","Flows","Flows","Flows","Flows",2.3537609893851696,2.3537609893851696,2.3537609893851696,2.3537609893851696]
[null,"Resources","Resources","Resources","Resources","Resources",2.3537609893851696,2.3537609893851696,2.3537609893851696,2.3537609893851696]
[null,null,"Energy resources","Energy resources","Energy resources","Energy resources",64.225471210600546,64.225471210600546,64.225471210600546,64.225471210600546,null,null,null,null,{"$f":"H12-$G12","v":0},{"$f":"I12-$G12","v":0},{"$f":"J12-$G12","v":0}]
[null,null,"Material resources","Material resources","Material resources","Material resources",1.2307658744482977,1.2307658744482977,1.2307658744482977,1.2307658744482977]
[null,null,null,"Renewable resources","Renewable resources","Renewable resources",1.2284171414208227,1.2284171414208227,1.2284171414208227,1.2284171414208227]
[null,null,null,null,"Water","Water",1.227020995862306,1.227020995862306,1.227020995862306,1.227020995862306]
[null,null,null,null,null,"Water (ground water)",0.57821726496412928,0.57821726496412928,0.57821726496412928,0.57821726496412928]
[null,null,null,null,null,"Water (lake water)",1.8272716533357998E-2,1.8272716533357998E-2,1.8272716533357998E-2,1.8272716533357998E-2]
[null,null,null,null,null,"Water (river water)"]
[null,null,null,null,null,"Water (sea water)",2.3565767745823723E-6,2.3565767745823723E-6,2.3565767745823723E-6,2.3565767745823723E-6]
[null,null,null,null,null,"Water (surface water)",0.62840240485298626,0.62840240485298626,0.62840240485298626,0.62840240485298626]
[]
["&Outputs"]
[]
[null,null,null,null,null,null,"Mix","Mix (prod)","Mix (ext)","Mix (proc)"]
["Flows","Flows","Flows","Flows","Flows","Flows",1.6201543090539658,1.6201543090539658,1.618879929317669,1.619452511685727]
[null,"Resources","Resources","Resources","Resources","Resources",1.4362695284799381,1.4362695284799381,1.4362695284799381,1.4362695284799381]
[null,null,"Energy resources","Energy resources","Energy resources","Energy resources",0,0,0,0]
[null,null,"Material resources","Material resources","Material resources","Material resources",1.4362695284799381,1.4362695284799381,1.4362695284799381,1.4362695284799381]
[null,null,null,"Renewable resources","Renewable resources","Renewable resources",1.4362695284799381,1.4362695284799381,1.4362695284799381,1.4362695284799381]
[null,null,null,null,"Water","Water",1.4362694869536268,1.4362694869536268,1.4362694869536268,1.4362694869536268,{"$f":"G15-G30","v":-0.20924849109132082},{"$f":"H15-H30","v":-0.20924849109132082},{"$f":"I15-I30","v":-0.20924849109132082},{"$f":"J15-J30","v":-0.20924849109132082},{"$f":"L30-$K30","v":0},{"$f":"M30-$K30","v":0},0]
[null,null,null,null,null,"Water (river water)",0.24168550634526192,0.24168550634526192,0.24168550634526192,0.24168550634526192]
[null,null,null,null,null,"Water (sea water)"]
[null,null,null,null,null,"Water (wastewater)",1.1904626485732248,1.1904626485732248,1.1904626485732248,1.1904626485732248]
[null,"Ecoinvent","Ecoinvent","Ecoinvent","Ecoinvent","Ecoinvent",5.0605411909882475E-6,5.0605411909882475E-6,5.0605411909882475E-6,5.0605411909882475E-6]
[null,"Production residues in life cycle","Production residues in life cycle","Production residues in life cycle","Production residues in life cycle","Production residues in life cycle",1.0507099412726206E-6,1.0507099412726206E-6,1.0507099412726206E-6,1.0507099412726206E-6]
[null,null,"Waste for disposal","Waste for disposal","Waste for disposal","Waste for disposal",6.091530444142195E-7,6.091530444142195E-7,6.091530444142195E-7,6.091530444142195E-7]
[null,null,null,"Waste (solid)","Waste (solid)","Waste (solid)",2.146321843809195E-7,2.146321843809195E-7,2.146321843809195E-7,2.146321843809195E-7,null,null,null,null,{"$f":"H37-$G37","v":0},{"$f":"I37-$G37","v":0},{"$f":"J37-$G37","v":0}]
[null,"Emissions to air","Emissions to air","Emissions to air","Emissions to air","Emissions to air",0.1621320758601269,0.1621320758601269,0.16085769612382839,0.16143027849188726]
[null,null,"Heavy metals to air","Heavy metals to air","Heavy metals to air","Heavy metals to air",7.9914490009782636E-8,7.9914490009782636E-8,7.9914490009782636E-8,7.9914490009782636E-8]
[null,null,null,"Lead (+II)","Lead (+II)","Lead (+II)",1.3184310933217974E-8,1.3184310933217974E-8,1.3184310933217974E-8,1.3184310933217974E-8,null,null,null,null,{"$f":"H40-$G40","v":0},0,0]
[null,null,null,"Mercury (+II)","Mercury (+II)","Mercury (+II)",4.8798951644595183E-10,4.8798951644595183E-10,4.8798951644595183E-10,4.8798951644595183E-10,null,null,null,null,0,0,0]
[null,null,"Inorganic emissions to air","Inorganic emissions to air","Inorganic emissions to air","Inorganic emissions to air",0.14555941139767928,0.14555941139767928,0.14357126360017558,0.14445972920596131]
[null,null,null,"Ammonia","Ammonia","Ammonia",7.4769312571311159E-9,7.4769312571311159E-9,7.4769312571311159E-9,7.4769312571311159E-9,null,null,null,null,{"$f":"H43-$G43","v":0},{"$f":"I43-$G43","v":0},{"$f":"J43-$G43","v":0}]
[null,null,null,"Carbon dioxide","Carbon dioxide","Carbon dioxide",0.14132929803498165,0.14132929803498165,0.13934121736182523,0.14022962726873345,{"$f":"G44+G453","v":0.14132929803498165},{"$f":"H44+H453","v":0.14132929803498165},{"$f":"I44+I453","v":0.13934121736182523},{"$f":"J44+J453","v":0.14022962726873345},{"$f":"L44-$K44","v":0},{"$f":"M44-$K44","v":-1.9880806731564227E-3},-1.0996707662482008E-3]
[null,null,null,"Carbon dioxide (biotic)","Carbon dioxide (biotic)","Carbon dioxide (biotic)",1.8325601803151047E-7,1.8325601803151047E-7,1.8325601803151047E-7,1.8325601803151047E-7]
[null,null,null,"Carbon monoxide","Carbon monoxide","Carbon monoxide",2.9548897309195527E-4,2.9548897309195527E-4,2.9548897309195527E-4,2.9548897309195527E-4,null,null,null,null,{"$f":"H46-$G46","v":0},{"$f":"I46-$G46","v":0},0]
[null,null,null,"Nitrogen oxides","Nitrogen oxides","Nitrogen oxides",3.2740732494644384E-3,3.2740732494644384E-3,3.2740732494644384E-3,3.2740732494644384E-3,null,null,null,null,{"$f":"H47-$G47","v":0},0,0]
[null,null,null,"Nitrous oxide (laughing gas)","Nitrous oxide (laughing gas)","Nitrous oxide (laughing gas)",4.5624939364972363E-6,4.5624939364972363E-6,4.4953695890370449E-6,4.5510684665764391E-6,null,null,null,null,{"$f":"H48-$G48","v":0},-6.7124347460191386E-8,-1.1425469920797201E-8]
[null,null,null,"Sulphur dioxide","Sulphur dioxide","Sulphur dioxide",3.9891748509536147E-5,3.9891748509536147E-5,3.9891748509536147E-5,3.9891748509536147E-5,null,null,null,null,{"$f":"H49-$G49","v":0},0,0]
[null,null,null,"Sulphur hexafluoride","Sulphur hexafluoride","Sulphur hexafluoride",1.5818385199543816E-9,1.5818385199543816E-9,1.5818385199543816E-9,1.5818385199543816E-9,null,null,null,null,{"$f":"H50-$G50","v":0},0,0]
[null,null,"Organic emissions to air (group VOC)","Organic emissions to air (group VOC)","Organic emissions to air (group VOC)","Organic emissions to air (group VOC)",1.5443143131065588E-2,1.5443143131065588E-2,1.615691119227082E-2,1.5841027954543997E-2]
[null,null,null,"Group NMVOC to air","Group NMVOC to air","Group NMVOC to air",2.5680161509500144E-3,2.5680161509500144E-3,2.7022648458704095E-3,2.5908261392865199E-3]
[null,null,null,null,"NMVOC (unspecified)","NMVOC (unspecified)",null,null,null,null,null,null,null,null,{"$f":"H53-$G53","v":0},0,0]
[null,null,null,"Methane","Methane","Methane",1.2874383161510624E-2,1.2874383161510624E-2,1.3453902527795464E-2,1.324945799665252E-2,null,null,null,null,0,5.7951936628483983E-4,3.7507483514189616E-4]
[null,null,"Particles to air","Particles to air","Particles to air","Particles to air",3.2101672148321461E-5,3.2101672148321461E-5,3.2101672148321461E-5,3.2101672148321461E-5]
[null,null,null,"Dust (unspecified)","Dust (unspecified)","Dust (unspecified)",6.9145582422432719E-6,6.9145582422432719E-6,6.9145582422432719E-6,6.9145582422432719E-6,null,null,null,null,{"$f":"H56-$G56","v":0},0,0]
[null,null,"Radioactive emissions to air","Radioactive emissions to air","Radioactive emissions to air","Radioactive emissions to air",3.5311343794822121E-12,3.5311343794822121E-12,3.5311343794822121E-12,3.5311343794822121E-12,null,null,null,null,0,0,0]
[null,"Emissions to fresh water","Emissions to fresh water","Emissions to fresh water","Emissions to fresh water","Emissions to fresh water",2.1692926448945517E-2,2.1692926448945517E-2,2.1692926448945517E-2,2.1692926448945517E-2]
[null,null,"Heavy metals to fresh water","Heavy metals to fresh water","Heavy metals to fresh water","Heavy metals to fresh water",2.3175661558035425E-5,2.3175661558035425E-5,2.3175661558035425E-5,2.3175661558035425E-5]
[null,null,"Inorganic emissions to fresh water","Inorganic emissions to fresh water","Inorganic emissions to fresh water","Inorganic emissions to fresh water",1.311354020126829E-2,1.311354020126829E-2,1.311354020126829E-2,1.311354020126829E-2]
[null,null,null,"Aluminum (+III)","Aluminum (+III)","Aluminum (+III)",3.8926377146531886E-9,3.8926377146531886E-9,3.8926377146531886E-9,3.8926377146531886E-9,null,null,null,null,{"$f":"H61-$G61","v":0},{"$f":"I61-$G61","v":0},{"$f":"J61-$G61","v":0}]
[null,null,null,"Ammonia","Ammonia","Ammonia",2.3629945688751729E-7,2.3629945688751729E-7,2.3629945688751729E-7,2.3629945688751729E-7]
[null,null,null,"Ammonium / ammonia","Ammonium / ammonia","Ammonium / ammonia",1.2296496112559182E-6,1.2296496112559182E-6,1.2296496112559182E-6,1.2296496112559182E-6,{"$f":"G63+G62","v":1.4659490681434354E-6},{"$f":"H63+H62","v":1.4659490681434354E-6},{"$f":"I63+I62","v":1.4659490681434354E-6},{"$f":"J63+J62","v":1.4659490681434354E-6},{"$f":"L63-$K63","v":0},{"$f":"M63-$K63","v":0},0]
[null,null,null,"Nitrate","Nitrate","Nitrate",9.5644527670416445E-9,9.5644527670416445E-9,9.5644527670416445E-9,9.5644527670416445E-9,null,null,null,null,{"$f":"H64-$G64","v":0},{"$f":"I64-$G64","v":0},0]
[null,null,null,"Nitrogen","Nitrogen","Nitrogen",3.7996995943612016E-8,3.7996995943612016E-8,3.7996995943612016E-8,3.7996995943612016E-8,null,null,null,null,{"$f":"H65-$G65","v":0},0,0]
[null,null,null,"Phosphate","Phosphate","Phosphate",5.0139744640679103E-11,5.0139744640679103E-11,5.0139744640679103E-11,5.0139744640679103E-11,null,null,null,null,{"$f":"H66-$G66","v":0},0,0]
[null,null,null,"Phosphorus","Phosphorus","Phosphorus",3.7049796939491718E-7,3.7049796939491718E-7,3.7049796939491718E-7,3.7049796939491718E-7,null,null,null,null,{"$f":"H67-$G67","v":0},0,0]
[null,"Emissions to sea water","Emissions to sea water","Emissions to sea water","Emissions to sea water","Emissions to sea water",3.8780618252967064E-6,3.8780618252967064E-6,3.8780618252967064E-6,3.8780618252967064E-6]
[null,"Emissions to industrial soil","Emissions to industrial soil","Emissions to industrial soil","Emissions to industrial soil","Emissions to industrial soil",4.9788951997637506E-5,4.9788951997637506E-5,4.9788951997637506E-5,4.9788951997637506E-5]
[null,null,"Heavy metals to industrial soil","Heavy metals to industrial soil","Heavy metals to industrial soil","Heavy metals to industrial soil",4.9773207934925327E-5,4.9773207934925327E-5,4.9773207934925327E-5,4.9773207934925327E-5,null,null,null,null,{"$f":"H70-$G70","v":0},{"$f":"I70-$G70","v":0},{"$f":"J70-$G70","v":0}]

{"sheet":"Sheet3","index":40,"n_rows":6,"n_cols":18,"rows_kept":6,"cut":false,"hidden":true,"merged":[]}
[]
[]
[null,null,"Onshore N","Onshore V","Assoc N","Assoc V","Off N","Off V","Barnett N","Barnett V","CBM N","CBM V","Marc N","Marc V","LNG N","LNG V","Tight N","Tight V"]
[null,"prod",14903,16000,7603,8000,117703,127703,5219,6000,388,500,19051,20000,117703,127703,2092,3000]
[null,"ext",0.51,0.25,0.51,0.25,0.51,0.25,0.15,0.25,0.51,0.25,0.51,0.25,0.51,0.25,0.15,0.25]
[null,"prod",1,0.75,1,0.75,1,0.75,1,0.75,1,0.75,1,0.75,1,0.75,1,0.75]

{"sheet":"NG pull","index":41,"n_rows":70,"n_cols":38,"rows_kept":70,"cut":false,"hidden":true,"merged":[]}
["GaBi 4"]
[null,null,"Database:","C:\\Documents and Settings\\548910\\My Documents\\GaBi\\DB\\Natural Gas 050311"]
["Balance:","Natural Gas RMA_RMT","  Mass [kg]","kg","2011-05-18T16:00:19","Balance view: ","UP Upstreams2"]
["Balance object:","Natural Gas RMA/RMT [NG 2011]","2011-05-05T07:32:33","{6FF55FB5-4F71-455F-A27A-E4033A839A20}"]
["In/out aggregation","Yes","Weak point analysis","No","Last service pack:",16]
[]
["&Inputs"]
[]
[null,null,null,null,null,null,"onshore nominal","onshore prod","onshore ext","onshore process","assoc nominal","assoc prod","assoc ext","assoc process","offshore nominal","offshore prod","offshore ext","offshore process","barnett nominal","barnett prod","barnett ext","barnett process","cbm nominal","cbm prod","cbm ext","cbm process","marcshale nominal","marcshale prod","marcshale ext","marcshale process","LNG nominal","LNG prod","LNG ext","LNG process","tight nom","tight prod","tight ext","tight process"]
["Flows","Flows","Flows","Flows","Flows","Flows",14.012801410789599,14.0000795274875,14.012801410789599,14.012801410789599,14.023892763253601,14.014134355487499,14.023892763253601,14.023892763253601,1.21490082404146,1.21260837990697,1.21490082404146,1.21490082404146,34.911122948450704,34.766139970758097,34.911122948450704,34.911122948450704,11.453224143430401,9.1597979556276403,11.453224143430401,11.453224143430401,2.46879692544859,2.4737344718430201,2.4737344718430201,2.4737344718430201,6.4995378381193998,6.4974917569039299,6.4995378381193998,6.4995378381193998,30.2919989749637,29.818405212544199,30.2919989749637,30.2919989749637]
[null,"Resources","Resources","Resources","Resources","Resources",14.012801410789599,14.0000795274875,14.012801410789599,14.012801410789599,14.023892763253601,14.014134355487499,14.023892763253601,14.023892763253601,1.21490082404146,1.21260837990697,1.21490082404146,1.21490082404146,34.911122948450704,34.766139970758097,34.911122948450704,34.911122948450704,11.453224143430401,9.1597979556276403,11.453224143430401,11.453224143430401,2.46879692544859,2.4737344718430201,2.4737344718430201,2.4737344718430201,6.4995378381193998,6.4974917569039299,6.4995378381193998,6.4995378381193998,30.2919989749637,29.818405212544199,30.2919989749637,30.2919989749637]
[null,null,"Energy resources","Energy resources","Energy resources","Energy resources",0.15436198922657601,0.15041362560497101,0.15436198922657601,0.15436198922657601,0.104350875186157,0.10397488208453801,0.104350875186157,0.104350875186157,7.0042210090402193E-2,6.9452339571264302E-2,7.0042210090402193E-2,7.0042210090402193E-2,0.76305719264471095,0.71248432401970996,0.76305719264471095,0.76305719264471095,0.50491403877799701,0.41349071220369699,0.50491403877799701,0.50491403877799701,0.14047061824878199,0.14065832059243499,0.14065832059243499,0.14065832059243499,0.45898532933039199,0.458907522737313,0.45898532933039199,0.45898532933039199,0.50484644107840804,0.38133657247997099,0.50484644107840804,0.50484644107840804]
[null,null,"Material resources","Material resources","Material resources","Material resources",13.858439421563,13.8496659018826,13.858439421563,13.858439421563,13.9195418880674,13.910159473403001,13.9195418880674,13.9195418880674,1.1448586139510599,1.1431560403357,1.1448586139510599,1.1448586139510599,34.148065755806002,34.053655646738399,34.148065755806002,34.148065755806002,10.9483101046524,8.7463072434239404,10.9483101046524,10.9483101046524,2.3283263071997999,2.33307615125059,2.33307615125059,2.33307615125059,6.04055250878901,6.0385842341666196,6.04055250878901,6.04055250878901,29.787152533885301,29.437068640064201,29.787152533885301,29.787152533885301]
[null,null,null,"Renewable resources","Renewable resources","Renewable resources",13.858439421563,13.8496659018826,13.858439421563,13.858439421563,13.9195418880674,13.910159473403001,13.9195418880674,13.9195418880674,1.1448586139510599,1.1431560403357,1.1448586139510599,1.1448586139510599,34.148065755806002,34.053655646738399,34.148065755806002,34.148065755806002,10.9483101046524,8.7463072434239404,10.9483101046524,10.9483101046524,2.3283263071997999,2.33307615125059,2.33307615125059,2.33307615125059,6.04055250878901,6.0385842341666196,6.04055250878901,6.04055250878901,29.787152533885301,29.437068640064201,29.787152533885301,29.787152533885301]
[null,null,null,null,"Water","Water",13.858439421563,13.8496659018826,13.858439421563,13.858439421563,13.9195418880674,13.910159473403001,13.9195418880674,13.9195418880674,1.1448586139510599,1.1431560403357,1.1448586139510599,1.1448586139510599,34.148065755806002,34.053655646738399,34.148065755806002,34.148065755806002,10.9483101046524,8.7463072434239404,10.9483101046524,10.9483101046524,2.3283263071997999,2.33307615125059,2.33307615125059,2.33307615125059,6.04055250878901,6.0385842341666196,6.04055250878901,6.04055250878901,29.787152533885301,29.437068640064201,29.787152533885301,29.787152533885301]
[null,null,null,null,null,"Water",3.6997639594832702E-3,3.53485843316108E-3,3.6997639594832702E-3,3.6997639594832702E-3,4.84823512789085E-3,4.6718849189937902E-3,4.84823512789085E-3,4.84823512789085E-3,5.5808240835289501E-3,5.5488228105657804E-3,5.5808240835289501E-3,5.5808240835289501E-3,1.57676104900508E-2,1.3993094754870299E-2,1.57676104900508E-2,1.57676104900508E-2,0.18605993174026,0.14467249262013901,0.18605993174026,0.18605993174026,2.22449916516754E-2,2.2334268881529399E-2,2.2334268881529399E-2,2.2334268881529399E-2,2.0054150252119599E-2,2.00171558196689E-2,2.0054150252119599E-2,2.0054150252119599E-2,2.3035046705789101E-2,1.6454931669867501E-2,2.3035046705789101E-2,2.3035046705789101E-2]
[null,null,null,null,null,"Water (ground water)",6.5767288580528396,6.56901637655701,6.5767288580528396,6.5767288580528396,6.6304418101435303,6.6221940712518297,6.6304418101435303,6.6304418101435303,0.177440796158186,0.175944125724661,0.177440796158186,0.177440796158186,17.328193569642401,17.245201082508299,17.328193569642401,17.328193569642401,8.79931887826144,6.8636659896498298,8.79931887826144,8.79931887826144,0.48754334298121599,0.49171875782997199,0.49171875782997199,0.49171875782997199,3.7567140613003001,3.7549838653384899,3.7567140613003001,3.7567140613003001,17.682275537867099,17.3745295418003,17.682275537867099,17.682275537867099]
[null,null,null,null,null,"Water (river water)",0,0,0,0,0,0,0,0,0,0,0,0,0,0,0,0,0,0,0,0,0,0,0,0,0,0,0,0,0,0,0,0]
[null,null,null,null,null,"Water (sea water)",0,0,0,0,0,0,0,0,0,0,0,0,0,0,0,0,1.64684454820505E-4,1.10537399095263E-4,1.64684454820505E-4,1.64684454820505E-4,0,0,0,0,2.4473269866745399E-3,2.44727858697554E-3,2.4473269866745399E-3,2.4473269866745399E-3,0,0,0,0]
[null,null,null,null,null,"Water (surface water)",7.2780107995507199,7.2771146668923903,7.2780107995507199,7.2780107995507199,7.2842518427960101,7.28329351723215,7.2842518427960101,7.2842518427960101,0.96183699370934705,0.96166309180047704,0.96183699370934705,0.96183699370934705,16.804104575673598,16.794461469475198,16.804104575673598,16.804104575673598,1.9627666101958401,1.7378582237548701,1.9627666101958401,1.9627666101958401,1.81853797256691,1.81902312453909,1.81902312453909,1.81902312453909,2.2613369702499102,2.2611359344214899,2.2613369702499102,2.2613369702499102,12.0818419493124,12.046084166594101,12.0818419493124,12.0818419493124]
[]
["&Outputs"]
[]
[null,null,null,null,null,null,"onshore nominal","onshore prod","onshore ext","onshore process","assoc nominal","assoc prod","assoc ext","assoc process","offshore nominal","offshore prod","offshore ext","offshore process","barnett nominal","barnett prod","barnett ext","barnett process","cbm nominal","cbm prod","cbm ext","cbm process","marcshale nominal","marcshale prod","marcshale ext","marcshale process","LNG nominal","LNG prod","LNG ext","LNG process","tight nom","tight prod","tight ext","tight process"]
["Flows","Flows","Flows","Flows","Flows","Flows",4.6098557600563304,4.6012951231600097,4.5857442511490003,4.6064598080179397,4.5261776989257898,4.5241341008354796,4.5252087222321302,4.5227817468874001,4.5863795701642802,4.5850443267501504,4.5829721674728603,4.5269762444383899,8.8673960666831402,8.7890221604850201,8.9289584637828607,8.8500272001684106,6.6525387851058602,6.1669921408449504,6.6399891715177199,6.6491428330674696,5.5259911505511203,5.5270491395337098,5.5316093770198398,5.5099801294211099,16.690033073222899,16.6896062970117,16.689502221729601,16.686091807445401,5.1823287084093002,4.9709071313215096,5.2443692179671597,5.1789327563708998]
[null,"Resources","Resources","Resources","Resources","Resources",0.79685862642411298,0.79621374669072298,0.79685862642411298,0.79685862642411298,0.80134983904388402,0.80066020372217495,0.80134983904388402,0.80134983904388402,0.78992095318117805,0.78979580896778001,0.78992095318117805,0.78992095318117805,4.3336581142687596,4.3267186910746398,4.3336581142687596,4.3336581142687596,1.51016118443674,1.3482572722414701,1.51016118443674,1.51016118443674,1.5026696783293101,1.5030188059629901,1.5030188059629901,1.5030188059629901,1.82706636941082,1.8269216495384599,1.82706636941082,1.82706636941082,0.872471204489491,0.84673899936164698,0.872471204489491,0.872471204489491]
[null,null,"Energy resources","Energy resources","Energy resources","Energy resources",0,0,0,0,0,0,0,0,0,0,0,0,0,0,0,0,0,0,0,0,0,0,0,0,0,0,0,0,0,0,0,0]
[null,null,"Material resources","Material resources","Material resources","Material resources",0.79685862642411298,0.79621374669072298,0.79685862642411298,0.79685862642411298,0.80134983904388402,0.80066020372217495,0.80134983904388402,0.80134983904388402,0.78992095318117805,0.78979580896778001,0.78992095318117805,0.78992095318117805,4.3336581142687596,4.3267186910746398,4.3336581142687596,4.3336581142687596,1.51016118443674,1.3482572722414701,1.51016118443674,1.51016118443674,1.5026696783293101,1.5030188059629901,1.5030188059629901,1.5030188059629901,1.82706636941082,1.8269216495384599,1.82706636941082,1.82706636941082,0.872471204489491,0.84673899936164698,0.872471204489491,0.872471204489491]
[null,null,null,"Renewable resources","Renewable resources","Renewable resources",0.79685862642411298,0.79621374669072298,0.79685862642411298,0.79685862642411298,0.80134983904388402,0.80066020372217495,0.80134983904388402,0.80134983904388402,0.78992095318117805,0.78979580896778001,0.78992095318117805,0.78992095318117805,4.3336581142687596,4.3267186910746398,4.3336581142687596,4.3336581142687596,1.51016118443674,1.3482572722414701,1.51016118443674,1.51016118443674,1.5026696783293101,1.5030188059629901,1.5030188059629901,1.5030188059629901,1.82706636941082,1.8269216495384599,1.82706636941082,1.82706636941082,0.872471204489491,0.84673899936164698,0.872471204489491,0.872471204489491]
[null,null,null,null,"Water","Water",0.79685862642411298,0.79621374669072298,0.79685862642411298,0.79685862642411298,0.80134983904388402,0.80066020372217495,0.80134983904388402,0.80134983904388402,0.78992095318117805,0.78979580896778001,0.78992095318117805,0.78992095318117805,4.3336581142687596,4.3267186910746398,4.3336581142687596,4.3336581142687596,1.51016118443674,1.3482572722414701,1.51016118443674,1.51016118443674,1.5026696783293101,1.5030188059629901,1.5030188059629901,1.5030188059629901,1.82706636941082,1.8269216495384599,1.82706636941082,1.82706636941082,0.872471204489491,0.84673899936164698,0.872471204489491,0.872471204489491]
[null,null,null,null,null,"Water (feed water)",6.1627950416984301E-5,6.1632426962770798E-5,6.1627950416984301E-5,6.1627950416984301E-5,6.1596773876788794E-5,6.1601561101342101E-5,6.1596773876788794E-5,6.1596773876788794E-5,6.1411000979244896E-5,6.1411869689753494E-5,6.1411000979244896E-5,6.1411000979244896E-5,1.3646334652691699E-4,1.3651151775025E-4,1.3646334652691699E-4,1.3646334652691699E-4,5.6677578777477997E-5,5.7801087311964202E-5,5.6677578777477997E-5,5.6677578777477997E-5,8.4200539960900794E-5,8.4198116430191696E-5,8.4198116430191696E-5,8.4198116430191696E-5,0,0,0,0,6.110307244328E-5,6.1281697058813799E-5,6.110307244328E-5,6.110307244328E-5]
[null,null,null,null,null,"Water (river water)",0.79672310169766902,0.79607800174235499,0.79672310169766902,0.79672310169766902,0.80121584803517798,0.80052597720782503,0.80121584803517798,0.80121584803517798,0.78978955017063202,0.78966436322135902,0.78978955017063202,0.78978955017063202,4.3329660481763703,4.3260242552176997,4.3329660481763703,4.3329660481763703,1.5101045068579599,1.3481994711541601,1.5101045068579599,1.5101045068579599,1.5024707686029299,1.5028200154612601,1.5028200154612601,1.5028200154612601,1.82706636941082,1.8269216495384599,1.82706636941082,1.82706636941082,0.87236150093029596,0.84662050843414305,0.87236150093029596,0.87236150093029596]
[null,null,null,null,null,"Water (sea water)",7.3896776026646899E-5,7.4112521405269002E-5,7.3896776026646899E-5,7.3896776026646899E-5,7.2394234828721801E-5,7.2624953249366095E-5,7.2394234828721801E-5,7.2394234828721801E-5,6.9992009566845204E-5,7.0033876731068304E-5,6.9992009566845204E-5,6.9992009566845204E-5,5.5560274586255302E-4,5.5792433918750502E-4,5.5560274586255302E-4,5.5560274586255302E-4,0,0,0,0,1.14709186418811E-4,1.14592385301306E-4,1.14592385301306E-4,1.14592385301306E-4,0,0,0,0,4.8600486751804399E-5,5.7209230445620703E-5,4.8600486751804399E-5,4.8600486751804399E-5]
[null,"Ecoinvent","Ecoinvent","Ecoinvent","Ecoinvent","Ecoinvent",0,0,0,0,0,0,0,0,0,0,0,0,0,0,0,0,0,0,0,0,0,0,0,0,0,0,0,0,0,0,0,0]
[null,"Production residues in life cycle","Production residues in life cycle","Production residues in life cycle","Production residues in life cycle","Production residues in life cycle",3.1062460180831399E-7,2.9571498110721199E-7,3.1062460180831399E-7,3.1062460180831399E-7,4.14461446388365E-7,3.9851707639752498E-7,4.14461446388365E-7,4.14461446388365E-7,4.6463439275535603E-7,4.6174105829607801E-7,4.6463439275535603E-7,4.6463439275535603E-7,1.325733930365E-6,1.1652944525030701E-6,1.325733930365E-6,1.325733930365E-6,1.67983736375112E-5,1.30564067499652E-5,1.67983736375112E-5,1.67983736375112E-5,1.97252459602581E-6,1.9805964276014599E-6,1.9805964276014599E-6,1.9805964276014599E-6,2.5268949416657198E-4,2.5268614938505902E-4,2.5268949416657198E-4,2.5268949416657198E-4,2.0587875550179401E-6,1.46385892198031E-6,2.0587875550179401E-6,2.0587875550179401E-6]
[null,null,"Waste for disposal","Waste for disposal","Waste for disposal","Waste for disposal",3.1062460180831399E-7,2.9571498110721199E-7,3.1062460180831399E-7,3.1062460180831399E-7,4.14461446388365E-7,3.9851707639752498E-7,4.14461446388365E-7,4.14461446388365E-7,4.6463439275535603E-7,4.6174105829607801E-7,4.6463439275535603E-7,4.6463439275535603E-7,1.325733930365E-6,1.1652944525030701E-6,1.325733930365E-6,1.325733930365E-6,1.67983736375112E-5,1.30564067499652E-5,1.67983736375112E-5,1.67983736375112E-5,1.97252459602581E-6,1.9805964276014599E-6,1.9805964276014599E-6,1.9805964276014599E-6,2.5268949416657198E-4,2.5268614938505902E-4,2.5268949416657198E-4,2.5268949416657198E-4,2.0587875550179401E-6,1.46385892198031E-6,2.0587875550179401E-6,2.0587875550179401E-6]
[null,null,null,"Waste (solid)","Waste (solid)","Waste (solid)",3.1062460180831399E-7,2.9571498110721199E-7,3.1062460180831399E-7,3.1062460180831399E-7,4.14461446388365E-7,3.9851707639752498E-7,4.14461446388365E-7,4.14461446388365E-7,4.6463439275535603E-7,4.6174105829607801E-7,4.6463439275535603E-7,4.6463439275535603E-7,1.325733930365E-6,1.1652944525030701E-6,1.325733930365E-6,1.325733930365E-6,1.67983736375112E-5,1.30564067499652E-5,1.67983736375112E-5,1.67983736375112E-5,1.97252459602581E-6,1.9805964276014599E-6,1.9805964276014599E-6,1.9805964276014599E-6,2.5268949416657198E-4,2.5268614938505902E-4,2.5268949416657198E-4,2.5268949416657198E-4,2.0587875550179401E-6,1.46385892198031E-6,2.0587875550179401E-6,2.0587875550179401E-6]
[null,"Emissions to air","Emissions to air","Emissions to air","Emissions to air","Emissions to air",3.8129200625839998,3.80500499252526,3.7888085536766698,3.8095241105456101,3.7247460035522399,3.7233927755738598,3.7237770268585799,3.72135005151384,3.7963657808968199,3.7951558150342999,3.7929583782053999,3.73696245517093,4.5331086531992497,4.4616815639875096,4.59467105029898,4.5157397866845201,5.1415406979827996,4.81807041303676,5.12899108439467,5.1381447459444098,4.0229929972040503,4.0237014865656597,4.0282617240517897,4.0066324764530696,14.858621411714299,14.8583395095184,14.858090560220999,14.854680145936801,4.3096998694473498,4.1240379145469896,4.3717403790052103,4.3063039174089504]
[null,null,"Heavy metals to air","Heavy metals to air","Heavy metals to air","Heavy metals to air",5.8761811180239098E-8,5.6626736817781502E-8,5.8761811180239098E-8,5.8761811180239098E-8,7.3631363477096998E-8,7.1348111858867404E-8,7.3631363477096998E-8,7.3631363477096998E-8,3.2931054950064297E-8,3.2516726218981202E-8,3.2931054950064297E-8,3.2931054950064297E-8,2.3297763610331699E-7,2.10002523404188E-7,2.3297763610331699E-7,2.3297763610331699E-7,2.4198259164636702E-6,1.88397207236327E-6,2.4198259164636702E-6,2.4198259164636702E-6,5.61260143865721E-8,5.7281909697442903E-8,5.7281909697442903E-8,5.7281909697442903E-8,1.1610084113684699E-7,1.15621864682627E-7,1.1610084113684699E-7,1.1610084113684699E-7,3.0910070159346102E-7,2.2390625584899901E-7,3.0910070159346102E-7,3.0910070159346102E-7]
[null,null,null,"Lead (+II)","Lead (+II)","Lead (+II)",5.6392476883310501E-8,5.43131517226715E-8,5.6392476883310501E-8,5.6392476883310501E-8,7.0873768383952394E-8,6.8650135042961904E-8,7.0873768383952394E-8,7.0873768383952394E-8,3.1234795199350202E-8,3.0831285059157702E-8,3.1234795199350202E-8,3.1234795199350202E-8,2.2233005060022499E-7,1.99954844029515E-7,2.2233005060022499E-7,2.2233005060022499E-7,2.35580653305071E-6,1.83394443772744E-6,2.35580653305071E-6,2.35580653305071E-6,5.2959359118671999E-8,5.4085072698124E-8,5.4085072698124E-8,5.4085072698124E-8,1.09534511555951E-7,1.09068041717651E-7,1.09534511555951E-7,1.09534511555951E-7,3.0019473626856002E-7,2.17224813675675E-7,3.0019473626856002E-7,3.0019473626856002E-7]
[null,null,null,"Mercury (+II)","Mercury (+II)","Mercury (+II)",2.3693342969285302E-9,2.3135850951100198E-9,2.3693342969285302E-9,2.3693342969285302E-9,2.7575950931446101E-9,2.6979768159055099E-9,2.7575950931446101E-9,2.7575950931446101E-9,1.69625975071406E-9,1.6854411598235E-9,1.69625975071406E-9,1.69625975071406E-9,1.06475855030913E-8,1.0047679374673201E-8,1.06475855030913E-8,1.06475855030913E-8,6.4019383412951801E-8,5.0027634635832699E-8,6.4019383412951801E-8,6.4019383412951801E-8,3.1666552679001401E-9,3.19683699931891E-9,3.19683699931891E-9,3.19683699931891E-9,6.5663295808961404E-9,6.5538229649757999E-9,6.5663295808961404E-9,6.5663295808961404E-9,8.9059653249002203E-9,6.6814421733240596E-9,8.9059653249002203E-9,8.9059653249002203E-9]
[null,null,"Inorganic emissions to air","Inorganic emissions to air","Inorganic emissions to air","Inorganic emissions to air",3.5776338947355302,3.5714587504907902,3.540017757282,3.5723126037909401,3.5146732386525001,3.5133281402167098,3.5131615472590698,3.50935194770791,3.6381871603298599,3.6372299092967202,3.6328713035540501,3.5451050508978299,4.0306185831421297,3.9978795593018801,4.1266614977590601,4.0034024178200998,4.9162726983723202,4.5962428415690502,4.8966941646714899,4.9109514074277296,3.7600278839570298,3.7607171112930402,3.7607171112930402,3.7607171112930402,14.5903348767064,14.5900541652531,14.589506700302501,14.584159105772301,3.7994786307772301,3.7045081765135901,3.8962674441271199,3.79415733983264]
[null,null,null,"Ammonia","Ammonia","Ammonia",7.6602318689680999E-7,7.6490552124677002E-7,7.6602318689680999E-7,7.6602318689680999E-7,7.7380707870212399E-7,7.7261184543579602E-7,7.7380707870212399E-7,7.7380707870212399E-7,7.5844486323152504E-7,7.5822797102453699E-7,7.5844486323152504E-7,7.5844486323152504E-7,3.6860992321705E-6,3.6740722532881099E-6,3.6860992321705E-6,3.6860992321705E-6,2.00198962179878E-6,1.72148162379939E-6,2.00198962179878E-6,2.00198962179878E-6,1.3254599993308101E-6,1.32606508574218E-6,1.32606508574218E-6,1.32606508574218E-6,1.2268679153767399E-2,1.22686789030335E-2,1.2268679153767399E-2,1.2268679153767399E-2,8.9707022844429097E-7,8.5247276277421297E-7,8.9707022844429097E-7,8.9707022844429097E-7]
[null,null,null,"Carbon dioxide","Carbon dioxide","Carbon dioxide",3.4828359056242801,3.4766784981718,3.4452210381762698,3.4775146699668,3.41975526099578,3.41842895474274,3.4182436206404598,3.4144340253382999,3.6186811955637901,3.61772737845186,3.6133655182632798,3.52560005323557,3.9499075109777801,3.9173582069579602,4.0459471829696101,3.92269162842606,4.8020438410512503,4.4864244464602798,4.7824659683658197,4.7967226053937697,3.64891676368799,3.64959156981736,3.6511116489794002,3.6439018997798298,14.4283499203329,14.428073151021399,14.42752177189,14.4221742135638,3.7026178884867398,3.6083500783698499,3.7994034340282998,3.6972966528292601]
[null,null,null,"Carbon dioxide (biotic)","Carbon dioxide (biotic)","Carbon dioxide (biotic)",0,0,0,0,0,0,0,0,0,0,0,0,0,0,0,0,0,0,0,0,0,0,0,0,0,0,0,0,0,0,0,0]
[null,null,null,"Carbon monoxide","Carbon monoxide","Carbon monoxide",7.0669478750080596E-3,7.0602668074136697E-3,7.0669478750080596E-3,7.0669478750080596E-3,7.1134776286038001E-3,7.1063328852334299E-3,7.1134776286038001E-3,7.1134776286038001E-3,1.8720081772232301E-3,1.87071166113585E-3,1.8720081772232301E-3,1.8720081772232301E-3,6.3588166831101203E-3,6.28692303686023E-3,6.3588166831101203E-3,6.3588166831101203E-3,1.4455181821082101E-2,1.27783897542095E-2,1.4455181821082101E-2,1.4455181821082101E-2,7.1412461659131603E-3,7.1448631896757799E-3,7.1448631896757799E-3,7.1448631896757799E-3,1.92746102441551E-2,1.9273111432627499E-2,1.92746102441551E-2,1.92746102441551E-2,7.8503074983383402E-3,7.5837173220455103E-3,7.8503074983383402E-3,7.8503074983383402E-3]
[null,null,null,"Nitrogen oxides","Nitrogen oxides","Nitrogen oxides",8.6939505189264799E-2,8.6931492119261405E-2,8.6939505189264799E-2,8.6939505189264799E-2,8.6995311565646896E-2,8.6986742376969406E-2,8.6995311565646896E-2,8.6995311565646896E-2,1.67785507509568E-2,1.67769957488524E-2,1.67785507509568E-2,1.67785507509568E-2,7.0645767274911203E-2,7.0559540214330502E-2,7.0645767274911203E-2,7.0645767274911203E-2,9.5800729084318401E-2,9.3789635494367501E-2,9.5800729084318401E-2,9.5800729084318401E-2,8.7268609332197405E-2,8.7272947480884697E-2,8.7272947480884697E-2,8.7272947480884697E-2,0.127769889605059,0.127768091975934,0.127769889605059,0.127769889605059,8.7879042981833397E-2,8.7559302803382796E-2,8.7879042981833397E-2,8.7879042981833397E-2]
[null,null,null,"Nitrous oxide (laughing gas)","Nitrous oxide (laughing gas)","Nitrous oxide (laughing gas)",8.5603388332093804E-5,8.5398622567649205E-5,8.4333382810516597E-5,8.5548101222704306E-5,8.3491556724385495E-5,8.3448148512886997E-5,8.3440518618228197E-5,8.3436269614995903E-5,1.3661286812419001E-4,1.3658118077031301E-4,1.3643339282677199E-4,1.3564576431047899E-4,1.0026296391101401E-4,9.9201811086149295E-5,1.03505589021648E-4,9.9980193597383203E-5,1.2874479853674999E-4,1.1841213404583E-4,1.28083783143154E-4,1.2868951142736099E-4,1.53997368694008E-2,1.5404666515671401E-2,1.38845873536288E-2,2.1094336553202801E-2,1.16678314876709E-4,1.16669257554339E-4,1.1665035377604699E-4,1.1661414989743E-4,9.2714789869825003E-5,8.9639382171770996E-5,9.59825982016379E-5,9.2659502760435506E-5]
[null,null,null,"Sulphur dioxide","Sulphur dioxide","Sulphur dioxide",7.05166633885249E-4,7.0232986265991498E-4,7.05166633885249E-4,7.05166633885249E-4,7.2492309709376005E-4,7.2188944983318597E-4,7.2492309709376005E-4,7.2492309709376005E-4,7.1803452333278899E-4,7.1748402455727397E-4,7.1803452333278899E-4,7.1803452333278899E-4,3.6025391407151202E-3,3.5720132069351502E-3,3.6025391407151202E-3,3.6025391407151202E-3,3.8421996257140302E-3,3.13023624277173E-3,3.8421996257140302E-3,3.8421996257140302E-3,1.3002024392848601E-3,1.30173822211989E-3,1.30173822211989E-3,1.30173822211989E-3,2.5550990516575102E-3,2.5544626585431301E-3,2.5550990516575102E-3,2.5550990516575102E-3,1.0377799486219199E-3,9.2458616179381199E-4,1.0377799486219199E-3,1.0377799486219199E-3]
[null,null,null,"Sulphur hexafluoride","Sulphur hexafluoride","Sulphur hexafluoride",1.5706707415493399E-12,1.5704643165768499E-12,1.5706707415493399E-12,1.5706707415493399E-12,1.57210837153439E-12,1.57188762036958E-12,1.57210837153439E-12,1.57210837153439E-12,1.56922071601783E-12,1.56918065755503E-12,1.56922071601783E-12,1.56922071601783E-12,2.46668899141738E-12,2.4644676931384001E-12,2.46668899141738E-12,2.46668899141738E-12,1.79894503566535E-12,1.7471371843928501E-12,1.79894503566535E-12,1.79894503566535E-12,2.2429459368998198E-12,2.2430576920976401E-12,2.2430576920976401E-12,2.2430576920976401E-12,4.0132922561814503E-12,4.01324594739562E-12,4.0132922561814503E-12,4.0132922561814503E-12,1.59487420699993E-12,1.5866373692446999E-12,1.59487420699993E-12,1.59487420699993E-12]
[null,null,"Organic emissions to air (group VOC)","Organic emissions to air (group VOC)","Organic emissions to air (group VOC)","Organic emissions to air (group VOC)",0.23525117624091799,0.233512318621484,0.24875580478712001,0.23717651514711399,0.210030333937689,0.210023346723923,0.21057304863746301,0.211955672843885,0.158156528782462,0.15790402124502401,0.160064982866852,0.191835312488602,0.50233163931647096,0.46365506857536898,0.46785112179925997,0.51217893812377402,0.22405174897800301,0.22087941274683601,0.23108066909069699,0.22597708788419901,0.26292297380493701,0.262941657526988,0.267501895013115,0.24587264741439299,0.26819747207643602,0.26819652096952801,0.26849479698705297,0.27043197723297102,0.51006100053794201,0.419412123355486,0.47531269674591597,0.51198633944413796]
[null,null,null,"Group NMVOC to air","Group NMVOC to air","Group NMVOC to air",2.4931810759397498E-2,2.46151534885901E-2,2.74718218025519E-2,2.50421868164942E-2,2.0338815140408101E-2,2.0337548497844499E-2,2.04408913527225E-2,2.0449191197504799E-2,1.2673775670990499E-2,1.26277926724798E-2,1.3032726265826799E-2,1.4604516976498901E-2,7.4647724258680201E-2,6.7508385623235398E-2,6.8162474037412199E-2,7.5212251372272901E-2,2.28862936006245E-2,2.2309940986054998E-2,2.4208324387818302E-2,2.2996669657721201E-2,4.9506342955399997E-2,4.9516281183134302E-2,5.2556439507219402E-2,3.8136941108071302E-2,1.64065365745843E-2,1.6406364584797301E-2,1.6462458775908798E-2,1.6534636551137401E-2,7.5724105667052899E-2,5.8991283986094503E-2,6.9188489003427001E-2,7.58344817241495E-2]
[null,null,null,null,"NMVOC (unspecified)","NMVOC (unspecified)",2.4931810759397498E-2,2.46151534885901E-2,2.74718218025519E-2,2.50421868164942E-2,2.0338815140408101E-2,2.0337548497844499E-2,2.04408913527225E-2,2.0449191197504799E-2,1.2673775670990499E-2,1.26277926724798E-2,1.3032726265826799E-2,1.4604516976498901E-2,7.4647724258680201E-2,6.7508385623235398E-2,6.8162474037412199E-2,7.5212251372272901E-2,2.28862936006245E-2,2.2309940986054998E-2,2.4208324387818302E-2,2.2996669657721201E-2,4.9506342955399997E-2,4.9516281183134302E-2,5.2556439507219402E-2,3.8136941108071302E-2,1.64065365745843E-2,1.6406364584797301E-2,1.6462458775908798E-2,1.6534636551137401E-2,7.5724105667052899E-2,5.8991283986094503E-2,6.9188489003427001E-2,7.58344817241495E-2]
[null,null,null,"Methane","Methane","Methane",0.210319365481521,0.208897165132894,0.221283982984568,0.21213432833061999,0.18969151879728099,0.18968579822607801,0.190132157284741,0.19150648164638001,0.14548275311147199,0.14527622857254399,0.14703225660102501,0.177230795512103,0.42768391505779102,0.39614668295213301,0.39968864776184798,0.43696668675150102,0.20116545537737901,0.19856947176078099,0.20687234470287899,0.202980418226478,0.21341663084953699,0.213425376343853,0.214945455505896,0.20773570630632199,0.251790935501851,0.25179015638473101,0.25203233821114401,0.25389734068183301,0.43433689487089,0.36042083936939101,0.40612420774248897,0.43615185771998899]
[null,null,"Particles to air","Particles to air","Particles to air","Particles to air",3.4925765715669197E-5,3.3859710125410097E-5,3.4925765715669197E-5,3.4925765715669197E-5,4.2350223443909601E-5,4.1210182050325498E-5,4.2350223443909601E-5,4.2350223443909601E-5,2.2051814747563601E-5,2.18449378969289E-5,2.2051814747563601E-5,2.2051814747563601E-5,1.58169395940548E-4,1.4669778269821301E-4,1.58169395940548E-4,1.58169395940548E-4,1.2138194064506701E-3,9.4626432916168396E-4,1.2138194064506701E-3,1.2138194064506701E-3,4.2072674404581997E-5,4.2649819950224598E-5,4.2649819950224598E-5,4.2649819950224598E-5,8.8930592885373301E-5,8.8691437034128798E-5,8.8930592885373301E-5,8.8930592885373301E-5,1.59921493394726E-4,1.17383389457039E-4,1.59921493394726E-4,1.59921493394726E-4]
[null,null,null,"Dust (unspecified)","Dust (unspecified)","Dust (unspecified)",3.4925765715669197E-5,3.3859710125410097E-5,3.4925765715669197E-5,3.4925765715669197E-5,4.2350223443909601E-5,4.1210182050325498E-5,4.2350223443909601E-5,4.2350223443909601E-5,2.2051814747563601E-5,2.18449378969289E-5,2.2051814747563601E-5,2.2051814747563601E-5,1.58169395940548E-4,1.4669778269821301E-4,1.58169395940548E-4,1.58169395940548E-4,1.2138194064506701E-3,9.4626432916168396E-4,1.2138194064506701E-3,1.2138194064506701E-3,4.2072674404581997E-5,4.2649819950224598E-5,4.2649819950224598E-5,4.2649819950224598E-5,8.8930592885373301E-5,8.8691437034128798E-5,8.8930592885373301E-5,8.8930592885373301E-5,1.59921493394726E-4,1.17383389457039E-4,1.59921493394726E-4,1.59921493394726E-4]
[null,null,"Radioactive emissions to air","Radioactive emissions to air","Radioactive emissions to air","Radioactive emissions to air",7.0800317109298498E-9,7.07612513271029E-9,7.0800317109298498E-9,7.0800317109298498E-9,7.1072387582153299E-9,7.1030610578043403E-9,7.1072387582153299E-9,7.1072387582153299E-9,7.03869156242467E-9,7.0379334588077499E-9,7.03869156242467E-9,7.03869156242467E-9,2.83670777426338E-8,2.83250398274959E-8,2.83670777426338E-8,2.83670777426338E-8,1.140010681972E-8,1.04196468446319E-8,1.140010681972E-8,1.140010681972E-8,1.0641659917192201E-8,1.0643774876523299E-8,1.0643774876523299E-8,1.0643774876523299E-8,1.6237721209438501E-8,1.62368448188937E-8,1.6237721209438501E-8,1.6237721209438501E-8,7.5380806079573504E-9,7.3821990274258301E-9,7.5380806079573504E-9,7.5380806079573504E-9]
[null,"Emissions to fresh water","Emissions to fresh water","Emissions to fresh water","Emissions to fresh water","Emissions to fresh water",5.5804524861510903E-6,5.5224621543641299E-6,5.5804524861510903E-6,5.5804524861510903E-6,5.9843214503335803E-6,5.9223065054574497E-6,5.9843214503335803E-6,5.9843214503335803E-6,1.7502032483106699E-5,1.7490778982522899E-5,1.7502032483106699E-5,1.7502032483106699E-5,2.74741523678036E-5,2.6850129883297899E-5,2.74741523678036E-5,2.74741523678036E-5,6.9708846908003895E-5,5.5154626804432801E-5,6.9708846908003895E-5,6.9708846908003895E-5,1.75029469288815E-4,1.75060864332363E-4,1.75060864332363E-4,1.75060864332363E-4,2.8774337274273E-5,2.8761327889688201E-5,2.8774337274273E-5,2.8774337274273E-5,1.2379857494945201E-5,1.0065908031639E-5,1.2379857494945201E-5,1.2379857494945201E-5]
[null,null,"Heavy metals to fresh water","Heavy metals to fresh water","Heavy metals to fresh water","Heavy metals to fresh water",0,0,0,0,0,0,0,0,0,0,0,0,0,0,0,0,0,0,0,0,0,0,0,0,0,0,0,0,0,0,0,0]
[null,null,"Inorganic emissions to fresh water","Inorganic emissions to fresh water","Inorganic emissions to fresh water","Inorganic emissions to fresh water",5.5804524861510903E-6,5.5224621543641299E-6,5.5804524861510903E-6,5.5804524861510903E-6,5.9843214503335803E-6,5.9223065054574497E-6,5.9843214503335803E-6,5.9843214503335803E-6,1.7502032483106699E-5,1.7490778982522899E-5,1.7502032483106699E-5,1.7502032483106699E-5,2.74741523678036E-5,2.6850129883297899E-5,2.74741523678036E-5,2.74741523678036E-5,6.9708846908003895E-5,5.5154626804432801E-5,6.9708846908003895E-5,6.9708846908003895E-5,1.75029469288815E-4,1.75060864332363E-4,1.75060864332363E-4,1.75060864332363E-4,2.8774337274273E-5,2.8761327889688201E-5,2.8774337274273E-5,2.8774337274273E-5,1.2379857494945201E-5,1.0065908031639E-5,1.2379857494945201E-5,1.2379857494945201E-5]
[null,null,null,"Aluminum (+III)","Aluminum (+III)","Aluminum (+III)",5.7182991438310004E-7,5.7150500475834203E-7,5.7182991438310004E-7,5.7182991438310004E-7,5.7409272112278505E-7,5.7374526229907704E-7,5.7409272112278505E-7,5.7409272112278505E-7,5.6838448004883299E-7,5.6832142866527899E-7,5.6838448004883299E-7,5.6838448004883299E-7,2.3407810919925301E-6,2.3372848038176999E-6,2.3407810919925301E-6,2.3407810919925301E-6,9.3113002400315799E-7,8.4958528978998505E-7,9.3113002400315799E-7,9.3113002400315799E-7,8.7620041034562404E-7,8.7637631125020996E-7,8.7637631125020996E-7,8.7637631125020996E-7,1.3146640441597399E-6,1.3145911548671E-6,1.3146640441597399E-6,1.3146640441597399E-6,6.0992578419297E-7,5.96961132523197E-7,6.0992578419297E-7,6.0992578419297E-7]
[null,null,null,"Ammonia","Ammonia","Ammonia",1.0914624079908499E-7,1.04756017980375E-7,1.0914624079908499E-7,1.0914624079908499E-7,1.3972159168406599E-7,1.35026681037642E-7,1.3972159168406599E-7,1.3972159168406599E-7,5.6311134143718698E-8,5.5459175316601202E-8,5.6311134143718698E-8,5.6311134143718698E-8,4.14398125707179E-7,3.67155806747364E-7,4.14398125707179E-7,4.14398125707179E-7,4.9640579449145503E-6,3.8622144610393098E-6,4.9640579449145503E-6,4.9640579449145503E-6,1.5781831643333201E-4,1.5782069323015799E-4,1.5782069323015799E-4,1.5782069323015799E-4,8.7346586873023403E-7,8.7248097874423802E-7,8.7346586873023403E-7,8.7346586873023403E-7,6.2390278906168901E-7,4.4872266123505898E-7,6.2390278906168901E-7,6.2390278906168901E-7]
[null,null,null,"Ammonium / ammonia","Ammonium / ammonia","Ammonium / ammonia",4.6951757206841498E-7,4.69161680427252E-7,4.6951757206841498E-7,4.6951757206841498E-7,4.7199615054948902E-7,4.71615559512527E-7,4.7199615054948902E-7,4.7199615054948902E-7,4.6648221109505103E-7,4.66413147396531E-7,4.6648221109505103E-7,4.6648221109505103E-7,2.21577470564776E-6,2.21194502612551E-6,2.21577470564776E-6,2.21577470564776E-6,8.6307903020521004E-7,7.7375853282420301E-7,8.6307903020521004E-7,8.6307903020521004E-7,7.8363844040749199E-7,7.8383111448312601E-7,7.8383111448312601E-7,7.8383111448312601E-7,1.32084314839468E-6,1.32076330868541E-6,1.32084314839468E-6,1.32084314839468E-6,5.1124610392780201E-7,4.9704519755795099E-7,5.1124610392780201E-7,5.1124610392780201E-7]
[null,null,null,"Nitrate","Nitrate","Nitrate",3.37462794688636E-6,3.37196740559529E-6,3.37462794688636E-6,3.37462794688636E-6,3.3931570710054199E-6,3.39031188429202E-6,3.3931570710054199E-6,3.3931570710054199E-6,3.3450985481053402E-6,3.3445822481972402E-6,3.3450985481053402E-6,3.3450985481053402E-6,1.7991178861985601E-5,1.79625493036538E-5,1.7991178861985601E-5,1.7991178861985601E-5,6.3167777161907403E-6,5.6490439345145403E-6,6.3167777161907403E-6,6.3167777161907403E-6,6.5624367010750099E-6,6.5638770758257901E-6,6.5638770758257901E-6,6.5638770758257901E-6,7.7793848661842792E-6,7.7787880079875305E-6,7.7793848661842792E-6,7.7793848661842792E-6,3.6865781845054898E-6,3.5804163829973601E-6,3.6865781845054898E-6,3.6865781845054898E-6]
[null,null,null,"Nitrogen","Nitrogen","Nitrogen",8.6768693193938404E-11,8.5888887957551797E-11,8.6768693193938404E-11,8.6768693193938404E-11,9.2896025432821994E-11,9.1955160437658906E-11,9.2896025432821994E-11,9.2896025432821994E-11,8.9565410092297905E-11,8.9394676653874305E-11,8.9565410092297905E-11,8.9565410092297905E-11,7.1184337544465604E-10,7.0237596540278797E-10,7.1184337544465604E-10,7.1184337544465604E-10,1.0596980673642099E-9,8.3888748283975905E-10,1.0596980673642099E-9,1.0596980673642099E-9,2.01039175441878E-10,2.0151548800742601E-10,2.0151548800742601E-10,2.0151548800742601E-10,2.0667294898557901E-9,2.0665321168743399E-9,2.0667294898557901E-9,2.0667294898557901E-9,1.89926442886202E-10,1.5482016237672299E-10,1.89926442886202E-10,1.89926442886202E-10]
[null,null,null,"Phosphate","Phosphate","Phosphate",7.4250107197524497E-9,7.4194860315717497E-9,7.4250107197524497E-9,7.4250107197524497E-9,7.4634869626746099E-9,7.4575788531255403E-9,7.4634869626746099E-9,7.4634869626746099E-9,7.37748756845954E-9,7.37641545730323E-9,7.37748756845954E-9,7.37748756845954E-9,3.4091366902272103E-8,3.4031916826054101E-8,3.4091366902272103E-8,3.4091366902272103E-8,1.35344667582419E-8,1.2147898940679799E-8,1.35344667582419E-8,1.35344667582419E-8,1.1598295234253799E-8,1.1601286212589E-8,1.1601286212589E-8,1.1601286212589E-8,1.6734646448773299E-7,1.6734522509504299E-7,1.6734646448773299E-7,1.6734646448773299E-7,8.0727840869733293E-9,7.8523361457952195E-9,8.0727840869733293E-9,8.0727840869733293E-9]
[null,null,null,"Phosphorus","Phosphorus","Phosphorus",1.0478190326011801E-6,9.9756667068333705E-7,1.0478190326011801E-6,1.0478190326011801E-6,1.3977975329837099E-6,1.3440575843026199E-6,1.3977975329837099E-6,1.3977975329837099E-6,1.30582890567352E-5,1.30485371728133E-5,1.30582890567352E-5,1.30582890567352E-5,4.47721637219282E-6,3.9364606501621303E-6,4.47721637219282E-6,4.47721637219282E-6,5.6619208027864602E-5,4.40070377998412E-5,5.6619208027864602E-5,5.6619208027864602E-5,8.9770779692456506E-6,9.0042837989452602E-6,9.0042837989452602E-6,9.0042837989452602E-6,1.7316566152826499E-5,1.7305292682192099E-5,1.7316566152826499E-5,1.7316566152826499E-5,6.9399419227273604E-6,4.9347555010172998E-6,6.9399419227273604E-6,6.9399419227273604E-6]
[null,"Emissions to sea water","Emissions to sea water","Emissions to sea water","Emissions to sea water","Emissions to sea water",7.1079818561387606E-5,7.0466199390953996E-5,7.1079818561387606E-5,7.1079818561387606E-5,7.53533195248928E-5,7.4697114294524806E-5,7.53533195248928E-5,7.53533195248928E-5,7.4767536790188604E-5,7.4648458946004499E-5,7.4767536790188604E-5,7.4767536790188604E-5,5.9935319624559004E-4,5.9275016178320702E-4,5.9935319624559004E-4,5.9935319624559004E-4,7.4964831392612598E-4,5.9564422063914301E-4,7.4964831392612598E-4,7.4964831392612598E-4,1.5130534857423999E-4,1.516375522362E-4,1.516375522362E-4,1.516375522362E-4,4.0603189683606298E-3,4.0601813107971896E-3,4.0603189683606298E-3,4.0603189683606298E-3,1.43027074808624E-4,1.185422390378E-4,1.43027074808624E-4,1.43027074808624E-4]
[null,"Emissions to industrial soil","Emissions to industrial soil","Emissions to industrial soil","Emissions to industrial soil","Emissions to industrial soil",1.00152567251426E-7,9.9567495641437699E-8,1.00152567251426E-7,1.00152567251426E-7,1.04227251044696E-7,1.0360157461685E-7,1.04227251044696E-7,1.04227251044696E-7,1.01882618966828E-7,1.01769081011419E-7,1.01882618966828E-7,1.01882618966828E-7,1.1461325823948901E-6,1.1398367425811101E-6,1.1461325823948901E-6,1.1461325823948901E-6,7.4715184823863401E-7,6.0031252648054499E-7,7.4715184823863401E-7,7.4715184823863401E-7,1.67675312014459E-7,1.6799206048111701E-7,1.6799206048111701E-7,1.6799206048111701E-7,3.5092980295270599E-6,3.50916677624139E-6,3.5092980295270599E-6,3.5092980295270599E-6,1.6875260303107599E-7,1.45406881490765E-7,1.6875260303107599E-7,1.6875260303107599E-7]
[null,null,"Heavy metals to industrial soil","Heavy metals to industrial soil","Heavy metals to industrial soil","Heavy metals to industrial soil",1.00152567251426E-7,9.9567495641437699E-8,1.00152567251426E-7,1.00152567251426E-7,1.04227251044696E-7,1.0360157461685E-7,1.04227251044696E-7,1.04227251044696E-7,1.01882618966828E-7,1.01769081011419E-7,1.01882618966828E-7,1.01882618966828E-7,1.1461325823948901E-6,1.1398367425811101E-6,1.1461325823948901E-6,1.1461325823948901E-6,7.4715184823863401E-7,6.0031252648054499E-7,7.4715184823863401E-7,7.4715184823863401E-7,1.67675312014459E-7,1.6799206048111701E-7,1.6799206048111701E-7,1.6799206048111701E-7,3.5092980295270599E-6,3.50916677624139E-6,3.5092980295270599E-6,3.5092980295270599E-6,1.6875260303107599E-7,1.45406881490765E-7,1.6875260303107599E-7,1.6875260303107599E-7]

{"sheet":"Sheet2","index":42,"n_rows":0,"n_cols":0,"rows_kept":0,"cut":false,"hidden":true,"merged":[]}